{"text_format":"1","workbook":"xlsx","n_sheets":6,"sheets":["Pagina Principal","Diario contable","Mayorización","Informe de Contabilidad","Flujo de Caja","Metadata"],"not_rendered":{"charts":0,"images":7,"macros":1,"external_links":0,"defined_names":4,"comments":0,"pivot_tables":0},"unopened":[],"bounds":{"document_bytes":16777216,"sheet_cells":100000,"rows_first":2000,"rows_last":500,"rows_between":2000,"halvings":0,"cell_chars":16384,"cell_head_chars":4096},"cells_cut":0,"cells_raw":0,"read":"whole","date_system":"1900"}

{"sheet":"Pagina Principal","index":0,"n_rows":24,"n_cols":3,"rows_kept":24,"cut":false,"hidden":false,"merged":[[10,0,10,1],[11,0,11,1],[12,0,12,1],[10,2,10,6],[11,2,11,6],[12,2,12,6]]}
[]
[]
[]
[]
[]
[]
[]
[]
[]
[]
["Nombre de la empresa:",null,"Arcofrut."]
["Centro educativo:",null,"Colegio Técnico Profesional Platanares."]
["Nombre del tutor:",null,"Wilson Guzmán Villalobos."]
[]
["Nombre del Contador",null,"Monserrath Gómez Olivares."]
["Utilidad / Pérdida",null,{"$f":"+'Informe de Contabilidad'!S16:S16","v":267750}]
["Cantidad de Acciones",null,18]
["Utilidad por acción",null,{"$f":"IF(C16>0,C16/C17,0)","v":14875}]
[]
[]
["Instrucciones:"]
["Deben llenar la hoja del diario contable. El informe contable se llena automaticamente."]
["Para llenar el diario contable deben:"]
["    -Utilizar los datos del cuadro resumen, para saber cuales son las cuentas que pueden utilizar; de está  forma poder colocarlas de manera correcta al debe o haber según corresponda su estado. Hacer esto con cada uno de los asientos hasta culminar todo el registro contable de la empresa."]

{"sheet":"Diario contable","index":1,"n_rows":230,"n_cols":16,"rows_kept":230,"cut":false,"hidden":false,"merged":[[11,4,11,8],[9,4,9,8],[10,4,10,8],[16,5,16,6],[15,2,15,7],[13,10,13,15],[14,5,14,6]]}
[]
[]
[]
[]
[]
[]
[]
[]
[]
[null,null,"Nombre de la empresa:",null,"Arcofrut."]
[null,null,"Centro educativo",null,"Colegio Técnico Profesional Platanares."]
[null,null,"Nombre del tutor",null,"Wilson Guzmán Villalobos."]
[]
[null,null,null,null,null,null,null,null,null,null,"Cuadro Resumen"]
[null,null,"Cuenta Debe","/","Cuenta Haber","Monto",null,"Fecha","Nº.Asiento",null,"Número de cuenta","Nombre de la cuenta","Tipo","Suma","Resta","Saldo Normal"]
[null,null,null,null,null,null,null,null,null,null,"00001","Caja","Activo","Debe","Haber","Debe"]
[null,null,"Materiales","/","Caja",50000,null,{"$f":"TODAY()","v":"2024-07-17"},null,null,1]
[null,null,"Caja","/","Capital social",73800,null,"2024-07-10",1,null,"00002","Maquinaria","Activo","Debe","Haber","Debe"]
[null,null,"Inventario","/","Caja",10500,null,"2024-06-20",2,null,"00003","Herramientas","Activo","Debe","Haber","Debe"]
[null,null,"Caja","/","Ventas",90000,null,"2024-06-20",3,null,"00004","Donaciones","Ingreso","Haber","Debe","Haber"]
[null,null,"Costo de ventas","/","Inventario",10500,null,"2024-06-21",4,null,"00005","Inventario","Activo","Debe","Haber","Debe"]
[null,null,"Maquinaria",null,"Caja",188000,null,"2024-04-20",5,null,"00006","Costo de ventas","Transitoria","Debe","Haber","Debe"]
[null,null,"Herramientas","/","Caja",51900,null,"2024-04-20",6,null,"00007","Ventas","Ingreso","Haber","Debe","Haber"]
[null,null,"Gastos por salarios","/","Caja",24000,null,"2024-07-11",7,null,"00008","Gastos por salarios","Gasto","Debe","Haber","Debe"]
[null,null,"Gastos operacionales"," ","Caja",40000,null,"2024-07-13",8,null,"00009","Gastos operacionales","Gasto","Debe","Haber","Debe"]
[null,null,"Suministros de oficina","/","Caja",0,null,null,9,null,"00010","Suministros de oficina","Activo","Debe","Haber","Debe"]
[null,null,"Gastos de mercadeo","/","Caja",7000,null,"2024-06-06",10,null,"00011","Capital social","Ingreso","Haber","Debe","Haber"]
[null,null,"Gastos de suministros de oficina","/","Suministros de oficina",0,null,null,11,null,"00012","Gastos de mercadeo","Gasto","Debe","Haber","Debe"]
[null,null,"Caja","/","Donaciones",398000,null,"2024-04-26",12,null,"00013","Gastos de suministros de oficina","Gasto","Debe","Haber","Debe"]
[null,null,"Herramientas","/","Caja",0,null,null,13]
[null,null,"Gastos por salarios","/","caja",24000,null,"2024-07-22",14]
[null,null,"Caja","/","Ventas"]
[null,null,"Costo de ventas","/","Inventario"]
[null,null,null,"/"]
[null,null,null,"/"]
[null,null,null,"/"]
[null,null,null,"/"]
[null,null,null,"/"]
[null,null,null,"/"]
[null,null,null,"/"]
[null,null,null,"/"]
[null,null,null,"/"]
[null,null,null,"/"]
[null,null,null,"/"]
[null,null,null,"/"]
[null,null,null,"/"]
[null,null,null,"/"]
[null,null,null,"/"]
[null,null,null,"/"]
[null,null,null,"/"]
[null,null,null,"/"]
[null,null,null,"/"]
[null,null,null,"/"]
[null,null,null,"/"]
[null,null,null,"/"]
[null,null,null,"/"]
[null,null,null,"/"]
[null,null,null,"/"]
[null,null,null,"/"]
[null,null,null,"/"]
[null,null,null,"/"]
[null,null,null,"/"]
[null,null,null,"/"]
[null,null,null,"/"]
[null,null,null,"/"]
[null,null,null,"/"]
[null,null,null,"/"]
[null,null,null,"/"]
[null,null,null,"/"]
[null,null,null,"/"]
[null,null,null,"/"]
[null,null,null,"/"]
[null,null,null,"/"]
[null,null,null,"/"]
[null,null,null,"/"]
[null,null,null,"/"]
[null,null,null,"/"]
[null,null,null,"/"]
[null,null,null,"/"]
[null,null,null,"/"]
[null,null,null,"/"]
[null,null,null,"/"]
[null,null,null,"/"]
[null,null,null,"/"]
[null,null,null,"/"]
[null,null,null,"/"]
[null,null,null,"/"]
[null,null,null,"/"]
[null,null,null,"/"]
[null,null,null,"/"]
[null,null,null,"/"]
[null,null,null,"/"]
[null,null,null,"/"]
[null,null,null,"/"]
[null,null,null,"/"]
[null,null,null,"/"]
[null,null,null,"/"]
[null,null,null,"/"]
[null,null,null,"/"]
[null,null,null,"/"]
[null,null,null,"/"]
[null,null,null,"/"]
[null,null,null,"/"]
[null,null,null,"/"]
[null,null,null,"/"]
[null,null,null,"/"]
[null,null,null,"/"]
[null,null,null,"/"]
[null,null,null,"/"]
[null,null,null,"/"]
[null,null,null,"/"]
[null,null,null,"/"]
[null,null,null,"/"]
[null,null,null,"/"]
[null,null,null,"/"]
[null,null,null,"/"]
[null,null,null,"/"]
[null,null,null,"/"]
[null,null,null,"/"]
[null,null,null,"/"]
[null,null,null,"/"]
[null,null,null,"/"]
[null,null,null,"/"]
[null,null,null,"/"]
[null,null,null,"/"]
[null,null,null,"/"]
[null,null,null,"/"]
[null,null,null,"/"]
[null,null,null,"/"]
[null,null,null,"/"]
[null,null,null,"/"]
[null,null,null,"/"]
[null,null,null,"/"]
[null,null,null,"/"]
[null,null,null,"/"]
[null,null,null,"/"]
[null,null,null,"/"]
[null,null,null,"/"]
[null,null,null,"/"]
[null,null,null,"/"]
[null,null,null,"/"]
[null,null,null,"/"]
[null,null,null,"/"]
[null,null,null,"/"]
[null,null,null,"/"]
[null,null,null,"/"]
[null,null,null,"/"]
[null,null,null,"/"]
[null,null,null,"/"]
[null,null,null,"/"]
[null,null,null,"/"]
[null,null,null,"/"]
[null,null,null,"/"]
[null,null,null,"/"]
[null,null,null,"/"]
[null,null,null,"/"]
[null,null,null,"/"]
[null,null,null,"/"]
[null,null,null,"/"]
[null,null,null,"/"]
[null,null,null,"/"]
[null,null,null,"/"]
[null,null,null,"/"]
[null,null,null,"/"]
[null,null,null,"/"]
[null,null,null,"/"]
[null,null,null,"/"]
[null,null,null,"/"]
[null,null,null,"/"]
[null,null,null,"/"]
[null,null,null,"/"]
[null,null,null,"/"]
[null,null,null,"/"]
[null,null,null,"/"]
[null,null,null,"/"]
[null,null,null,"/"]
[null,null,null,"/"]
[null,null,null,"/"]
[null,null,null,"/"]
[null,null,null,"/"]
[null,null,null,"/"]
[null,null,null,"/"]
[null,null,null,"/"]
[null,null,null,"/"]
[null,null,null,"/"]
[null,null,null,"/"]
[null,null,null,"/"]
[null,null,null,"/"]
[null,null,null,"/"]
[null,null,null,"/"]
[null,null,null,"/"]
[null,null,null,"/"]
[null,null,null,"/"]
[null,null,null,"/"]
[null,null,null,"/"]
[null,null,null,"/"]
[null,null,null,"/"]
[null,null,null,"/"]
[null,null,null,"/"]
[null,null,null,"/"]
[null,null,null,"/"]
[null,null,null,"/"]
[null,null,null,"/"]
[null,null,null,"/"]
[null,null,null,"/"]
[null,null,null,"/"]
[null,null,null,"/"]
[null,null,null,"/"]
[null,null,null,"/"]
[null,null,null,"/"]
[null,null,null,"/"]
[null,null,null,"/"]
[null,null,null,"/"]
[null,null,null,"/"]
[null,null,null,"/"]
[null,null,null,"/"]
[null,null,null,"/"]
[null,null,null,"/"]
[null,null,null,"/"]
[null,null,null,"/"]
[null,null,null,"/"]
[null,null,null,"/"]
[null,null,null,"/"]
[null,null,null,"/"]
[null,null,null,"/"]
[null,null,null,"/"]
[null,null,null,"/"]
[null,null,null,"/"]
[null,null,null,"/"]
[null,null,null,"/"]

{"sheet":"Mayorización","index":2,"n_rows":185,"n_cols":118,"rows_kept":185,"cut":false,"hidden":false,"merged":[[183,52,183,54],[183,7,183,9],[182,7,182,9],[24,105,24,108],[182,52,182,54],[24,114,24,117],[182,115,182,117],[183,115,183,117],[182,16,182,18],[183,16,183,18],[24,69,24,72],[24,96,24,99],[182,106,182,108],[183,106,183,108],[24,51,24,54],[24,87,24,90],[24,78,24,81],[182,79,182,81],[182,61,182,63],[183,61,183,63],[182,43,182,45],[183,43,183,45],[182,34,182,36],[183,34,183,36],[182,25,182,27],[183,25,183,27],[182,70,182,72],[183,70,183,72],[182,97,182,99],[183,97,183,99],[183,79,183,81],[182,88,182,90],[183,88,183,90],[24,6,24,9],[24,15,24,18],[24,24,24,27],[24,33,24,36],[24,42,24,45],[24,60,24,63]]}
[]
[]
[null,null,"Cuentas Contables",null,null,null,null,null,{"$f":"D5","v":{"$error":"#REF!"}}]
[null,null,"Colegio o Institucion:",{"$f":"'Diario contable'!#REF!","v":{"$error":"#REF!"}}]
[null,null,"Nombre del la MiniEmpresa",{"$f":"'Diario contable'!#REF!","v":{"$error":"#REF!"}}]
[null,null,"Nombre del Instructor:",{"$f":"'Diario contable'!#REF!","v":{"$error":"#REF!"}}]
[]
[null,null,"Nombre del Contador",{"$f":"'Diario contable'!#REF!","v":{"$error":"#REF!"}}]
[]
[null,null,"Lista de cuentas contables"]
[null,null,"Numero de cuenta",null,"Descripcion de la cuenta"]
[null,null,1,null,"Caja"]
[null,null,2,null,"Maquinaria "]
[null,null,3,null,"Herramientas"]
[null,null,4,null,"Donaciones"]
[null,null,5,null,"Inventario"]
[null,null,6,null,"Costo de ventas"]
[null,null,7,null,"Ventas"]
[null,null,8,null,"Gastos por salarios"]
[null,null,9,null,"Gastos operacionales"]
[null,null,10,null,"Suministros de oficina"]
[null,null,11,null,"Capital social"]
[null,null,12,null,"Gastos de mercadeo"]
[null,null,13,null,"Gastos de suministros de oficina"]
[null,null,"Cuenta:",null,null,{"$f":"C12","v":1},{"$f":"E12","v":"Caja"},null,null,null,null,"Cuenta:",null,null,{"$f":"C13","v":2},{"$f":"E13","v":"Maquinaria "},null,null,null,null,"Cuenta:",null,null,{"$f":"C14","v":3},{"$f":"E14","v":"Herramientas"},null,null,null,null,"Cuenta:",null,null,{"$f":"C15","v":4},{"$f":"E15","v":"Donaciones"},null,null,null,null,"Cuenta:",null,null,{"$f":"C16","v":5},{"$f":"E16","v":"Inventario"},null,null,null,null,"Cuenta:",null,null,{"$f":"C17","v":6},{"$f":"E17","v":"Costo de ventas"},null,null,null,null,"Cuenta:",null,null,{"$f":"C18","v":7},{"$f":"E18","v":"Ventas"},null,null,null,null,"Cuenta:",null,null,{"$f":"C19","v":8},{"$f":"E19","v":"Gastos por salarios"},null,null,null,null,"Cuenta:",null,null,{"$f":"C20","v":9},{"$f":"E20","v":"Gastos operacionales"},null,null,null,null,"Cuenta:",null,null,{"$f":"C21","v":10},{"$f":"E21","v":"Suministros de oficina"},null,null,null,null,"Cuenta:",null,null,{"$f":"C22","v":11},{"$f":"E22","v":"Capital social"},null,null,null,null,"Cuenta:",null,null,{"$f":"C23","v":12},{"$f":"E23","v":"Gastos de mercadeo"},null,null,null,null,"Cuenta:",null,null,{"$f":"+C24","v":13},{"$f":"+E24","v":"Gastos de suministros de oficina"}]
[null,null,"Monto","Debe","/","Haber","Monto","Numero de asiento","Fecha","Comprobante",null,"Monto","Debe","/","Haber","Monto","Numero de asiento","Fecha","Comprobante",null,"Monto","Debe","/","Haber","Monto","Numero de asiento","Fecha","Comprobante",null,"Monto","Debe","/","Haber","Monto","Numero de asiento","Fecha","Comprobante",null,"Monto","Debe","/","Haber","Monto","Numero de asiento","Fecha","Comprobante",null,"Monto","Debe","/","Haber","Monto","Numero de asiento","Fecha","Comprobante",null,"Monto","Debe","/","Haber","Monto","Numero de asiento","Fecha","Comprobante",null,"Monto","Debe","/","Haber","Monto","Numero de asiento","Fecha","Comprobante",null,"Monto","Debe","/","Haber","Monto","Numero de asiento","Fecha","Comprobante",null,"Monto","Debe","/","Haber","Monto","Numero de asiento","Fecha","Comprobante",null,"Monto","Debe","/","Haber","Monto","Numero de asiento","Fecha","Comprobante",null,"Monto","Debe","/","Haber","Monto","Numero de asiento","Fecha","Comprobante",null,"Monto","Debe","/","Haber","Monto","Numero de asiento","Fecha","Comprobante"]
[null,null,{"$f":"+IF('Diario contable'!C18=\"Caja\",'Diario contable'!F18,0)","v":73800},"caja",null,"capital Social",{"$f":"+IF('Diario contable'!E18=\"Caja\",'Diario contable'!F18,0)","v":0},{"$f":"IF('Diario contable'!C18=\"Caja\",'Diario contable'!I18,IF('Diario contable'!E18=\"Caja\",'Diario contable'!I18,0))","v":1},{"$f":"IF('Diario contable'!C18=\"Caja\",'Diario contable'!H18,IF('Diario contable'!E18=\"Caja\",'Diario contable'!H18,0))","v":"2024-07-10"},null,null,{"$f":"+IF('Diario contable'!C18=\"Maquinaria\",'Diario contable'!F18,0)","v":0},null,null,null,{"$f":"+IF('Diario contable'!E18=\"Maquinaria\",'Diario contable'!F18,0)","v":0},{"$f":"IF('Diario contable'!C18=\"Maquinaria\",'Diario contable'!I18,IF('Diario contable'!E18=\"Maquinaria\",'Diario contable'!I18,0))","v":0},{"$f":"IF('Diario contable'!C18=\"Maquinaria\",'Diario contable'!H18,IF('Diario contable'!E18=\"Maquinaria\",'Diario contable'!H18,0))","v":"00:00:00"},null,null,{"$f":"+IF('Diario contable'!C18=\"Herramientas\",'Diario contable'!F18,0)","v":0},null,null,null,{"$f":"+IF('Diario contable'!E18=\"Herramientas\",'Diario contable'!F18,0)","v":0},{"$f":"IF('Diario contable'!C18=\"Herramientas\",'Diario contable'!I18,IF('Diario contable'!E18=\"Herramientas\",'Diario contable'!I18,0))","v":0},{"$f":"IF('Diario contable'!C18=\"Herramientas\",'Diario contable'!H18,IF('Diario contable'!E18=\"Herramientas\",'Diario contable'!H18,0))","v":"00:00:00"},null,null,{"$f":"+IF('Diario contable'!C18=\"Donaciones\",'Diario contable'!F18,0)","v":0},null,null,null,{"$f":"+IF('Diario contable'!E18=\"Donaciones\",'Diario contable'!F18,0)","v":0},{"$f":"IF('Diario contable'!C18=\"Donaciones\",'Diario contable'!I18,IF('Diario contable'!E18=\"Donaciones\",'Diario contable'!I18,0))","v":0},{"$f":"IF('Diario contable'!C18=\"Donaciones\",'Diario contable'!H18,IF('Diario contable'!E18=\"Donaciones\",'Diario contable'!H18,0))","v":"00:00:00"},null,null,{"$f":"+IF('Diario contable'!C18=\"Inventario\",'Diario contable'!F18,0)","v":0},null,null,null,{"$f":"+IF('Diario contable'!E18=\"Inventario\",'Diario contable'!F18,0)","v":0},{"$f":"IF('Diario contable'!C18=\"Inventario\",'Diario contable'!I18,IF('Diario contable'!E18=\"Inventario\",'Diario contable'!I18,0))","v":0},{"$f":"IF('Diario contable'!C18=\"Inventario\",'Diario contable'!H18,IF('Diario contable'!E18=\"Inventario\",'Diario contable'!H18,0))","v":"00:00:00"},null,null,{"$f":"+IF('Diario contable'!C18=\"Costo de ventas\",'Diario contable'!F18,0)","v":0},null,null,null,{"$f":"+IF('Diario contable'!E18=\"Costo de ventas\",'Diario contable'!F18,0)","v":0},{"$f":"IF('Diario contable'!C18=\"Costo de ventas\",'Diario contable'!I18,IF('Diario contable'!E18=\"Costo de ventas\",'Diario contable'!I18,0))","v":0},{"$f":"IF('Diario contable'!C18=\"Costo de ventas\",'Diario contable'!H18,IF('Diario contable'!E18=\"Costo de ventas\",'Diario contable'!H18,0))","v":"00:00:00"},null,null,{"$f":"+IF('Diario contable'!C18=\"Ventas\",'Diario contable'!F18,0)","v":0},null,null,null,{"$f":"+IF('Diario contable'!E18=\"Ventas\",'Diario contable'!F18,0)","v":0},{"$f":"IF('Diario contable'!C18=\"Ventas\",'Diario contable'!I18,IF('Diario contable'!E18=\"Ventas\",'Diario contable'!I18,0))","v":0},{"$f":"IF('Diario contable'!C18=\"Ventas\",'Diario contable'!H18,IF('Diario contable'!E18=\"Ventas\",'Diario contable'!H18,0))","v":"00:00:00"},null,null,{"$f":"+IF('Diario contable'!C18=\"Gastos por salarios\",'Diario contable'!F18,0)","v":0},null,null,null,{"$f":"+IF('Diario contable'!E18=\"Gastos por salarios\",'Diario contable'!F18,0)","v":0},{"$f":"IF('Diario contable'!C18=\"Gastos por salarios\",'Diario contable'!I18,IF('Diario contable'!E18=\"Gastos por salarios\",'Diario contable'!I18,0))","v":0},{"$f":"IF('Diario contable'!C18=\"Gastos por salarios\",'Diario contable'!H18,IF('Diario contable'!E18=\"Gastos por salarios\",'Diario contable'!H18,0))","v":"00:00:00"},null,null,{"$f":"+IF('Diario contable'!C18=\"Gastos operacionales\",'Diario contable'!F18,0)","v":0},null,null,null,{"$f":"+IF('Diario contable'!E18=\"Gastos operacionales\",'Diario contable'!F18,0)","v":0},{"$f":"IF('Diario contable'!C18=\"Gastos operacionales\",'Diario contable'!I18,IF('Diario contable'!E18=\"Gastos operacionales\",'Diario contable'!I18,0))","v":0},{"$f":"IF('Diario contable'!C18=\"Gastos operacionales\",'Diario contable'!H18,IF('Diario contable'!E18=\"Gastos operacionales\",'Diario contable'!H18,0))","v":"00:00:00"},null,null,{"$f":"+IF('Diario contable'!C18=\"Suministros de oficina\",'Diario contable'!F18,0)","v":0},null,null,null,{"$f":"+IF('Diario contable'!E18=\"Suministros de oficina\",'Diario contable'!F18,0)","v":0},{"$f":"IF('Diario contable'!C18=\"Suministros de oficina\",'Diario contable'!I18,IF('Diario contable'!E18=\"Suministros de oficina\",'Diario contable'!I18,0))","v":0},{"$f":"IF('Diario contable'!C18=\"Suministros de oficina\",'Diario contable'!H18,IF('Diario contable'!E18=\"Suministros de oficina\",'Diario contable'!H18,0))","v":"00:00:00"},null,null,{"$f":"+IF('Diario contable'!C18=\"Capital social\",'Diario contable'!F18,0)","v":0},"caja",null,"capital social",{"$f":"+IF('Diario contable'!E18=\"Capital social\",'Diario contable'!F18,0)","v":73800},{"$f":"IF('Diario contable'!C18=\"Capital social\",'Diario contable'!I18,IF('Diario contable'!E18=\"Capital social\",'Diario contable'!I18,0))","v":1},{"$f":"IF('Diario contable'!C18=\"Capital social\",'Diario contable'!H18,IF('Diario contable'!E18=\"Capital social\",'Diario contable'!H18,0))","v":"2024-07-10"},null,null,{"$f":"+IF('Diario contable'!C18=\"Gastos de mercadeo\",'Diario contable'!F18,0)","v":0},null,null,null,{"$f":"+IF('Diario contable'!E18=\"Gastos de mercadeo\",'Diario contable'!F18,0)","v":0},{"$f":"IF('Diario contable'!C18=\"Gastos de mercadeo\",'Diario contable'!I18,IF('Diario contable'!E18=\"Gastos de mercadeo\",'Diario contable'!I18,0))","v":0},{"$f":"IF('Diario contable'!C18=\"Gastos de mercadeo\",'Diario contable'!H18,IF('Diario contable'!E18=\"Gastos de mercadeo\",'Diario contable'!H18,0))","v":"00:00:00"},null,null,{"$f":"+IF('Diario contable'!C18=\"Gastos de suministros de oficina\",'Diario contable'!F18,0)","v":0},null,null,null,{"$f":"+IF('Diario contable'!E18=\"Gastos de suministros de oficina\",'Diario contable'!F18,0)","v":0},{"$f":"IF('Diario contable'!C18=\"Gastos de suministros de oficina\",'Diario contable'!I18,IF('Diario contable'!E18=\"Gastos de suministros de oficina\",'Diario contable'!I18,0))","v":0},{"$f":"IF('Diario contable'!C18=\"Gastos de suministros de oficina\",'Diario contable'!H18,IF('Diario contable'!E18=\"Gastos de suministros de oficina\",'Diario contable'!H18,0))","v":"00:00:00"}]
[null,null,{"$f":"+IF('Diario contable'!C19=\"Caja\",'Diario contable'!F19,0)","v":0},"inventario",null,"caja",{"$f":"+IF('Diario contable'!E19=\"Caja\",'Diario contable'!F19,0)","v":10500},{"$f":"IF('Diario contable'!C19=\"Caja\",'Diario contable'!I19,IF('Diario contable'!E19=\"Caja\",'Diario contable'!I19,0))","v":2},{"$f":"IF('Diario contable'!C19=\"Caja\",'Diario contable'!H19,IF('Diario contable'!E19=\"Caja\",'Diario contable'!H19,0))","v":"2024-06-20"},null,null,{"$f":"+IF('Diario contable'!C19=\"Maquinaria\",'Diario contable'!F19,0)","v":0},null,null,null,{"$f":"+IF('Diario contable'!E19=\"Maquinaria\",'Diario contable'!F19,0)","v":0},{"$f":"IF('Diario contable'!C19=\"Maquinaria\",'Diario contable'!I19,IF('Diario contable'!E19=\"Maquinaria\",'Diario contable'!I19,0))","v":0},{"$f":"IF('Diario contable'!C19=\"Maquinaria\",'Diario contable'!H19,IF('Diario contable'!E19=\"Maquinaria\",'Diario contable'!H19,0))","v":"00:00:00"},null,null,{"$f":"+IF('Diario contable'!C19=\"Herramientas\",'Diario contable'!F19,0)","v":0},null,null,null,{"$f":"+IF('Diario contable'!E19=\"Herramientas\",'Diario contable'!F19,0)","v":0},{"$f":"IF('Diario contable'!C19=\"Herramientas\",'Diario contable'!I19,IF('Diario contable'!E19=\"Herramientas\",'Diario contable'!I19,0))","v":0},{"$f":"IF('Diario contable'!C19=\"Herramientas\",'Diario contable'!H19,IF('Diario contable'!E19=\"Herramientas\",'Diario contable'!H19,0))","v":"00:00:00"},null,null,{"$f":"+IF('Diario contable'!C19=\"Donaciones\",'Diario contable'!F19,0)","v":0},null,null,null,{"$f":"+IF('Diario contable'!E19=\"Donaciones\",'Diario contable'!F19,0)","v":0},{"$f":"IF('Diario contable'!C19=\"Donaciones\",'Diario contable'!I19,IF('Diario contable'!E19=\"Donaciones\",'Diario contable'!I19,0))","v":0},{"$f":"IF('Diario contable'!C19=\"Donaciones\",'Diario contable'!H19,IF('Diario contable'!E19=\"Donaciones\",'Diario contable'!H19,0))","v":"00:00:00"},null,null,{"$f":"+IF('Diario contable'!C19=\"Inventario\",'Diario contable'!F19,0)","v":10500},"invenrario",null,"caja",{"$f":"+IF('Diario contable'!E19=\"Inventario\",'Diario contable'!F19,0)","v":0},{"$f":"IF('Diario contable'!C19=\"Inventario\",'Diario contable'!I19,IF('Diario contable'!E19=\"Inventario\",'Diario contable'!I19,0))","v":2},{"$f":"IF('Diario contable'!C19=\"Inventario\",'Diario contable'!H19,IF('Diario contable'!E19=\"Inventario\",'Diario contable'!H19,0))","v":"2024-06-20"},null,null,{"$f":"+IF('Diario contable'!C19=\"Costo de ventas\",'Diario contable'!F19,0)","v":0},null,null,null,{"$f":"+IF('Diario contable'!E19=\"Costo de ventas\",'Diario contable'!F19,0)","v":0},{"$f":"IF('Diario contable'!C19=\"Costo de ventas\",'Diario contable'!I19,IF('Diario contable'!E19=\"Costo de ventas\",'Diario contable'!I19,0))","v":0},{"$f":"IF('Diario contable'!C19=\"Costo de ventas\",'Diario contable'!H19,IF('Diario contable'!E19=\"Costo de ventas\",'Diario contable'!H19,0))","v":"00:00:00"},null,null,{"$f":"+IF('Diario contable'!C19=\"Ventas\",'Diario contable'!F19,0)","v":0},null,null,null,{"$f":"+IF('Diario contable'!E19=\"Ventas\",'Diario contable'!F19,0)","v":0},{"$f":"IF('Diario contable'!C19=\"Ventas\",'Diario contable'!I19,IF('Diario contable'!E19=\"Ventas\",'Diario contable'!I19,0))","v":0},{"$f":"IF('Diario contable'!C19=\"Ventas\",'Diario contable'!H19,IF('Diario contable'!E19=\"Ventas\",'Diario contable'!H19,0))","v":"00:00:00"},null,null,{"$f":"+IF('Diario contable'!C19=\"Gastos por salarios\",'Diario contable'!F19,0)","v":0},null,null,null,{"$f":"+IF('Diario contable'!E19=\"Gastos por salarios\",'Diario contable'!F19,0)","v":0},{"$f":"IF('Diario contable'!C19=\"Gastos por salarios\",'Diario contable'!I19,IF('Diario contable'!E19=\"Gastos por salarios\",'Diario contable'!I19,0))","v":0},{"$f":"IF('Diario contable'!C19=\"Gastos por salarios\",'Diario contable'!H19,IF('Diario contable'!E19=\"Gastos por salarios\",'Diario contable'!H19,0))","v":"00:00:00"},null,null,{"$f":"+IF('Diario contable'!C19=\"Gastos operacionales\",'Diario contable'!F19,0)","v":0},null,null,null,{"$f":"+IF('Diario contable'!E19=\"Gastos operacionales\",'Diario contable'!F19,0)","v":0},{"$f":"IF('Diario contable'!C19=\"Gastos operacionales\",'Diario contable'!I19,IF('Diario contable'!E19=\"Gastos operacionales\",'Diario contable'!I19,0))","v":0},{"$f":"IF('Diario contable'!C19=\"Gastos operacionales\",'Diario contable'!H19,IF('Diario contable'!E19=\"Gastos operacionales\",'Diario contable'!H19,0))","v":"00:00:00"},null,null,{"$f":"+IF('Diario contable'!C19=\"Suministros de oficina\",'Diario contable'!F19,0)","v":0},null,null,null,{"$f":"+IF('Diario contable'!E19=\"Suministros de oficina\",'Diario contable'!F19,0)","v":0},{"$f":"IF('Diario contable'!C19=\"Suministros de oficina\",'Diario contable'!I19,IF('Diario contable'!E19=\"Suministros de oficina\",'Diario contable'!I19,0))","v":0},{"$f":"IF('Diario contable'!C19=\"Suministros de oficina\",'Diario contable'!H19,IF('Diario contable'!E19=\"Suministros de oficina\",'Diario contable'!H19,0))","v":"00:00:00"},null,null,{"$f":"+IF('Diario contable'!C19=\"Capital social\",'Diario contable'!F19,0)","v":0},null,null,null,{"$f":"+IF('Diario contable'!E19=\"Capital social\",'Diario contable'!F19,0)","v":0},{"$f":"IF('Diario contable'!C19=\"Capital social\",'Diario contable'!I19,IF('Diario contable'!E19=\"Capital social\",'Diario contable'!I19,0))","v":0},{"$f":"IF('Diario contable'!C19=\"Capital social\",'Diario contable'!H19,IF('Diario contable'!E19=\"Capital social\",'Diario contable'!H19,0))","v":"00:00:00"},null,null,{"$f":"+IF('Diario contable'!C19=\"Gastos de mercadeo\",'Diario contable'!F19,0)","v":0},null,null,null,{"$f":"+IF('Diario contable'!E19=\"Gastos de mercadeo\",'Diario contable'!F19,0)","v":0},{"$f":"IF('Diario contable'!C19=\"Gastos de mercadeo\",'Diario contable'!I19,IF('Diario contable'!E19=\"Gastos de mercadeo\",'Diario contable'!I19,0))","v":0},{"$f":"IF('Diario contable'!C19=\"Gastos de mercadeo\",'Diario contable'!H19,IF('Diario contable'!E19=\"Gastos de mercadeo\",'Diario contable'!H19,0))","v":"00:00:00"},null,null,{"$f":"+IF('Diario contable'!C19=\"Gastos de suministros de oficina\",'Diario contable'!F19,0)","v":0},null,null,null,{"$f":"+IF('Diario contable'!E19=\"Gastos de suministros de oficina\",'Diario contable'!F19,0)","v":0},{"$f":"IF('Diario contable'!C19=\"Gastos de suministros de oficina\",'Diario contable'!I19,IF('Diario contable'!E19=\"Gastos de suministros de oficina\",'Diario contable'!I19,0))","v":0},{"$f":"IF('Diario contable'!C19=\"Gastos de suministros de oficina\",'Diario contable'!H19,IF('Diario contable'!E19=\"Gastos de suministros de oficina\",'Diario contable'!H19,0))","v":"00:00:00"}]
[null,null,{"$f":"+IF('Diario contable'!C20=\"Caja\",'Diario contable'!F20,0)","v":90000},"caja",null,"ventas",{"$f":"+IF('Diario contable'!E20=\"Caja\",'Diario contable'!F20,0)","v":0},{"$f":"IF('Diario contable'!C20=\"Caja\",'Diario contable'!I20,IF('Diario contable'!E20=\"Caja\",'Diario contable'!I20,0))","v":3},{"$f":"IF('Diario contable'!C20=\"Caja\",'Diario contable'!H20,IF('Diario contable'!E20=\"Caja\",'Diario contable'!H20,0))","v":"2024-06-20"},null,null,{"$f":"+IF('Diario contable'!C20=\"Maquinaria\",'Diario contable'!F20,0)","v":0},null,null,null,{"$f":"+IF('Diario contable'!E20=\"Maquinaria\",'Diario contable'!F20,0)","v":0},{"$f":"IF('Diario contable'!C20=\"Maquinaria\",'Diario contable'!I20,IF('Diario contable'!E20=\"Maquinaria\",'Diario contable'!I20,0))","v":0},{"$f":"IF('Diario contable'!C20=\"Maquinaria\",'Diario contable'!H20,IF('Diario contable'!E20=\"Maquinaria\",'Diario contable'!H20,0))","v":"00:00:00"},null,null,{"$f":"+IF('Diario contable'!C20=\"Herramientas\",'Diario contable'!F20,0)","v":0},null,null,null,{"$f":"+IF('Diario contable'!E20=\"Herramientas\",'Diario contable'!F20,0)","v":0},{"$f":"IF('Diario contable'!C20=\"Herramientas\",'Diario contable'!I20,IF('Diario contable'!E20=\"Herramientas\",'Diario contable'!I20,0))","v":0},{"$f":"IF('Diario contable'!C20=\"Herramientas\",'Diario contable'!H20,IF('Diario contable'!E20=\"Herramientas\",'Diario contable'!H20,0))","v":"00:00:00"},null,null,{"$f":"+IF('Diario contable'!C20=\"Donaciones\",'Diario contable'!F20,0)","v":0},null,null,null,{"$f":"+IF('Diario contable'!E20=\"Donaciones\",'Diario contable'!F20,0)","v":0},{"$f":"IF('Diario contable'!C20=\"Donaciones\",'Diario contable'!I20,IF('Diario contable'!E20=\"Donaciones\",'Diario contable'!I20,0))","v":0},{"$f":"IF('Diario contable'!C20=\"Donaciones\",'Diario contable'!H20,IF('Diario contable'!E20=\"Donaciones\",'Diario contable'!H20,0))","v":"00:00:00"},null,null,{"$f":"+IF('Diario contable'!C20=\"Inventario\",'Diario contable'!F20,0)","v":0},null,null,null,{"$f":"+IF('Diario contable'!E20=\"Inventario\",'Diario contable'!F20,0)","v":0},{"$f":"IF('Diario contable'!C20=\"Inventario\",'Diario contable'!I20,IF('Diario contable'!E20=\"Inventario\",'Diario contable'!I20,0))","v":0},{"$f":"IF('Diario contable'!C20=\"Inventario\",'Diario contable'!H20,IF('Diario contable'!E20=\"Inventario\",'Diario contable'!H20,0))","v":"00:00:00"},null,null,{"$f":"+IF('Diario contable'!C20=\"Costo de ventas\",'Diario contable'!F20,0)","v":0},null,null,null,{"$f":"+IF('Diario contable'!E20=\"Costo de ventas\",'Diario contable'!F20,0)","v":0},{"$f":"IF('Diario contable'!C20=\"Costo de ventas\",'Diario contable'!I20,IF('Diario contable'!E20=\"Costo de ventas\",'Diario contable'!I20,0))","v":0},{"$f":"IF('Diario contable'!C20=\"Costo de ventas\",'Diario contable'!H20,IF('Diario contable'!E20=\"Costo de ventas\",'Diario contable'!H20,0))","v":"00:00:00"},null,null,{"$f":"+IF('Diario contable'!C20=\"Ventas\",'Diario contable'!F20,0)","v":0},"caja",null,"ventas",{"$f":"+IF('Diario contable'!E20=\"Ventas\",'Diario contable'!F20,0)","v":90000},{"$f":"IF('Diario contable'!C20=\"Ventas\",'Diario contable'!I20,IF('Diario contable'!E20=\"Ventas\",'Diario contable'!I20,0))","v":3},{"$f":"IF('Diario contable'!C20=\"Ventas\",'Diario contable'!H20,IF('Diario contable'!E20=\"Ventas\",'Diario contable'!H20,0))","v":"2024-06-20"},null,null,{"$f":"+IF('Diario contable'!C20=\"Gastos por salarios\",'Diario contable'!F20,0)","v":0},null,null,null,{"$f":"+IF('Diario contable'!E20=\"Gastos por salarios\",'Diario contable'!F20,0)","v":0},{"$f":"IF('Diario contable'!C20=\"Gastos por salarios\",'Diario contable'!I20,IF('Diario contable'!E20=\"Gastos por salarios\",'Diario contable'!I20,0))","v":0},{"$f":"IF('Diario contable'!C20=\"Gastos por salarios\",'Diario contable'!H20,IF('Diario contable'!E20=\"Gastos por salarios\",'Diario contable'!H20,0))","v":"00:00:00"},null,null,{"$f":"+IF('Diario contable'!C20=\"Gastos operacionales\",'Diario contable'!F20,0)","v":0},null,null,null,{"$f":"+IF('Diario contable'!E20=\"Gastos operacionales\",'Diario contable'!F20,0)","v":0},{"$f":"IF('Diario contable'!C20=\"Gastos operacionales\",'Diario contable'!I20,IF('Diario contable'!E20=\"Gastos operacionales\",'Diario contable'!I20,0))","v":0},{"$f":"IF('Diario contable'!C20=\"Gastos operacionales\",'Diario contable'!H20,IF('Diario contable'!E20=\"Gastos operacionales\",'Diario contable'!H20,0))","v":"00:00:00"},null,null,{"$f":"+IF('Diario contable'!C20=\"Suministros de oficina\",'Diario contable'!F20,0)","v":0},null,null,null,{"$f":"+IF('Diario contable'!E20=\"Suministros de oficina\",'Diario contable'!F20,0)","v":0},{"$f":"IF('Diario contable'!C20=\"Suministros de oficina\",'Diario contable'!I20,IF('Diario contable'!E20=\"Suministros de oficina\",'Diario contable'!I20,0))","v":0},{"$f":"IF('Diario contable'!C20=\"Suministros de oficina\",'Diario contable'!H20,IF('Diario contable'!E20=\"Suministros de oficina\",'Diario contable'!H20,0))","v":"00:00:00"},null,null,{"$f":"+IF('Diario contable'!C20=\"Capital social\",'Diario contable'!F20,0)","v":0},null,null,null,{"$f":"+IF('Diario contable'!E20=\"Capital social\",'Diario contable'!F20,0)","v":0},{"$f":"IF('Diario contable'!C20=\"Capital social\",'Diario contable'!I20,IF('Diario contable'!E20=\"Capital social\",'Diario contable'!I20,0))","v":0},{"$f":"IF('Diario contable'!C20=\"Capital social\",'Diario contable'!H20,IF('Diario contable'!E20=\"Capital social\",'Diario contable'!H20,0))","v":"00:00:00"},null,null,{"$f":"+IF('Diario contable'!C20=\"Gastos de mercadeo\",'Diario contable'!F20,0)","v":0},null,null,null,{"$f":"+IF('Diario contable'!E20=\"Gastos de mercadeo\",'Diario contable'!F20,0)","v":0},{"$f":"IF('Diario contable'!C20=\"Gastos de mercadeo\",'Diario contable'!I20,IF('Diario contable'!E20=\"Gastos de mercadeo\",'Diario contable'!I20,0))","v":0},{"$f":"IF('Diario contable'!C20=\"Gastos de mercadeo\",'Diario contable'!H20,IF('Diario contable'!E20=\"Gastos de mercadeo\",'Diario contable'!H20,0))","v":"00:00:00"},null,null,{"$f":"+IF('Diario contable'!C20=\"Gastos de suministros de oficina\",'Diario contable'!F20,0)","v":0},null,null,null,{"$f":"+IF('Diario contable'!E20=\"Gastos de suministros de oficina\",'Diario contable'!F20,0)","v":0},{"$f":"IF('Diario contable'!C20=\"Gastos de suministros de oficina\",'Diario contable'!I20,IF('Diario contable'!E20=\"Gastos de suministros de oficina\",'Diario contable'!I20,0))","v":0},{"$f":"IF('Diario contable'!C20=\"Gastos de suministros de oficina\",'Diario contable'!H20,IF('Diario contable'!E20=\"Gastos de suministros de oficina\",'Diario contable'!H20,0))","v":"00:00:00"}]
[null,null,{"$f":"+IF('Diario contable'!C21=\"Caja\",'Diario contable'!F21,0)","v":0},null,null,null,{"$f":"+IF('Diario contable'!E21=\"Caja\",'Diario contable'!F21,0)","v":0},{"$f":"IF('Diario contable'!C21=\"Caja\",'Diario contable'!I21,IF('Diario contable'!E21=\"Caja\",'Diario contable'!I21,0))","v":0},{"$f":"IF('Diario contable'!C21=\"Caja\",'Diario contable'!H21,IF('Diario contable'!E21=\"Caja\",'Diario contable'!H21,0))","v":"00:00:00"},null,null,{"$f":"+IF('Diario contable'!C21=\"Maquinaria\",'Diario contable'!F21,0)","v":0},null,null,null,{"$f":"+IF('Diario contable'!E21=\"Maquinaria\",'Diario contable'!F21,0)","v":0},{"$f":"IF('Diario contable'!C21=\"Maquinaria\",'Diario contable'!I21,IF('Diario contable'!E21=\"Maquinaria\",'Diario contable'!I21,0))","v":0},{"$f":"IF('Diario contable'!C21=\"Maquinaria\",'Diario contable'!H21,IF('Diario contable'!E21=\"Maquinaria\",'Diario contable'!H21,0))","v":"00:00:00"},null,null,{"$f":"+IF('Diario contable'!C21=\"Herramientas\",'Diario contable'!F21,0)","v":0},null,null,null,{"$f":"+IF('Diario contable'!E21=\"Herramientas\",'Diario contable'!F21,0)","v":0},{"$f":"IF('Diario contable'!C21=\"Herramientas\",'Diario contable'!I21,IF('Diario contable'!E21=\"Herramientas\",'Diario contable'!I21,0))","v":0},{"$f":"IF('Diario contable'!C21=\"Herramientas\",'Diario contable'!H21,IF('Diario contable'!E21=\"Herramientas\",'Diario contable'!H21,0))","v":"00:00:00"},null,null,{"$f":"+IF('Diario contable'!C21=\"Donaciones\",'Diario contable'!F21,0)","v":0},null,null,null,{"$f":"+IF('Diario contable'!E21=\"Donaciones\",'Diario contable'!F21,0)","v":0},{"$f":"IF('Diario contable'!C21=\"Donaciones\",'Diario contable'!I21,IF('Diario contable'!E21=\"Donaciones\",'Diario contable'!I21,0))","v":0},{"$f":"IF('Diario contable'!C21=\"Donaciones\",'Diario contable'!H21,IF('Diario contable'!E21=\"Donaciones\",'Diario contable'!H21,0))","v":"00:00:00"},null,null,{"$f":"+IF('Diario contable'!C21=\"Inventario\",'Diario contable'!F21,0)","v":0},"costo de ventas",null,"inventario",{"$f":"+IF('Diario contable'!E21=\"Inventario\",'Diario contable'!F21,0)","v":10500},{"$f":"IF('Diario contable'!C21=\"Inventario\",'Diario contable'!I21,IF('Diario contable'!E21=\"Inventario\",'Diario contable'!I21,0))","v":4},{"$f":"IF('Diario contable'!C21=\"Inventario\",'Diario contable'!H21,IF('Diario contable'!E21=\"Inventario\",'Diario contable'!H21,0))","v":"2024-06-21"},null,null,{"$f":"+IF('Diario contable'!C21=\"Costo de ventas\",'Diario contable'!F21,0)","v":10500},"costo de ventas",null,"inventario",{"$f":"+IF('Diario contable'!E21=\"Costo de ventas\",'Diario contable'!F21,0)","v":0},{"$f":"IF('Diario contable'!C21=\"Costo de ventas\",'Diario contable'!I21,IF('Diario contable'!E21=\"Costo de ventas\",'Diario contable'!I21,0))","v":4},{"$f":"IF('Diario contable'!C21=\"Costo de ventas\",'Diario contable'!H21,IF('Diario contable'!E21=\"Costo de ventas\",'Diario contable'!H21,0))","v":"2024-06-21"},null,null,{"$f":"+IF('Diario contable'!C21=\"Ventas\",'Diario contable'!F21,0)","v":0},null,null,null,{"$f":"+IF('Diario contable'!E21=\"Ventas\",'Diario contable'!F21,0)","v":0},{"$f":"IF('Diario contable'!C21=\"Ventas\",'Diario contable'!I21,IF('Diario contable'!E21=\"Ventas\",'Diario contable'!I21,0))","v":0},{"$f":"IF('Diario contable'!C21=\"Ventas\",'Diario contable'!H21,IF('Diario contable'!E21=\"Ventas\",'Diario contable'!H21,0))","v":"00:00:00"},null,null,{"$f":"+IF('Diario contable'!C21=\"Gastos por salarios\",'Diario contable'!F21,0)","v":0},null,null,null,{"$f":"+IF('Diario contable'!E21=\"Gastos por salarios\",'Diario contable'!F21,0)","v":0},{"$f":"IF('Diario contable'!C21=\"Gastos por salarios\",'Diario contable'!I21,IF('Diario contable'!E21=\"Gastos por salarios\",'Diario contable'!I21,0))","v":0},{"$f":"IF('Diario contable'!C21=\"Gastos por salarios\",'Diario contable'!H21,IF('Diario contable'!E21=\"Gastos por salarios\",'Diario contable'!H21,0))","v":"00:00:00"},null,null,{"$f":"+IF('Diario contable'!C21=\"Gastos operacionales\",'Diario contable'!F21,0)","v":0},null,null,null,{"$f":"+IF('Diario contable'!E21=\"Gastos operacionales\",'Diario contable'!F21,0)","v":0},{"$f":"IF('Diario contable'!C21=\"Gastos operacionales\",'Diario contable'!I21,IF('Diario contable'!E21=\"Gastos operacionales\",'Diario contable'!I21,0))","v":0},{"$f":"IF('Diario contable'!C21=\"Gastos operacionales\",'Diario contable'!H21,IF('Diario contable'!E21=\"Gastos operacionales\",'Diario contable'!H21,0))","v":"00:00:00"},null,null,{"$f":"+IF('Diario contable'!C21=\"Suministros de oficina\",'Diario contable'!F21,0)","v":0},null,null,null,{"$f":"+IF('Diario contable'!E21=\"Suministros de oficina\",'Diario contable'!F21,0)","v":0},{"$f":"IF('Diario contable'!C21=\"Suministros de oficina\",'Diario contable'!I21,IF('Diario contable'!E21=\"Suministros de oficina\",'Diario contable'!I21,0))","v":0},{"$f":"IF('Diario contable'!C21=\"Suministros de oficina\",'Diario contable'!H21,IF('Diario contable'!E21=\"Suministros de oficina\",'Diario contable'!H21,0))","v":"00:00:00"},null,null,{"$f":"+IF('Diario contable'!C21=\"Capital social\",'Diario contable'!F21,0)","v":0},null,null,null,{"$f":"+IF('Diario contable'!E21=\"Capital social\",'Diario contable'!F21,0)","v":0},{"$f":"IF('Diario contable'!C21=\"Capital social\",'Diario contable'!I21,IF('Diario contable'!E21=\"Capital social\",'Diario contable'!I21,0))","v":0},{"$f":"IF('Diario contable'!C21=\"Capital social\",'Diario contable'!H21,IF('Diario contable'!E21=\"Capital social\",'Diario contable'!H21,0))","v":"00:00:00"},null,null,{"$f":"+IF('Diario contable'!C21=\"Gastos de mercadeo\",'Diario contable'!F21,0)","v":0},null,null,null,{"$f":"+IF('Diario contable'!E21=\"Gastos de mercadeo\",'Diario contable'!F21,0)","v":0},{"$f":"IF('Diario contable'!C21=\"Gastos de mercadeo\",'Diario contable'!I21,IF('Diario contable'!E21=\"Gastos de mercadeo\",'Diario contable'!I21,0))","v":0},{"$f":"IF('Diario contable'!C21=\"Gastos de mercadeo\",'Diario contable'!H21,IF('Diario contable'!E21=\"Gastos de mercadeo\",'Diario contable'!H21,0))","v":"00:00:00"},null,null,{"$f":"+IF('Diario contable'!C21=\"Gastos de suministros de oficina\",'Diario contable'!F21,0)","v":0},null,null,null,{"$f":"+IF('Diario contable'!E21=\"Gastos de suministros de oficina\",'Diario contable'!F21,0)","v":0},{"$f":"IF('Diario contable'!C21=\"Gastos de suministros de oficina\",'Diario contable'!I21,IF('Diario contable'!E21=\"Gastos de suministros de oficina\",'Diario contable'!I21,0))","v":0},{"$f":"IF('Diario contable'!C21=\"Gastos de suministros de oficina\",'Diario contable'!H21,IF('Diario contable'!E21=\"Gastos de suministros de oficina\",'Diario contable'!H21,0))","v":"00:00:00"}]
[null,null,{"$f":"+IF('Diario contable'!C22=\"Caja\",'Diario contable'!F22,0)","v":0},"maquinaria ",null,"caja",{"$f":"+IF('Diario contable'!E22=\"Caja\",'Diario contable'!F22,0)","v":188000},{"$f":"IF('Diario contable'!C22=\"Caja\",'Diario contable'!I22,IF('Diario contable'!E22=\"Caja\",'Diario contable'!I22,0))","v":5},{"$f":"IF('Diario contable'!C22=\"Caja\",'Diario contable'!H22,IF('Diario contable'!E22=\"Caja\",'Diario contable'!H22,0))","v":"2024-04-20"},null,null,{"$f":"+IF('Diario contable'!C22=\"Maquinaria\",'Diario contable'!F22,0)","v":188000},"maquinaria",null,"caja",{"$f":"+IF('Diario contable'!E22=\"Maquinaria\",'Diario contable'!F22,0)","v":0},{"$f":"IF('Diario contable'!C22=\"Maquinaria\",'Diario contable'!I22,IF('Diario contable'!E22=\"Maquinaria\",'Diario contable'!I22,0))","v":5},{"$f":"IF('Diario contable'!C22=\"Maquinaria\",'Diario contable'!H22,IF('Diario contable'!E22=\"Maquinaria\",'Diario contable'!H22,0))","v":"2024-04-20"},null,null,{"$f":"+IF('Diario contable'!C22=\"Herramientas\",'Diario contable'!F22,0)","v":0},null,null,null,{"$f":"+IF('Diario contable'!E22=\"Herramientas\",'Diario contable'!F22,0)","v":0},{"$f":"IF('Diario contable'!C22=\"Herramientas\",'Diario contable'!I22,IF('Diario contable'!E22=\"Herramientas\",'Diario contable'!I22,0))","v":0},{"$f":"IF('Diario contable'!C22=\"Herramientas\",'Diario contable'!H22,IF('Diario contable'!E22=\"Herramientas\",'Diario contable'!H22,0))","v":"00:00:00"},null,null,{"$f":"+IF('Diario contable'!C22=\"Donaciones\",'Diario contable'!F22,0)","v":0},null,null,null,{"$f":"+IF('Diario contable'!E22=\"Donaciones\",'Diario contable'!F22,0)","v":0},{"$f":"IF('Diario contable'!C22=\"Donaciones\",'Diario contable'!I22,IF('Diario contable'!E22=\"Donaciones\",'Diario contable'!I22,0))","v":0},{"$f":"IF('Diario contable'!C22=\"Donaciones\",'Diario contable'!H22,IF('Diario contable'!E22=\"Donaciones\",'Diario contable'!H22,0))","v":"00:00:00"},null,null,{"$f":"+IF('Diario contable'!C22=\"Inventario\",'Diario contable'!F22,0)","v":0},null,null,null,{"$f":"+IF('Diario contable'!E22=\"Inventario\",'Diario contable'!F22,0)","v":0},{"$f":"IF('Diario contable'!C22=\"Inventario\",'Diario contable'!I22,IF('Diario contable'!E22=\"Inventario\",'Diario contable'!I22,0))","v":0},{"$f":"IF('Diario contable'!C22=\"Inventario\",'Diario contable'!H22,IF('Diario contable'!E22=\"Inventario\",'Diario contable'!H22,0))","v":"00:00:00"},null,null,{"$f":"+IF('Diario contable'!C22=\"Costo de ventas\",'Diario contable'!F22,0)","v":0},null,null,null,{"$f":"+IF('Diario contable'!E22=\"Costo de ventas\",'Diario contable'!F22,0)","v":0},{"$f":"IF('Diario contable'!C22=\"Costo de ventas\",'Diario contable'!I22,IF('Diario contable'!E22=\"Costo de ventas\",'Diario contable'!I22,0))","v":0},{"$f":"IF('Diario contable'!C22=\"Costo de ventas\",'Diario contable'!H22,IF('Diario contable'!E22=\"Costo de ventas\",'Diario contable'!H22,0))","v":"00:00:00"},null,null,{"$f":"+IF('Diario contable'!C22=\"Ventas\",'Diario contable'!F22,0)","v":0},null,null,null,{"$f":"+IF('Diario contable'!E22=\"Ventas\",'Diario contable'!F22,0)","v":0},{"$f":"IF('Diario contable'!C22=\"Ventas\",'Diario contable'!I22,IF('Diario contable'!E22=\"Ventas\",'Diario contable'!I22,0))","v":0},{"$f":"IF('Diario contable'!C22=\"Ventas\",'Diario contable'!H22,IF('Diario contable'!E22=\"Ventas\",'Diario contable'!H22,0))","v":"00:00:00"},null,null,{"$f":"+IF('Diario contable'!C22=\"Gastos por salarios\",'Diario contable'!F22,0)","v":0},null,null,null,{"$f":"+IF('Diario contable'!E22=\"Gastos por salarios\",'Diario contable'!F22,0)","v":0},{"$f":"IF('Diario contable'!C22=\"Gastos por salarios\",'Diario contable'!I22,IF('Diario contable'!E22=\"Gastos por salarios\",'Diario contable'!I22,0))","v":0},{"$f":"IF('Diario contable'!C22=\"Gastos por salarios\",'Diario contable'!H22,IF('Diario contable'!E22=\"Gastos por salarios\",'Diario contable'!H22,0))","v":"00:00:00"},null,null,{"$f":"+IF('Diario contable'!C22=\"Gastos operacionales\",'Diario contable'!F22,0)","v":0},null,null,null,{"$f":"+IF('Diario contable'!E22=\"Gastos operacionales\",'Diario contable'!F22,0)","v":0},{"$f":"IF('Diario contable'!C22=\"Gastos operacionales\",'Diario contable'!I22,IF('Diario contable'!E22=\"Gastos operacionales\",'Diario contable'!I22,0))","v":0},{"$f":"IF('Diario contable'!C22=\"Gastos operacionales\",'Diario contable'!H22,IF('Diario contable'!E22=\"Gastos operacionales\",'Diario contable'!H22,0))","v":"00:00:00"},null,null,{"$f":"+IF('Diario contable'!C22=\"Suministros de oficina\",'Diario contable'!F22,0)","v":0},null,null,null,{"$f":"+IF('Diario contable'!E22=\"Suministros de oficina\",'Diario contable'!F22,0)","v":0},{"$f":"IF('Diario contable'!C22=\"Suministros de oficina\",'Diario contable'!I22,IF('Diario contable'!E22=\"Suministros de oficina\",'Diario contable'!I22,0))","v":0},{"$f":"IF('Diario contable'!C22=\"Suministros de oficina\",'Diario contable'!H22,IF('Diario contable'!E22=\"Suministros de oficina\",'Diario contable'!H22,0))","v":"00:00:00"},null,null,{"$f":"+IF('Diario contable'!C22=\"Capital social\",'Diario contable'!F22,0)","v":0},null,null,null,{"$f":"+IF('Diario contable'!E22=\"Capital social\",'Diario contable'!F22,0)","v":0},{"$f":"IF('Diario contable'!C22=\"Capital social\",'Diario contable'!I22,IF('Diario contable'!E22=\"Capital social\",'Diario contable'!I22,0))","v":0},{"$f":"IF('Diario contable'!C22=\"Capital social\",'Diario contable'!H22,IF('Diario contable'!E22=\"Capital social\",'Diario contable'!H22,0))","v":"00:00:00"},null,null,{"$f":"+IF('Diario contable'!C22=\"Gastos de mercadeo\",'Diario contable'!F22,0)","v":0},null,null,null,{"$f":"+IF('Diario contable'!E22=\"Gastos de mercadeo\",'Diario contable'!F22,0)","v":0},{"$f":"IF('Diario contable'!C22=\"Gastos de mercadeo\",'Diario contable'!I22,IF('Diario contable'!E22=\"Gastos de mercadeo\",'Diario contable'!I22,0))","v":0},{"$f":"IF('Diario contable'!C22=\"Gastos de mercadeo\",'Diario contable'!H22,IF('Diario contable'!E22=\"Gastos de mercadeo\",'Diario contable'!H22,0))","v":"00:00:00"},null,null,{"$f":"+IF('Diario contable'!C22=\"Gastos de suministros de oficina\",'Diario contable'!F22,0)","v":0},null,null,null,{"$f":"+IF('Diario contable'!E22=\"Gastos de suministros de oficina\",'Diario contable'!F22,0)","v":0},{"$f":"IF('Diario contable'!C22=\"Gastos de suministros de oficina\",'Diario contable'!I22,IF('Diario contable'!E22=\"Gastos de suministros de oficina\",'Diario contable'!I22,0))","v":0},{"$f":"IF('Diario contable'!C22=\"Gastos de suministros de oficina\",'Diario contable'!H22,IF('Diario contable'!E22=\"Gastos de suministros de oficina\",'Diario contable'!H22,0))","v":"00:00:00"}]
[null,null,{"$f":"+IF('Diario contable'!C23=\"Caja\",'Diario contable'!F23,0)","v":0},"herramientas",null,"caja",{"$f":"+IF('Diario contable'!E23=\"Caja\",'Diario contable'!F23,0)","v":51900},{"$f":"IF('Diario contable'!C23=\"Caja\",'Diario contable'!I23,IF('Diario contable'!E23=\"Caja\",'Diario contable'!I23,0))","v":6},{"$f":"IF('Diario contable'!C23=\"Caja\",'Diario contable'!H23,IF('Diario contable'!E23=\"Caja\",'Diario contable'!H23,0))","v":"2024-04-20"},null,null,{"$f":"+IF('Diario contable'!C23=\"Maquinaria\",'Diario contable'!F23,0)","v":0},null,null,null,{"$f":"+IF('Diario contable'!E23=\"Maquinaria\",'Diario contable'!F23,0)","v":0},{"$f":"IF('Diario contable'!C23=\"Maquinaria\",'Diario contable'!I23,IF('Diario contable'!E23=\"Maquinaria\",'Diario contable'!I23,0))","v":0},{"$f":"IF('Diario contable'!C23=\"Maquinaria\",'Diario contable'!H23,IF('Diario contable'!E23=\"Maquinaria\",'Diario contable'!H23,0))","v":"00:00:00"},null,null,{"$f":"+IF('Diario contable'!C23=\"Herramientas\",'Diario contable'!F23,0)","v":51900},"herramientas",null,"caja",{"$f":"+IF('Diario contable'!E23=\"Herramientas\",'Diario contable'!F23,0)","v":0},{"$f":"IF('Diario contable'!C23=\"Herramientas\",'Diario contable'!I23,IF('Diario contable'!E23=\"Herramientas\",'Diario contable'!I23,0))","v":6},{"$f":"IF('Diario contable'!C23=\"Herramientas\",'Diario contable'!H23,IF('Diario contable'!E23=\"Herramientas\",'Diario contable'!H23,0))","v":"2024-04-20"},null,null,{"$f":"+IF('Diario contable'!C23=\"Donaciones\",'Diario contable'!F23,0)","v":0},null,null,null,{"$f":"+IF('Diario contable'!E23=\"Donaciones\",'Diario contable'!F23,0)","v":0},{"$f":"IF('Diario contable'!C23=\"Donaciones\",'Diario contable'!I23,IF('Diario contable'!E23=\"Donaciones\",'Diario contable'!I23,0))","v":0},{"$f":"IF('Diario contable'!C23=\"Donaciones\",'Diario contable'!H23,IF('Diario contable'!E23=\"Donaciones\",'Diario contable'!H23,0))","v":"00:00:00"},null,null,{"$f":"+IF('Diario contable'!C23=\"Inventario\",'Diario contable'!F23,0)","v":0},null,null,null,{"$f":"+IF('Diario contable'!E23=\"Inventario\",'Diario contable'!F23,0)","v":0},{"$f":"IF('Diario contable'!C23=\"Inventario\",'Diario contable'!I23,IF('Diario contable'!E23=\"Inventario\",'Diario contable'!I23,0))","v":0},{"$f":"IF('Diario contable'!C23=\"Inventario\",'Diario contable'!H23,IF('Diario contable'!E23=\"Inventario\",'Diario contable'!H23,0))","v":"00:00:00"},null,null,{"$f":"+IF('Diario contable'!C23=\"Costo de ventas\",'Diario contable'!F23,0)","v":0},null,null,null,{"$f":"+IF('Diario contable'!E23=\"Costo de ventas\",'Diario contable'!F23,0)","v":0},{"$f":"IF('Diario contable'!C23=\"Costo de ventas\",'Diario contable'!I23,IF('Diario contable'!E23=\"Costo de ventas\",'Diario contable'!I23,0))","v":0},{"$f":"IF('Diario contable'!C23=\"Costo de ventas\",'Diario contable'!H23,IF('Diario contable'!E23=\"Costo de ventas\",'Diario contable'!H23,0))","v":"00:00:00"},null,null,{"$f":"+IF('Diario contable'!C23=\"Ventas\",'Diario contable'!F23,0)","v":0},null,null,null,{"$f":"+IF('Diario contable'!E23=\"Ventas\",'Diario contable'!F23,0)","v":0},{"$f":"IF('Diario contable'!C23=\"Ventas\",'Diario contable'!I23,IF('Diario contable'!E23=\"Ventas\",'Diario contable'!I23,0))","v":0},{"$f":"IF('Diario contable'!C23=\"Ventas\",'Diario contable'!H23,IF('Diario contable'!E23=\"Ventas\",'Diario contable'!H23,0))","v":"00:00:00"},null,null,{"$f":"+IF('Diario contable'!C23=\"Gastos por salarios\",'Diario contable'!F23,0)","v":0},null,null,null,{"$f":"+IF('Diario contable'!E23=\"Gastos por salarios\",'Diario contable'!F23,0)","v":0},{"$f":"IF('Diario contable'!C23=\"Gastos por salarios\",'Diario contable'!I23,IF('Diario contable'!E23=\"Gastos por salarios\",'Diario contable'!I23,0))","v":0},{"$f":"IF('Diario contable'!C23=\"Gastos por salarios\",'Diario contable'!H23,IF('Diario contable'!E23=\"Gastos por salarios\",'Diario contable'!H23,0))","v":"00:00:00"},null,null,{"$f":"+IF('Diario contable'!C23=\"Gastos operacionales\",'Diario contable'!F23,0)","v":0},null,null,null,{"$f":"+IF('Diario contable'!E23=\"Gastos operacionales\",'Diario contable'!F23,0)","v":0},{"$f":"IF('Diario contable'!C23=\"Gastos operacionales\",'Diario contable'!I23,IF('Diario contable'!E23=\"Gastos operacionales\",'Diario contable'!I23,0))","v":0},{"$f":"IF('Diario contable'!C23=\"Gastos operacionales\",'Diario contable'!H23,IF('Diario contable'!E23=\"Gastos operacionales\",'Diario contable'!H23,0))","v":"00:00:00"},null,null,{"$f":"+IF('Diario contable'!C23=\"Suministros de oficina\",'Diario contable'!F23,0)","v":0},null,null,null,{"$f":"+IF('Diario contable'!E23=\"Suministros de oficina\",'Diario contable'!F23,0)","v":0},{"$f":"IF('Diario contable'!C23=\"Suministros de oficina\",'Diario contable'!I23,IF('Diario contable'!E23=\"Suministros de oficina\",'Diario contable'!I23,0))","v":0},{"$f":"IF('Diario contable'!C23=\"Suministros de oficina\",'Diario contable'!H23,IF('Diario contable'!E23=\"Suministros de oficina\",'Diario contable'!H23,0))","v":"00:00:00"},null,null,{"$f":"+IF('Diario contable'!C23=\"Capital social\",'Diario contable'!F23,0)","v":0},null,null,null,{"$f":"+IF('Diario contable'!E23=\"Capital social\",'Diario contable'!F23,0)","v":0},{"$f":"IF('Diario contable'!C23=\"Capital social\",'Diario contable'!I23,IF('Diario contable'!E23=\"Capital social\",'Diario contable'!I23,0))","v":0},{"$f":"IF('Diario contable'!C23=\"Capital social\",'Diario contable'!H23,IF('Diario contable'!E23=\"Capital social\",'Diario contable'!H23,0))","v":"00:00:00"},null,null,{"$f":"+IF('Diario contable'!C23=\"Gastos de mercadeo\",'Diario contable'!F23,0)","v":0},null,null,null,{"$f":"+IF('Diario contable'!E23=\"Gastos de mercadeo\",'Diario contable'!F23,0)","v":0},{"$f":"IF('Diario contable'!C23=\"Gastos de mercadeo\",'Diario contable'!I23,IF('Diario contable'!E23=\"Gastos de mercadeo\",'Diario contable'!I23,0))","v":0},{"$f":"IF('Diario contable'!C23=\"Gastos de mercadeo\",'Diario contable'!H23,IF('Diario contable'!E23=\"Gastos de mercadeo\",'Diario contable'!H23,0))","v":"00:00:00"},null,null,{"$f":"+IF('Diario contable'!C23=\"Gastos de suministros de oficina\",'Diario contable'!F23,0)","v":0},null,null,null,{"$f":"+IF('Diario contable'!E23=\"Gastos de suministros de oficina\",'Diario contable'!F23,0)","v":0},{"$f":"IF('Diario contable'!C23=\"Gastos de suministros de oficina\",'Diario contable'!I23,IF('Diario contable'!E23=\"Gastos de suministros de oficina\",'Diario contable'!I23,0))","v":0},{"$f":"IF('Diario contable'!C23=\"Gastos de suministros de oficina\",'Diario contable'!H23,IF('Diario contable'!E23=\"Gastos de suministros de oficina\",'Diario contable'!H23,0))","v":"00:00:00"}]
[null,null,{"$f":"+IF('Diario contable'!C24=\"Caja\",'Diario contable'!F24,0)","v":0},"gastos por salarios",null,"caja",{"$f":"+IF('Diario contable'!E24=\"Caja\",'Diario contable'!F24,0)","v":24000},{"$f":"IF('Diario contable'!C24=\"Caja\",'Diario contable'!I24,IF('Diario contable'!E24=\"Caja\",'Diario contable'!I24,0))","v":7},{"$f":"IF('Diario contable'!C24=\"Caja\",'Diario contable'!H24,IF('Diario contable'!E24=\"Caja\",'Diario contable'!H24,0))","v":"2024-07-11"},null,null,{"$f":"+IF('Diario contable'!C24=\"Maquinaria\",'Diario contable'!F24,0)","v":0},null,null,null,{"$f":"+IF('Diario contable'!E24=\"Maquinaria\",'Diario contable'!F24,0)","v":0},{"$f":"IF('Diario contable'!C24=\"Maquinaria\",'Diario contable'!I24,IF('Diario contable'!E24=\"Maquinaria\",'Diario contable'!I24,0))","v":0},{"$f":"IF('Diario contable'!C24=\"Maquinaria\",'Diario contable'!H24,IF('Diario contable'!E24=\"Maquinaria\",'Diario contable'!H24,0))","v":"00:00:00"},null,null,{"$f":"+IF('Diario contable'!C24=\"Herramientas\",'Diario contable'!F24,0)","v":0},null,null,null,{"$f":"+IF('Diario contable'!E24=\"Herramientas\",'Diario contable'!F24,0)","v":0},{"$f":"IF('Diario contable'!C24=\"Herramientas\",'Diario contable'!I24,IF('Diario contable'!E24=\"Herramientas\",'Diario contable'!I24,0))","v":0},{"$f":"IF('Diario contable'!C24=\"Herramientas\",'Diario contable'!H24,IF('Diario contable'!E24=\"Herramientas\",'Diario contable'!H24,0))","v":"00:00:00"},null,null,{"$f":"+IF('Diario contable'!C24=\"Donaciones\",'Diario contable'!F24,0)","v":0},null,null,null,{"$f":"+IF('Diario contable'!E24=\"Donaciones\",'Diario contable'!F24,0)","v":0},{"$f":"IF('Diario contable'!C24=\"Donaciones\",'Diario contable'!I24,IF('Diario contable'!E24=\"Donaciones\",'Diario contable'!I24,0))","v":0},{"$f":"IF('Diario contable'!C24=\"Donaciones\",'Diario contable'!H24,IF('Diario contable'!E24=\"Donaciones\",'Diario contable'!H24,0))","v":"00:00:00"},null,null,{"$f":"+IF('Diario contable'!C24=\"Inventario\",'Diario contable'!F24,0)","v":0},null,null,null,{"$f":"+IF('Diario contable'!E24=\"Inventario\",'Diario contable'!F24,0)","v":0},{"$f":"IF('Diario contable'!C24=\"Inventario\",'Diario contable'!I24,IF('Diario contable'!E24=\"Inventario\",'Diario contable'!I24,0))","v":0},{"$f":"IF('Diario contable'!C24=\"Inventario\",'Diario contable'!H24,IF('Diario contable'!E24=\"Inventario\",'Diario contable'!H24,0))","v":"00:00:00"},null,null,{"$f":"+IF('Diario contable'!C24=\"Costo de ventas\",'Diario contable'!F24,0)","v":0},null,null,null,{"$f":"+IF('Diario contable'!E24=\"Costo de ventas\",'Diario contable'!F24,0)","v":0},{"$f":"IF('Diario contable'!C24=\"Costo de ventas\",'Diario contable'!I24,IF('Diario contable'!E24=\"Costo de ventas\",'Diario contable'!I24,0))","v":0},{"$f":"IF('Diario contable'!C24=\"Costo de ventas\",'Diario contable'!H24,IF('Diario contable'!E24=\"Costo de ventas\",'Diario contable'!H24,0))","v":"00:00:00"},null,null,{"$f":"+IF('Diario contable'!C24=\"Ventas\",'Diario contable'!F24,0)","v":0},null,null,null,{"$f":"+IF('Diario contable'!E24=\"Ventas\",'Diario contable'!F24,0)","v":0},{"$f":"IF('Diario contable'!C24=\"Ventas\",'Diario contable'!I24,IF('Diario contable'!E24=\"Ventas\",'Diario contable'!I24,0))","v":0},{"$f":"IF('Diario contable'!C24=\"Ventas\",'Diario contable'!H24,IF('Diario contable'!E24=\"Ventas\",'Diario contable'!H24,0))","v":"00:00:00"},null,null,{"$f":"+IF('Diario contable'!C24=\"Gastos por salarios\",'Diario contable'!F24,0)","v":24000},"gastos por salario",null,"caja",{"$f":"+IF('Diario contable'!E24=\"Gastos por salarios\",'Diario contable'!F24,0)","v":0},{"$f":"IF('Diario contable'!C24=\"Gastos por salarios\",'Diario contable'!I24,IF('Diario contable'!E24=\"Gastos por salarios\",'Diario contable'!I24,0))","v":7},{"$f":"IF('Diario contable'!C24=\"Gastos por salarios\",'Diario contable'!H24,IF('Diario contable'!E24=\"Gastos por salarios\",'Diario contable'!H24,0))","v":"2024-07-11"},null,null,{"$f":"+IF('Diario contable'!C24=\"Gastos operacionales\",'Diario contable'!F24,0)","v":0},null,null,null,{"$f":"+IF('Diario contable'!E24=\"Gastos operacionales\",'Diario contable'!F24,0)","v":0},{"$f":"IF('Diario contable'!C24=\"Gastos operacionales\",'Diario contable'!I24,IF('Diario contable'!E24=\"Gastos operacionales\",'Diario contable'!I24,0))","v":0},{"$f":"IF('Diario contable'!C24=\"Gastos operacionales\",'Diario contable'!H24,IF('Diario contable'!E24=\"Gastos operacionales\",'Diario contable'!H24,0))","v":"00:00:00"},null,null,{"$f":"+IF('Diario contable'!C24=\"Suministros de oficina\",'Diario contable'!F24,0)","v":0},null,null,null,{"$f":"+IF('Diario contable'!E24=\"Suministros de oficina\",'Diario contable'!F24,0)","v":0},{"$f":"IF('Diario contable'!C24=\"Suministros de oficina\",'Diario contable'!I24,IF('Diario contable'!E24=\"Suministros de oficina\",'Diario contable'!I24,0))","v":0},{"$f":"IF('Diario contable'!C24=\"Suministros de oficina\",'Diario contable'!H24,IF('Diario contable'!E24=\"Suministros de oficina\",'Diario contable'!H24,0))","v":"00:00:00"},null,null,{"$f":"+IF('Diario contable'!C24=\"Capital social\",'Diario contable'!F24,0)","v":0},null,null,null,{"$f":"+IF('Diario contable'!E24=\"Capital social\",'Diario contable'!F24,0)","v":0},{"$f":"IF('Diario contable'!C24=\"Capital social\",'Diario contable'!I24,IF('Diario contable'!E24=\"Capital social\",'Diario contable'!I24,0))","v":0},{"$f":"IF('Diario contable'!C24=\"Capital social\",'Diario contable'!H24,IF('Diario contable'!E24=\"Capital social\",'Diario contable'!H24,0))","v":"00:00:00"},null,null,{"$f":"+IF('Diario contable'!C24=\"Gastos de mercadeo\",'Diario contable'!F24,0)","v":0},null,null,null,{"$f":"+IF('Diario contable'!E24=\"Gastos de mercadeo\",'Diario contable'!F24,0)","v":0},{"$f":"IF('Diario contable'!C24=\"Gastos de mercadeo\",'Diario contable'!I24,IF('Diario contable'!E24=\"Gastos de mercadeo\",'Diario contable'!I24,0))","v":0},{"$f":"IF('Diario contable'!C24=\"Gastos de mercadeo\",'Diario contable'!H24,IF('Diario contable'!E24=\"Gastos de mercadeo\",'Diario contable'!H24,0))","v":"00:00:00"},null,null,{"$f":"+IF('Diario contable'!C24=\"Gastos de suministros de oficina\",'Diario contable'!F24,0)","v":0},null,null,null,{"$f":"+IF('Diario contable'!E24=\"Gastos de suministros de oficina\",'Diario contable'!F24,0)","v":0},{"$f":"IF('Diario contable'!C24=\"Gastos de suministros de oficina\",'Diario contable'!I24,IF('Diario contable'!E24=\"Gastos de suministros de oficina\",'Diario contable'!I24,0))","v":0},{"$f":"IF('Diario contable'!C24=\"Gastos de suministros de oficina\",'Diario contable'!H24,IF('Diario contable'!E24=\"Gastos de suministros de oficina\",'Diario contable'!H24,0))","v":"00:00:00"}]
[null,null,{"$f":"+IF('Diario contable'!C25=\"Caja\",'Diario contable'!F25,0)","v":0},"gastos oreacionales",null,"caja",{"$f":"+IF('Diario contable'!E25=\"Caja\",'Diario contable'!F25,0)","v":40000},{"$f":"IF('Diario contable'!C25=\"Caja\",'Diario contable'!I25,IF('Diario contable'!E25=\"Caja\",'Diario contable'!I25,0))","v":8},{"$f":"IF('Diario contable'!C25=\"Caja\",'Diario contable'!H25,IF('Diario contable'!E25=\"Caja\",'Diario contable'!H25,0))","v":"2024-07-13"},null,null,{"$f":"+IF('Diario contable'!C25=\"Maquinaria\",'Diario contable'!F25,0)","v":0},null,null,null,{"$f":"+IF('Diario contable'!E25=\"Maquinaria\",'Diario contable'!F25,0)","v":0},{"$f":"IF('Diario contable'!C25=\"Maquinaria\",'Diario contable'!I25,IF('Diario contable'!E25=\"Maquinaria\",'Diario contable'!I25,0))","v":0},{"$f":"IF('Diario contable'!C25=\"Maquinaria\",'Diario contable'!H25,IF('Diario contable'!E25=\"Maquinaria\",'Diario contable'!H25,0))","v":"00:00:00"},null,null,{"$f":"+IF('Diario contable'!C25=\"Herramientas\",'Diario contable'!F25,0)","v":0},null,null,null,{"$f":"+IF('Diario contable'!E25=\"Herramientas\",'Diario contable'!F25,0)","v":0},{"$f":"IF('Diario contable'!C25=\"Herramientas\",'Diario contable'!I25,IF('Diario contable'!E25=\"Herramientas\",'Diario contable'!I25,0))","v":0},{"$f":"IF('Diario contable'!C25=\"Herramientas\",'Diario contable'!H25,IF('Diario contable'!E25=\"Herramientas\",'Diario contable'!H25,0))","v":"00:00:00"},null,null,{"$f":"+IF('Diario contable'!C25=\"Donaciones\",'Diario contable'!F25,0)","v":0},null,null,null,{"$f":"+IF('Diario contable'!E25=\"Donaciones\",'Diario contable'!F25,0)","v":0},{"$f":"IF('Diario contable'!C25=\"Donaciones\",'Diario contable'!I25,IF('Diario contable'!E25=\"Donaciones\",'Diario contable'!I25,0))","v":0},{"$f":"IF('Diario contable'!C25=\"Donaciones\",'Diario contable'!H25,IF('Diario contable'!E25=\"Donaciones\",'Diario contable'!H25,0))","v":"00:00:00"},null,null,{"$f":"+IF('Diario contable'!C25=\"Inventario\",'Diario contable'!F25,0)","v":0},null,null,null,{"$f":"+IF('Diario contable'!E25=\"Inventario\",'Diario contable'!F25,0)","v":0},{"$f":"IF('Diario contable'!C25=\"Inventario\",'Diario contable'!I25,IF('Diario contable'!E25=\"Inventario\",'Diario contable'!I25,0))","v":0},{"$f":"IF('Diario contable'!C25=\"Inventario\",'Diario contable'!H25,IF('Diario contable'!E25=\"Inventario\",'Diario contable'!H25,0))","v":"00:00:00"},null,null,{"$f":"+IF('Diario contable'!C25=\"Costo de ventas\",'Diario contable'!F25,0)","v":0},null,null,null,{"$f":"+IF('Diario contable'!E25=\"Costo de ventas\",'Diario contable'!F25,0)","v":0},{"$f":"IF('Diario contable'!C25=\"Costo de ventas\",'Diario contable'!I25,IF('Diario contable'!E25=\"Costo de ventas\",'Diario contable'!I25,0))","v":0},{"$f":"IF('Diario contable'!C25=\"Costo de ventas\",'Diario contable'!H25,IF('Diario contable'!E25=\"Costo de ventas\",'Diario contable'!H25,0))","v":"00:00:00"},null,null,{"$f":"+IF('Diario contable'!C25=\"Ventas\",'Diario contable'!F25,0)","v":0},null,null,null,{"$f":"+IF('Diario contable'!E25=\"Ventas\",'Diario contable'!F25,0)","v":0},{"$f":"IF('Diario contable'!C25=\"Ventas\",'Diario contable'!I25,IF('Diario contable'!E25=\"Ventas\",'Diario contable'!I25,0))","v":0},{"$f":"IF('Diario contable'!C25=\"Ventas\",'Diario contable'!H25,IF('Diario contable'!E25=\"Ventas\",'Diario contable'!H25,0))","v":"00:00:00"},null,null,{"$f":"+IF('Diario contable'!C25=\"Gastos por salarios\",'Diario contable'!F25,0)","v":0},null,null,null,{"$f":"+IF('Diario contable'!E25=\"Gastos por salarios\",'Diario contable'!F25,0)","v":0},{"$f":"IF('Diario contable'!C25=\"Gastos por salarios\",'Diario contable'!I25,IF('Diario contable'!E25=\"Gastos por salarios\",'Diario contable'!I25,0))","v":0},{"$f":"IF('Diario contable'!C25=\"Gastos por salarios\",'Diario contable'!H25,IF('Diario contable'!E25=\"Gastos por salarios\",'Diario contable'!H25,0))","v":"00:00:00"},null,null,{"$f":"+IF('Diario contable'!C25=\"Gastos operacionales\",'Diario contable'!F25,0)","v":40000},"gastos operacionales",null,"caja",{"$f":"+IF('Diario contable'!E25=\"Gastos operacionales\",'Diario contable'!F25,0)","v":0},{"$f":"IF('Diario contable'!C25=\"Gastos operacionales\",'Diario contable'!I25,IF('Diario contable'!E25=\"Gastos operacionales\",'Diario contable'!I25,0))","v":8},{"$f":"IF('Diario contable'!C25=\"Gastos operacionales\",'Diario contable'!H25,IF('Diario contable'!E25=\"Gastos operacionales\",'Diario contable'!H25,0))","v":"2024-07-13"},null,null,{"$f":"+IF('Diario contable'!C25=\"Suministros de oficina\",'Diario contable'!F25,0)","v":0},null,null,null,{"$f":"+IF('Diario contable'!E25=\"Suministros de oficina\",'Diario contable'!F25,0)","v":0},{"$f":"IF('Diario contable'!C25=\"Suministros de oficina\",'Diario contable'!I25,IF('Diario contable'!E25=\"Suministros de oficina\",'Diario contable'!I25,0))","v":0},{"$f":"IF('Diario contable'!C25=\"Suministros de oficina\",'Diario contable'!H25,IF('Diario contable'!E25=\"Suministros de oficina\",'Diario contable'!H25,0))","v":"00:00:00"},null,null,{"$f":"+IF('Diario contable'!C25=\"Capital social\",'Diario contable'!F25,0)","v":0},null,null,null,{"$f":"+IF('Diario contable'!E25=\"Capital social\",'Diario contable'!F25,0)","v":0},{"$f":"IF('Diario contable'!C25=\"Capital social\",'Diario contable'!I25,IF('Diario contable'!E25=\"Capital social\",'Diario contable'!I25,0))","v":0},{"$f":"IF('Diario contable'!C25=\"Capital social\",'Diario contable'!H25,IF('Diario contable'!E25=\"Capital social\",'Diario contable'!H25,0))","v":"00:00:00"},null,null,{"$f":"+IF('Diario contable'!C25=\"Gastos de mercadeo\",'Diario contable'!F25,0)","v":0},null,null,null,{"$f":"+IF('Diario contable'!E25=\"Gastos de mercadeo\",'Diario contable'!F25,0)","v":0},{"$f":"IF('Diario contable'!C25=\"Gastos de mercadeo\",'Diario contable'!I25,IF('Diario contable'!E25=\"Gastos de mercadeo\",'Diario contable'!I25,0))","v":0},{"$f":"IF('Diario contable'!C25=\"Gastos de mercadeo\",'Diario contable'!H25,IF('Diario contable'!E25=\"Gastos de mercadeo\",'Diario contable'!H25,0))","v":"00:00:00"},null,null,{"$f":"+IF('Diario contable'!C25=\"Gastos de suministros de oficina\",'Diario contable'!F25,0)","v":0},null,null,null,{"$f":"+IF('Diario contable'!E25=\"Gastos de suministros de oficina\",'Diario contable'!F25,0)","v":0},{"$f":"IF('Diario contable'!C25=\"Gastos de suministros de oficina\",'Diario contable'!I25,IF('Diario contable'!E25=\"Gastos de suministros de oficina\",'Diario contable'!I25,0))","v":0},{"$f":"IF('Diario contable'!C25=\"Gastos de suministros de oficina\",'Diario contable'!H25,IF('Diario contable'!E25=\"Gastos de suministros de oficina\",'Diario contable'!H25,0))","v":"00:00:00"}]
[null,null,{"$f":"+IF('Diario contable'!C26=\"Caja\",'Diario contable'!F26,0)","v":0},null,null,null,{"$f":"+IF('Diario contable'!E26=\"Caja\",'Diario contable'!F26,0)","v":0},{"$f":"IF('Diario contable'!C26=\"Caja\",'Diario contable'!I26,IF('Diario contable'!E26=\"Caja\",'Diario contable'!I26,0))","v":9},{"$f":"IF('Diario contable'!C26=\"Caja\",'Diario contable'!H26,IF('Diario contable'!E26=\"Caja\",'Diario contable'!H26,0))","v":"00:00:00"},null,null,{"$f":"+IF('Diario contable'!C26=\"Maquinaria\",'Diario contable'!F26,0)","v":0},null,null,null,{"$f":"+IF('Diario contable'!E26=\"Maquinaria\",'Diario contable'!F26,0)","v":0},{"$f":"IF('Diario contable'!C26=\"Maquinaria\",'Diario contable'!I26,IF('Diario contable'!E26=\"Maquinaria\",'Diario contable'!I26,0))","v":0},{"$f":"IF('Diario contable'!C26=\"Maquinaria\",'Diario contable'!H26,IF('Diario contable'!E26=\"Maquinaria\",'Diario contable'!H26,0))","v":"00:00:00"},null,null,{"$f":"+IF('Diario contable'!C26=\"Herramientas\",'Diario contable'!F26,0)","v":0},null,null,null,{"$f":"+IF('Diario contable'!E26=\"Herramientas\",'Diario contable'!F26,0)","v":0},{"$f":"IF('Diario contable'!C26=\"Herramientas\",'Diario contable'!I26,IF('Diario contable'!E26=\"Herramientas\",'Diario contable'!I26,0))","v":0},{"$f":"IF('Diario contable'!C26=\"Herramientas\",'Diario contable'!H26,IF('Diario contable'!E26=\"Herramientas\",'Diario contable'!H26,0))","v":"00:00:00"},null,null,{"$f":"+IF('Diario contable'!C26=\"Donaciones\",'Diario contable'!F26,0)","v":0},null,null,null,{"$f":"+IF('Diario contable'!E26=\"Donaciones\",'Diario contable'!F26,0)","v":0},{"$f":"IF('Diario contable'!C26=\"Donaciones\",'Diario contable'!I26,IF('Diario contable'!E26=\"Donaciones\",'Diario contable'!I26,0))","v":0},{"$f":"IF('Diario contable'!C26=\"Donaciones\",'Diario contable'!H26,IF('Diario contable'!E26=\"Donaciones\",'Diario contable'!H26,0))","v":"00:00:00"},null,null,{"$f":"+IF('Diario contable'!C26=\"Inventario\",'Diario contable'!F26,0)","v":0},null,null,null,{"$f":"+IF('Diario contable'!E26=\"Inventario\",'Diario contable'!F26,0)","v":0},{"$f":"IF('Diario contable'!C26=\"Inventario\",'Diario contable'!I26,IF('Diario contable'!E26=\"Inventario\",'Diario contable'!I26,0))","v":0},{"$f":"IF('Diario contable'!C26=\"Inventario\",'Diario contable'!H26,IF('Diario contable'!E26=\"Inventario\",'Diario contable'!H26,0))","v":"00:00:00"},null,null,{"$f":"+IF('Diario contable'!C26=\"Costo de ventas\",'Diario contable'!F26,0)","v":0},null,null,null,{"$f":"+IF('Diario contable'!E26=\"Costo de ventas\",'Diario contable'!F26,0)","v":0},{"$f":"IF('Diario contable'!C26=\"Costo de ventas\",'Diario contable'!I26,IF('Diario contable'!E26=\"Costo de ventas\",'Diario contable'!I26,0))","v":0},{"$f":"IF('Diario contable'!C26=\"Costo de ventas\",'Diario contable'!H26,IF('Diario contable'!E26=\"Costo de ventas\",'Diario contable'!H26,0))","v":"00:00:00"},null,null,{"$f":"+IF('Diario contable'!C26=\"Ventas\",'Diario contable'!F26,0)","v":0},null,null,null,{"$f":"+IF('Diario contable'!E26=\"Ventas\",'Diario contable'!F26,0)","v":0},{"$f":"IF('Diario contable'!C26=\"Ventas\",'Diario contable'!I26,IF('Diario contable'!E26=\"Ventas\",'Diario contable'!I26,0))","v":0},{"$f":"IF('Diario contable'!C26=\"Ventas\",'Diario contable'!H26,IF('Diario contable'!E26=\"Ventas\",'Diario contable'!H26,0))","v":"00:00:00"},null,null,{"$f":"+IF('Diario contable'!C26=\"Gastos por salarios\",'Diario contable'!F26,0)","v":0},null,null,null,{"$f":"+IF('Diario contable'!E26=\"Gastos por salarios\",'Diario contable'!F26,0)","v":0},{"$f":"IF('Diario contable'!C26=\"Gastos por salarios\",'Diario contable'!I26,IF('Diario contable'!E26=\"Gastos por salarios\",'Diario contable'!I26,0))","v":0},{"$f":"IF('Diario contable'!C26=\"Gastos por salarios\",'Diario contable'!H26,IF('Diario contable'!E26=\"Gastos por salarios\",'Diario contable'!H26,0))","v":"00:00:00"},null,null,{"$f":"+IF('Diario contable'!C26=\"Gastos operacionales\",'Diario contable'!F26,0)","v":0},null,null,null,{"$f":"+IF('Diario contable'!E26=\"Gastos operacionales\",'Diario contable'!F26,0)","v":0},{"$f":"IF('Diario contable'!C26=\"Gastos operacionales\",'Diario contable'!I26,IF('Diario contable'!E26=\"Gastos operacionales\",'Diario contable'!I26,0))","v":0},{"$f":"IF('Diario contable'!C26=\"Gastos operacionales\",'Diario contable'!H26,IF('Diario contable'!E26=\"Gastos operacionales\",'Diario contable'!H26,0))","v":"00:00:00"},null,null,{"$f":"+IF('Diario contable'!C26=\"Suministros de oficina\",'Diario contable'!F26,0)","v":0},null,null,null,{"$f":"+IF('Diario contable'!E26=\"Suministros de oficina\",'Diario contable'!F26,0)","v":0},{"$f":"IF('Diario contable'!C26=\"Suministros de oficina\",'Diario contable'!I26,IF('Diario contable'!E26=\"Suministros de oficina\",'Diario contable'!I26,0))","v":9},{"$f":"IF('Diario contable'!C26=\"Suministros de oficina\",'Diario contable'!H26,IF('Diario contable'!E26=\"Suministros de oficina\",'Diario contable'!H26,0))","v":"00:00:00"},null,null,{"$f":"+IF('Diario contable'!C26=\"Capital social\",'Diario contable'!F26,0)","v":0},null,null,null,{"$f":"+IF('Diario contable'!E26=\"Capital social\",'Diario contable'!F26,0)","v":0},{"$f":"IF('Diario contable'!C26=\"Capital social\",'Diario contable'!I26,IF('Diario contable'!E26=\"Capital social\",'Diario contable'!I26,0))","v":0},{"$f":"IF('Diario contable'!C26=\"Capital social\",'Diario contable'!H26,IF('Diario contable'!E26=\"Capital social\",'Diario contable'!H26,0))","v":"00:00:00"},null,null,{"$f":"+IF('Diario contable'!C26=\"Gastos de mercadeo\",'Diario contable'!F26,0)","v":0},null,null,null,{"$f":"+IF('Diario contable'!E26=\"Gastos de mercadeo\",'Diario contable'!F26,0)","v":0},{"$f":"IF('Diario contable'!C26=\"Gastos de mercadeo\",'Diario contable'!I26,IF('Diario contable'!E26=\"Gastos de mercadeo\",'Diario contable'!I26,0))","v":0},{"$f":"IF('Diario contable'!C26=\"Gastos de mercadeo\",'Diario contable'!H26,IF('Diario contable'!E26=\"Gastos de mercadeo\",'Diario contable'!H26,0))","v":"00:00:00"},null,null,{"$f":"+IF('Diario contable'!C26=\"Gastos de suministros de oficina\",'Diario contable'!F26,0)","v":0},null,null,null,{"$f":"+IF('Diario contable'!E26=\"Gastos de suministros de oficina\",'Diario contable'!F26,0)","v":0},{"$f":"IF('Diario contable'!C26=\"Gastos de suministros de oficina\",'Diario contable'!I26,IF('Diario contable'!E26=\"Gastos de suministros de oficina\",'Diario contable'!I26,0))","v":0},{"$f":"IF('Diario contable'!C26=\"Gastos de suministros de oficina\",'Diario contable'!H26,IF('Diario contable'!E26=\"Gastos de suministros de oficina\",'Diario contable'!H26,0))","v":"00:00:00"}]
[null,null,{"$f":"+IF('Diario contable'!C27=\"Caja\",'Diario contable'!F27,0)","v":0},"gastos de mercadeo",null,"caja",{"$f":"+IF('Diario contable'!E27=\"Caja\",'Diario contable'!F27,0)","v":7000},{"$f":"IF('Diario contable'!C27=\"Caja\",'Diario contable'!I27,IF('Diario contable'!E27=\"Caja\",'Diario contable'!I27,0))","v":10},{"$f":"IF('Diario contable'!C27=\"Caja\",'Diario contable'!H27,IF('Diario contable'!E27=\"Caja\",'Diario contable'!H27,0))","v":"2024-06-06"},null,null,{"$f":"+IF('Diario contable'!C27=\"Maquinaria\",'Diario contable'!F27,0)","v":0},null,null,null,{"$f":"+IF('Diario contable'!E27=\"Maquinaria\",'Diario contable'!F27,0)","v":0},{"$f":"IF('Diario contable'!C27=\"Maquinaria\",'Diario contable'!I27,IF('Diario contable'!E27=\"Maquinaria\",'Diario contable'!I27,0))","v":0},{"$f":"IF('Diario contable'!C27=\"Maquinaria\",'Diario contable'!H27,IF('Diario contable'!E27=\"Maquinaria\",'Diario contable'!H27,0))","v":"00:00:00"},null,null,{"$f":"+IF('Diario contable'!C27=\"Herramientas\",'Diario contable'!F27,0)","v":0},null,null,null,{"$f":"+IF('Diario contable'!E27=\"Herramientas\",'Diario contable'!F27,0)","v":0},{"$f":"IF('Diario contable'!C27=\"Herramientas\",'Diario contable'!I27,IF('Diario contable'!E27=\"Herramientas\",'Diario contable'!I27,0))","v":0},{"$f":"IF('Diario contable'!C27=\"Herramientas\",'Diario contable'!H27,IF('Diario contable'!E27=\"Herramientas\",'Diario contable'!H27,0))","v":"00:00:00"},null,null,{"$f":"+IF('Diario contable'!C27=\"Donaciones\",'Diario contable'!F27,0)","v":0},null,null,null,{"$f":"+IF('Diario contable'!E27=\"Donaciones\",'Diario contable'!F27,0)","v":0},{"$f":"IF('Diario contable'!C27=\"Donaciones\",'Diario contable'!I27,IF('Diario contable'!E27=\"Donaciones\",'Diario contable'!I27,0))","v":0},{"$f":"IF('Diario contable'!C27=\"Donaciones\",'Diario contable'!H27,IF('Diario contable'!E27=\"Donaciones\",'Diario contable'!H27,0))","v":"00:00:00"},null,null,{"$f":"+IF('Diario contable'!C27=\"Inventario\",'Diario contable'!F27,0)","v":0},null,null,null,{"$f":"+IF('Diario contable'!E27=\"Inventario\",'Diario contable'!F27,0)","v":0},{"$f":"IF('Diario contable'!C27=\"Inventario\",'Diario contable'!I27,IF('Diario contable'!E27=\"Inventario\",'Diario contable'!I27,0))","v":0},{"$f":"IF('Diario contable'!C27=\"Inventario\",'Diario contable'!H27,IF('Diario contable'!E27=\"Inventario\",'Diario contable'!H27,0))","v":"00:00:00"},null,null,{"$f":"+IF('Diario contable'!C27=\"Costo de ventas\",'Diario contable'!F27,0)","v":0},null,null,null,{"$f":"+IF('Diario contable'!E27=\"Costo de ventas\",'Diario contable'!F27,0)","v":0},{"$f":"IF('Diario contable'!C27=\"Costo de ventas\",'Diario contable'!I27,IF('Diario contable'!E27=\"Costo de ventas\",'Diario contable'!I27,0))","v":0},{"$f":"IF('Diario contable'!C27=\"Costo de ventas\",'Diario contable'!H27,IF('Diario contable'!E27=\"Costo de ventas\",'Diario contable'!H27,0))","v":"00:00:00"},null,null,{"$f":"+IF('Diario contable'!C27=\"Ventas\",'Diario contable'!F27,0)","v":0},null,null,null,{"$f":"+IF('Diario contable'!E27=\"Ventas\",'Diario contable'!F27,0)","v":0},{"$f":"IF('Diario contable'!C27=\"Ventas\",'Diario contable'!I27,IF('Diario contable'!E27=\"Ventas\",'Diario contable'!I27,0))","v":0},{"$f":"IF('Diario contable'!C27=\"Ventas\",'Diario contable'!H27,IF('Diario contable'!E27=\"Ventas\",'Diario contable'!H27,0))","v":"00:00:00"},null,null,{"$f":"+IF('Diario contable'!C27=\"Gastos por salarios\",'Diario contable'!F27,0)","v":0},null,null,null,{"$f":"+IF('Diario contable'!E27=\"Gastos por salarios\",'Diario contable'!F27,0)","v":0},{"$f":"IF('Diario contable'!C27=\"Gastos por salarios\",'Diario contable'!I27,IF('Diario contable'!E27=\"Gastos por salarios\",'Diario contable'!I27,0))","v":0},{"$f":"IF('Diario contable'!C27=\"Gastos por salarios\",'Diario contable'!H27,IF('Diario contable'!E27=\"Gastos por salarios\",'Diario contable'!H27,0))","v":"00:00:00"},null,null,{"$f":"+IF('Diario contable'!C27=\"Gastos operacionales\",'Diario contable'!F27,0)","v":0},null,null,null,{"$f":"+IF('Diario contable'!E27=\"Gastos operacionales\",'Diario contable'!F27,0)","v":0},{"$f":"IF('Diario contable'!C27=\"Gastos operacionales\",'Diario contable'!I27,IF('Diario contable'!E27=\"Gastos operacionales\",'Diario contable'!I27,0))","v":0},{"$f":"IF('Diario contable'!C27=\"Gastos operacionales\",'Diario contable'!H27,IF('Diario contable'!E27=\"Gastos operacionales\",'Diario contable'!H27,0))","v":"00:00:00"},null,null,{"$f":"+IF('Diario contable'!C27=\"Suministros de oficina\",'Diario contable'!F27,0)","v":0},null,null,null,{"$f":"+IF('Diario contable'!E27=\"Suministros de oficina\",'Diario contable'!F27,0)","v":0},{"$f":"IF('Diario contable'!C27=\"Suministros de oficina\",'Diario contable'!I27,IF('Diario contable'!E27=\"Suministros de oficina\",'Diario contable'!I27,0))","v":0},{"$f":"IF('Diario contable'!C27=\"Suministros de oficina\",'Diario contable'!H27,IF('Diario contable'!E27=\"Suministros de oficina\",'Diario contable'!H27,0))","v":"00:00:00"},null,null,{"$f":"+IF('Diario contable'!C27=\"Capital social\",'Diario contable'!F27,0)","v":0},null,null,null,{"$f":"+IF('Diario contable'!E27=\"Capital social\",'Diario contable'!F27,0)","v":0},{"$f":"IF('Diario contable'!C27=\"Capital social\",'Diario contable'!I27,IF('Diario contable'!E27=\"Capital social\",'Diario contable'!I27,0))","v":0},{"$f":"IF('Diario contable'!C27=\"Capital social\",'Diario contable'!H27,IF('Diario contable'!E27=\"Capital social\",'Diario contable'!H27,0))","v":"00:00:00"},null,null,{"$f":"+IF('Diario contable'!C27=\"Gastos de mercadeo\",'Diario contable'!F27,0)","v":7000},"gastos de mercadeo",null,"caja",{"$f":"+IF('Diario contable'!E27=\"Gastos de mercadeo\",'Diario contable'!F27,0)","v":0},{"$f":"IF('Diario contable'!C27=\"Gastos de mercadeo\",'Diario contable'!I27,IF('Diario contable'!E27=\"Gastos de mercadeo\",'Diario contable'!I27,0))","v":10},{"$f":"IF('Diario contable'!C27=\"Gastos de mercadeo\",'Diario contable'!H27,IF('Diario contable'!E27=\"Gastos de mercadeo\",'Diario contable'!H27,0))","v":"2024-06-06"},null,null,{"$f":"+IF('Diario contable'!C27=\"Gastos de suministros de oficina\",'Diario contable'!F27,0)","v":0},null,null,null,{"$f":"+IF('Diario contable'!E27=\"Gastos de suministros de oficina\",'Diario contable'!F27,0)","v":0},{"$f":"IF('Diario contable'!C27=\"Gastos de suministros de oficina\",'Diario contable'!I27,IF('Diario contable'!E27=\"Gastos de suministros de oficina\",'Diario contable'!I27,0))","v":0},{"$f":"IF('Diario contable'!C27=\"Gastos de suministros de oficina\",'Diario contable'!H27,IF('Diario contable'!E27=\"Gastos de suministros de oficina\",'Diario contable'!H27,0))","v":"00:00:00"}]
[null,null,{"$f":"+IF('Diario contable'!C28=\"Caja\",'Diario contable'!F28,0)","v":0},null,null,null,{"$f":"+IF('Diario contable'!E28=\"Caja\",'Diario contable'!F28,0)","v":0},{"$f":"IF('Diario contable'!C28=\"Caja\",'Diario contable'!I28,IF('Diario contable'!E28=\"Caja\",'Diario contable'!I28,0))","v":0},{"$f":"IF('Diario contable'!C28=\"Caja\",'Diario contable'!H28,IF('Diario contable'!E28=\"Caja\",'Diario contable'!H28,0))","v":"00:00:00"},null,null,{"$f":"+IF('Diario contable'!C28=\"Maquinaria\",'Diario contable'!F28,0)","v":0},null,null,null,{"$f":"+IF('Diario contable'!E28=\"Maquinaria\",'Diario contable'!F28,0)","v":0},{"$f":"IF('Diario contable'!C28=\"Maquinaria\",'Diario contable'!I28,IF('Diario contable'!E28=\"Maquinaria\",'Diario contable'!I28,0))","v":0},{"$f":"IF('Diario contable'!C28=\"Maquinaria\",'Diario contable'!H28,IF('Diario contable'!E28=\"Maquinaria\",'Diario contable'!H28,0))","v":"00:00:00"},null,null,{"$f":"+IF('Diario contable'!C28=\"Herramientas\",'Diario contable'!F28,0)","v":0},null,null,null,{"$f":"+IF('Diario contable'!E28=\"Herramientas\",'Diario contable'!F28,0)","v":0},{"$f":"IF('Diario contable'!C28=\"Herramientas\",'Diario contable'!I28,IF('Diario contable'!E28=\"Herramientas\",'Diario contable'!I28,0))","v":0},{"$f":"IF('Diario contable'!C28=\"Herramientas\",'Diario contable'!H28,IF('Diario contable'!E28=\"Herramientas\",'Diario contable'!H28,0))","v":"00:00:00"},null,null,{"$f":"+IF('Diario contable'!C28=\"Donaciones\",'Diario contable'!F28,0)","v":0},null,null,null,{"$f":"+IF('Diario contable'!E28=\"Donaciones\",'Diario contable'!F28,0)","v":0},{"$f":"IF('Diario contable'!C28=\"Donaciones\",'Diario contable'!I28,IF('Diario contable'!E28=\"Donaciones\",'Diario contable'!I28,0))","v":0},{"$f":"IF('Diario contable'!C28=\"Donaciones\",'Diario contable'!H28,IF('Diario contable'!E28=\"Donaciones\",'Diario contable'!H28,0))","v":"00:00:00"},null,null,{"$f":"+IF('Diario contable'!C28=\"Inventario\",'Diario contable'!F28,0)","v":0},null,null,null,{"$f":"+IF('Diario contable'!E28=\"Inventario\",'Diario contable'!F28,0)","v":0},{"$f":"IF('Diario contable'!C28=\"Inventario\",'Diario contable'!I28,IF('Diario contable'!E28=\"Inventario\",'Diario contable'!I28,0))","v":0},{"$f":"IF('Diario contable'!C28=\"Inventario\",'Diario contable'!H28,IF('Diario contable'!E28=\"Inventario\",'Diario contable'!H28,0))","v":"00:00:00"},null,null,{"$f":"+IF('Diario contable'!C28=\"Costo de ventas\",'Diario contable'!F28,0)","v":0},null,null,null,{"$f":"+IF('Diario contable'!E28=\"Costo de ventas\",'Diario contable'!F28,0)","v":0},{"$f":"IF('Diario contable'!C28=\"Costo de ventas\",'Diario contable'!I28,IF('Diario contable'!E28=\"Costo de ventas\",'Diario contable'!I28,0))","v":0},{"$f":"IF('Diario contable'!C28=\"Costo de ventas\",'Diario contable'!H28,IF('Diario contable'!E28=\"Costo de ventas\",'Diario contable'!H28,0))","v":"00:00:00"},null,null,{"$f":"+IF('Diario contable'!C28=\"Ventas\",'Diario contable'!F28,0)","v":0},null,null,null,{"$f":"+IF('Diario contable'!E28=\"Ventas\",'Diario contable'!F28,0)","v":0},{"$f":"IF('Diario contable'!C28=\"Ventas\",'Diario contable'!I28,IF('Diario contable'!E28=\"Ventas\",'Diario contable'!I28,0))","v":0},{"$f":"IF('Diario contable'!C28=\"Ventas\",'Diario contable'!H28,IF('Diario contable'!E28=\"Ventas\",'Diario contable'!H28,0))","v":"00:00:00"},null,null,{"$f":"+IF('Diario contable'!C28=\"Gastos por salarios\",'Diario contable'!F28,0)","v":0},null,null,null,{"$f":"+IF('Diario contable'!E28=\"Gastos por salarios\",'Diario contable'!F28,0)","v":0},{"$f":"IF('Diario contable'!C28=\"Gastos por salarios\",'Diario contable'!I28,IF('Diario contable'!E28=\"Gastos por salarios\",'Diario contable'!I28,0))","v":0},{"$f":"IF('Diario contable'!C28=\"Gastos por salarios\",'Diario contable'!H28,IF('Diario contable'!E28=\"Gastos por salarios\",'Diario contable'!H28,0))","v":"00:00:00"},null,null,{"$f":"+IF('Diario contable'!C28=\"Gastos operacionales\",'Diario contable'!F28,0)","v":0},null,null,null,{"$f":"+IF('Diario contable'!E28=\"Gastos operacionales\",'Diario contable'!F28,0)","v":0},{"$f":"IF('Diario contable'!C28=\"Gastos operacionales\",'Diario contable'!I28,IF('Diario contable'!E28=\"Gastos operacionales\",'Diario contable'!I28,0))","v":0},{"$f":"IF('Diario contable'!C28=\"Gastos operacionales\",'Diario contable'!H28,IF('Diario contable'!E28=\"Gastos operacionales\",'Diario contable'!H28,0))","v":"00:00:00"},null,null,{"$f":"+IF('Diario contable'!C28=\"Suministros de oficina\",'Diario contable'!F28,0)","v":0},null,null,null,{"$f":"+IF('Diario contable'!E28=\"Suministros de oficina\",'Diario contable'!F28,0)","v":0},{"$f":"IF('Diario contable'!C28=\"Suministros de oficina\",'Diario contable'!I28,IF('Diario contable'!E28=\"Suministros de oficina\",'Diario contable'!I28,0))","v":11},{"$f":"IF('Diario contable'!C28=\"Suministros de oficina\",'Diario contable'!H28,IF('Diario contable'!E28=\"Suministros de oficina\",'Diario contable'!H28,0))","v":"00:00:00"},null,null,{"$f":"+IF('Diario contable'!C28=\"Capital social\",'Diario contable'!F28,0)","v":0},null,null,null,{"$f":"+IF('Diario contable'!E28=\"Capital social\",'Diario contable'!F28,0)","v":0},{"$f":"IF('Diario contable'!C28=\"Capital social\",'Diario contable'!I28,IF('Diario contable'!E28=\"Capital social\",'Diario contable'!I28,0))","v":0},{"$f":"IF('Diario contable'!C28=\"Capital social\",'Diario contable'!H28,IF('Diario contable'!E28=\"Capital social\",'Diario contable'!H28,0))","v":"00:00:00"},null,null,{"$f":"+IF('Diario contable'!C28=\"Gastos de mercadeo\",'Diario contable'!F28,0)","v":0},null,null,null,{"$f":"+IF('Diario contable'!E28=\"Gastos de mercadeo\",'Diario contable'!F28,0)","v":0},{"$f":"IF('Diario contable'!C28=\"Gastos de mercadeo\",'Diario contable'!I28,IF('Diario contable'!E28=\"Gastos de mercadeo\",'Diario contable'!I28,0))","v":0},{"$f":"IF('Diario contable'!C28=\"Gastos de mercadeo\",'Diario contable'!H28,IF('Diario contable'!E28=\"Gastos de mercadeo\",'Diario contable'!H28,0))","v":"00:00:00"},null,null,{"$f":"+IF('Diario contable'!C28=\"Gastos de suministros de oficina\",'Diario contable'!F28,0)","v":0},null,null,null,{"$f":"+IF('Diario contable'!E28=\"Gastos de suministros de oficina\",'Diario contable'!F28,0)","v":0},{"$f":"IF('Diario contable'!C28=\"Gastos de suministros de oficina\",'Diario contable'!I28,IF('Diario contable'!E28=\"Gastos de suministros de oficina\",'Diario contable'!I28,0))","v":11},{"$f":"IF('Diario contable'!C28=\"Gastos de suministros de oficina\",'Diario contable'!H28,IF('Diario contable'!E28=\"Gastos de suministros de oficina\",'Diario contable'!H28,0))","v":"00:00:00"}]
[null,null,{"$f":"+IF('Diario contable'!C29=\"Caja\",'Diario contable'!F29,0)","v":398000},"caja ",null,"donaciones",{"$f":"+IF('Diario contable'!E29=\"Caja\",'Diario contable'!F29,0)","v":0},{"$f":"IF('Diario contable'!C29=\"Caja\",'Diario contable'!I29,IF('Diario contable'!E29=\"Caja\",'Diario contable'!I29,0))","v":12},{"$f":"IF('Diario contable'!C29=\"Caja\",'Diario contable'!H29,IF('Diario contable'!E29=\"Caja\",'Diario contable'!H29,0))","v":"2024-04-26"},null,null,{"$f":"+IF('Diario contable'!C29=\"Maquinaria\",'Diario contable'!F29,0)","v":0},null,null,null,{"$f":"+IF('Diario contable'!E29=\"Maquinaria\",'Diario contable'!F29,0)","v":0},{"$f":"IF('Diario contable'!C29=\"Maquinaria\",'Diario contable'!I29,IF('Diario contable'!E29=\"Maquinaria\",'Diario contable'!I29,0))","v":0},{"$f":"IF('Diario contable'!C29=\"Maquinaria\",'Diario contable'!H29,IF('Diario contable'!E29=\"Maquinaria\",'Diario contable'!H29,0))","v":"00:00:00"},null,null,{"$f":"+IF('Diario contable'!C29=\"Herramientas\",'Diario contable'!F29,0)","v":0},null,null,null,{"$f":"+IF('Diario contable'!E29=\"Herramientas\",'Diario contable'!F29,0)","v":0},{"$f":"IF('Diario contable'!C29=\"Herramientas\",'Diario contable'!I29,IF('Diario contable'!E29=\"Herramientas\",'Diario contable'!I29,0))","v":0},{"$f":"IF('Diario contable'!C29=\"Herramientas\",'Diario contable'!H29,IF('Diario contable'!E29=\"Herramientas\",'Diario contable'!H29,0))","v":"00:00:00"},null,null,{"$f":"+IF('Diario contable'!C29=\"Donaciones\",'Diario contable'!F29,0)","v":0},"caja",null,"donaciones",{"$f":"+IF('Diario contable'!E29=\"Donaciones\",'Diario contable'!F29,0)","v":398000},{"$f":"IF('Diario contable'!C29=\"Donaciones\",'Diario contable'!I29,IF('Diario contable'!E29=\"Donaciones\",'Diario contable'!I29,0))","v":12},{"$f":"IF('Diario contable'!C29=\"Donaciones\",'Diario contable'!H29,IF('Diario contable'!E29=\"Donaciones\",'Diario contable'!H29,0))","v":"2024-04-26"},null,null,{"$f":"+IF('Diario contable'!C29=\"Inventario\",'Diario contable'!F29,0)","v":0},null,null,null,{"$f":"+IF('Diario contable'!E29=\"Inventario\",'Diario contable'!F29,0)","v":0},{"$f":"IF('Diario contable'!C29=\"Inventario\",'Diario contable'!I29,IF('Diario contable'!E29=\"Inventario\",'Diario contable'!I29,0))","v":0},{"$f":"IF('Diario contable'!C29=\"Inventario\",'Diario contable'!H29,IF('Diario contable'!E29=\"Inventario\",'Diario contable'!H29,0))","v":"00:00:00"},null,null,{"$f":"+IF('Diario contable'!C29=\"Costo de ventas\",'Diario contable'!F29,0)","v":0},null,null,null,{"$f":"+IF('Diario contable'!E29=\"Costo de ventas\",'Diario contable'!F29,0)","v":0},{"$f":"IF('Diario contable'!C29=\"Costo de ventas\",'Diario contable'!I29,IF('Diario contable'!E29=\"Costo de ventas\",'Diario contable'!I29,0))","v":0},{"$f":"IF('Diario contable'!C29=\"Costo de ventas\",'Diario contable'!H29,IF('Diario contable'!E29=\"Costo de ventas\",'Diario contable'!H29,0))","v":"00:00:00"},null,null,{"$f":"+IF('Diario contable'!C29=\"Ventas\",'Diario contable'!F29,0)","v":0},null,null,null,{"$f":"+IF('Diario contable'!E29=\"Ventas\",'Diario contable'!F29,0)","v":0},{"$f":"IF('Diario contable'!C29=\"Ventas\",'Diario contable'!I29,IF('Diario contable'!E29=\"Ventas\",'Diario contable'!I29,0))","v":0},{"$f":"IF('Diario contable'!C29=\"Ventas\",'Diario contable'!H29,IF('Diario contable'!E29=\"Ventas\",'Diario contable'!H29,0))","v":"00:00:00"},null,null,{"$f":"+IF('Diario contable'!C29=\"Gastos por salarios\",'Diario contable'!F29,0)","v":0},null,null,null,{"$f":"+IF('Diario contable'!E29=\"Gastos por salarios\",'Diario contable'!F29,0)","v":0},{"$f":"IF('Diario contable'!C29=\"Gastos por salarios\",'Diario contable'!I29,IF('Diario contable'!E29=\"Gastos por salarios\",'Diario contable'!I29,0))","v":0},{"$f":"IF('Diario contable'!C29=\"Gastos por salarios\",'Diario contable'!H29,IF('Diario contable'!E29=\"Gastos por salarios\",'Diario contable'!H29,0))","v":"00:00:00"},null,null,{"$f":"+IF('Diario contable'!C29=\"Gastos operacionales\",'Diario contable'!F29,0)","v":0},null,null,null,{"$f":"+IF('Diario contable'!E29=\"Gastos operacionales\",'Diario contable'!F29,0)","v":0},{"$f":"IF('Diario contable'!C29=\"Gastos operacionales\",'Diario contable'!I29,IF('Diario contable'!E29=\"Gastos operacionales\",'Diario contable'!I29,0))","v":0},{"$f":"IF('Diario contable'!C29=\"Gastos operacionales\",'Diario contable'!H29,IF('Diario contable'!E29=\"Gastos operacionales\",'Diario contable'!H29,0))","v":"00:00:00"},null,null,{"$f":"+IF('Diario contable'!C29=\"Suministros de oficina\",'Diario contable'!F29,0)","v":0},null,null,null,{"$f":"+IF('Diario contable'!E29=\"Suministros de oficina\",'Diario contable'!F29,0)","v":0},{"$f":"IF('Diario contable'!C29=\"Suministros de oficina\",'Diario contable'!I29,IF('Diario contable'!E29=\"Suministros de oficina\",'Diario contable'!I29,0))","v":0},{"$f":"IF('Diario contable'!C29=\"Suministros de oficina\",'Diario contable'!H29,IF('Diario contable'!E29=\"Suministros de oficina\",'Diario contable'!H29,0))","v":"00:00:00"},null,null,{"$f":"+IF('Diario contable'!C29=\"Capital social\",'Diario contable'!F29,0)","v":0},null,null,null,{"$f":"+IF('Diario contable'!E29=\"Capital social\",'Diario contable'!F29,0)","v":0},{"$f":"IF('Diario contable'!C29=\"Capital social\",'Diario contable'!I29,IF('Diario contable'!E29=\"Capital social\",'Diario contable'!I29,0))","v":0},{"$f":"IF('Diario contable'!C29=\"Capital social\",'Diario contable'!H29,IF('Diario contable'!E29=\"Capital social\",'Diario contable'!H29,0))","v":"00:00:00"},null,null,{"$f":"+IF('Diario contable'!C29=\"Gastos de mercadeo\",'Diario contable'!F29,0)","v":0},null,null,null,{"$f":"+IF('Diario contable'!E29=\"Gastos de mercadeo\",'Diario contable'!F29,0)","v":0},{"$f":"IF('Diario contable'!C29=\"Gastos de mercadeo\",'Diario contable'!I29,IF('Diario contable'!E29=\"Gastos de mercadeo\",'Diario contable'!I29,0))","v":0},{"$f":"IF('Diario contable'!C29=\"Gastos de mercadeo\",'Diario contable'!H29,IF('Diario contable'!E29=\"Gastos de mercadeo\",'Diario contable'!H29,0))","v":"00:00:00"},null,null,{"$f":"+IF('Diario contable'!C29=\"Gastos de suministros de oficina\",'Diario contable'!F29,0)","v":0},null,null,null,{"$f":"+IF('Diario contable'!E29=\"Gastos de suministros de oficina\",'Diario contable'!F29,0)","v":0},{"$f":"IF('Diario contable'!C29=\"Gastos de suministros de oficina\",'Diario contable'!I29,IF('Diario contable'!E29=\"Gastos de suministros de oficina\",'Diario contable'!I29,0))","v":0},{"$f":"IF('Diario contable'!C29=\"Gastos de suministros de oficina\",'Diario contable'!H29,IF('Diario contable'!E29=\"Gastos de suministros de oficina\",'Diario contable'!H29,0))","v":"00:00:00"}]
[null,null,{"$f":"+IF('Diario contable'!C30=\"Caja\",'Diario contable'!F30,0)","v":0},null,null,null,{"$f":"+IF('Diario contable'!E30=\"Caja\",'Diario contable'!F30,0)","v":0},{"$f":"IF('Diario contable'!C30=\"Caja\",'Diario contable'!I30,IF('Diario contable'!E30=\"Caja\",'Diario contable'!I30,0))","v":13},{"$f":"IF('Diario contable'!C30=\"Caja\",'Diario contable'!H30,IF('Diario contable'!E30=\"Caja\",'Diario contable'!H30,0))","v":"00:00:00"},null,null,{"$f":"+IF('Diario contable'!C30=\"Maquinaria\",'Diario contable'!F30,0)","v":0},null,null,null,{"$f":"+IF('Diario contable'!E30=\"Maquinaria\",'Diario contable'!F30,0)","v":0},{"$f":"IF('Diario contable'!C30=\"Maquinaria\",'Diario contable'!I30,IF('Diario contable'!E30=\"Maquinaria\",'Diario contable'!I30,0))","v":0},{"$f":"IF('Diario contable'!C30=\"Maquinaria\",'Diario contable'!H30,IF('Diario contable'!E30=\"Maquinaria\",'Diario contable'!H30,0))","v":"00:00:00"},null,null,{"$f":"+IF('Diario contable'!C30=\"Herramientas\",'Diario contable'!F30,0)","v":0},null,null,null,{"$f":"+IF('Diario contable'!E30=\"Herramientas\",'Diario contable'!F30,0)","v":0},{"$f":"IF('Diario contable'!C30=\"Herramientas\",'Diario contable'!I30,IF('Diario contable'!E30=\"Herramientas\",'Diario contable'!I30,0))","v":13},{"$f":"IF('Diario contable'!C30=\"Herramientas\",'Diario contable'!H30,IF('Diario contable'!E30=\"Herramientas\",'Diario contable'!H30,0))","v":"00:00:00"},null,null,{"$f":"+IF('Diario contable'!C30=\"Donaciones\",'Diario contable'!F30,0)","v":0},null,null,null,{"$f":"+IF('Diario contable'!E30=\"Donaciones\",'Diario contable'!F30,0)","v":0},{"$f":"IF('Diario contable'!C30=\"Donaciones\",'Diario contable'!I30,IF('Diario contable'!E30=\"Donaciones\",'Diario contable'!I30,0))","v":0},{"$f":"IF('Diario contable'!C30=\"Donaciones\",'Diario contable'!H30,IF('Diario contable'!E30=\"Donaciones\",'Diario contable'!H30,0))","v":"00:00:00"},null,null,{"$f":"+IF('Diario contable'!C30=\"Inventario\",'Diario contable'!F30,0)","v":0},null,null,null,{"$f":"+IF('Diario contable'!E30=\"Inventario\",'Diario contable'!F30,0)","v":0},{"$f":"IF('Diario contable'!C30=\"Inventario\",'Diario contable'!I30,IF('Diario contable'!E30=\"Inventario\",'Diario contable'!I30,0))","v":0},{"$f":"IF('Diario contable'!C30=\"Inventario\",'Diario contable'!H30,IF('Diario contable'!E30=\"Inventario\",'Diario contable'!H30,0))","v":"00:00:00"},null,null,{"$f":"+IF('Diario contable'!C30=\"Costo de ventas\",'Diario contable'!F30,0)","v":0},null,null,null,{"$f":"+IF('Diario contable'!E30=\"Costo de ventas\",'Diario contable'!F30,0)","v":0},{"$f":"IF('Diario contable'!C30=\"Costo de ventas\",'Diario contable'!I30,IF('Diario contable'!E30=\"Costo de ventas\",'Diario contable'!I30,0))","v":0},{"$f":"IF('Diario contable'!C30=\"Costo de ventas\",'Diario contable'!H30,IF('Diario contable'!E30=\"Costo de ventas\",'Diario contable'!H30,0))","v":"00:00:00"},null,null,{"$f":"+IF('Diario contable'!C30=\"Ventas\",'Diario contable'!F30,0)","v":0},null,null,null,{"$f":"+IF('Diario contable'!E30=\"Ventas\",'Diario contable'!F30,0)","v":0},{"$f":"IF('Diario contable'!C30=\"Ventas\",'Diario contable'!I30,IF('Diario contable'!E30=\"Ventas\",'Diario contable'!I30,0))","v":0},{"$f":"IF('Diario contable'!C30=\"Ventas\",'Diario contable'!H30,IF('Diario contable'!E30=\"Ventas\",'Diario contable'!H30,0))","v":"00:00:00"},null,null,{"$f":"+IF('Diario contable'!C30=\"Gastos por salarios\",'Diario contable'!F30,0)","v":0},null,null,null,{"$f":"+IF('Diario contable'!E30=\"Gastos por salarios\",'Diario contable'!F30,0)","v":0},{"$f":"IF('Diario contable'!C30=\"Gastos por salarios\",'Diario contable'!I30,IF('Diario contable'!E30=\"Gastos por salarios\",'Diario contable'!I30,0))","v":0},{"$f":"IF('Diario contable'!C30=\"Gastos por salarios\",'Diario contable'!H30,IF('Diario contable'!E30=\"Gastos por salarios\",'Diario contable'!H30,0))","v":"00:00:00"},null,null,{"$f":"+IF('Diario contable'!C30=\"Gastos operacionales\",'Diario contable'!F30,0)","v":0},null,null,null,{"$f":"+IF('Diario contable'!E30=\"Gastos operacionales\",'Diario contable'!F30,0)","v":0},{"$f":"IF('Diario contable'!C30=\"Gastos operacionales\",'Diario contable'!I30,IF('Diario contable'!E30=\"Gastos operacionales\",'Diario contable'!I30,0))","v":0},{"$f":"IF('Diario contable'!C30=\"Gastos operacionales\",'Diario contable'!H30,IF('Diario contable'!E30=\"Gastos operacionales\",'Diario contable'!H30,0))","v":"00:00:00"},null,null,{"$f":"+IF('Diario contable'!C30=\"Suministros de oficina\",'Diario contable'!F30,0)","v":0},null,null,null,{"$f":"+IF('Diario contable'!E30=\"Suministros de oficina\",'Diario contable'!F30,0)","v":0},{"$f":"IF('Diario contable'!C30=\"Suministros de oficina\",'Diario contable'!I30,IF('Diario contable'!E30=\"Suministros de oficina\",'Diario contable'!I30,0))","v":0},{"$f":"IF('Diario contable'!C30=\"Suministros de oficina\",'Diario contable'!H30,IF('Diario contable'!E30=\"Suministros de oficina\",'Diario contable'!H30,0))","v":"00:00:00"},null,null,{"$f":"+IF('Diario contable'!C30=\"Capital social\",'Diario contable'!F30,0)","v":0},null,null,null,{"$f":"+IF('Diario contable'!E30=\"Capital social\",'Diario contable'!F30,0)","v":0},{"$f":"IF('Diario contable'!C30=\"Capital social\",'Diario contable'!I30,IF('Diario contable'!E30=\"Capital social\",'Diario contable'!I30,0))","v":0},{"$f":"IF('Diario contable'!C30=\"Capital social\",'Diario contable'!H30,IF('Diario contable'!E30=\"Capital social\",'Diario contable'!H30,0))","v":"00:00:00"},null,null,{"$f":"+IF('Diario contable'!C30=\"Gastos de mercadeo\",'Diario contable'!F30,0)","v":0},null,null,null,{"$f":"+IF('Diario contable'!E30=\"Gastos de mercadeo\",'Diario contable'!F30,0)","v":0},{"$f":"IF('Diario contable'!C30=\"Gastos de mercadeo\",'Diario contable'!I30,IF('Diario contable'!E30=\"Gastos de mercadeo\",'Diario contable'!I30,0))","v":0},{"$f":"IF('Diario contable'!C30=\"Gastos de mercadeo\",'Diario contable'!H30,IF('Diario contable'!E30=\"Gastos de mercadeo\",'Diario contable'!H30,0))","v":"00:00:00"},null,null,{"$f":"+IF('Diario contable'!C30=\"Gastos de suministros de oficina\",'Diario contable'!F30,0)","v":0},null,null,null,{"$f":"+IF('Diario contable'!E30=\"Gastos de suministros de oficina\",'Diario contable'!F30,0)","v":0},{"$f":"IF('Diario contable'!C30=\"Gastos de suministros de oficina\",'Diario contable'!I30,IF('Diario contable'!E30=\"Gastos de suministros de oficina\",'Diario contable'!I30,0))","v":0},{"$f":"IF('Diario contable'!C30=\"Gastos de suministros de oficina\",'Diario contable'!H30,IF('Diario contable'!E30=\"Gastos de suministros de oficina\",'Diario contable'!H30,0))","v":"00:00:00"}]
[null,null,{"$f":"+IF('Diario contable'!C31=\"Caja\",'Diario contable'!F31,0)","v":0},"gastos por salarios",null,"caja",{"$f":"+IF('Diario contable'!E31=\"Caja\",'Diario contable'!F31,0)","v":24000},{"$f":"IF('Diario contable'!C31=\"Caja\",'Diario contable'!I31,IF('Diario contable'!E31=\"Caja\",'Diario contable'!I31,0))","v":14},{"$f":"IF('Diario contable'!C31=\"Caja\",'Diario contable'!H31,IF('Diario contable'!E31=\"Caja\",'Diario contable'!H31,0))","v":"2024-07-22"},null,null,{"$f":"+IF('Diario contable'!C31=\"Maquinaria\",'Diario contable'!F31,0)","v":0},null,null,null,{"$f":"+IF('Diario contable'!E31=\"Maquinaria\",'Diario contable'!F31,0)","v":0},{"$f":"IF('Diario contable'!C31=\"Maquinaria\",'Diario contable'!I31,IF('Diario contable'!E31=\"Maquinaria\",'Diario contable'!I31,0))","v":0},{"$f":"IF('Diario contable'!C31=\"Maquinaria\",'Diario contable'!H31,IF('Diario contable'!E31=\"Maquinaria\",'Diario contable'!H31,0))","v":"00:00:00"},null,null,{"$f":"+IF('Diario contable'!C31=\"Herramientas\",'Diario contable'!F31,0)","v":0},null,null,null,{"$f":"+IF('Diario contable'!E31=\"Herramientas\",'Diario contable'!F31,0)","v":0},{"$f":"IF('Diario contable'!C31=\"Herramientas\",'Diario contable'!I31,IF('Diario contable'!E31=\"Herramientas\",'Diario contable'!I31,0))","v":0},{"$f":"IF('Diario contable'!C31=\"Herramientas\",'Diario contable'!H31,IF('Diario contable'!E31=\"Herramientas\",'Diario contable'!H31,0))","v":"00:00:00"},null,null,{"$f":"+IF('Diario contable'!C31=\"Donaciones\",'Diario contable'!F31,0)","v":0},null,null,null,{"$f":"+IF('Diario contable'!E31=\"Donaciones\",'Diario contable'!F31,0)","v":0},{"$f":"IF('Diario contable'!C31=\"Donaciones\",'Diario contable'!I31,IF('Diario contable'!E31=\"Donaciones\",'Diario contable'!I31,0))","v":0},{"$f":"IF('Diario contable'!C31=\"Donaciones\",'Diario contable'!H31,IF('Diario contable'!E31=\"Donaciones\",'Diario contable'!H31,0))","v":"00:00:00"},null,null,{"$f":"+IF('Diario contable'!C31=\"Inventario\",'Diario contable'!F31,0)","v":0},null,null,null,{"$f":"+IF('Diario contable'!E31=\"Inventario\",'Diario contable'!F31,0)","v":0},{"$f":"IF('Diario contable'!C31=\"Inventario\",'Diario contable'!I31,IF('Diario contable'!E31=\"Inventario\",'Diario contable'!I31,0))","v":0},{"$f":"IF('Diario contable'!C31=\"Inventario\",'Diario contable'!H31,IF('Diario contable'!E31=\"Inventario\",'Diario contable'!H31,0))","v":"00:00:00"},null,null,{"$f":"+IF('Diario contable'!C31=\"Costo de ventas\",'Diario contable'!F31,0)","v":0},null,null,null,{"$f":"+IF('Diario contable'!E31=\"Costo de ventas\",'Diario contable'!F31,0)","v":0},{"$f":"IF('Diario contable'!C31=\"Costo de ventas\",'Diario contable'!I31,IF('Diario contable'!E31=\"Costo de ventas\",'Diario contable'!I31,0))","v":0},{"$f":"IF('Diario contable'!C31=\"Costo de ventas\",'Diario contable'!H31,IF('Diario contable'!E31=\"Costo de ventas\",'Diario contable'!H31,0))","v":"00:00:00"},null,null,{"$f":"+IF('Diario contable'!C31=\"Ventas\",'Diario contable'!F31,0)","v":0},null,null,null,{"$f":"+IF('Diario contable'!E31=\"Ventas\",'Diario contable'!F31,0)","v":0},{"$f":"IF('Diario contable'!C31=\"Ventas\",'Diario contable'!I31,IF('Diario contable'!E31=\"Ventas\",'Diario contable'!I31,0))","v":0},{"$f":"IF('Diario contable'!C31=\"Ventas\",'Diario contable'!H31,IF('Diario contable'!E31=\"Ventas\",'Diario contable'!H31,0))","v":"00:00:00"},null,null,{"$f":"+IF('Diario contable'!C31=\"Gastos por salarios\",'Diario contable'!F31,0)","v":24000},"gastos por salario",null,"caja",{"$f":"+IF('Diario contable'!E31=\"Gastos por salarios\",'Diario contable'!F31,0)","v":0},{"$f":"IF('Diario contable'!C31=\"Gastos por salarios\",'Diario contable'!I31,IF('Diario contable'!E31=\"Gastos por salarios\",'Diario contable'!I31,0))","v":14},{"$f":"IF('Diario contable'!C31=\"Gastos por salarios\",'Diario contable'!H31,IF('Diario contable'!E31=\"Gastos por salarios\",'Diario contable'!H31,0))","v":"2024-07-22"},null,null,{"$f":"+IF('Diario contable'!C31=\"Gastos operacionales\",'Diario contable'!F31,0)","v":0},null,null,null,{"$f":"+IF('Diario contable'!E31=\"Gastos operacionales\",'Diario contable'!F31,0)","v":0},{"$f":"IF('Diario contable'!C31=\"Gastos operacionales\",'Diario contable'!I31,IF('Diario contable'!E31=\"Gastos operacionales\",'Diario contable'!I31,0))","v":0},{"$f":"IF('Diario contable'!C31=\"Gastos operacionales\",'Diario contable'!H31,IF('Diario contable'!E31=\"Gastos operacionales\",'Diario contable'!H31,0))","v":"00:00:00"},null,null,{"$f":"+IF('Diario contable'!C31=\"Suministros de oficina\",'Diario contable'!F31,0)","v":0},null,null,null,{"$f":"+IF('Diario contable'!E31=\"Suministros de oficina\",'Diario contable'!F31,0)","v":0},{"$f":"IF('Diario contable'!C31=\"Suministros de oficina\",'Diario contable'!I31,IF('Diario contable'!E31=\"Suministros de oficina\",'Diario contable'!I31,0))","v":0},{"$f":"IF('Diario contable'!C31=\"Suministros de oficina\",'Diario contable'!H31,IF('Diario contable'!E31=\"Suministros de oficina\",'Diario contable'!H31,0))","v":"00:00:00"},null,null,{"$f":"+IF('Diario contable'!C31=\"Capital social\",'Diario contable'!F31,0)","v":0},null,null,null,{"$f":"+IF('Diario contable'!E31=\"Capital social\",'Diario contable'!F31,0)","v":0},{"$f":"IF('Diario contable'!C31=\"Capital social\",'Diario contable'!I31,IF('Diario contable'!E31=\"Capital social\",'Diario contable'!I31,0))","v":0},{"$f":"IF('Diario contable'!C31=\"Capital social\",'Diario contable'!H31,IF('Diario contable'!E31=\"Capital social\",'Diario contable'!H31,0))","v":"00:00:00"},null,null,{"$f":"+IF('Diario contable'!C31=\"Gastos de mercadeo\",'Diario contable'!F31,0)","v":0},null,null,null,{"$f":"+IF('Diario contable'!E31=\"Gastos de mercadeo\",'Diario contable'!F31,0)","v":0},{"$f":"IF('Diario contable'!C31=\"Gastos de mercadeo\",'Diario contable'!I31,IF('Diario contable'!E31=\"Gastos de mercadeo\",'Diario contable'!I31,0))","v":0},{"$f":"IF('Diario contable'!C31=\"Gastos de mercadeo\",'Diario contable'!H31,IF('Diario contable'!E31=\"Gastos de mercadeo\",'Diario contable'!H31,0))","v":"00:00:00"},null,null,{"$f":"+IF('Diario contable'!C31=\"Gastos de suministros de oficina\",'Diario contable'!F31,0)","v":0},null,null,null,{"$f":"+IF('Diario contable'!E31=\"Gastos de suministros de oficina\",'Diario contable'!F31,0)","v":0},{"$f":"IF('Diario contable'!C31=\"Gastos de suministros de oficina\",'Diario contable'!I31,IF('Diario contable'!E31=\"Gastos de suministros de oficina\",'Diario contable'!I31,0))","v":0},{"$f":"IF('Diario contable'!C31=\"Gastos de suministros de oficina\",'Diario contable'!H31,IF('Diario contable'!E31=\"Gastos de suministros de oficina\",'Diario contable'!H31,0))","v":"00:00:00"}]
[null,null,{"$f":"+IF('Diario contable'!C32=\"Caja\",'Diario contable'!F32,0)","v":0},null,null,null,{"$f":"+IF('Diario contable'!E32=\"Caja\",'Diario contable'!F32,0)","v":0},{"$f":"IF('Diario contable'!C32=\"Caja\",'Diario contable'!I32,IF('Diario contable'!E32=\"Caja\",'Diario contable'!I32,0))","v":0},{"$f":"IF('Diario contable'!C32=\"Caja\",'Diario contable'!H32,IF('Diario contable'!E32=\"Caja\",'Diario contable'!H32,0))","v":"00:00:00"},null,null,{"$f":"+IF('Diario contable'!C32=\"Maquinaria\",'Diario contable'!F32,0)","v":0},null,null,null,{"$f":"+IF('Diario contable'!E32=\"Maquinaria\",'Diario contable'!F32,0)","v":0},{"$f":"IF('Diario contable'!C32=\"Maquinaria\",'Diario contable'!I32,IF('Diario contable'!E32=\"Maquinaria\",'Diario contable'!I32,0))","v":0},{"$f":"IF('Diario contable'!C32=\"Maquinaria\",'Diario contable'!H32,IF('Diario contable'!E32=\"Maquinaria\",'Diario contable'!H32,0))","v":"00:00:00"},null,null,{"$f":"+IF('Diario contable'!C32=\"Herramientas\",'Diario contable'!F32,0)","v":0},null,null,null,{"$f":"+IF('Diario contable'!E32=\"Herramientas\",'Diario contable'!F32,0)","v":0},{"$f":"IF('Diario contable'!C32=\"Herramientas\",'Diario contable'!I32,IF('Diario contable'!E32=\"Herramientas\",'Diario contable'!I32,0))","v":0},{"$f":"IF('Diario contable'!C32=\"Herramientas\",'Diario contable'!H32,IF('Diario contable'!E32=\"Herramientas\",'Diario contable'!H32,0))","v":"00:00:00"},null,null,{"$f":"+IF('Diario contable'!C32=\"Donaciones\",'Diario contable'!F32,0)","v":0},null,null,null,{"$f":"+IF('Diario contable'!E32=\"Donaciones\",'Diario contable'!F32,0)","v":0},{"$f":"IF('Diario contable'!C32=\"Donaciones\",'Diario contable'!I32,IF('Diario contable'!E32=\"Donaciones\",'Diario contable'!I32,0))","v":0},{"$f":"IF('Diario contable'!C32=\"Donaciones\",'Diario contable'!H32,IF('Diario contable'!E32=\"Donaciones\",'Diario contable'!H32,0))","v":"00:00:00"},null,null,{"$f":"+IF('Diario contable'!C32=\"Inventario\",'Diario contable'!F32,0)","v":0},null,null,null,{"$f":"+IF('Diario contable'!E32=\"Inventario\",'Diario contable'!F32,0)","v":0},{"$f":"IF('Diario contable'!C32=\"Inventario\",'Diario contable'!I32,IF('Diario contable'!E32=\"Inventario\",'Diario contable'!I32,0))","v":0},{"$f":"IF('Diario contable'!C32=\"Inventario\",'Diario contable'!H32,IF('Diario contable'!E32=\"Inventario\",'Diario contable'!H32,0))","v":"00:00:00"},null,null,{"$f":"+IF('Diario contable'!C32=\"Costo de ventas\",'Diario contable'!F32,0)","v":0},null,null,null,{"$f":"+IF('Diario contable'!E32=\"Costo de ventas\",'Diario contable'!F32,0)","v":0},{"$f":"IF('Diario contable'!C32=\"Costo de ventas\",'Diario contable'!I32,IF('Diario contable'!E32=\"Costo de ventas\",'Diario contable'!I32,0))","v":0},{"$f":"IF('Diario contable'!C32=\"Costo de ventas\",'Diario contable'!H32,IF('Diario contable'!E32=\"Costo de ventas\",'Diario contable'!H32,0))","v":"00:00:00"},null,null,{"$f":"+IF('Diario contable'!C32=\"Ventas\",'Diario contable'!F32,0)","v":0},null,null,null,{"$f":"+IF('Diario contable'!E32=\"Ventas\",'Diario contable'!F32,0)","v":0},{"$f":"IF('Diario contable'!C32=\"Ventas\",'Diario contable'!I32,IF('Diario contable'!E32=\"Ventas\",'Diario contable'!I32,0))","v":0},{"$f":"IF('Diario contable'!C32=\"Ventas\",'Diario contable'!H32,IF('Diario contable'!E32=\"Ventas\",'Diario contable'!H32,0))","v":"00:00:00"},null,null,{"$f":"+IF('Diario contable'!C32=\"Gastos por salarios\",'Diario contable'!F32,0)","v":0},null,null,null,{"$f":"+IF('Diario contable'!E32=\"Gastos por salarios\",'Diario contable'!F32,0)","v":0},{"$f":"IF('Diario contable'!C32=\"Gastos por salarios\",'Diario contable'!I32,IF('Diario contable'!E32=\"Gastos por salarios\",'Diario contable'!I32,0))","v":0},{"$f":"IF('Diario contable'!C32=\"Gastos por salarios\",'Diario contable'!H32,IF('Diario contable'!E32=\"Gastos por salarios\",'Diario contable'!H32,0))","v":"00:00:00"},null,null,{"$f":"+IF('Diario contable'!C32=\"Gastos operacionales\",'Diario contable'!F32,0)","v":0},null,null,null,{"$f":"+IF('Diario contable'!E32=\"Gastos operacionales\",'Diario contable'!F32,0)","v":0},{"$f":"IF('Diario contable'!C32=\"Gastos operacionales\",'Diario contable'!I32,IF('Diario contable'!E32=\"Gastos operacionales\",'Diario contable'!I32,0))","v":0},{"$f":"IF('Diario contable'!C32=\"Gastos operacionales\",'Diario contable'!H32,IF('Diario contable'!E32=\"Gastos operacionales\",'Diario contable'!H32,0))","v":"00:00:00"},null,null,{"$f":"+IF('Diario contable'!C32=\"Suministros de oficina\",'Diario contable'!F32,0)","v":0},null,null,null,{"$f":"+IF('Diario contable'!E32=\"Suministros de oficina\",'Diario contable'!F32,0)","v":0},{"$f":"IF('Diario contable'!C32=\"Suministros de oficina\",'Diario contable'!I32,IF('Diario contable'!E32=\"Suministros de oficina\",'Diario contable'!I32,0))","v":0},{"$f":"IF('Diario contable'!C32=\"Suministros de oficina\",'Diario contable'!H32,IF('Diario contable'!E32=\"Suministros de oficina\",'Diario contable'!H32,0))","v":"00:00:00"},null,null,{"$f":"+IF('Diario contable'!C32=\"Capital social\",'Diario contable'!F32,0)","v":0},null,null,null,{"$f":"+IF('Diario contable'!E32=\"Capital social\",'Diario contable'!F32,0)","v":0},{"$f":"IF('Diario contable'!C32=\"Capital social\",'Diario contable'!I32,IF('Diario contable'!E32=\"Capital social\",'Diario contable'!I32,0))","v":0},{"$f":"IF('Diario contable'!C32=\"Capital social\",'Diario contable'!H32,IF('Diario contable'!E32=\"Capital social\",'Diario contable'!H32,0))","v":"00:00:00"},null,null,{"$f":"+IF('Diario contable'!C32=\"Gastos de mercadeo\",'Diario contable'!F32,0)","v":0},null,null,null,{"$f":"+IF('Diario contable'!E32=\"Gastos de mercadeo\",'Diario contable'!F32,0)","v":0},{"$f":"IF('Diario contable'!C32=\"Gastos de mercadeo\",'Diario contable'!I32,IF('Diario contable'!E32=\"Gastos de mercadeo\",'Diario contable'!I32,0))","v":0},{"$f":"IF('Diario contable'!C32=\"Gastos de mercadeo\",'Diario contable'!H32,IF('Diario contable'!E32=\"Gastos de mercadeo\",'Diario contable'!H32,0))","v":"00:00:00"},null,null,{"$f":"+IF('Diario contable'!C32=\"Gastos de suministros de oficina\",'Diario contable'!F32,0)","v":0},null,null,null,{"$f":"+IF('Diario contable'!E32=\"Gastos de suministros de oficina\",'Diario contable'!F32,0)","v":0},{"$f":"IF('Diario contable'!C32=\"Gastos de suministros de oficina\",'Diario contable'!I32,IF('Diario contable'!E32=\"Gastos de suministros de oficina\",'Diario contable'!I32,0))","v":0},{"$f":"IF('Diario contable'!C32=\"Gastos de suministros de oficina\",'Diario contable'!H32,IF('Diario contable'!E32=\"Gastos de suministros de oficina\",'Diario contable'!H32,0))","v":"00:00:00"}]
[null,null,{"$f":"+IF('Diario contable'!C33=\"Caja\",'Diario contable'!F33,0)","v":0},null,null,null,{"$f":"+IF('Diario contable'!E33=\"Caja\",'Diario contable'!F33,0)","v":0},{"$f":"IF('Diario contable'!C33=\"Caja\",'Diario contable'!I33,IF('Diario contable'!E33=\"Caja\",'Diario contable'!I33,0))","v":0},{"$f":"IF('Diario contable'!C33=\"Caja\",'Diario contable'!H33,IF('Diario contable'!E33=\"Caja\",'Diario contable'!H33,0))","v":"00:00:00"},null,null,{"$f":"+IF('Diario contable'!C33=\"Maquinaria\",'Diario contable'!F33,0)","v":0},null,null,null,{"$f":"+IF('Diario contable'!E33=\"Maquinaria\",'Diario contable'!F33,0)","v":0},{"$f":"IF('Diario contable'!C33=\"Maquinaria\",'Diario contable'!I33,IF('Diario contable'!E33=\"Maquinaria\",'Diario contable'!I33,0))","v":0},{"$f":"IF('Diario contable'!C33=\"Maquinaria\",'Diario contable'!H33,IF('Diario contable'!E33=\"Maquinaria\",'Diario contable'!H33,0))","v":"00:00:00"},null,null,{"$f":"+IF('Diario contable'!C33=\"Herramientas\",'Diario contable'!F33,0)","v":0},null,null,null,{"$f":"+IF('Diario contable'!E33=\"Herramientas\",'Diario contable'!F33,0)","v":0},{"$f":"IF('Diario contable'!C33=\"Herramientas\",'Diario contable'!I33,IF('Diario contable'!E33=\"Herramientas\",'Diario contable'!I33,0))","v":0},{"$f":"IF('Diario contable'!C33=\"Herramientas\",'Diario contable'!H33,IF('Diario contable'!E33=\"Herramientas\",'Diario contable'!H33,0))","v":"00:00:00"},null,null,{"$f":"+IF('Diario contable'!C33=\"Donaciones\",'Diario contable'!F33,0)","v":0},null,null,null,{"$f":"+IF('Diario contable'!E33=\"Donaciones\",'Diario contable'!F33,0)","v":0},{"$f":"IF('Diario contable'!C33=\"Donaciones\",'Diario contable'!I33,IF('Diario contable'!E33=\"Donaciones\",'Diario contable'!I33,0))","v":0},{"$f":"IF('Diario contable'!C33=\"Donaciones\",'Diario contable'!H33,IF('Diario contable'!E33=\"Donaciones\",'Diario contable'!H33,0))","v":"00:00:00"},null,null,{"$f":"+IF('Diario contable'!C33=\"Inventario\",'Diario contable'!F33,0)","v":0},null,null,null,{"$f":"+IF('Diario contable'!E33=\"Inventario\",'Diario contable'!F33,0)","v":0},{"$f":"IF('Diario contable'!C33=\"Inventario\",'Diario contable'!I33,IF('Diario contable'!E33=\"Inventario\",'Diario contable'!I33,0))","v":0},{"$f":"IF('Diario contable'!C33=\"Inventario\",'Diario contable'!H33,IF('Diario contable'!E33=\"Inventario\",'Diario contable'!H33,0))","v":"00:00:00"},null,null,{"$f":"+IF('Diario contable'!C33=\"Costo de ventas\",'Diario contable'!F33,0)","v":0},null,null,null,{"$f":"+IF('Diario contable'!E33=\"Costo de ventas\",'Diario contable'!F33,0)","v":0},{"$f":"IF('Diario contable'!C33=\"Costo de ventas\",'Diario contable'!I33,IF('Diario contable'!E33=\"Costo de ventas\",'Diario contable'!I33,0))","v":0},{"$f":"IF('Diario contable'!C33=\"Costo de ventas\",'Diario contable'!H33,IF('Diario contable'!E33=\"Costo de ventas\",'Diario contable'!H33,0))","v":"00:00:00"},null,null,{"$f":"+IF('Diario contable'!C33=\"Ventas\",'Diario contable'!F33,0)","v":0},null,null,null,{"$f":"+IF('Diario contable'!E33=\"Ventas\",'Diario contable'!F33,0)","v":0},{"$f":"IF('Diario contable'!C33=\"Ventas\",'Diario contable'!I33,IF('Diario contable'!E33=\"Ventas\",'Diario contable'!I33,0))","v":0},{"$f":"IF('Diario contable'!C33=\"Ventas\",'Diario contable'!H33,IF('Diario contable'!E33=\"Ventas\",'Diario contable'!H33,0))","v":"00:00:00"},null,null,{"$f":"+IF('Diario contable'!C33=\"Gastos por salarios\",'Diario contable'!F33,0)","v":0},null,null,null,{"$f":"+IF('Diario contable'!E33=\"Gastos por salarios\",'Diario contable'!F33,0)","v":0},{"$f":"IF('Diario contable'!C33=\"Gastos por salarios\",'Diario contable'!I33,IF('Diario contable'!E33=\"Gastos por salarios\",'Diario contable'!I33,0))","v":0},{"$f":"IF('Diario contable'!C33=\"Gastos por salarios\",'Diario contable'!H33,IF('Diario contable'!E33=\"Gastos por salarios\",'Diario contable'!H33,0))","v":"00:00:00"},null,null,{"$f":"+IF('Diario contable'!C33=\"Gastos operacionales\",'Diario contable'!F33,0)","v":0},null,null,null,{"$f":"+IF('Diario contable'!E33=\"Gastos operacionales\",'Diario contable'!F33,0)","v":0},{"$f":"IF('Diario contable'!C33=\"Gastos operacionales\",'Diario contable'!I33,IF('Diario contable'!E33=\"Gastos operacionales\",'Diario contable'!I33,0))","v":0},{"$f":"IF('Diario contable'!C33=\"Gastos operacionales\",'Diario contable'!H33,IF('Diario contable'!E33=\"Gastos operacionales\",'Diario contable'!H33,0))","v":"00:00:00"},null,null,{"$f":"+IF('Diario contable'!C33=\"Suministros de oficina\",'Diario contable'!F33,0)","v":0},null,null,null,{"$f":"+IF('Diario contable'!E33=\"Suministros de oficina\",'Diario contable'!F33,0)","v":0},{"$f":"IF('Diario contable'!C33=\"Suministros de oficina\",'Diario contable'!I33,IF('Diario contable'!E33=\"Suministros de oficina\",'Diario contable'!I33,0))","v":0},{"$f":"IF('Diario contable'!C33=\"Suministros de oficina\",'Diario contable'!H33,IF('Diario contable'!E33=\"Suministros de oficina\",'Diario contable'!H33,0))","v":"00:00:00"},null,null,{"$f":"+IF('Diario contable'!C33=\"Capital social\",'Diario contable'!F33,0)","v":0},null,null,null,{"$f":"+IF('Diario contable'!E33=\"Capital social\",'Diario contable'!F33,0)","v":0},{"$f":"IF('Diario contable'!C33=\"Capital social\",'Diario contable'!I33,IF('Diario contable'!E33=\"Capital social\",'Diario contable'!I33,0))","v":0},{"$f":"IF('Diario contable'!C33=\"Capital social\",'Diario contable'!H33,IF('Diario contable'!E33=\"Capital social\",'Diario contable'!H33,0))","v":"00:00:00"},null,null,{"$f":"+IF('Diario contable'!C33=\"Gastos de mercadeo\",'Diario contable'!F33,0)","v":0},null,null,null,{"$f":"+IF('Diario contable'!E33=\"Gastos de mercadeo\",'Diario contable'!F33,0)","v":0},{"$f":"IF('Diario contable'!C33=\"Gastos de mercadeo\",'Diario contable'!I33,IF('Diario contable'!E33=\"Gastos de mercadeo\",'Diario contable'!I33,0))","v":0},{"$f":"IF('Diario contable'!C33=\"Gastos de mercadeo\",'Diario contable'!H33,IF('Diario contable'!E33=\"Gastos de mercadeo\",'Diario contable'!H33,0))","v":"00:00:00"},null,null,{"$f":"+IF('Diario contable'!C33=\"Gastos de suministros de oficina\",'Diario contable'!F33,0)","v":0},null,null,null,{"$f":"+IF('Diario contable'!E33=\"Gastos de suministros de oficina\",'Diario contable'!F33,0)","v":0},{"$f":"IF('Diario contable'!C33=\"Gastos de suministros de oficina\",'Diario contable'!I33,IF('Diario contable'!E33=\"Gastos de suministros de oficina\",'Diario contable'!I33,0))","v":0},{"$f":"IF('Diario contable'!C33=\"Gastos de suministros de oficina\",'Diario contable'!H33,IF('Diario contable'!E33=\"Gastos de suministros de oficina\",'Diario contable'!H33,0))","v":"00:00:00"}]
[null,null,{"$f":"+IF('Diario contable'!C34=\"Caja\",'Diario contable'!F34,0)","v":0},null,null,null,{"$f":"+IF('Diario contable'!E34=\"Caja\",'Diario contable'!F34,0)","v":0},{"$f":"IF('Diario contable'!C34=\"Caja\",'Diario contable'!I34,IF('Diario contable'!E34=\"Caja\",'Diario contable'!I34,0))","v":0},{"$f":"IF('Diario contable'!C34=\"Caja\",'Diario contable'!H34,IF('Diario contable'!E34=\"Caja\",'Diario contable'!H34,0))","v":"00:00:00"},null,null,{"$f":"+IF('Diario contable'!C34=\"Maquinaria\",'Diario contable'!F34,0)","v":0},null,null,null,{"$f":"+IF('Diario contable'!E34=\"Maquinaria\",'Diario contable'!F34,0)","v":0},{"$f":"IF('Diario contable'!C34=\"Maquinaria\",'Diario contable'!I34,IF('Diario contable'!E34=\"Maquinaria\",'Diario contable'!I34,0))","v":0},{"$f":"IF('Diario contable'!C34=\"Maquinaria\",'Diario contable'!H34,IF('Diario contable'!E34=\"Maquinaria\",'Diario contable'!H34,0))","v":"00:00:00"},null,null,{"$f":"+IF('Diario contable'!C34=\"Herramientas\",'Diario contable'!F34,0)","v":0},null,null,null,{"$f":"+IF('Diario contable'!E34=\"Herramientas\",'Diario contable'!F34,0)","v":0},{"$f":"IF('Diario contable'!C34=\"Herramientas\",'Diario contable'!I34,IF('Diario contable'!E34=\"Herramientas\",'Diario contable'!I34,0))","v":0},{"$f":"IF('Diario contable'!C34=\"Herramientas\",'Diario contable'!H34,IF('Diario contable'!E34=\"Herramientas\",'Diario contable'!H34,0))","v":"00:00:00"},null,null,{"$f":"+IF('Diario contable'!C34=\"Donaciones\",'Diario contable'!F34,0)","v":0},null,null,null,{"$f":"+IF('Diario contable'!E34=\"Donaciones\",'Diario contable'!F34,0)","v":0},{"$f":"IF('Diario contable'!C34=\"Donaciones\",'Diario contable'!I34,IF('Diario contable'!E34=\"Donaciones\",'Diario contable'!I34,0))","v":0},{"$f":"IF('Diario contable'!C34=\"Donaciones\",'Diario contable'!H34,IF('Diario contable'!E34=\"Donaciones\",'Diario contable'!H34,0))","v":"00:00:00"},null,null,{"$f":"+IF('Diario contable'!C34=\"Inventario\",'Diario contable'!F34,0)","v":0},null,null,null,{"$f":"+IF('Diario contable'!E34=\"Inventario\",'Diario contable'!F34,0)","v":0},{"$f":"IF('Diario contable'!C34=\"Inventario\",'Diario contable'!I34,IF('Diario contable'!E34=\"Inventario\",'Diario contable'!I34,0))","v":0},{"$f":"IF('Diario contable'!C34=\"Inventario\",'Diario contable'!H34,IF('Diario contable'!E34=\"Inventario\",'Diario contable'!H34,0))","v":"00:00:00"},null,null,{"$f":"+IF('Diario contable'!C34=\"Costo de ventas\",'Diario contable'!F34,0)","v":0},null,null,null,{"$f":"+IF('Diario contable'!E34=\"Costo de ventas\",'Diario contable'!F34,0)","v":0},{"$f":"IF('Diario contable'!C34=\"Costo de ventas\",'Diario contable'!I34,IF('Diario contable'!E34=\"Costo de ventas\",'Diario contable'!I34,0))","v":0},{"$f":"IF('Diario contable'!C34=\"Costo de ventas\",'Diario contable'!H34,IF('Diario contable'!E34=\"Costo de ventas\",'Diario contable'!H34,0))","v":"00:00:00"},null,null,{"$f":"+IF('Diario contable'!C34=\"Ventas\",'Diario contable'!F34,0)","v":0},null,null,null,{"$f":"+IF('Diario contable'!E34=\"Ventas\",'Diario contable'!F34,0)","v":0},{"$f":"IF('Diario contable'!C34=\"Ventas\",'Diario contable'!I34,IF('Diario contable'!E34=\"Ventas\",'Diario contable'!I34,0))","v":0},{"$f":"IF('Diario contable'!C34=\"Ventas\",'Diario contable'!H34,IF('Diario contable'!E34=\"Ventas\",'Diario contable'!H34,0))","v":"00:00:00"},null,null,{"$f":"+IF('Diario contable'!C34=\"Gastos por salarios\",'Diario contable'!F34,0)","v":0},null,null,null,{"$f":"+IF('Diario contable'!E34=\"Gastos por salarios\",'Diario contable'!F34,0)","v":0},{"$f":"IF('Diario contable'!C34=\"Gastos por salarios\",'Diario contable'!I34,IF('Diario contable'!E34=\"Gastos por salarios\",'Diario contable'!I34,0))","v":0},{"$f":"IF('Diario contable'!C34=\"Gastos por salarios\",'Diario contable'!H34,IF('Diario contable'!E34=\"Gastos por salarios\",'Diario contable'!H34,0))","v":"00:00:00"},null,null,{"$f":"+IF('Diario contable'!C34=\"Gastos operacionales\",'Diario contable'!F34,0)","v":0},null,null,null,{"$f":"+IF('Diario contable'!E34=\"Gastos operacionales\",'Diario contable'!F34,0)","v":0},{"$f":"IF('Diario contable'!C34=\"Gastos operacionales\",'Diario contable'!I34,IF('Diario contable'!E34=\"Gastos operacionales\",'Diario contable'!I34,0))","v":0},{"$f":"IF('Diario contable'!C34=\"Gastos operacionales\",'Diario contable'!H34,IF('Diario contable'!E34=\"Gastos operacionales\",'Diario contable'!H34,0))","v":"00:00:00"},null,null,{"$f":"+IF('Diario contable'!C34=\"Suministros de oficina\",'Diario contable'!F34,0)","v":0},null,null,null,{"$f":"+IF('Diario contable'!E34=\"Suministros de oficina\",'Diario contable'!F34,0)","v":0},{"$f":"IF('Diario contable'!C34=\"Suministros de oficina\",'Diario contable'!I34,IF('Diario contable'!E34=\"Suministros de oficina\",'Diario contable'!I34,0))","v":0},{"$f":"IF('Diario contable'!C34=\"Suministros de oficina\",'Diario contable'!H34,IF('Diario contable'!E34=\"Suministros de oficina\",'Diario contable'!H34,0))","v":"00:00:00"},null,null,{"$f":"+IF('Diario contable'!C34=\"Capital social\",'Diario contable'!F34,0)","v":0},null,null,null,{"$f":"+IF('Diario contable'!E34=\"Capital social\",'Diario contable'!F34,0)","v":0},{"$f":"IF('Diario contable'!C34=\"Capital social\",'Diario contable'!I34,IF('Diario contable'!E34=\"Capital social\",'Diario contable'!I34,0))","v":0},{"$f":"IF('Diario contable'!C34=\"Capital social\",'Diario contable'!H34,IF('Diario contable'!E34=\"Capital social\",'Diario contable'!H34,0))","v":"00:00:00"},null,null,{"$f":"+IF('Diario contable'!C34=\"Gastos de mercadeo\",'Diario contable'!F34,0)","v":0},null,null,null,{"$f":"+IF('Diario contable'!E34=\"Gastos de mercadeo\",'Diario contable'!F34,0)","v":0},{"$f":"IF('Diario contable'!C34=\"Gastos de mercadeo\",'Diario contable'!I34,IF('Diario contable'!E34=\"Gastos de mercadeo\",'Diario contable'!I34,0))","v":0},{"$f":"IF('Diario contable'!C34=\"Gastos de mercadeo\",'Diario contable'!H34,IF('Diario contable'!E34=\"Gastos de mercadeo\",'Diario contable'!H34,0))","v":"00:00:00"},null,null,{"$f":"+IF('Diario contable'!C34=\"Gastos de suministros de oficina\",'Diario contable'!F34,0)","v":0},null,null,null,{"$f":"+IF('Diario contable'!E34=\"Gastos de suministros de oficina\",'Diario contable'!F34,0)","v":0},{"$f":"IF('Diario contable'!C34=\"Gastos de suministros de oficina\",'Diario contable'!I34,IF('Diario contable'!E34=\"Gastos de suministros de oficina\",'Diario contable'!I34,0))","v":0},{"$f":"IF('Diario contable'!C34=\"Gastos de suministros de oficina\",'Diario contable'!H34,IF('Diario contable'!E34=\"Gastos de suministros de oficina\",'Diario contable'!H34,0))","v":"00:00:00"}]
[null,null,{"$f":"+IF('Diario contable'!C35=\"Caja\",'Diario contable'!F35,0)","v":0},null,null,null,{"$f":"+IF('Diario contable'!E35=\"Caja\",'Diario contable'!F35,0)","v":0},{"$f":"IF('Diario contable'!C35=\"Caja\",'Diario contable'!I35,IF('Diario contable'!E35=\"Caja\",'Diario contable'!I35,0))","v":0},{"$f":"IF('Diario contable'!C35=\"Caja\",'Diario contable'!H35,IF('Diario contable'!E35=\"Caja\",'Diario contable'!H35,0))","v":"00:00:00"},null,null,{"$f":"+IF('Diario contable'!C35=\"Maquinaria\",'Diario contable'!F35,0)","v":0},null,null,null,{"$f":"+IF('Diario contable'!E35=\"Maquinaria\",'Diario contable'!F35,0)","v":0},{"$f":"IF('Diario contable'!C35=\"Maquinaria\",'Diario contable'!I35,IF('Diario contable'!E35=\"Maquinaria\",'Diario contable'!I35,0))","v":0},{"$f":"IF('Diario contable'!C35=\"Maquinaria\",'Diario contable'!H35,IF('Diario contable'!E35=\"Maquinaria\",'Diario contable'!H35,0))","v":"00:00:00"},null,null,{"$f":"+IF('Diario contable'!C35=\"Herramientas\",'Diario contable'!F35,0)","v":0},null,null,null,{"$f":"+IF('Diario contable'!E35=\"Herramientas\",'Diario contable'!F35,0)","v":0},{"$f":"IF('Diario contable'!C35=\"Herramientas\",'Diario contable'!I35,IF('Diario contable'!E35=\"Herramientas\",'Diario contable'!I35,0))","v":0},{"$f":"IF('Diario contable'!C35=\"Herramientas\",'Diario contable'!H35,IF('Diario contable'!E35=\"Herramientas\",'Diario contable'!H35,0))","v":"00:00:00"},null,null,{"$f":"+IF('Diario contable'!C35=\"Donaciones\",'Diario contable'!F35,0)","v":0},null,null,null,{"$f":"+IF('Diario contable'!E35=\"Donaciones\",'Diario contable'!F35,0)","v":0},{"$f":"IF('Diario contable'!C35=\"Donaciones\",'Diario contable'!I35,IF('Diario contable'!E35=\"Donaciones\",'Diario contable'!I35,0))","v":0},{"$f":"IF('Diario contable'!C35=\"Donaciones\",'Diario contable'!H35,IF('Diario contable'!E35=\"Donaciones\",'Diario contable'!H35,0))","v":"00:00:00"},null,null,{"$f":"+IF('Diario contable'!C35=\"Inventario\",'Diario contable'!F35,0)","v":0},null,null,null,{"$f":"+IF('Diario contable'!E35=\"Inventario\",'Diario contable'!F35,0)","v":0},{"$f":"IF('Diario contable'!C35=\"Inventario\",'Diario contable'!I35,IF('Diario contable'!E35=\"Inventario\",'Diario contable'!I35,0))","v":0},{"$f":"IF('Diario contable'!C35=\"Inventario\",'Diario contable'!H35,IF('Diario contable'!E35=\"Inventario\",'Diario contable'!H35,0))","v":"00:00:00"},null,null,{"$f":"+IF('Diario contable'!C35=\"Costo de ventas\",'Diario contable'!F35,0)","v":0},null,null,null,{"$f":"+IF('Diario contable'!E35=\"Costo de ventas\",'Diario contable'!F35,0)","v":0},{"$f":"IF('Diario contable'!C35=\"Costo de ventas\",'Diario contable'!I35,IF('Diario contable'!E35=\"Costo de ventas\",'Diario contable'!I35,0))","v":0},{"$f":"IF('Diario contable'!C35=\"Costo de ventas\",'Diario contable'!H35,IF('Diario contable'!E35=\"Costo de ventas\",'Diario contable'!H35,0))","v":"00:00:00"},null,null,{"$f":"+IF('Diario contable'!C35=\"Ventas\",'Diario contable'!F35,0)","v":0},null,null,null,{"$f":"+IF('Diario contable'!E35=\"Ventas\",'Diario contable'!F35,0)","v":0},{"$f":"IF('Diario contable'!C35=\"Ventas\",'Diario contable'!I35,IF('Diario contable'!E35=\"Ventas\",'Diario contable'!I35,0))","v":0},{"$f":"IF('Diario contable'!C35=\"Ventas\",'Diario contable'!H35,IF('Diario contable'!E35=\"Ventas\",'Diario contable'!H35,0))","v":"00:00:00"},null,null,{"$f":"+IF('Diario contable'!C35=\"Gastos por salarios\",'Diario contable'!F35,0)","v":0},null,null,null,{"$f":"+IF('Diario contable'!E35=\"Gastos por salarios\",'Diario contable'!F35,0)","v":0},{"$f":"IF('Diario contable'!C35=\"Gastos por salarios\",'Diario contable'!I35,IF('Diario contable'!E35=\"Gastos por salarios\",'Diario contable'!I35,0))","v":0},{"$f":"IF('Diario contable'!C35=\"Gastos por salarios\",'Diario contable'!H35,IF('Diario contable'!E35=\"Gastos por salarios\",'Diario contable'!H35,0))","v":"00:00:00"},null,null,{"$f":"+IF('Diario contable'!C35=\"Gastos operacionales\",'Diario contable'!F35,0)","v":0},null,null,null,{"$f":"+IF('Diario contable'!E35=\"Gastos operacionales\",'Diario contable'!F35,0)","v":0},{"$f":"IF('Diario contable'!C35=\"Gastos operacionales\",'Diario contable'!I35,IF('Diario contable'!E35=\"Gastos operacionales\",'Diario contable'!I35,0))","v":0},{"$f":"IF('Diario contable'!C35=\"Gastos operacionales\",'Diario contable'!H35,IF('Diario contable'!E35=\"Gastos operacionales\",'Diario contable'!H35,0))","v":"00:00:00"},null,null,{"$f":"+IF('Diario contable'!C35=\"Suministros de oficina\",'Diario contable'!F35,0)","v":0},null,null,null,{"$f":"+IF('Diario contable'!E35=\"Suministros de oficina\",'Diario contable'!F35,0)","v":0},{"$f":"IF('Diario contable'!C35=\"Suministros de oficina\",'Diario contable'!I35,IF('Diario contable'!E35=\"Suministros de oficina\",'Diario contable'!I35,0))","v":0},{"$f":"IF('Diario contable'!C35=\"Suministros de oficina\",'Diario contable'!H35,IF('Diario contable'!E35=\"Suministros de oficina\",'Diario contable'!H35,0))","v":"00:00:00"},null,null,{"$f":"+IF('Diario contable'!C35=\"Capital social\",'Diario contable'!F35,0)","v":0},null,null,null,{"$f":"+IF('Diario contable'!E35=\"Capital social\",'Diario contable'!F35,0)","v":0},{"$f":"IF('Diario contable'!C35=\"Capital social\",'Diario contable'!I35,IF('Diario contable'!E35=\"Capital social\",'Diario contable'!I35,0))","v":0},{"$f":"IF('Diario contable'!C35=\"Capital social\",'Diario contable'!H35,IF('Diario contable'!E35=\"Capital social\",'Diario contable'!H35,0))","v":"00:00:00"},null,null,{"$f":"+IF('Diario contable'!C35=\"Gastos de mercadeo\",'Diario contable'!F35,0)","v":0},null,null,null,{"$f":"+IF('Diario contable'!E35=\"Gastos de mercadeo\",'Diario contable'!F35,0)","v":0},{"$f":"IF('Diario contable'!C35=\"Gastos de mercadeo\",'Diario contable'!I35,IF('Diario contable'!E35=\"Gastos de mercadeo\",'Diario contable'!I35,0))","v":0},{"$f":"IF('Diario contable'!C35=\"Gastos de mercadeo\",'Diario contable'!H35,IF('Diario contable'!E35=\"Gastos de mercadeo\",'Diario contable'!H35,0))","v":"00:00:00"},null,null,{"$f":"+IF('Diario contable'!C35=\"Gastos de suministros de oficina\",'Diario contable'!F35,0)","v":0},null,null,null,{"$f":"+IF('Diario contable'!E35=\"Gastos de suministros de oficina\",'Diario contable'!F35,0)","v":0},{"$f":"IF('Diario contable'!C35=\"Gastos de suministros de oficina\",'Diario contable'!I35,IF('Diario contable'!E35=\"Gastos de suministros de oficina\",'Diario contable'!I35,0))","v":0},{"$f":"IF('Diario contable'!C35=\"Gastos de suministros de oficina\",'Diario contable'!H35,IF('Diario contable'!E35=\"Gastos de suministros de oficina\",'Diario contable'!H35,0))","v":"00:00:00"}]
[null,null,{"$f":"+IF('Diario contable'!C36=\"Caja\",'Diario contable'!F36,0)","v":0},null,null,null,{"$f":"+IF('Diario contable'!E36=\"Caja\",'Diario contable'!F36,0)","v":0},{"$f":"IF('Diario contable'!C36=\"Caja\",'Diario contable'!I36,IF('Diario contable'!E36=\"Caja\",'Diario contable'!I36,0))","v":0},{"$f":"IF('Diario contable'!C36=\"Caja\",'Diario contable'!H36,IF('Diario contable'!E36=\"Caja\",'Diario contable'!H36,0))","v":"00:00:00"},null,null,{"$f":"+IF('Diario contable'!C36=\"Maquinaria\",'Diario contable'!F36,0)","v":0},null,null,null,{"$f":"+IF('Diario contable'!E36=\"Maquinaria\",'Diario contable'!F36,0)","v":0},{"$f":"IF('Diario contable'!C36=\"Maquinaria\",'Diario contable'!I36,IF('Diario contable'!E36=\"Maquinaria\",'Diario contable'!I36,0))","v":0},{"$f":"IF('Diario contable'!C36=\"Maquinaria\",'Diario contable'!H36,IF('Diario contable'!E36=\"Maquinaria\",'Diario contable'!H36,0))","v":"00:00:00"},null,null,{"$f":"+IF('Diario contable'!C36=\"Herramientas\",'Diario contable'!F36,0)","v":0},null,null,null,{"$f":"+IF('Diario contable'!E36=\"Herramientas\",'Diario contable'!F36,0)","v":0},{"$f":"IF('Diario contable'!C36=\"Herramientas\",'Diario contable'!I36,IF('Diario contable'!E36=\"Herramientas\",'Diario contable'!I36,0))","v":0},{"$f":"IF('Diario contable'!C36=\"Herramientas\",'Diario contable'!H36,IF('Diario contable'!E36=\"Herramientas\",'Diario contable'!H36,0))","v":"00:00:00"},null,null,{"$f":"+IF('Diario contable'!C36=\"Donaciones\",'Diario contable'!F36,0)","v":0},null,null,null,{"$f":"+IF('Diario contable'!E36=\"Donaciones\",'Diario contable'!F36,0)","v":0},{"$f":"IF('Diario contable'!C36=\"Donaciones\",'Diario contable'!I36,IF('Diario contable'!E36=\"Donaciones\",'Diario contable'!I36,0))","v":0},{"$f":"IF('Diario contable'!C36=\"Donaciones\",'Diario contable'!H36,IF('Diario contable'!E36=\"Donaciones\",'Diario contable'!H36,0))","v":"00:00:00"},null,null,{"$f":"+IF('Diario contable'!C36=\"Inventario\",'Diario contable'!F36,0)","v":0},null,null,null,{"$f":"+IF('Diario contable'!E36=\"Inventario\",'Diario contable'!F36,0)","v":0},{"$f":"IF('Diario contable'!C36=\"Inventario\",'Diario contable'!I36,IF('Diario contable'!E36=\"Inventario\",'Diario contable'!I36,0))","v":0},{"$f":"IF('Diario contable'!C36=\"Inventario\",'Diario contable'!H36,IF('Diario contable'!E36=\"Inventario\",'Diario contable'!H36,0))","v":"00:00:00"},null,null,{"$f":"+IF('Diario contable'!C36=\"Costo de ventas\",'Diario contable'!F36,0)","v":0},null,null,null,{"$f":"+IF('Diario contable'!E36=\"Costo de ventas\",'Diario contable'!F36,0)","v":0},{"$f":"IF('Diario contable'!C36=\"Costo de ventas\",'Diario contable'!I36,IF('Diario contable'!E36=\"Costo de ventas\",'Diario contable'!I36,0))","v":0},{"$f":"IF('Diario contable'!C36=\"Costo de ventas\",'Diario contable'!H36,IF('Diario contable'!E36=\"Costo de ventas\",'Diario contable'!H36,0))","v":"00:00:00"},null,null,{"$f":"+IF('Diario contable'!C36=\"Ventas\",'Diario contable'!F36,0)","v":0},null,null,null,{"$f":"+IF('Diario contable'!E36=\"Ventas\",'Diario contable'!F36,0)","v":0},{"$f":"IF('Diario contable'!C36=\"Ventas\",'Diario contable'!I36,IF('Diario contable'!E36=\"Ventas\",'Diario contable'!I36,0))","v":0},{"$f":"IF('Diario contable'!C36=\"Ventas\",'Diario contable'!H36,IF('Diario contable'!E36=\"Ventas\",'Diario contable'!H36,0))","v":"00:00:00"},null,null,{"$f":"+IF('Diario contable'!C36=\"Gastos por salarios\",'Diario contable'!F36,0)","v":0},null,null,null,{"$f":"+IF('Diario contable'!E36=\"Gastos por salarios\",'Diario contable'!F36,0)","v":0},{"$f":"IF('Diario contable'!C36=\"Gastos por salarios\",'Diario contable'!I36,IF('Diario contable'!E36=\"Gastos por salarios\",'Diario contable'!I36,0))","v":0},{"$f":"IF('Diario contable'!C36=\"Gastos por salarios\",'Diario contable'!H36,IF('Diario contable'!E36=\"Gastos por salarios\",'Diario contable'!H36,0))","v":"00:00:00"},null,null,{"$f":"+IF('Diario contable'!C36=\"Gastos operacionales\",'Diario contable'!F36,0)","v":0},null,null,null,{"$f":"+IF('Diario contable'!E36=\"Gastos operacionales\",'Diario contable'!F36,0)","v":0},{"$f":"IF('Diario contable'!C36=\"Gastos operacionales\",'Diario contable'!I36,IF('Diario contable'!E36=\"Gastos operacionales\",'Diario contable'!I36,0))","v":0},{"$f":"IF('Diario contable'!C36=\"Gastos operacionales\",'Diario contable'!H36,IF('Diario contable'!E36=\"Gastos operacionales\",'Diario contable'!H36,0))","v":"00:00:00"},null,null,{"$f":"+IF('Diario contable'!C36=\"Suministros de oficina\",'Diario contable'!F36,0)","v":0},null,null,null,{"$f":"+IF('Diario contable'!E36=\"Suministros de oficina\",'Diario contable'!F36,0)","v":0},{"$f":"IF('Diario contable'!C36=\"Suministros de oficina\",'Diario contable'!I36,IF('Diario contable'!E36=\"Suministros de oficina\",'Diario contable'!I36,0))","v":0},{"$f":"IF('Diario contable'!C36=\"Suministros de oficina\",'Diario contable'!H36,IF('Diario contable'!E36=\"Suministros de oficina\",'Diario contable'!H36,0))","v":"00:00:00"},null,null,{"$f":"+IF('Diario contable'!C36=\"Capital social\",'Diario contable'!F36,0)","v":0},null,null,null,{"$f":"+IF('Diario contable'!E36=\"Capital social\",'Diario contable'!F36,0)","v":0},{"$f":"IF('Diario contable'!C36=\"Capital social\",'Diario contable'!I36,IF('Diario contable'!E36=\"Capital social\",'Diario contable'!I36,0))","v":0},{"$f":"IF('Diario contable'!C36=\"Capital social\",'Diario contable'!H36,IF('Diario contable'!E36=\"Capital social\",'Diario contable'!H36,0))","v":"00:00:00"},null,null,{"$f":"+IF('Diario contable'!C36=\"Gastos de mercadeo\",'Diario contable'!F36,0)","v":0},null,null,null,{"$f":"+IF('Diario contable'!E36=\"Gastos de mercadeo\",'Diario contable'!F36,0)","v":0},{"$f":"IF('Diario contable'!C36=\"Gastos de mercadeo\",'Diario contable'!I36,IF('Diario contable'!E36=\"Gastos de mercadeo\",'Diario contable'!I36,0))","v":0},{"$f":"IF('Diario contable'!C36=\"Gastos de mercadeo\",'Diario contable'!H36,IF('Diario contable'!E36=\"Gastos de mercadeo\",'Diario contable'!H36,0))","v":"00:00:00"},null,null,{"$f":"+IF('Diario contable'!C36=\"Gastos de suministros de oficina\",'Diario contable'!F36,0)","v":0},null,null,null,{"$f":"+IF('Diario contable'!E36=\"Gastos de suministros de oficina\",'Diario contable'!F36,0)","v":0},{"$f":"IF('Diario contable'!C36=\"Gastos de suministros de oficina\",'Diario contable'!I36,IF('Diario contable'!E36=\"Gastos de suministros de oficina\",'Diario contable'!I36,0))","v":0},{"$f":"IF('Diario contable'!C36=\"Gastos de suministros de oficina\",'Diario contable'!H36,IF('Diario contable'!E36=\"Gastos de suministros de oficina\",'Diario contable'!H36,0))","v":"00:00:00"}]
[null,null,{"$f":"+IF('Diario contable'!C37=\"Caja\",'Diario contable'!F37,0)","v":0},null,null,null,{"$f":"+IF('Diario contable'!E37=\"Caja\",'Diario contable'!F37,0)","v":0},{"$f":"IF('Diario contable'!C37=\"Caja\",'Diario contable'!I37,IF('Diario contable'!E37=\"Caja\",'Diario contable'!I37,0))","v":0},{"$f":"IF('Diario contable'!C37=\"Caja\",'Diario contable'!H37,IF('Diario contable'!E37=\"Caja\",'Diario contable'!H37,0))","v":"00:00:00"},null,null,{"$f":"+IF('Diario contable'!C37=\"Maquinaria\",'Diario contable'!F37,0)","v":0},null,null,null,{"$f":"+IF('Diario contable'!E37=\"Maquinaria\",'Diario contable'!F37,0)","v":0},{"$f":"IF('Diario contable'!C37=\"Maquinaria\",'Diario contable'!I37,IF('Diario contable'!E37=\"Maquinaria\",'Diario contable'!I37,0))","v":0},{"$f":"IF('Diario contable'!C37=\"Maquinaria\",'Diario contable'!H37,IF('Diario contable'!E37=\"Maquinaria\",'Diario contable'!H37,0))","v":"00:00:00"},null,null,{"$f":"+IF('Diario contable'!C37=\"Herramientas\",'Diario contable'!F37,0)","v":0},null,null,null,{"$f":"+IF('Diario contable'!E37=\"Herramientas\",'Diario contable'!F37,0)","v":0},{"$f":"IF('Diario contable'!C37=\"Herramientas\",'Diario contable'!I37,IF('Diario contable'!E37=\"Herramientas\",'Diario contable'!I37,0))","v":0},{"$f":"IF('Diario contable'!C37=\"Herramientas\",'Diario contable'!H37,IF('Diario contable'!E37=\"Herramientas\",'Diario contable'!H37,0))","v":"00:00:00"},null,null,{"$f":"+IF('Diario contable'!C37=\"Donaciones\",'Diario contable'!F37,0)","v":0},null,null,null,{"$f":"+IF('Diario contable'!E37=\"Donaciones\",'Diario contable'!F37,0)","v":0},{"$f":"IF('Diario contable'!C37=\"Donaciones\",'Diario contable'!I37,IF('Diario contable'!E37=\"Donaciones\",'Diario contable'!I37,0))","v":0},{"$f":"IF('Diario contable'!C37=\"Donaciones\",'Diario contable'!H37,IF('Diario contable'!E37=\"Donaciones\",'Diario contable'!H37,0))","v":"00:00:00"},null,null,{"$f":"+IF('Diario contable'!C37=\"Inventario\",'Diario contable'!F37,0)","v":0},null,null,null,{"$f":"+IF('Diario contable'!E37=\"Inventario\",'Diario contable'!F37,0)","v":0},{"$f":"IF('Diario contable'!C37=\"Inventario\",'Diario contable'!I37,IF('Diario contable'!E37=\"Inventario\",'Diario contable'!I37,0))","v":0},{"$f":"IF('Diario contable'!C37=\"Inventario\",'Diario contable'!H37,IF('Diario contable'!E37=\"Inventario\",'Diario contable'!H37,0))","v":"00:00:00"},null,null,{"$f":"+IF('Diario contable'!C37=\"Costo de ventas\",'Diario contable'!F37,0)","v":0},null,null,null,{"$f":"+IF('Diario contable'!E37=\"Costo de ventas\",'Diario contable'!F37,0)","v":0},{"$f":"IF('Diario contable'!C37=\"Costo de ventas\",'Diario contable'!I37,IF('Diario contable'!E37=\"Costo de ventas\",'Diario contable'!I37,0))","v":0},{"$f":"IF('Diario contable'!C37=\"Costo de ventas\",'Diario contable'!H37,IF('Diario contable'!E37=\"Costo de ventas\",'Diario contable'!H37,0))","v":"00:00:00"},null,null,{"$f":"+IF('Diario contable'!C37=\"Ventas\",'Diario contable'!F37,0)","v":0},null,null,null,{"$f":"+IF('Diario contable'!E37=\"Ventas\",'Diario contable'!F37,0)","v":0},{"$f":"IF('Diario contable'!C37=\"Ventas\",'Diario contable'!I37,IF('Diario contable'!E37=\"Ventas\",'Diario contable'!I37,0))","v":0},{"$f":"IF('Diario contable'!C37=\"Ventas\",'Diario contable'!H37,IF('Diario contable'!E37=\"Ventas\",'Diario contable'!H37,0))","v":"00:00:00"},null,null,{"$f":"+IF('Diario contable'!C37=\"Gastos por salarios\",'Diario contable'!F37,0)","v":0},null,null,null,{"$f":"+IF('Diario contable'!E37=\"Gastos por salarios\",'Diario contable'!F37,0)","v":0},{"$f":"IF('Diario contable'!C37=\"Gastos por salarios\",'Diario contable'!I37,IF('Diario contable'!E37=\"Gastos por salarios\",'Diario contable'!I37,0))","v":0},{"$f":"IF('Diario contable'!C37=\"Gastos por salarios\",'Diario contable'!H37,IF('Diario contable'!E37=\"Gastos por salarios\",'Diario contable'!H37,0))","v":"00:00:00"},null,null,{"$f":"+IF('Diario contable'!C37=\"Gastos operacionales\",'Diario contable'!F37,0)","v":0},null,null,null,{"$f":"+IF('Diario contable'!E37=\"Gastos operacionales\",'Diario contable'!F37,0)","v":0},{"$f":"IF('Diario contable'!C37=\"Gastos operacionales\",'Diario contable'!I37,IF('Diario contable'!E37=\"Gastos operacionales\",'Diario contable'!I37,0))","v":0},{"$f":"IF('Diario contable'!C37=\"Gastos operacionales\",'Diario contable'!H37,IF('Diario contable'!E37=\"Gastos operacionales\",'Diario contable'!H37,0))","v":"00:00:00"},null,null,{"$f":"+IF('Diario contable'!C37=\"Suministros de oficina\",'Diario contable'!F37,0)","v":0},null,null,null,{"$f":"+IF('Diario contable'!E37=\"Suministros de oficina\",'Diario contable'!F37,0)","v":0},{"$f":"IF('Diario contable'!C37=\"Suministros de oficina\",'Diario contable'!I37,IF('Diario contable'!E37=\"Suministros de oficina\",'Diario contable'!I37,0))","v":0},{"$f":"IF('Diario contable'!C37=\"Suministros de oficina\",'Diario contable'!H37,IF('Diario contable'!E37=\"Suministros de oficina\",'Diario contable'!H37,0))","v":"00:00:00"},null,null,{"$f":"+IF('Diario contable'!C37=\"Capital social\",'Diario contable'!F37,0)","v":0},null,null,null,{"$f":"+IF('Diario contable'!E37=\"Capital social\",'Diario contable'!F37,0)","v":0},{"$f":"IF('Diario contable'!C37=\"Capital social\",'Diario contable'!I37,IF('Diario contable'!E37=\"Capital social\",'Diario contable'!I37,0))","v":0},{"$f":"IF('Diario contable'!C37=\"Capital social\",'Diario contable'!H37,IF('Diario contable'!E37=\"Capital social\",'Diario contable'!H37,0))","v":"00:00:00"},null,null,{"$f":"+IF('Diario contable'!C37=\"Gastos de mercadeo\",'Diario contable'!F37,0)","v":0},null,null,null,{"$f":"+IF('Diario contable'!E37=\"Gastos de mercadeo\",'Diario contable'!F37,0)","v":0},{"$f":"IF('Diario contable'!C37=\"Gastos de mercadeo\",'Diario contable'!I37,IF('Diario contable'!E37=\"Gastos de mercadeo\",'Diario contable'!I37,0))","v":0},{"$f":"IF('Diario contable'!C37=\"Gastos de mercadeo\",'Diario contable'!H37,IF('Diario contable'!E37=\"Gastos de mercadeo\",'Diario contable'!H37,0))","v":"00:00:00"},null,null,{"$f":"+IF('Diario contable'!C37=\"Gastos de suministros de oficina\",'Diario contable'!F37,0)","v":0},null,null,null,{"$f":"+IF('Diario contable'!E37=\"Gastos de suministros de oficina\",'Diario contable'!F37,0)","v":0},{"$f":"IF('Diario contable'!C37=\"Gastos de suministros de oficina\",'Diario contable'!I37,IF('Diario contable'!E37=\"Gastos de suministros de oficina\",'Diario contable'!I37,0))","v":0},{"$f":"IF('Diario contable'!C37=\"Gastos de suministros de oficina\",'Diario contable'!H37,IF('Diario contable'!E37=\"Gastos de suministros de oficina\",'Diario contable'!H37,0))","v":"00:00:00"}]
[null,null,{"$f":"+IF('Diario contable'!C38=\"Caja\",'Diario contable'!F38,0)","v":0},null,null,null,{"$f":"+IF('Diario contable'!E38=\"Caja\",'Diario contable'!F38,0)","v":0},{"$f":"IF('Diario contable'!C38=\"Caja\",'Diario contable'!I38,IF('Diario contable'!E38=\"Caja\",'Diario contable'!I38,0))","v":0},{"$f":"IF('Diario contable'!C38=\"Caja\",'Diario contable'!H38,IF('Diario contable'!E38=\"Caja\",'Diario contable'!H38,0))","v":"00:00:00"},null,null,{"$f":"+IF('Diario contable'!C38=\"Maquinaria\",'Diario contable'!F38,0)","v":0},null,null,null,{"$f":"+IF('Diario contable'!E38=\"Maquinaria\",'Diario contable'!F38,0)","v":0},{"$f":"IF('Diario contable'!C38=\"Maquinaria\",'Diario contable'!I38,IF('Diario contable'!E38=\"Maquinaria\",'Diario contable'!I38,0))","v":0},{"$f":"IF('Diario contable'!C38=\"Maquinaria\",'Diario contable'!H38,IF('Diario contable'!E38=\"Maquinaria\",'Diario contable'!H38,0))","v":"00:00:00"},null,null,{"$f":"+IF('Diario contable'!C38=\"Herramientas\",'Diario contable'!F38,0)","v":0},null,null,null,{"$f":"+IF('Diario contable'!E38=\"Herramientas\",'Diario contable'!F38,0)","v":0},{"$f":"IF('Diario contable'!C38=\"Herramientas\",'Diario contable'!I38,IF('Diario contable'!E38=\"Herramientas\",'Diario contable'!I38,0))","v":0},{"$f":"IF('Diario contable'!C38=\"Herramientas\",'Diario contable'!H38,IF('Diario contable'!E38=\"Herramientas\",'Diario contable'!H38,0))","v":"00:00:00"},null,null,{"$f":"+IF('Diario contable'!C38=\"Donaciones\",'Diario contable'!F38,0)","v":0},null,null,null,{"$f":"+IF('Diario contable'!E38=\"Donaciones\",'Diario contable'!F38,0)","v":0},{"$f":"IF('Diario contable'!C38=\"Donaciones\",'Diario contable'!I38,IF('Diario contable'!E38=\"Donaciones\",'Diario contable'!I38,0))","v":0},{"$f":"IF('Diario contable'!C38=\"Donaciones\",'Diario contable'!H38,IF('Diario contable'!E38=\"Donaciones\",'Diario contable'!H38,0))","v":"00:00:00"},null,null,{"$f":"+IF('Diario contable'!C38=\"Inventario\",'Diario contable'!F38,0)","v":0},null,null,null,{"$f":"+IF('Diario contable'!E38=\"Inventario\",'Diario contable'!F38,0)","v":0},{"$f":"IF('Diario contable'!C38=\"Inventario\",'Diario contable'!I38,IF('Diario contable'!E38=\"Inventario\",'Diario contable'!I38,0))","v":0},{"$f":"IF('Diario contable'!C38=\"Inventario\",'Diario contable'!H38,IF('Diario contable'!E38=\"Inventario\",'Diario contable'!H38,0))","v":"00:00:00"},null,null,{"$f":"+IF('Diario contable'!C38=\"Costo de ventas\",'Diario contable'!F38,0)","v":0},null,null,null,{"$f":"+IF('Diario contable'!E38=\"Costo de ventas\",'Diario contable'!F38,0)","v":0},{"$f":"IF('Diario contable'!C38=\"Costo de ventas\",'Diario contable'!I38,IF('Diario contable'!E38=\"Costo de ventas\",'Diario contable'!I38,0))","v":0},{"$f":"IF('Diario contable'!C38=\"Costo de ventas\",'Diario contable'!H38,IF('Diario contable'!E38=\"Costo de ventas\",'Diario contable'!H38,0))","v":"00:00:00"},null,null,{"$f":"+IF('Diario contable'!C38=\"Ventas\",'Diario contable'!F38,0)","v":0},null,null,null,{"$f":"+IF('Diario contable'!E38=\"Ventas\",'Diario contable'!F38,0)","v":0},{"$f":"IF('Diario contable'!C38=\"Ventas\",'Diario contable'!I38,IF('Diario contable'!E38=\"Ventas\",'Diario contable'!I38,0))","v":0},{"$f":"IF('Diario contable'!C38=\"Ventas\",'Diario contable'!H38,IF('Diario contable'!E38=\"Ventas\",'Diario contable'!H38,0))","v":"00:00:00"},null,null,{"$f":"+IF('Diario contable'!C38=\"Gastos por salarios\",'Diario contable'!F38,0)","v":0},null,null,null,{"$f":"+IF('Diario contable'!E38=\"Gastos por salarios\",'Diario contable'!F38,0)","v":0},{"$f":"IF('Diario contable'!C38=\"Gastos por salarios\",'Diario contable'!I38,IF('Diario contable'!E38=\"Gastos por salarios\",'Diario contable'!I38,0))","v":0},{"$f":"IF('Diario contable'!C38=\"Gastos por salarios\",'Diario contable'!H38,IF('Diario contable'!E38=\"Gastos por salarios\",'Diario contable'!H38,0))","v":"00:00:00"},null,null,{"$f":"+IF('Diario contable'!C38=\"Gastos operacionales\",'Diario contable'!F38,0)","v":0},null,null,null,{"$f":"+IF('Diario contable'!E38=\"Gastos operacionales\",'Diario contable'!F38,0)","v":0},{"$f":"IF('Diario contable'!C38=\"Gastos operacionales\",'Diario contable'!I38,IF('Diario contable'!E38=\"Gastos operacionales\",'Diario contable'!I38,0))","v":0},{"$f":"IF('Diario contable'!C38=\"Gastos operacionales\",'Diario contable'!H38,IF('Diario contable'!E38=\"Gastos operacionales\",'Diario contable'!H38,0))","v":"00:00:00"},null,null,{"$f":"+IF('Diario contable'!C38=\"Suministros de oficina\",'Diario contable'!F38,0)","v":0},null,null,null,{"$f":"+IF('Diario contable'!E38=\"Suministros de oficina\",'Diario contable'!F38,0)","v":0},{"$f":"IF('Diario contable'!C38=\"Suministros de oficina\",'Diario contable'!I38,IF('Diario contable'!E38=\"Suministros de oficina\",'Diario contable'!I38,0))","v":0},{"$f":"IF('Diario contable'!C38=\"Suministros de oficina\",'Diario contable'!H38,IF('Diario contable'!E38=\"Suministros de oficina\",'Diario contable'!H38,0))","v":"00:00:00"},null,null,{"$f":"+IF('Diario contable'!C38=\"Capital social\",'Diario contable'!F38,0)","v":0},null,null,null,{"$f":"+IF('Diario contable'!E38=\"Capital social\",'Diario contable'!F38,0)","v":0},{"$f":"IF('Diario contable'!C38=\"Capital social\",'Diario contable'!I38,IF('Diario contable'!E38=\"Capital social\",'Diario contable'!I38,0))","v":0},{"$f":"IF('Diario contable'!C38=\"Capital social\",'Diario contable'!H38,IF('Diario contable'!E38=\"Capital social\",'Diario contable'!H38,0))","v":"00:00:00"},null,null,{"$f":"+IF('Diario contable'!C38=\"Gastos de mercadeo\",'Diario contable'!F38,0)","v":0},null,null,null,{"$f":"+IF('Diario contable'!E38=\"Gastos de mercadeo\",'Diario contable'!F38,0)","v":0},{"$f":"IF('Diario contable'!C38=\"Gastos de mercadeo\",'Diario contable'!I38,IF('Diario contable'!E38=\"Gastos de mercadeo\",'Diario contable'!I38,0))","v":0},{"$f":"IF('Diario contable'!C38=\"Gastos de mercadeo\",'Diario contable'!H38,IF('Diario contable'!E38=\"Gastos de mercadeo\",'Diario contable'!H38,0))","v":"00:00:00"},null,null,{"$f":"+IF('Diario contable'!C38=\"Gastos de suministros de oficina\",'Diario contable'!F38,0)","v":0},null,null,null,{"$f":"+IF('Diario contable'!E38=\"Gastos de suministros de oficina\",'Diario contable'!F38,0)","v":0},{"$f":"IF('Diario contable'!C38=\"Gastos de suministros de oficina\",'Diario contable'!I38,IF('Diario contable'!E38=\"Gastos de suministros de oficina\",'Diario contable'!I38,0))","v":0},{"$f":"IF('Diario contable'!C38=\"Gastos de suministros de oficina\",'Diario contable'!H38,IF('Diario contable'!E38=\"Gastos de suministros de oficina\",'Diario contable'!H38,0))","v":"00:00:00"}]
[null,null,{"$f":"+IF('Diario contable'!C39=\"Caja\",'Diario contable'!F39,0)","v":0},null,null,null,{"$f":"+IF('Diario contable'!E39=\"Caja\",'Diario contable'!F39,0)","v":0},{"$f":"IF('Diario contable'!C39=\"Caja\",'Diario contable'!I39,IF('Diario contable'!E39=\"Caja\",'Diario contable'!I39,0))","v":0},{"$f":"IF('Diario contable'!C39=\"Caja\",'Diario contable'!H39,IF('Diario contable'!E39=\"Caja\",'Diario contable'!H39,0))","v":"00:00:00"},null,null,{"$f":"+IF('Diario contable'!C39=\"Maquinaria\",'Diario contable'!F39,0)","v":0},null,null,null,{"$f":"+IF('Diario contable'!E39=\"Maquinaria\",'Diario contable'!F39,0)","v":0},{"$f":"IF('Diario contable'!C39=\"Maquinaria\",'Diario contable'!I39,IF('Diario contable'!E39=\"Maquinaria\",'Diario contable'!I39,0))","v":0},{"$f":"IF('Diario contable'!C39=\"Maquinaria\",'Diario contable'!H39,IF('Diario contable'!E39=\"Maquinaria\",'Diario contable'!H39,0))","v":"00:00:00"},null,null,{"$f":"+IF('Diario contable'!C39=\"Herramientas\",'Diario contable'!F39,0)","v":0},null,null,null,{"$f":"+IF('Diario contable'!E39=\"Herramientas\",'Diario contable'!F39,0)","v":0},{"$f":"IF('Diario contable'!C39=\"Herramientas\",'Diario contable'!I39,IF('Diario contable'!E39=\"Herramientas\",'Diario contable'!I39,0))","v":0},{"$f":"IF('Diario contable'!C39=\"Herramientas\",'Diario contable'!H39,IF('Diario contable'!E39=\"Herramientas\",'Diario contable'!H39,0))","v":"00:00:00"},null,null,{"$f":"+IF('Diario contable'!C39=\"Donaciones\",'Diario contable'!F39,0)","v":0},null,null,null,{"$f":"+IF('Diario contable'!E39=\"Donaciones\",'Diario contable'!F39,0)","v":0},{"$f":"IF('Diario contable'!C39=\"Donaciones\",'Diario contable'!I39,IF('Diario contable'!E39=\"Donaciones\",'Diario contable'!I39,0))","v":0},{"$f":"IF('Diario contable'!C39=\"Donaciones\",'Diario contable'!H39,IF('Diario contable'!E39=\"Donaciones\",'Diario contable'!H39,0))","v":"00:00:00"},null,null,{"$f":"+IF('Diario contable'!C39=\"Inventario\",'Diario contable'!F39,0)","v":0},null,null,null,{"$f":"+IF('Diario contable'!E39=\"Inventario\",'Diario contable'!F39,0)","v":0},{"$f":"IF('Diario contable'!C39=\"Inventario\",'Diario contable'!I39,IF('Diario contable'!E39=\"Inventario\",'Diario contable'!I39,0))","v":0},{"$f":"IF('Diario contable'!C39=\"Inventario\",'Diario contable'!H39,IF('Diario contable'!E39=\"Inventario\",'Diario contable'!H39,0))","v":"00:00:00"},null,null,{"$f":"+IF('Diario contable'!C39=\"Costo de ventas\",'Diario contable'!F39,0)","v":0},null,null,null,{"$f":"+IF('Diario contable'!E39=\"Costo de ventas\",'Diario contable'!F39,0)","v":0},{"$f":"IF('Diario contable'!C39=\"Costo de ventas\",'Diario contable'!I39,IF('Diario contable'!E39=\"Costo de ventas\",'Diario contable'!I39,0))","v":0},{"$f":"IF('Diario contable'!C39=\"Costo de ventas\",'Diario contable'!H39,IF('Diario contable'!E39=\"Costo de ventas\",'Diario contable'!H39,0))","v":"00:00:00"},null,null,{"$f":"+IF('Diario contable'!C39=\"Ventas\",'Diario contable'!F39,0)","v":0},null,null,null,{"$f":"+IF('Diario contable'!E39=\"Ventas\",'Diario contable'!F39,0)","v":0},{"$f":"IF('Diario contable'!C39=\"Ventas\",'Diario contable'!I39,IF('Diario contable'!E39=\"Ventas\",'Diario contable'!I39,0))","v":0},{"$f":"IF('Diario contable'!C39=\"Ventas\",'Diario contable'!H39,IF('Diario contable'!E39=\"Ventas\",'Diario contable'!H39,0))","v":"00:00:00"},null,null,{"$f":"+IF('Diario contable'!C39=\"Gastos por salarios\",'Diario contable'!F39,0)","v":0},null,null,null,{"$f":"+IF('Diario contable'!E39=\"Gastos por salarios\",'Diario contable'!F39,0)","v":0},{"$f":"IF('Diario contable'!C39=\"Gastos por salarios\",'Diario contable'!I39,IF('Diario contable'!E39=\"Gastos por salarios\",'Diario contable'!I39,0))","v":0},{"$f":"IF('Diario contable'!C39=\"Gastos por salarios\",'Diario contable'!H39,IF('Diario contable'!E39=\"Gastos por salarios\",'Diario contable'!H39,0))","v":"00:00:00"},null,null,{"$f":"+IF('Diario contable'!C39=\"Gastos operacionales\",'Diario contable'!F39,0)","v":0},null,null,null,{"$f":"+IF('Diario contable'!E39=\"Gastos operacionales\",'Diario contable'!F39,0)","v":0},{"$f":"IF('Diario contable'!C39=\"Gastos operacionales\",'Diario contable'!I39,IF('Diario contable'!E39=\"Gastos operacionales\",'Diario contable'!I39,0))","v":0},{"$f":"IF('Diario contable'!C39=\"Gastos operacionales\",'Diario contable'!H39,IF('Diario contable'!E39=\"Gastos operacionales\",'Diario contable'!H39,0))","v":"00:00:00"},null,null,{"$f":"+IF('Diario contable'!C39=\"Suministros de oficina\",'Diario contable'!F39,0)","v":0},null,null,null,{"$f":"+IF('Diario contable'!E39=\"Suministros de oficina\",'Diario contable'!F39,0)","v":0},{"$f":"IF('Diario contable'!C39=\"Suministros de oficina\",'Diario contable'!I39,IF('Diario contable'!E39=\"Suministros de oficina\",'Diario contable'!I39,0))","v":0},{"$f":"IF('Diario contable'!C39=\"Suministros de oficina\",'Diario contable'!H39,IF('Diario contable'!E39=\"Suministros de oficina\",'Diario contable'!H39,0))","v":"00:00:00"},null,null,{"$f":"+IF('Diario contable'!C39=\"Capital social\",'Diario contable'!F39,0)","v":0},null,null,null,{"$f":"+IF('Diario contable'!E39=\"Capital social\",'Diario contable'!F39,0)","v":0},{"$f":"IF('Diario contable'!C39=\"Capital social\",'Diario contable'!I39,IF('Diario contable'!E39=\"Capital social\",'Diario contable'!I39,0))","v":0},{"$f":"IF('Diario contable'!C39=\"Capital social\",'Diario contable'!H39,IF('Diario contable'!E39=\"Capital social\",'Diario contable'!H39,0))","v":"00:00:00"},null,null,{"$f":"+IF('Diario contable'!C39=\"Gastos de mercadeo\",'Diario contable'!F39,0)","v":0},null,null,null,{"$f":"+IF('Diario contable'!E39=\"Gastos de mercadeo\",'Diario contable'!F39,0)","v":0},{"$f":"IF('Diario contable'!C39=\"Gastos de mercadeo\",'Diario contable'!I39,IF('Diario contable'!E39=\"Gastos de mercadeo\",'Diario contable'!I39,0))","v":0},{"$f":"IF('Diario contable'!C39=\"Gastos de mercadeo\",'Diario contable'!H39,IF('Diario contable'!E39=\"Gastos de mercadeo\",'Diario contable'!H39,0))","v":"00:00:00"},null,null,{"$f":"+IF('Diario contable'!C39=\"Gastos de suministros de oficina\",'Diario contable'!F39,0)","v":0},null,null,null,{"$f":"+IF('Diario contable'!E39=\"Gastos de suministros de oficina\",'Diario contable'!F39,0)","v":0},{"$f":"IF('Diario contable'!C39=\"Gastos de suministros de oficina\",'Diario contable'!I39,IF('Diario contable'!E39=\"Gastos de suministros de oficina\",'Diario contable'!I39,0))","v":0},{"$f":"IF('Diario contable'!C39=\"Gastos de suministros de oficina\",'Diario contable'!H39,IF('Diario contable'!E39=\"Gastos de suministros de oficina\",'Diario contable'!H39,0))","v":"00:00:00"}]
[null,null,{"$f":"+IF('Diario contable'!C40=\"Caja\",'Diario contable'!F40,0)","v":0},null,null,null,{"$f":"+IF('Diario contable'!E40=\"Caja\",'Diario contable'!F40,0)","v":0},{"$f":"IF('Diario contable'!C40=\"Caja\",'Diario contable'!I40,IF('Diario contable'!E40=\"Caja\",'Diario contable'!I40,0))","v":0},{"$f":"IF('Diario contable'!C40=\"Caja\",'Diario contable'!H40,IF('Diario contable'!E40=\"Caja\",'Diario contable'!H40,0))","v":"00:00:00"},null,null,{"$f":"+IF('Diario contable'!C40=\"Maquinaria\",'Diario contable'!F40,0)","v":0},null,null,null,{"$f":"+IF('Diario contable'!E40=\"Maquinaria\",'Diario contable'!F40,0)","v":0},{"$f":"IF('Diario contable'!C40=\"Maquinaria\",'Diario contable'!I40,IF('Diario contable'!E40=\"Maquinaria\",'Diario contable'!I40,0))","v":0},{"$f":"IF('Diario contable'!C40=\"Maquinaria\",'Diario contable'!H40,IF('Diario contable'!E40=\"Maquinaria\",'Diario contable'!H40,0))","v":"00:00:00"},null,null,{"$f":"+IF('Diario contable'!C40=\"Herramientas\",'Diario contable'!F40,0)","v":0},null,null,null,{"$f":"+IF('Diario contable'!E40=\"Herramientas\",'Diario contable'!F40,0)","v":0},{"$f":"IF('Diario contable'!C40=\"Herramientas\",'Diario contable'!I40,IF('Diario contable'!E40=\"Herramientas\",'Diario contable'!I40,0))","v":0},{"$f":"IF('Diario contable'!C40=\"Herramientas\",'Diario contable'!H40,IF('Diario contable'!E40=\"Herramientas\",'Diario contable'!H40,0))","v":"00:00:00"},null,null,{"$f":"+IF('Diario contable'!C40=\"Donaciones\",'Diario contable'!F40,0)","v":0},null,null,null,{"$f":"+IF('Diario contable'!E40=\"Donaciones\",'Diario contable'!F40,0)","v":0},{"$f":"IF('Diario contable'!C40=\"Donaciones\",'Diario contable'!I40,IF('Diario contable'!E40=\"Donaciones\",'Diario contable'!I40,0))","v":0},{"$f":"IF('Diario contable'!C40=\"Donaciones\",'Diario contable'!H40,IF('Diario contable'!E40=\"Donaciones\",'Diario contable'!H40,0))","v":"00:00:00"},null,null,{"$f":"+IF('Diario contable'!C40=\"Inventario\",'Diario contable'!F40,0)","v":0},null,null,null,{"$f":"+IF('Diario contable'!E40=\"Inventario\",'Diario contable'!F40,0)","v":0},{"$f":"IF('Diario contable'!C40=\"Inventario\",'Diario contable'!I40,IF('Diario contable'!E40=\"Inventario\",'Diario contable'!I40,0))","v":0},{"$f":"IF('Diario contable'!C40=\"Inventario\",'Diario contable'!H40,IF('Diario contable'!E40=\"Inventario\",'Diario contable'!H40,0))","v":"00:00:00"},null,null,{"$f":"+IF('Diario contable'!C40=\"Costo de ventas\",'Diario contable'!F40,0)","v":0},null,null,null,{"$f":"+IF('Diario contable'!E40=\"Costo de ventas\",'Diario contable'!F40,0)","v":0},{"$f":"IF('Diario contable'!C40=\"Costo de ventas\",'Diario contable'!I40,IF('Diario contable'!E40=\"Costo de ventas\",'Diario contable'!I40,0))","v":0},{"$f":"IF('Diario contable'!C40=\"Costo de ventas\",'Diario contable'!H40,IF('Diario contable'!E40=\"Costo de ventas\",'Diario contable'!H40,0))","v":"00:00:00"},null,null,{"$f":"+IF('Diario contable'!C40=\"Ventas\",'Diario contable'!F40,0)","v":0},null,null,null,{"$f":"+IF('Diario contable'!E40=\"Ventas\",'Diario contable'!F40,0)","v":0},{"$f":"IF('Diario contable'!C40=\"Ventas\",'Diario contable'!I40,IF('Diario contable'!E40=\"Ventas\",'Diario contable'!I40,0))","v":0},{"$f":"IF('Diario contable'!C40=\"Ventas\",'Diario contable'!H40,IF('Diario contable'!E40=\"Ventas\",'Diario contable'!H40,0))","v":"00:00:00"},null,null,{"$f":"+IF('Diario contable'!C40=\"Gastos por salarios\",'Diario contable'!F40,0)","v":0},null,null,null,{"$f":"+IF('Diario contable'!E40=\"Gastos por salarios\",'Diario contable'!F40,0)","v":0},{"$f":"IF('Diario contable'!C40=\"Gastos por salarios\",'Diario contable'!I40,IF('Diario contable'!E40=\"Gastos por salarios\",'Diario contable'!I40,0))","v":0},{"$f":"IF('Diario contable'!C40=\"Gastos por salarios\",'Diario contable'!H40,IF('Diario contable'!E40=\"Gastos por salarios\",'Diario contable'!H40,0))","v":"00:00:00"},null,null,{"$f":"+IF('Diario contable'!C40=\"Gastos operacionales\",'Diario contable'!F40,0)","v":0},null,null,null,{"$f":"+IF('Diario contable'!E40=\"Gastos operacionales\",'Diario contable'!F40,0)","v":0},{"$f":"IF('Diario contable'!C40=\"Gastos operacionales\",'Diario contable'!I40,IF('Diario contable'!E40=\"Gastos operacionales\",'Diario contable'!I40,0))","v":0},{"$f":"IF('Diario contable'!C40=\"Gastos operacionales\",'Diario contable'!H40,IF('Diario contable'!E40=\"Gastos operacionales\",'Diario contable'!H40,0))","v":"00:00:00"},null,null,{"$f":"+IF('Diario contable'!C40=\"Suministros de oficina\",'Diario contable'!F40,0)","v":0},null,null,null,{"$f":"+IF('Diario contable'!E40=\"Suministros de oficina\",'Diario contable'!F40,0)","v":0},{"$f":"IF('Diario contable'!C40=\"Suministros de oficina\",'Diario contable'!I40,IF('Diario contable'!E40=\"Suministros de oficina\",'Diario contable'!I40,0))","v":0},{"$f":"IF('Diario contable'!C40=\"Suministros de oficina\",'Diario contable'!H40,IF('Diario contable'!E40=\"Suministros de oficina\",'Diario contable'!H40,0))","v":"00:00:00"},null,null,{"$f":"+IF('Diario contable'!C40=\"Capital social\",'Diario contable'!F40,0)","v":0},null,null,null,{"$f":"+IF('Diario contable'!E40=\"Capital social\",'Diario contable'!F40,0)","v":0},{"$f":"IF('Diario contable'!C40=\"Capital social\",'Diario contable'!I40,IF('Diario contable'!E40=\"Capital social\",'Diario contable'!I40,0))","v":0},{"$f":"IF('Diario contable'!C40=\"Capital social\",'Diario contable'!H40,IF('Diario contable'!E40=\"Capital social\",'Diario contable'!H40,0))","v":"00:00:00"},null,null,{"$f":"+IF('Diario contable'!C40=\"Gastos de mercadeo\",'Diario contable'!F40,0)","v":0},null,null,null,{"$f":"+IF('Diario contable'!E40=\"Gastos de mercadeo\",'Diario contable'!F40,0)","v":0},{"$f":"IF('Diario contable'!C40=\"Gastos de mercadeo\",'Diario contable'!I40,IF('Diario contable'!E40=\"Gastos de mercadeo\",'Diario contable'!I40,0))","v":0},{"$f":"IF('Diario contable'!C40=\"Gastos de mercadeo\",'Diario contable'!H40,IF('Diario contable'!E40=\"Gastos de mercadeo\",'Diario contable'!H40,0))","v":"00:00:00"},null,null,{"$f":"+IF('Diario contable'!C40=\"Gastos de suministros de oficina\",'Diario contable'!F40,0)","v":0},null,null,null,{"$f":"+IF('Diario contable'!E40=\"Gastos de suministros de oficina\",'Diario contable'!F40,0)","v":0},{"$f":"IF('Diario contable'!C40=\"Gastos de suministros de oficina\",'Diario contable'!I40,IF('Diario contable'!E40=\"Gastos de suministros de oficina\",'Diario contable'!I40,0))","v":0},{"$f":"IF('Diario contable'!C40=\"Gastos de suministros de oficina\",'Diario contable'!H40,IF('Diario contable'!E40=\"Gastos de suministros de oficina\",'Diario contable'!H40,0))","v":"00:00:00"}]
[null,null,{"$f":"+IF('Diario contable'!C41=\"Caja\",'Diario contable'!F41,0)","v":0},null,null,null,{"$f":"+IF('Diario contable'!E41=\"Caja\",'Diario contable'!F41,0)","v":0},{"$f":"IF('Diario contable'!C41=\"Caja\",'Diario contable'!I41,IF('Diario contable'!E41=\"Caja\",'Diario contable'!I41,0))","v":0},{"$f":"IF('Diario contable'!C41=\"Caja\",'Diario contable'!H41,IF('Diario contable'!E41=\"Caja\",'Diario contable'!H41,0))","v":"00:00:00"},null,null,{"$f":"+IF('Diario contable'!C41=\"Maquinaria\",'Diario contable'!F41,0)","v":0},null,null,null,{"$f":"+IF('Diario contable'!E41=\"Maquinaria\",'Diario contable'!F41,0)","v":0},{"$f":"IF('Diario contable'!C41=\"Maquinaria\",'Diario contable'!I41,IF('Diario contable'!E41=\"Maquinaria\",'Diario contable'!I41,0))","v":0},{"$f":"IF('Diario contable'!C41=\"Maquinaria\",'Diario contable'!H41,IF('Diario contable'!E41=\"Maquinaria\",'Diario contable'!H41,0))","v":"00:00:00"},null,null,{"$f":"+IF('Diario contable'!C41=\"Herramientas\",'Diario contable'!F41,0)","v":0},null,null,null,{"$f":"+IF('Diario contable'!E41=\"Herramientas\",'Diario contable'!F41,0)","v":0},{"$f":"IF('Diario contable'!C41=\"Herramientas\",'Diario contable'!I41,IF('Diario contable'!E41=\"Herramientas\",'Diario contable'!I41,0))","v":0},{"$f":"IF('Diario contable'!C41=\"Herramientas\",'Diario contable'!H41,IF('Diario contable'!E41=\"Herramientas\",'Diario contable'!H41,0))","v":"00:00:00"},null,null,{"$f":"+IF('Diario contable'!C41=\"Donaciones\",'Diario contable'!F41,0)","v":0},null,null,null,{"$f":"+IF('Diario contable'!E41=\"Donaciones\",'Diario contable'!F41,0)","v":0},{"$f":"IF('Diario contable'!C41=\"Donaciones\",'Diario contable'!I41,IF('Diario contable'!E41=\"Donaciones\",'Diario contable'!I41,0))","v":0},{"$f":"IF('Diario contable'!C41=\"Donaciones\",'Diario contable'!H41,IF('Diario contable'!E41=\"Donaciones\",'Diario contable'!H41,0))","v":"00:00:00"},null,null,{"$f":"+IF('Diario contable'!C41=\"Inventario\",'Diario contable'!F41,0)","v":0},null,null,null,{"$f":"+IF('Diario contable'!E41=\"Inventario\",'Diario contable'!F41,0)","v":0},{"$f":"IF('Diario contable'!C41=\"Inventario\",'Diario contable'!I41,IF('Diario contable'!E41=\"Inventario\",'Diario contable'!I41,0))","v":0},{"$f":"IF('Diario contable'!C41=\"Inventario\",'Diario contable'!H41,IF('Diario contable'!E41=\"Inventario\",'Diario contable'!H41,0))","v":"00:00:00"},null,null,{"$f":"+IF('Diario contable'!C41=\"Costo de ventas\",'Diario contable'!F41,0)","v":0},null,null,null,{"$f":"+IF('Diario contable'!E41=\"Costo de ventas\",'Diario contable'!F41,0)","v":0},{"$f":"IF('Diario contable'!C41=\"Costo de ventas\",'Diario contable'!I41,IF('Diario contable'!E41=\"Costo de ventas\",'Diario contable'!I41,0))","v":0},{"$f":"IF('Diario contable'!C41=\"Costo de ventas\",'Diario contable'!H41,IF('Diario contable'!E41=\"Costo de ventas\",'Diario contable'!H41,0))","v":"00:00:00"},null,null,{"$f":"+IF('Diario contable'!C41=\"Ventas\",'Diario contable'!F41,0)","v":0},null,null,null,{"$f":"+IF('Diario contable'!E41=\"Ventas\",'Diario contable'!F41,0)","v":0},{"$f":"IF('Diario contable'!C41=\"Ventas\",'Diario contable'!I41,IF('Diario contable'!E41=\"Ventas\",'Diario contable'!I41,0))","v":0},{"$f":"IF('Diario contable'!C41=\"Ventas\",'Diario contable'!H41,IF('Diario contable'!E41=\"Ventas\",'Diario contable'!H41,0))","v":"00:00:00"},null,null,{"$f":"+IF('Diario contable'!C41=\"Gastos por salarios\",'Diario contable'!F41,0)","v":0},null,null,null,{"$f":"+IF('Diario contable'!E41=\"Gastos por salarios\",'Diario contable'!F41,0)","v":0},{"$f":"IF('Diario contable'!C41=\"Gastos por salarios\",'Diario contable'!I41,IF('Diario contable'!E41=\"Gastos por salarios\",'Diario contable'!I41,0))","v":0},{"$f":"IF('Diario contable'!C41=\"Gastos por salarios\",'Diario contable'!H41,IF('Diario contable'!E41=\"Gastos por salarios\",'Diario contable'!H41,0))","v":"00:00:00"},null,null,{"$f":"+IF('Diario contable'!C41=\"Gastos operacionales\",'Diario contable'!F41,0)","v":0},null,null,null,{"$f":"+IF('Diario contable'!E41=\"Gastos operacionales\",'Diario contable'!F41,0)","v":0},{"$f":"IF('Diario contable'!C41=\"Gastos operacionales\",'Diario contable'!I41,IF('Diario contable'!E41=\"Gastos operacionales\",'Diario contable'!I41,0))","v":0},{"$f":"IF('Diario contable'!C41=\"Gastos operacionales\",'Diario contable'!H41,IF('Diario contable'!E41=\"Gastos operacionales\",'Diario contable'!H41,0))","v":"00:00:00"},null,null,{"$f":"+IF('Diario contable'!C41=\"Suministros de oficina\",'Diario contable'!F41,0)","v":0},null,null,null,{"$f":"+IF('Diario contable'!E41=\"Suministros de oficina\",'Diario contable'!F41,0)","v":0},{"$f":"IF('Diario contable'!C41=\"Suministros de oficina\",'Diario contable'!I41,IF('Diario contable'!E41=\"Suministros de oficina\",'Diario contable'!I41,0))","v":0},{"$f":"IF('Diario contable'!C41=\"Suministros de oficina\",'Diario contable'!H41,IF('Diario contable'!E41=\"Suministros de oficina\",'Diario contable'!H41,0))","v":"00:00:00"},null,null,{"$f":"+IF('Diario contable'!C41=\"Capital social\",'Diario contable'!F41,0)","v":0},null,null,null,{"$f":"+IF('Diario contable'!E41=\"Capital social\",'Diario contable'!F41,0)","v":0},{"$f":"IF('Diario contable'!C41=\"Capital social\",'Diario contable'!I41,IF('Diario contable'!E41=\"Capital social\",'Diario contable'!I41,0))","v":0},{"$f":"IF('Diario contable'!C41=\"Capital social\",'Diario contable'!H41,IF('Diario contable'!E41=\"Capital social\",'Diario contable'!H41,0))","v":"00:00:00"},null,null,{"$f":"+IF('Diario contable'!C41=\"Gastos de mercadeo\",'Diario contable'!F41,0)","v":0},null,null,null,{"$f":"+IF('Diario contable'!E41=\"Gastos de mercadeo\",'Diario contable'!F41,0)","v":0},{"$f":"IF('Diario contable'!C41=\"Gastos de mercadeo\",'Diario contable'!I41,IF('Diario contable'!E41=\"Gastos de mercadeo\",'Diario contable'!I41,0))","v":0},{"$f":"IF('Diario contable'!C41=\"Gastos de mercadeo\",'Diario contable'!H41,IF('Diario contable'!E41=\"Gastos de mercadeo\",'Diario contable'!H41,0))","v":"00:00:00"},null,null,{"$f":"+IF('Diario contable'!C41=\"Gastos de suministros de oficina\",'Diario contable'!F41,0)","v":0},null,null,null,{"$f":"+IF('Diario contable'!E41=\"Gastos de suministros de oficina\",'Diario contable'!F41,0)","v":0},{"$f":"IF('Diario contable'!C41=\"Gastos de suministros de oficina\",'Diario contable'!I41,IF('Diario contable'!E41=\"Gastos de suministros de oficina\",'Diario contable'!I41,0))","v":0},{"$f":"IF('Diario contable'!C41=\"Gastos de suministros de oficina\",'Diario contable'!H41,IF('Diario contable'!E41=\"Gastos de suministros de oficina\",'Diario contable'!H41,0))","v":"00:00:00"}]
[null,null,{"$f":"+IF('Diario contable'!C42=\"Caja\",'Diario contable'!F42,0)","v":0},null,null,null,{"$f":"+IF('Diario contable'!E42=\"Caja\",'Diario contable'!F42,0)","v":0},{"$f":"IF('Diario contable'!C42=\"Caja\",'Diario contable'!I42,IF('Diario contable'!E42=\"Caja\",'Diario contable'!I42,0))","v":0},{"$f":"IF('Diario contable'!C42=\"Caja\",'Diario contable'!H42,IF('Diario contable'!E42=\"Caja\",'Diario contable'!H42,0))","v":"00:00:00"},null,null,{"$f":"+IF('Diario contable'!C42=\"Maquinaria\",'Diario contable'!F42,0)","v":0},null,null,null,{"$f":"+IF('Diario contable'!E42=\"Maquinaria\",'Diario contable'!F42,0)","v":0},{"$f":"IF('Diario contable'!C42=\"Maquinaria\",'Diario contable'!I42,IF('Diario contable'!E42=\"Maquinaria\",'Diario contable'!I42,0))","v":0},{"$f":"IF('Diario contable'!C42=\"Maquinaria\",'Diario contable'!H42,IF('Diario contable'!E42=\"Maquinaria\",'Diario contable'!H42,0))","v":"00:00:00"},null,null,{"$f":"+IF('Diario contable'!C42=\"Herramientas\",'Diario contable'!F42,0)","v":0},null,null,null,{"$f":"+IF('Diario contable'!E42=\"Herramientas\",'Diario contable'!F42,0)","v":0},{"$f":"IF('Diario contable'!C42=\"Herramientas\",'Diario contable'!I42,IF('Diario contable'!E42=\"Herramientas\",'Diario contable'!I42,0))","v":0},{"$f":"IF('Diario contable'!C42=\"Herramientas\",'Diario contable'!H42,IF('Diario contable'!E42=\"Herramientas\",'Diario contable'!H42,0))","v":"00:00:00"},null,null,{"$f":"+IF('Diario contable'!C42=\"Donaciones\",'Diario contable'!F42,0)","v":0},null,null,null,{"$f":"+IF('Diario contable'!E42=\"Donaciones\",'Diario contable'!F42,0)","v":0},{"$f":"IF('Diario contable'!C42=\"Donaciones\",'Diario contable'!I42,IF('Diario contable'!E42=\"Donaciones\",'Diario contable'!I42,0))","v":0},{"$f":"IF('Diario contable'!C42=\"Donaciones\",'Diario contable'!H42,IF('Diario contable'!E42=\"Donaciones\",'Diario contable'!H42,0))","v":"00:00:00"},null,null,{"$f":"+IF('Diario contable'!C42=\"Inventario\",'Diario contable'!F42,0)","v":0},null,null,null,{"$f":"+IF('Diario contable'!E42=\"Inventario\",'Diario contable'!F42,0)","v":0},{"$f":"IF('Diario contable'!C42=\"Inventario\",'Diario contable'!I42,IF('Diario contable'!E42=\"Inventario\",'Diario contable'!I42,0))","v":0},{"$f":"IF('Diario contable'!C42=\"Inventario\",'Diario contable'!H42,IF('Diario contable'!E42=\"Inventario\",'Diario contable'!H42,0))","v":"00:00:00"},null,null,{"$f":"+IF('Diario contable'!C42=\"Costo de ventas\",'Diario contable'!F42,0)","v":0},null,null,null,{"$f":"+IF('Diario contable'!E42=\"Costo de ventas\",'Diario contable'!F42,0)","v":0},{"$f":"IF('Diario contable'!C42=\"Costo de ventas\",'Diario contable'!I42,IF('Diario contable'!E42=\"Costo de ventas\",'Diario contable'!I42,0))","v":0},{"$f":"IF('Diario contable'!C42=\"Costo de ventas\",'Diario contable'!H42,IF('Diario contable'!E42=\"Costo de ventas\",'Diario contable'!H42,0))","v":"00:00:00"},null,null,{"$f":"+IF('Diario contable'!C42=\"Ventas\",'Diario contable'!F42,0)","v":0},null,null,null,{"$f":"+IF('Diario contable'!E42=\"Ventas\",'Diario contable'!F42,0)","v":0},{"$f":"IF('Diario contable'!C42=\"Ventas\",'Diario contable'!I42,IF('Diario contable'!E42=\"Ventas\",'Diario contable'!I42,0))","v":0},{"$f":"IF('Diario contable'!C42=\"Ventas\",'Diario contable'!H42,IF('Diario contable'!E42=\"Ventas\",'Diario contable'!H42,0))","v":"00:00:00"},null,null,{"$f":"+IF('Diario contable'!C42=\"Gastos por salarios\",'Diario contable'!F42,0)","v":0},null,null,null,{"$f":"+IF('Diario contable'!E42=\"Gastos por salarios\",'Diario contable'!F42,0)","v":0},{"$f":"IF('Diario contable'!C42=\"Gastos por salarios\",'Diario contable'!I42,IF('Diario contable'!E42=\"Gastos por salarios\",'Diario contable'!I42,0))","v":0},{"$f":"IF('Diario contable'!C42=\"Gastos por salarios\",'Diario contable'!H42,IF('Diario contable'!E42=\"Gastos por salarios\",'Diario contable'!H42,0))","v":"00:00:00"},null,null,{"$f":"+IF('Diario contable'!C42=\"Gastos operacionales\",'Diario contable'!F42,0)","v":0},null,null,null,{"$f":"+IF('Diario contable'!E42=\"Gastos operacionales\",'Diario contable'!F42,0)","v":0},{"$f":"IF('Diario contable'!C42=\"Gastos operacionales\",'Diario contable'!I42,IF('Diario contable'!E42=\"Gastos operacionales\",'Diario contable'!I42,0))","v":0},{"$f":"IF('Diario contable'!C42=\"Gastos operacionales\",'Diario contable'!H42,IF('Diario contable'!E42=\"Gastos operacionales\",'Diario contable'!H42,0))","v":"00:00:00"},null,null,{"$f":"+IF('Diario contable'!C42=\"Suministros de oficina\",'Diario contable'!F42,0)","v":0},null,null,null,{"$f":"+IF('Diario contable'!E42=\"Suministros de oficina\",'Diario contable'!F42,0)","v":0},{"$f":"IF('Diario contable'!C42=\"Suministros de oficina\",'Diario contable'!I42,IF('Diario contable'!E42=\"Suministros de oficina\",'Diario contable'!I42,0))","v":0},{"$f":"IF('Diario contable'!C42=\"Suministros de oficina\",'Diario contable'!H42,IF('Diario contable'!E42=\"Suministros de oficina\",'Diario contable'!H42,0))","v":"00:00:00"},null,null,{"$f":"+IF('Diario contable'!C42=\"Capital social\",'Diario contable'!F42,0)","v":0},null,null,null,{"$f":"+IF('Diario contable'!E42=\"Capital social\",'Diario contable'!F42,0)","v":0},{"$f":"IF('Diario contable'!C42=\"Capital social\",'Diario contable'!I42,IF('Diario contable'!E42=\"Capital social\",'Diario contable'!I42,0))","v":0},{"$f":"IF('Diario contable'!C42=\"Capital social\",'Diario contable'!H42,IF('Diario contable'!E42=\"Capital social\",'Diario contable'!H42,0))","v":"00:00:00"},null,null,{"$f":"+IF('Diario contable'!C42=\"Gastos de mercadeo\",'Diario contable'!F42,0)","v":0},null,null,null,{"$f":"+IF('Diario contable'!E42=\"Gastos de mercadeo\",'Diario contable'!F42,0)","v":0},{"$f":"IF('Diario contable'!C42=\"Gastos de mercadeo\",'Diario contable'!I42,IF('Diario contable'!E42=\"Gastos de mercadeo\",'Diario contable'!I42,0))","v":0},{"$f":"IF('Diario contable'!C42=\"Gastos de mercadeo\",'Diario contable'!H42,IF('Diario contable'!E42=\"Gastos de mercadeo\",'Diario contable'!H42,0))","v":"00:00:00"},null,null,{"$f":"+IF('Diario contable'!C42=\"Gastos de suministros de oficina\",'Diario contable'!F42,0)","v":0},null,null,null,{"$f":"+IF('Diario contable'!E42=\"Gastos de suministros de oficina\",'Diario contable'!F42,0)","v":0},{"$f":"IF('Diario contable'!C42=\"Gastos de suministros de oficina\",'Diario contable'!I42,IF('Diario contable'!E42=\"Gastos de suministros de oficina\",'Diario contable'!I42,0))","v":0},{"$f":"IF('Diario contable'!C42=\"Gastos de suministros de oficina\",'Diario contable'!H42,IF('Diario contable'!E42=\"Gastos de suministros de oficina\",'Diario contable'!H42,0))","v":"00:00:00"}]
[null,null,{"$f":"+IF('Diario contable'!C43=\"Caja\",'Diario contable'!F43,0)","v":0},null,null,null,{"$f":"+IF('Diario contable'!E43=\"Caja\",'Diario contable'!F43,0)","v":0},{"$f":"IF('Diario contable'!C43=\"Caja\",'Diario contable'!I43,IF('Diario contable'!E43=\"Caja\",'Diario contable'!I43,0))","v":0},{"$f":"IF('Diario contable'!C43=\"Caja\",'Diario contable'!H43,IF('Diario contable'!E43=\"Caja\",'Diario contable'!H43,0))","v":"00:00:00"},null,null,{"$f":"+IF('Diario contable'!C43=\"Maquinaria\",'Diario contable'!F43,0)","v":0},null,null,null,{"$f":"+IF('Diario contable'!E43=\"Maquinaria\",'Diario contable'!F43,0)","v":0},{"$f":"IF('Diario contable'!C43=\"Maquinaria\",'Diario contable'!I43,IF('Diario contable'!E43=\"Maquinaria\",'Diario contable'!I43,0))","v":0},{"$f":"IF('Diario contable'!C43=\"Maquinaria\",'Diario contable'!H43,IF('Diario contable'!E43=\"Maquinaria\",'Diario contable'!H43,0))","v":"00:00:00"},null,null,{"$f":"+IF('Diario contable'!C43=\"Herramientas\",'Diario contable'!F43,0)","v":0},null,null,null,{"$f":"+IF('Diario contable'!E43=\"Herramientas\",'Diario contable'!F43,0)","v":0},{"$f":"IF('Diario contable'!C43=\"Herramientas\",'Diario contable'!I43,IF('Diario contable'!E43=\"Herramientas\",'Diario contable'!I43,0))","v":0},{"$f":"IF('Diario contable'!C43=\"Herramientas\",'Diario contable'!H43,IF('Diario contable'!E43=\"Herramientas\",'Diario contable'!H43,0))","v":"00:00:00"},null,null,{"$f":"+IF('Diario contable'!C43=\"Donaciones\",'Diario contable'!F43,0)","v":0},null,null,null,{"$f":"+IF('Diario contable'!E43=\"Donaciones\",'Diario contable'!F43,0)","v":0},{"$f":"IF('Diario contable'!C43=\"Donaciones\",'Diario contable'!I43,IF('Diario contable'!E43=\"Donaciones\",'Diario contable'!I43,0))","v":0},{"$f":"IF('Diario contable'!C43=\"Donaciones\",'Diario contable'!H43,IF('Diario contable'!E43=\"Donaciones\",'Diario contable'!H43,0))","v":"00:00:00"},null,null,{"$f":"+IF('Diario contable'!C43=\"Inventario\",'Diario contable'!F43,0)","v":0},null,null,null,{"$f":"+IF('Diario contable'!E43=\"Inventario\",'Diario contable'!F43,0)","v":0},{"$f":"IF('Diario contable'!C43=\"Inventario\",'Diario contable'!I43,IF('Diario contable'!E43=\"Inventario\",'Diario contable'!I43,0))","v":0},{"$f":"IF('Diario contable'!C43=\"Inventario\",'Diario contable'!H43,IF('Diario contable'!E43=\"Inventario\",'Diario contable'!H43,0))","v":"00:00:00"},null,null,{"$f":"+IF('Diario contable'!C43=\"Costo de ventas\",'Diario contable'!F43,0)","v":0},null,null,null,{"$f":"+IF('Diario contable'!E43=\"Costo de ventas\",'Diario contable'!F43,0)","v":0},{"$f":"IF('Diario contable'!C43=\"Costo de ventas\",'Diario contable'!I43,IF('Diario contable'!E43=\"Costo de ventas\",'Diario contable'!I43,0))","v":0},{"$f":"IF('Diario contable'!C43=\"Costo de ventas\",'Diario contable'!H43,IF('Diario contable'!E43=\"Costo de ventas\",'Diario contable'!H43,0))","v":"00:00:00"},null,null,{"$f":"+IF('Diario contable'!C43=\"Ventas\",'Diario contable'!F43,0)","v":0},null,null,null,{"$f":"+IF('Diario contable'!E43=\"Ventas\",'Diario contable'!F43,0)","v":0},{"$f":"IF('Diario contable'!C43=\"Ventas\",'Diario contable'!I43,IF('Diario contable'!E43=\"Ventas\",'Diario contable'!I43,0))","v":0},{"$f":"IF('Diario contable'!C43=\"Ventas\",'Diario contable'!H43,IF('Diario contable'!E43=\"Ventas\",'Diario contable'!H43,0))","v":"00:00:00"},null,null,{"$f":"+IF('Diario contable'!C43=\"Gastos por salarios\",'Diario contable'!F43,0)","v":0},null,null,null,{"$f":"+IF('Diario contable'!E43=\"Gastos por salarios\",'Diario contable'!F43,0)","v":0},{"$f":"IF('Diario contable'!C43=\"Gastos por salarios\",'Diario contable'!I43,IF('Diario contable'!E43=\"Gastos por salarios\",'Diario contable'!I43,0))","v":0},{"$f":"IF('Diario contable'!C43=\"Gastos por salarios\",'Diario contable'!H43,IF('Diario contable'!E43=\"Gastos por salarios\",'Diario contable'!H43,0))","v":"00:00:00"},null,null,{"$f":"+IF('Diario contable'!C43=\"Gastos operacionales\",'Diario contable'!F43,0)","v":0},null,null,null,{"$f":"+IF('Diario contable'!E43=\"Gastos operacionales\",'Diario contable'!F43,0)","v":0},{"$f":"IF('Diario contable'!C43=\"Gastos operacionales\",'Diario contable'!I43,IF('Diario contable'!E43=\"Gastos operacionales\",'Diario contable'!I43,0))","v":0},{"$f":"IF('Diario contable'!C43=\"Gastos operacionales\",'Diario contable'!H43,IF('Diario contable'!E43=\"Gastos operacionales\",'Diario contable'!H43,0))","v":"00:00:00"},null,null,{"$f":"+IF('Diario contable'!C43=\"Suministros de oficina\",'Diario contable'!F43,0)","v":0},null,null,null,{"$f":"+IF('Diario contable'!E43=\"Suministros de oficina\",'Diario contable'!F43,0)","v":0},{"$f":"IF('Diario contable'!C43=\"Suministros de oficina\",'Diario contable'!I43,IF('Diario contable'!E43=\"Suministros de oficina\",'Diario contable'!I43,0))","v":0},{"$f":"IF('Diario contable'!C43=\"Suministros de oficina\",'Diario contable'!H43,IF('Diario contable'!E43=\"Suministros de oficina\",'Diario contable'!H43,0))","v":"00:00:00"},null,null,{"$f":"+IF('Diario contable'!C43=\"Capital social\",'Diario contable'!F43,0)","v":0},null,null,null,{"$f":"+IF('Diario contable'!E43=\"Capital social\",'Diario contable'!F43,0)","v":0},{"$f":"IF('Diario contable'!C43=\"Capital social\",'Diario contable'!I43,IF('Diario contable'!E43=\"Capital social\",'Diario contable'!I43,0))","v":0},{"$f":"IF('Diario contable'!C43=\"Capital social\",'Diario contable'!H43,IF('Diario contable'!E43=\"Capital social\",'Diario contable'!H43,0))","v":"00:00:00"},null,null,{"$f":"+IF('Diario contable'!C43=\"Gastos de mercadeo\",'Diario contable'!F43,0)","v":0},null,null,null,{"$f":"+IF('Diario contable'!E43=\"Gastos de mercadeo\",'Diario contable'!F43,0)","v":0},{"$f":"IF('Diario contable'!C43=\"Gastos de mercadeo\",'Diario contable'!I43,IF('Diario contable'!E43=\"Gastos de mercadeo\",'Diario contable'!I43,0))","v":0},{"$f":"IF('Diario contable'!C43=\"Gastos de mercadeo\",'Diario contable'!H43,IF('Diario contable'!E43=\"Gastos de mercadeo\",'Diario contable'!H43,0))","v":"00:00:00"},null,null,{"$f":"+IF('Diario contable'!C43=\"Gastos de suministros de oficina\",'Diario contable'!F43,0)","v":0},null,null,null,{"$f":"+IF('Diario contable'!E43=\"Gastos de suministros de oficina\",'Diario contable'!F43,0)","v":0},{"$f":"IF('Diario contable'!C43=\"Gastos de suministros de oficina\",'Diario contable'!I43,IF('Diario contable'!E43=\"Gastos de suministros de oficina\",'Diario contable'!I43,0))","v":0},{"$f":"IF('Diario contable'!C43=\"Gastos de suministros de oficina\",'Diario contable'!H43,IF('Diario contable'!E43=\"Gastos de suministros de oficina\",'Diario contable'!H43,0))","v":"00:00:00"}]
[null,null,{"$f":"+IF('Diario contable'!C44=\"Caja\",'Diario contable'!F44,0)","v":0},null,null,null,{"$f":"+IF('Diario contable'!E44=\"Caja\",'Diario contable'!F44,0)","v":0},{"$f":"IF('Diario contable'!C44=\"Caja\",'Diario contable'!I44,IF('Diario contable'!E44=\"Caja\",'Diario contable'!I44,0))","v":0},{"$f":"IF('Diario contable'!C44=\"Caja\",'Diario contable'!H44,IF('Diario contable'!E44=\"Caja\",'Diario contable'!H44,0))","v":"00:00:00"},null,null,{"$f":"+IF('Diario contable'!C44=\"Maquinaria\",'Diario contable'!F44,0)","v":0},null,null,null,{"$f":"+IF('Diario contable'!E44=\"Maquinaria\",'Diario contable'!F44,0)","v":0},{"$f":"IF('Diario contable'!C44=\"Maquinaria\",'Diario contable'!I44,IF('Diario contable'!E44=\"Maquinaria\",'Diario contable'!I44,0))","v":0},{"$f":"IF('Diario contable'!C44=\"Maquinaria\",'Diario contable'!H44,IF('Diario contable'!E44=\"Maquinaria\",'Diario contable'!H44,0))","v":"00:00:00"},null,null,{"$f":"+IF('Diario contable'!C44=\"Herramientas\",'Diario contable'!F44,0)","v":0},null,null,null,{"$f":"+IF('Diario contable'!E44=\"Herramientas\",'Diario contable'!F44,0)","v":0},{"$f":"IF('Diario contable'!C44=\"Herramientas\",'Diario contable'!I44,IF('Diario contable'!E44=\"Herramientas\",'Diario contable'!I44,0))","v":0},{"$f":"IF('Diario contable'!C44=\"Herramientas\",'Diario contable'!H44,IF('Diario contable'!E44=\"Herramientas\",'Diario contable'!H44,0))","v":"00:00:00"},null,null,{"$f":"+IF('Diario contable'!C44=\"Donaciones\",'Diario contable'!F44,0)","v":0},null,null,null,{"$f":"+IF('Diario contable'!E44=\"Donaciones\",'Diario contable'!F44,0)","v":0},{"$f":"IF('Diario contable'!C44=\"Donaciones\",'Diario contable'!I44,IF('Diario contable'!E44=\"Donaciones\",'Diario contable'!I44,0))","v":0},{"$f":"IF('Diario contable'!C44=\"Donaciones\",'Diario contable'!H44,IF('Diario contable'!E44=\"Donaciones\",'Diario contable'!H44,0))","v":"00:00:00"},null,null,{"$f":"+IF('Diario contable'!C44=\"Inventario\",'Diario contable'!F44,0)","v":0},null,null,null,{"$f":"+IF('Diario contable'!E44=\"Inventario\",'Diario contable'!F44,0)","v":0},{"$f":"IF('Diario contable'!C44=\"Inventario\",'Diario contable'!I44,IF('Diario contable'!E44=\"Inventario\",'Diario contable'!I44,0))","v":0},{"$f":"IF('Diario contable'!C44=\"Inventario\",'Diario contable'!H44,IF('Diario contable'!E44=\"Inventario\",'Diario contable'!H44,0))","v":"00:00:00"},null,null,{"$f":"+IF('Diario contable'!C44=\"Costo de ventas\",'Diario contable'!F44,0)","v":0},null,null,null,{"$f":"+IF('Diario contable'!E44=\"Costo de ventas\",'Diario contable'!F44,0)","v":0},{"$f":"IF('Diario contable'!C44=\"Costo de ventas\",'Diario contable'!I44,IF('Diario contable'!E44=\"Costo de ventas\",'Diario contable'!I44,0))","v":0},{"$f":"IF('Diario contable'!C44=\"Costo de ventas\",'Diario contable'!H44,IF('Diario contable'!E44=\"Costo de ventas\",'Diario contable'!H44,0))","v":"00:00:00"},null,null,{"$f":"+IF('Diario contable'!C44=\"Ventas\",'Diario contable'!F44,0)","v":0},null,null,null,{"$f":"+IF('Diario contable'!E44=\"Ventas\",'Diario contable'!F44,0)","v":0},{"$f":"IF('Diario contable'!C44=\"Ventas\",'Diario contable'!I44,IF('Diario contable'!E44=\"Ventas\",'Diario contable'!I44,0))","v":0},{"$f":"IF('Diario contable'!C44=\"Ventas\",'Diario contable'!H44,IF('Diario contable'!E44=\"Ventas\",'Diario contable'!H44,0))","v":"00:00:00"},null,null,{"$f":"+IF('Diario contable'!C44=\"Gastos por salarios\",'Diario contable'!F44,0)","v":0},null,null,null,{"$f":"+IF('Diario contable'!E44=\"Gastos por salarios\",'Diario contable'!F44,0)","v":0},{"$f":"IF('Diario contable'!C44=\"Gastos por salarios\",'Diario contable'!I44,IF('Diario contable'!E44=\"Gastos por salarios\",'Diario contable'!I44,0))","v":0},{"$f":"IF('Diario contable'!C44=\"Gastos por salarios\",'Diario contable'!H44,IF('Diario contable'!E44=\"Gastos por salarios\",'Diario contable'!H44,0))","v":"00:00:00"},null,null,{"$f":"+IF('Diario contable'!C44=\"Gastos operacionales\",'Diario contable'!F44,0)","v":0},null,null,null,{"$f":"+IF('Diario contable'!E44=\"Gastos operacionales\",'Diario contable'!F44,0)","v":0},{"$f":"IF('Diario contable'!C44=\"Gastos operacionales\",'Diario contable'!I44,IF('Diario contable'!E44=\"Gastos operacionales\",'Diario contable'!I44,0))","v":0},{"$f":"IF('Diario contable'!C44=\"Gastos operacionales\",'Diario contable'!H44,IF('Diario contable'!E44=\"Gastos operacionales\",'Diario contable'!H44,0))","v":"00:00:00"},null,null,{"$f":"+IF('Diario contable'!C44=\"Suministros de oficina\",'Diario contable'!F44,0)","v":0},null,null,null,{"$f":"+IF('Diario contable'!E44=\"Suministros de oficina\",'Diario contable'!F44,0)","v":0},{"$f":"IF('Diario contable'!C44=\"Suministros de oficina\",'Diario contable'!I44,IF('Diario contable'!E44=\"Suministros de oficina\",'Diario contable'!I44,0))","v":0},{"$f":"IF('Diario contable'!C44=\"Suministros de oficina\",'Diario contable'!H44,IF('Diario contable'!E44=\"Suministros de oficina\",'Diario contable'!H44,0))","v":"00:00:00"},null,null,{"$f":"+IF('Diario contable'!C44=\"Capital social\",'Diario contable'!F44,0)","v":0},null,null,null,{"$f":"+IF('Diario contable'!E44=\"Capital social\",'Diario contable'!F44,0)","v":0},{"$f":"IF('Diario contable'!C44=\"Capital social\",'Diario contable'!I44,IF('Diario contable'!E44=\"Capital social\",'Diario contable'!I44,0))","v":0},{"$f":"IF('Diario contable'!C44=\"Capital social\",'Diario contable'!H44,IF('Diario contable'!E44=\"Capital social\",'Diario contable'!H44,0))","v":"00:00:00"},null,null,{"$f":"+IF('Diario contable'!C44=\"Gastos de mercadeo\",'Diario contable'!F44,0)","v":0},null,null,null,{"$f":"+IF('Diario contable'!E44=\"Gastos de mercadeo\",'Diario contable'!F44,0)","v":0},{"$f":"IF('Diario contable'!C44=\"Gastos de mercadeo\",'Diario contable'!I44,IF('Diario contable'!E44=\"Gastos de mercadeo\",'Diario contable'!I44,0))","v":0},{"$f":"IF('Diario contable'!C44=\"Gastos de mercadeo\",'Diario contable'!H44,IF('Diario contable'!E44=\"Gastos de mercadeo\",'Diario contable'!H44,0))","v":"00:00:00"},null,null,{"$f":"+IF('Diario contable'!C44=\"Gastos de suministros de oficina\",'Diario contable'!F44,0)","v":0},null,null,null,{"$f":"+IF('Diario contable'!E44=\"Gastos de suministros de oficina\",'Diario contable'!F44,0)","v":0},{"$f":"IF('Diario contable'!C44=\"Gastos de suministros de oficina\",'Diario contable'!I44,IF('Diario contable'!E44=\"Gastos de suministros de oficina\",'Diario contable'!I44,0))","v":0},{"$f":"IF('Diario contable'!C44=\"Gastos de suministros de oficina\",'Diario contable'!H44,IF('Diario contable'!E44=\"Gastos de suministros de oficina\",'Diario contable'!H44,0))","v":"00:00:00"}]
[null,null,{"$f":"+IF('Diario contable'!C45=\"Caja\",'Diario contable'!F45,0)","v":0},null,null,null,{"$f":"+IF('Diario contable'!E45=\"Caja\",'Diario contable'!F45,0)","v":0},{"$f":"IF('Diario contable'!C45=\"Caja\",'Diario contable'!I45,IF('Diario contable'!E45=\"Caja\",'Diario contable'!I45,0))","v":0},{"$f":"IF('Diario contable'!C45=\"Caja\",'Diario contable'!H45,IF('Diario contable'!E45=\"Caja\",'Diario contable'!H45,0))","v":"00:00:00"},null,null,{"$f":"+IF('Diario contable'!C45=\"Maquinaria\",'Diario contable'!F45,0)","v":0},null,null,null,{"$f":"+IF('Diario contable'!E45=\"Maquinaria\",'Diario contable'!F45,0)","v":0},{"$f":"IF('Diario contable'!C45=\"Maquinaria\",'Diario contable'!I45,IF('Diario contable'!E45=\"Maquinaria\",'Diario contable'!I45,0))","v":0},{"$f":"IF('Diario contable'!C45=\"Maquinaria\",'Diario contable'!H45,IF('Diario contable'!E45=\"Maquinaria\",'Diario contable'!H45,0))","v":"00:00:00"},null,null,{"$f":"+IF('Diario contable'!C45=\"Herramientas\",'Diario contable'!F45,0)","v":0},null,null,null,{"$f":"+IF('Diario contable'!E45=\"Herramientas\",'Diario contable'!F45,0)","v":0},{"$f":"IF('Diario contable'!C45=\"Herramientas\",'Diario contable'!I45,IF('Diario contable'!E45=\"Herramientas\",'Diario contable'!I45,0))","v":0},{"$f":"IF('Diario contable'!C45=\"Herramientas\",'Diario contable'!H45,IF('Diario contable'!E45=\"Herramientas\",'Diario contable'!H45,0))","v":"00:00:00"},null,null,{"$f":"+IF('Diario contable'!C45=\"Donaciones\",'Diario contable'!F45,0)","v":0},null,null,null,{"$f":"+IF('Diario contable'!E45=\"Donaciones\",'Diario contable'!F45,0)","v":0},{"$f":"IF('Diario contable'!C45=\"Donaciones\",'Diario contable'!I45,IF('Diario contable'!E45=\"Donaciones\",'Diario contable'!I45,0))","v":0},{"$f":"IF('Diario contable'!C45=\"Donaciones\",'Diario contable'!H45,IF('Diario contable'!E45=\"Donaciones\",'Diario contable'!H45,0))","v":"00:00:00"},null,null,{"$f":"+IF('Diario contable'!C45=\"Inventario\",'Diario contable'!F45,0)","v":0},null,null,null,{"$f":"+IF('Diario contable'!E45=\"Inventario\",'Diario contable'!F45,0)","v":0},{"$f":"IF('Diario contable'!C45=\"Inventario\",'Diario contable'!I45,IF('Diario contable'!E45=\"Inventario\",'Diario contable'!I45,0))","v":0},{"$f":"IF('Diario contable'!C45=\"Inventario\",'Diario contable'!H45,IF('Diario contable'!E45=\"Inventario\",'Diario contable'!H45,0))","v":"00:00:00"},null,null,{"$f":"+IF('Diario contable'!C45=\"Costo de ventas\",'Diario contable'!F45,0)","v":0},null,null,null,{"$f":"+IF('Diario contable'!E45=\"Costo de ventas\",'Diario contable'!F45,0)","v":0},{"$f":"IF('Diario contable'!C45=\"Costo de ventas\",'Diario contable'!I45,IF('Diario contable'!E45=\"Costo de ventas\",'Diario contable'!I45,0))","v":0},{"$f":"IF('Diario contable'!C45=\"Costo de ventas\",'Diario contable'!H45,IF('Diario contable'!E45=\"Costo de ventas\",'Diario contable'!H45,0))","v":"00:00:00"},null,null,{"$f":"+IF('Diario contable'!C45=\"Ventas\",'Diario contable'!F45,0)","v":0},null,null,null,{"$f":"+IF('Diario contable'!E45=\"Ventas\",'Diario contable'!F45,0)","v":0},{"$f":"IF('Diario contable'!C45=\"Ventas\",'Diario contable'!I45,IF('Diario contable'!E45=\"Ventas\",'Diario contable'!I45,0))","v":0},{"$f":"IF('Diario contable'!C45=\"Ventas\",'Diario contable'!H45,IF('Diario contable'!E45=\"Ventas\",'Diario contable'!H45,0))","v":"00:00:00"},null,null,{"$f":"+IF('Diario contable'!C45=\"Gastos por salarios\",'Diario contable'!F45,0)","v":0},null,null,null,{"$f":"+IF('Diario contable'!E45=\"Gastos por salarios\",'Diario contable'!F45,0)","v":0},{"$f":"IF('Diario contable'!C45=\"Gastos por salarios\",'Diario contable'!I45,IF('Diario contable'!E45=\"Gastos por salarios\",'Diario contable'!I45,0))","v":0},{"$f":"IF('Diario contable'!C45=\"Gastos por salarios\",'Diario contable'!H45,IF('Diario contable'!E45=\"Gastos por salarios\",'Diario contable'!H45,0))","v":"00:00:00"},null,null,{"$f":"+IF('Diario contable'!C45=\"Gastos operacionales\",'Diario contable'!F45,0)","v":0},null,null,null,{"$f":"+IF('Diario contable'!E45=\"Gastos operacionales\",'Diario contable'!F45,0)","v":0},{"$f":"IF('Diario contable'!C45=\"Gastos operacionales\",'Diario contable'!I45,IF('Diario contable'!E45=\"Gastos operacionales\",'Diario contable'!I45,0))","v":0},{"$f":"IF('Diario contable'!C45=\"Gastos operacionales\",'Diario contable'!H45,IF('Diario contable'!E45=\"Gastos operacionales\",'Diario contable'!H45,0))","v":"00:00:00"},null,null,{"$f":"+IF('Diario contable'!C45=\"Suministros de oficina\",'Diario contable'!F45,0)","v":0},null,null,null,{"$f":"+IF('Diario contable'!E45=\"Suministros de oficina\",'Diario contable'!F45,0)","v":0},{"$f":"IF('Diario contable'!C45=\"Suministros de oficina\",'Diario contable'!I45,IF('Diario contable'!E45=\"Suministros de oficina\",'Diario contable'!I45,0))","v":0},{"$f":"IF('Diario contable'!C45=\"Suministros de oficina\",'Diario contable'!H45,IF('Diario contable'!E45=\"Suministros de oficina\",'Diario contable'!H45,0))","v":"00:00:00"},null,null,{"$f":"+IF('Diario contable'!C45=\"Capital social\",'Diario contable'!F45,0)","v":0},null,null,null,{"$f":"+IF('Diario contable'!E45=\"Capital social\",'Diario contable'!F45,0)","v":0},{"$f":"IF('Diario contable'!C45=\"Capital social\",'Diario contable'!I45,IF('Diario contable'!E45=\"Capital social\",'Diario contable'!I45,0))","v":0},{"$f":"IF('Diario contable'!C45=\"Capital social\",'Diario contable'!H45,IF('Diario contable'!E45=\"Capital social\",'Diario contable'!H45,0))","v":"00:00:00"},null,null,{"$f":"+IF('Diario contable'!C45=\"Gastos de mercadeo\",'Diario contable'!F45,0)","v":0},null,null,null,{"$f":"+IF('Diario contable'!E45=\"Gastos de mercadeo\",'Diario contable'!F45,0)","v":0},{"$f":"IF('Diario contable'!C45=\"Gastos de mercadeo\",'Diario contable'!I45,IF('Diario contable'!E45=\"Gastos de mercadeo\",'Diario contable'!I45,0))","v":0},{"$f":"IF('Diario contable'!C45=\"Gastos de mercadeo\",'Diario contable'!H45,IF('Diario contable'!E45=\"Gastos de mercadeo\",'Diario contable'!H45,0))","v":"00:00:00"},null,null,{"$f":"+IF('Diario contable'!C45=\"Gastos de suministros de oficina\",'Diario contable'!F45,0)","v":0},null,null,null,{"$f":"+IF('Diario contable'!E45=\"Gastos de suministros de oficina\",'Diario contable'!F45,0)","v":0},{"$f":"IF('Diario contable'!C45=\"Gastos de suministros de oficina\",'Diario contable'!I45,IF('Diario contable'!E45=\"Gastos de suministros de oficina\",'Diario contable'!I45,0))","v":0},{"$f":"IF('Diario contable'!C45=\"Gastos de suministros de oficina\",'Diario contable'!H45,IF('Diario contable'!E45=\"Gastos de suministros de oficina\",'Diario contable'!H45,0))","v":"00:00:00"}]
[null,null,{"$f":"+IF('Diario contable'!C46=\"Caja\",'Diario contable'!F46,0)","v":0},null,null,null,{"$f":"+IF('Diario contable'!E46=\"Caja\",'Diario contable'!F46,0)","v":0},{"$f":"IF('Diario contable'!C46=\"Caja\",'Diario contable'!I46,IF('Diario contable'!E46=\"Caja\",'Diario contable'!I46,0))","v":0},{"$f":"IF('Diario contable'!C46=\"Caja\",'Diario contable'!H46,IF('Diario contable'!E46=\"Caja\",'Diario contable'!H46,0))","v":"00:00:00"},null,null,{"$f":"+IF('Diario contable'!C46=\"Maquinaria\",'Diario contable'!F46,0)","v":0},null,null,null,{"$f":"+IF('Diario contable'!E46=\"Maquinaria\",'Diario contable'!F46,0)","v":0},{"$f":"IF('Diario contable'!C46=\"Maquinaria\",'Diario contable'!I46,IF('Diario contable'!E46=\"Maquinaria\",'Diario contable'!I46,0))","v":0},{"$f":"IF('Diario contable'!C46=\"Maquinaria\",'Diario contable'!H46,IF('Diario contable'!E46=\"Maquinaria\",'Diario contable'!H46,0))","v":"00:00:00"},null,null,{"$f":"+IF('Diario contable'!C46=\"Herramientas\",'Diario contable'!F46,0)","v":0},null,null,null,{"$f":"+IF('Diario contable'!E46=\"Herramientas\",'Diario contable'!F46,0)","v":0},{"$f":"IF('Diario contable'!C46=\"Herramientas\",'Diario contable'!I46,IF('Diario contable'!E46=\"Herramientas\",'Diario contable'!I46,0))","v":0},{"$f":"IF('Diario contable'!C46=\"Herramientas\",'Diario contable'!H46,IF('Diario contable'!E46=\"Herramientas\",'Diario contable'!H46,0))","v":"00:00:00"},null,null,{"$f":"+IF('Diario contable'!C46=\"Donaciones\",'Diario contable'!F46,0)","v":0},null,null,null,{"$f":"+IF('Diario contable'!E46=\"Donaciones\",'Diario contable'!F46,0)","v":0},{"$f":"IF('Diario contable'!C46=\"Donaciones\",'Diario contable'!I46,IF('Diario contable'!E46=\"Donaciones\",'Diario contable'!I46,0))","v":0},{"$f":"IF('Diario contable'!C46=\"Donaciones\",'Diario contable'!H46,IF('Diario contable'!E46=\"Donaciones\",'Diario contable'!H46,0))","v":"00:00:00"},null,null,{"$f":"+IF('Diario contable'!C46=\"Inventario\",'Diario contable'!F46,0)","v":0},null,null,null,{"$f":"+IF('Diario contable'!E46=\"Inventario\",'Diario contable'!F46,0)","v":0},{"$f":"IF('Diario contable'!C46=\"Inventario\",'Diario contable'!I46,IF('Diario contable'!E46=\"Inventario\",'Diario contable'!I46,0))","v":0},{"$f":"IF('Diario contable'!C46=\"Inventario\",'Diario contable'!H46,IF('Diario contable'!E46=\"Inventario\",'Diario contable'!H46,0))","v":"00:00:00"},null,null,{"$f":"+IF('Diario contable'!C46=\"Costo de ventas\",'Diario contable'!F46,0)","v":0},null,null,null,{"$f":"+IF('Diario contable'!E46=\"Costo de ventas\",'Diario contable'!F46,0)","v":0},{"$f":"IF('Diario contable'!C46=\"Costo de ventas\",'Diario contable'!I46,IF('Diario contable'!E46=\"Costo de ventas\",'Diario contable'!I46,0))","v":0},{"$f":"IF('Diario contable'!C46=\"Costo de ventas\",'Diario contable'!H46,IF('Diario contable'!E46=\"Costo de ventas\",'Diario contable'!H46,0))","v":"00:00:00"},null,null,{"$f":"+IF('Diario contable'!C46=\"Ventas\",'Diario contable'!F46,0)","v":0},null,null,null,{"$f":"+IF('Diario contable'!E46=\"Ventas\",'Diario contable'!F46,0)","v":0},{"$f":"IF('Diario contable'!C46=\"Ventas\",'Diario contable'!I46,IF('Diario contable'!E46=\"Ventas\",'Diario contable'!I46,0))","v":0},{"$f":"IF('Diario contable'!C46=\"Ventas\",'Diario contable'!H46,IF('Diario contable'!E46=\"Ventas\",'Diario contable'!H46,0))","v":"00:00:00"},null,null,{"$f":"+IF('Diario contable'!C46=\"Gastos por salarios\",'Diario contable'!F46,0)","v":0},null,null,null,{"$f":"+IF('Diario contable'!E46=\"Gastos por salarios\",'Diario contable'!F46,0)","v":0},{"$f":"IF('Diario contable'!C46=\"Gastos por salarios\",'Diario contable'!I46,IF('Diario contable'!E46=\"Gastos por salarios\",'Diario contable'!I46,0))","v":0},{"$f":"IF('Diario contable'!C46=\"Gastos por salarios\",'Diario contable'!H46,IF('Diario contable'!E46=\"Gastos por salarios\",'Diario contable'!H46,0))","v":"00:00:00"},null,null,{"$f":"+IF('Diario contable'!C46=\"Gastos operacionales\",'Diario contable'!F46,0)","v":0},null,null,null,{"$f":"+IF('Diario contable'!E46=\"Gastos operacionales\",'Diario contable'!F46,0)","v":0},{"$f":"IF('Diario contable'!C46=\"Gastos operacionales\",'Diario contable'!I46,IF('Diario contable'!E46=\"Gastos operacionales\",'Diario contable'!I46,0))","v":0},{"$f":"IF('Diario contable'!C46=\"Gastos operacionales\",'Diario contable'!H46,IF('Diario contable'!E46=\"Gastos operacionales\",'Diario contable'!H46,0))","v":"00:00:00"},null,null,{"$f":"+IF('Diario contable'!C46=\"Suministros de oficina\",'Diario contable'!F46,0)","v":0},null,null,null,{"$f":"+IF('Diario contable'!E46=\"Suministros de oficina\",'Diario contable'!F46,0)","v":0},{"$f":"IF('Diario contable'!C46=\"Suministros de oficina\",'Diario contable'!I46,IF('Diario contable'!E46=\"Suministros de oficina\",'Diario contable'!I46,0))","v":0},{"$f":"IF('Diario contable'!C46=\"Suministros de oficina\",'Diario contable'!H46,IF('Diario contable'!E46=\"Suministros de oficina\",'Diario contable'!H46,0))","v":"00:00:00"},null,null,{"$f":"+IF('Diario contable'!C46=\"Capital social\",'Diario contable'!F46,0)","v":0},null,null,null,{"$f":"+IF('Diario contable'!E46=\"Capital social\",'Diario contable'!F46,0)","v":0},{"$f":"IF('Diario contable'!C46=\"Capital social\",'Diario contable'!I46,IF('Diario contable'!E46=\"Capital social\",'Diario contable'!I46,0))","v":0},{"$f":"IF('Diario contable'!C46=\"Capital social\",'Diario contable'!H46,IF('Diario contable'!E46=\"Capital social\",'Diario contable'!H46,0))","v":"00:00:00"},null,null,{"$f":"+IF('Diario contable'!C46=\"Gastos de mercadeo\",'Diario contable'!F46,0)","v":0},null,null,null,{"$f":"+IF('Diario contable'!E46=\"Gastos de mercadeo\",'Diario contable'!F46,0)","v":0},{"$f":"IF('Diario contable'!C46=\"Gastos de mercadeo\",'Diario contable'!I46,IF('Diario contable'!E46=\"Gastos de mercadeo\",'Diario contable'!I46,0))","v":0},{"$f":"IF('Diario contable'!C46=\"Gastos de mercadeo\",'Diario contable'!H46,IF('Diario contable'!E46=\"Gastos de mercadeo\",'Diario contable'!H46,0))","v":"00:00:00"},null,null,{"$f":"+IF('Diario contable'!C46=\"Gastos de suministros de oficina\",'Diario contable'!F46,0)","v":0},null,null,null,{"$f":"+IF('Diario contable'!E46=\"Gastos de suministros de oficina\",'Diario contable'!F46,0)","v":0},{"$f":"IF('Diario contable'!C46=\"Gastos de suministros de oficina\",'Diario contable'!I46,IF('Diario contable'!E46=\"Gastos de suministros de oficina\",'Diario contable'!I46,0))","v":0},{"$f":"IF('Diario contable'!C46=\"Gastos de suministros de oficina\",'Diario contable'!H46,IF('Diario contable'!E46=\"Gastos de suministros de oficina\",'Diario contable'!H46,0))","v":"00:00:00"}]
[null,null,{"$f":"+IF('Diario contable'!C47=\"Caja\",'Diario contable'!F47,0)","v":0},null,null,null,{"$f":"+IF('Diario contable'!E47=\"Caja\",'Diario contable'!F47,0)","v":0},{"$f":"IF('Diario contable'!C47=\"Caja\",'Diario contable'!I47,IF('Diario contable'!E47=\"Caja\",'Diario contable'!I47,0))","v":0},{"$f":"IF('Diario contable'!C47=\"Caja\",'Diario contable'!H47,IF('Diario contable'!E47=\"Caja\",'Diario contable'!H47,0))","v":"00:00:00"},null,null,{"$f":"+IF('Diario contable'!C47=\"Maquinaria\",'Diario contable'!F47,0)","v":0},null,null,null,{"$f":"+IF('Diario contable'!E47=\"Maquinaria\",'Diario contable'!F47,0)","v":0},{"$f":"IF('Diario contable'!C47=\"Maquinaria\",'Diario contable'!I47,IF('Diario contable'!E47=\"Maquinaria\",'Diario contable'!I47,0))","v":0},{"$f":"IF('Diario contable'!C47=\"Maquinaria\",'Diario contable'!H47,IF('Diario contable'!E47=\"Maquinaria\",'Diario contable'!H47,0))","v":"00:00:00"},null,null,{"$f":"+IF('Diario contable'!C47=\"Herramientas\",'Diario contable'!F47,0)","v":0},null,null,null,{"$f":"+IF('Diario contable'!E47=\"Herramientas\",'Diario contable'!F47,0)","v":0},{"$f":"IF('Diario contable'!C47=\"Herramientas\",'Diario contable'!I47,IF('Diario contable'!E47=\"Herramientas\",'Diario contable'!I47,0))","v":0},{"$f":"IF('Diario contable'!C47=\"Herramientas\",'Diario contable'!H47,IF('Diario contable'!E47=\"Herramientas\",'Diario contable'!H47,0))","v":"00:00:00"},null,null,{"$f":"+IF('Diario contable'!C47=\"Donaciones\",'Diario contable'!F47,0)","v":0},null,null,null,{"$f":"+IF('Diario contable'!E47=\"Donaciones\",'Diario contable'!F47,0)","v":0},{"$f":"IF('Diario contable'!C47=\"Donaciones\",'Diario contable'!I47,IF('Diario contable'!E47=\"Donaciones\",'Diario contable'!I47,0))","v":0},{"$f":"IF('Diario contable'!C47=\"Donaciones\",'Diario contable'!H47,IF('Diario contable'!E47=\"Donaciones\",'Diario contable'!H47,0))","v":"00:00:00"},null,null,{"$f":"+IF('Diario contable'!C47=\"Inventario\",'Diario contable'!F47,0)","v":0},null,null,null,{"$f":"+IF('Diario contable'!E47=\"Inventario\",'Diario contable'!F47,0)","v":0},{"$f":"IF('Diario contable'!C47=\"Inventario\",'Diario contable'!I47,IF('Diario contable'!E47=\"Inventario\",'Diario contable'!I47,0))","v":0},{"$f":"IF('Diario contable'!C47=\"Inventario\",'Diario contable'!H47,IF('Diario contable'!E47=\"Inventario\",'Diario contable'!H47,0))","v":"00:00:00"},null,null,{"$f":"+IF('Diario contable'!C47=\"Costo de ventas\",'Diario contable'!F47,0)","v":0},null,null,null,{"$f":"+IF('Diario contable'!E47=\"Costo de ventas\",'Diario contable'!F47,0)","v":0},{"$f":"IF('Diario contable'!C47=\"Costo de ventas\",'Diario contable'!I47,IF('Diario contable'!E47=\"Costo de ventas\",'Diario contable'!I47,0))","v":0},{"$f":"IF('Diario contable'!C47=\"Costo de ventas\",'Diario contable'!H47,IF('Diario contable'!E47=\"Costo de ventas\",'Diario contable'!H47,0))","v":"00:00:00"},null,null,{"$f":"+IF('Diario contable'!C47=\"Ventas\",'Diario contable'!F47,0)","v":0},null,null,null,{"$f":"+IF('Diario contable'!E47=\"Ventas\",'Diario contable'!F47,0)","v":0},{"$f":"IF('Diario contable'!C47=\"Ventas\",'Diario contable'!I47,IF('Diario contable'!E47=\"Ventas\",'Diario contable'!I47,0))","v":0},{"$f":"IF('Diario contable'!C47=\"Ventas\",'Diario contable'!H47,IF('Diario contable'!E47=\"Ventas\",'Diario contable'!H47,0))","v":"00:00:00"},null,null,{"$f":"+IF('Diario contable'!C47=\"Gastos por salarios\",'Diario contable'!F47,0)","v":0},null,null,null,{"$f":"+IF('Diario contable'!E47=\"Gastos por salarios\",'Diario contable'!F47,0)","v":0},{"$f":"IF('Diario contable'!C47=\"Gastos por salarios\",'Diario contable'!I47,IF('Diario contable'!E47=\"Gastos por salarios\",'Diario contable'!I47,0))","v":0},{"$f":"IF('Diario contable'!C47=\"Gastos por salarios\",'Diario contable'!H47,IF('Diario contable'!E47=\"Gastos por salarios\",'Diario contable'!H47,0))","v":"00:00:00"},null,null,{"$f":"+IF('Diario contable'!C47=\"Gastos operacionales\",'Diario contable'!F47,0)","v":0},null,null,null,{"$f":"+IF('Diario contable'!E47=\"Gastos operacionales\",'Diario contable'!F47,0)","v":0},{"$f":"IF('Diario contable'!C47=\"Gastos operacionales\",'Diario contable'!I47,IF('Diario contable'!E47=\"Gastos operacionales\",'Diario contable'!I47,0))","v":0},{"$f":"IF('Diario contable'!C47=\"Gastos operacionales\",'Diario contable'!H47,IF('Diario contable'!E47=\"Gastos operacionales\",'Diario contable'!H47,0))","v":"00:00:00"},null,null,{"$f":"+IF('Diario contable'!C47=\"Suministros de oficina\",'Diario contable'!F47,0)","v":0},null,null,null,{"$f":"+IF('Diario contable'!E47=\"Suministros de oficina\",'Diario contable'!F47,0)","v":0},{"$f":"IF('Diario contable'!C47=\"Suministros de oficina\",'Diario contable'!I47,IF('Diario contable'!E47=\"Suministros de oficina\",'Diario contable'!I47,0))","v":0},{"$f":"IF('Diario contable'!C47=\"Suministros de oficina\",'Diario contable'!H47,IF('Diario contable'!E47=\"Suministros de oficina\",'Diario contable'!H47,0))","v":"00:00:00"},null,null,{"$f":"+IF('Diario contable'!C47=\"Capital social\",'Diario contable'!F47,0)","v":0},null,null,null,{"$f":"+IF('Diario contable'!E47=\"Capital social\",'Diario contable'!F47,0)","v":0},{"$f":"IF('Diario contable'!C47=\"Capital social\",'Diario contable'!I47,IF('Diario contable'!E47=\"Capital social\",'Diario contable'!I47,0))","v":0},{"$f":"IF('Diario contable'!C47=\"Capital social\",'Diario contable'!H47,IF('Diario contable'!E47=\"Capital social\",'Diario contable'!H47,0))","v":"00:00:00"},null,null,{"$f":"+IF('Diario contable'!C47=\"Gastos de mercadeo\",'Diario contable'!F47,0)","v":0},null,null,null,{"$f":"+IF('Diario contable'!E47=\"Gastos de mercadeo\",'Diario contable'!F47,0)","v":0},{"$f":"IF('Diario contable'!C47=\"Gastos de mercadeo\",'Diario contable'!I47,IF('Diario contable'!E47=\"Gastos de mercadeo\",'Diario contable'!I47,0))","v":0},{"$f":"IF('Diario contable'!C47=\"Gastos de mercadeo\",'Diario contable'!H47,IF('Diario contable'!E47=\"Gastos de mercadeo\",'Diario contable'!H47,0))","v":"00:00:00"},null,null,{"$f":"+IF('Diario contable'!C47=\"Gastos de suministros de oficina\",'Diario contable'!F47,0)","v":0},null,null,null,{"$f":"+IF('Diario contable'!E47=\"Gastos de suministros de oficina\",'Diario contable'!F47,0)","v":0},{"$f":"IF('Diario contable'!C47=\"Gastos de suministros de oficina\",'Diario contable'!I47,IF('Diario contable'!E47=\"Gastos de suministros de oficina\",'Diario contable'!I47,0))","v":0},{"$f":"IF('Diario contable'!C47=\"Gastos de suministros de oficina\",'Diario contable'!H47,IF('Diario contable'!E47=\"Gastos de suministros de oficina\",'Diario contable'!H47,0))","v":"00:00:00"}]
[null,null,{"$f":"+IF('Diario contable'!C48=\"Caja\",'Diario contable'!F48,0)","v":0},null,null,null,{"$f":"+IF('Diario contable'!E48=\"Caja\",'Diario contable'!F48,0)","v":0},{"$f":"IF('Diario contable'!C48=\"Caja\",'Diario contable'!I48,IF('Diario contable'!E48=\"Caja\",'Diario contable'!I48,0))","v":0},{"$f":"IF('Diario contable'!C48=\"Caja\",'Diario contable'!H48,IF('Diario contable'!E48=\"Caja\",'Diario contable'!H48,0))","v":"00:00:00"},null,null,{"$f":"+IF('Diario contable'!C48=\"Maquinaria\",'Diario contable'!F48,0)","v":0},null,null,null,{"$f":"+IF('Diario contable'!E48=\"Maquinaria\",'Diario contable'!F48,0)","v":0},{"$f":"IF('Diario contable'!C48=\"Maquinaria\",'Diario contable'!I48,IF('Diario contable'!E48=\"Maquinaria\",'Diario contable'!I48,0))","v":0},{"$f":"IF('Diario contable'!C48=\"Maquinaria\",'Diario contable'!H48,IF('Diario contable'!E48=\"Maquinaria\",'Diario contable'!H48,0))","v":"00:00:00"},null,null,{"$f":"+IF('Diario contable'!C48=\"Herramientas\",'Diario contable'!F48,0)","v":0},null,null,null,{"$f":"+IF('Diario contable'!E48=\"Herramientas\",'Diario contable'!F48,0)","v":0},{"$f":"IF('Diario contable'!C48=\"Herramientas\",'Diario contable'!I48,IF('Diario contable'!E48=\"Herramientas\",'Diario contable'!I48,0))","v":0},{"$f":"IF('Diario contable'!C48=\"Herramientas\",'Diario contable'!H48,IF('Diario contable'!E48=\"Herramientas\",'Diario contable'!H48,0))","v":"00:00:00"},null,null,{"$f":"+IF('Diario contable'!C48=\"Donaciones\",'Diario contable'!F48,0)","v":0},null,null,null,{"$f":"+IF('Diario contable'!E48=\"Donaciones\",'Diario contable'!F48,0)","v":0},{"$f":"IF('Diario contable'!C48=\"Donaciones\",'Diario contable'!I48,IF('Diario contable'!E48=\"Donaciones\",'Diario contable'!I48,0))","v":0},{"$f":"IF('Diario contable'!C48=\"Donaciones\",'Diario contable'!H48,IF('Diario contable'!E48=\"Donaciones\",'Diario contable'!H48,0))","v":"00:00:00"},null,null,{"$f":"+IF('Diario contable'!C48=\"Inventario\",'Diario contable'!F48,0)","v":0},null,null,null,{"$f":"+IF('Diario contable'!E48=\"Inventario\",'Diario contable'!F48,0)","v":0},{"$f":"IF('Diario contable'!C48=\"Inventario\",'Diario contable'!I48,IF('Diario contable'!E48=\"Inventario\",'Diario contable'!I48,0))","v":0},{"$f":"IF('Diario contable'!C48=\"Inventario\",'Diario contable'!H48,IF('Diario contable'!E48=\"Inventario\",'Diario contable'!H48,0))","v":"00:00:00"},null,null,{"$f":"+IF('Diario contable'!C48=\"Costo de ventas\",'Diario contable'!F48,0)","v":0},null,null,null,{"$f":"+IF('Diario contable'!E48=\"Costo de ventas\",'Diario contable'!F48,0)","v":0},{"$f":"IF('Diario contable'!C48=\"Costo de ventas\",'Diario contable'!I48,IF('Diario contable'!E48=\"Costo de ventas\",'Diario contable'!I48,0))","v":0},{"$f":"IF('Diario contable'!C48=\"Costo de ventas\",'Diario contable'!H48,IF('Diario contable'!E48=\"Costo de ventas\",'Diario contable'!H48,0))","v":"00:00:00"},null,null,{"$f":"+IF('Diario contable'!C48=\"Ventas\",'Diario contable'!F48,0)","v":0},null,null,null,{"$f":"+IF('Diario contable'!E48=\"Ventas\",'Diario contable'!F48,0)","v":0},{"$f":"IF('Diario contable'!C48=\"Ventas\",'Diario contable'!I48,IF('Diario contable'!E48=\"Ventas\",'Diario contable'!I48,0))","v":0},{"$f":"IF('Diario contable'!C48=\"Ventas\",'Diario contable'!H48,IF('Diario contable'!E48=\"Ventas\",'Diario contable'!H48,0))","v":"00:00:00"},null,null,{"$f":"+IF('Diario contable'!C48=\"Gastos por salarios\",'Diario contable'!F48,0)","v":0},null,null,null,{"$f":"+IF('Diario contable'!E48=\"Gastos por salarios\",'Diario contable'!F48,0)","v":0},{"$f":"IF('Diario contable'!C48=\"Gastos por salarios\",'Diario contable'!I48,IF('Diario contable'!E48=\"Gastos por salarios\",'Diario contable'!I48,0))","v":0},{"$f":"IF('Diario contable'!C48=\"Gastos por salarios\",'Diario contable'!H48,IF('Diario contable'!E48=\"Gastos por salarios\",'Diario contable'!H48,0))","v":"00:00:00"},null,null,{"$f":"+IF('Diario contable'!C48=\"Gastos operacionales\",'Diario contable'!F48,0)","v":0},null,null,null,{"$f":"+IF('Diario contable'!E48=\"Gastos operacionales\",'Diario contable'!F48,0)","v":0},{"$f":"IF('Diario contable'!C48=\"Gastos operacionales\",'Diario contable'!I48,IF('Diario contable'!E48=\"Gastos operacionales\",'Diario contable'!I48,0))","v":0},{"$f":"IF('Diario contable'!C48=\"Gastos operacionales\",'Diario contable'!H48,IF('Diario contable'!E48=\"Gastos operacionales\",'Diario contable'!H48,0))","v":"00:00:00"},null,null,{"$f":"+IF('Diario contable'!C48=\"Suministros de oficina\",'Diario contable'!F48,0)","v":0},null,null,null,{"$f":"+IF('Diario contable'!E48=\"Suministros de oficina\",'Diario contable'!F48,0)","v":0},{"$f":"IF('Diario contable'!C48=\"Suministros de oficina\",'Diario contable'!I48,IF('Diario contable'!E48=\"Suministros de oficina\",'Diario contable'!I48,0))","v":0},{"$f":"IF('Diario contable'!C48=\"Suministros de oficina\",'Diario contable'!H48,IF('Diario contable'!E48=\"Suministros de oficina\",'Diario contable'!H48,0))","v":"00:00:00"},null,null,{"$f":"+IF('Diario contable'!C48=\"Capital social\",'Diario contable'!F48,0)","v":0},null,null,null,{"$f":"+IF('Diario contable'!E48=\"Capital social\",'Diario contable'!F48,0)","v":0},{"$f":"IF('Diario contable'!C48=\"Capital social\",'Diario contable'!I48,IF('Diario contable'!E48=\"Capital social\",'Diario contable'!I48,0))","v":0},{"$f":"IF('Diario contable'!C48=\"Capital social\",'Diario contable'!H48,IF('Diario contable'!E48=\"Capital social\",'Diario contable'!H48,0))","v":"00:00:00"},null,null,{"$f":"+IF('Diario contable'!C48=\"Gastos de mercadeo\",'Diario contable'!F48,0)","v":0},null,null,null,{"$f":"+IF('Diario contable'!E48=\"Gastos de mercadeo\",'Diario contable'!F48,0)","v":0},{"$f":"IF('Diario contable'!C48=\"Gastos de mercadeo\",'Diario contable'!I48,IF('Diario contable'!E48=\"Gastos de mercadeo\",'Diario contable'!I48,0))","v":0},{"$f":"IF('Diario contable'!C48=\"Gastos de mercadeo\",'Diario contable'!H48,IF('Diario contable'!E48=\"Gastos de mercadeo\",'Diario contable'!H48,0))","v":"00:00:00"},null,null,{"$f":"+IF('Diario contable'!C48=\"Gastos de suministros de oficina\",'Diario contable'!F48,0)","v":0},null,null,null,{"$f":"+IF('Diario contable'!E48=\"Gastos de suministros de oficina\",'Diario contable'!F48,0)","v":0},{"$f":"IF('Diario contable'!C48=\"Gastos de suministros de oficina\",'Diario contable'!I48,IF('Diario contable'!E48=\"Gastos de suministros de oficina\",'Diario contable'!I48,0))","v":0},{"$f":"IF('Diario contable'!C48=\"Gastos de suministros de oficina\",'Diario contable'!H48,IF('Diario contable'!E48=\"Gastos de suministros de oficina\",'Diario contable'!H48,0))","v":"00:00:00"}]
[null,null,{"$f":"+IF('Diario contable'!C49=\"Caja\",'Diario contable'!F49,0)","v":0},null,null,null,{"$f":"+IF('Diario contable'!E49=\"Caja\",'Diario contable'!F49,0)","v":0},{"$f":"IF('Diario contable'!C49=\"Caja\",'Diario contable'!I49,IF('Diario contable'!E49=\"Caja\",'Diario contable'!I49,0))","v":0},{"$f":"IF('Diario contable'!C49=\"Caja\",'Diario contable'!H49,IF('Diario contable'!E49=\"Caja\",'Diario contable'!H49,0))","v":"00:00:00"},null,null,{"$f":"+IF('Diario contable'!C49=\"Maquinaria\",'Diario contable'!F49,0)","v":0},null,null,null,{"$f":"+IF('Diario contable'!E49=\"Maquinaria\",'Diario contable'!F49,0)","v":0},{"$f":"IF('Diario contable'!C49=\"Maquinaria\",'Diario contable'!I49,IF('Diario contable'!E49=\"Maquinaria\",'Diario contable'!I49,0))","v":0},{"$f":"IF('Diario contable'!C49=\"Maquinaria\",'Diario contable'!H49,IF('Diario contable'!E49=\"Maquinaria\",'Diario contable'!H49,0))","v":"00:00:00"},null,null,{"$f":"+IF('Diario contable'!C49=\"Herramientas\",'Diario contable'!F49,0)","v":0},null,null,null,{"$f":"+IF('Diario contable'!E49=\"Herramientas\",'Diario contable'!F49,0)","v":0},{"$f":"IF('Diario contable'!C49=\"Herramientas\",'Diario contable'!I49,IF('Diario contable'!E49=\"Herramientas\",'Diario contable'!I49,0))","v":0},{"$f":"IF('Diario contable'!C49=\"Herramientas\",'Diario contable'!H49,IF('Diario contable'!E49=\"Herramientas\",'Diario contable'!H49,0))","v":"00:00:00"},null,null,{"$f":"+IF('Diario contable'!C49=\"Donaciones\",'Diario contable'!F49,0)","v":0},null,null,null,{"$f":"+IF('Diario contable'!E49=\"Donaciones\",'Diario contable'!F49,0)","v":0},{"$f":"IF('Diario contable'!C49=\"Donaciones\",'Diario contable'!I49,IF('Diario contable'!E49=\"Donaciones\",'Diario contable'!I49,0))","v":0},{"$f":"IF('Diario contable'!C49=\"Donaciones\",'Diario contable'!H49,IF('Diario contable'!E49=\"Donaciones\",'Diario contable'!H49,0))","v":"00:00:00"},null,null,{"$f":"+IF('Diario contable'!C49=\"Inventario\",'Diario contable'!F49,0)","v":0},null,null,null,{"$f":"+IF('Diario contable'!E49=\"Inventario\",'Diario contable'!F49,0)","v":0},{"$f":"IF('Diario contable'!C49=\"Inventario\",'Diario contable'!I49,IF('Diario contable'!E49=\"Inventario\",'Diario contable'!I49,0))","v":0},{"$f":"IF('Diario contable'!C49=\"Inventario\",'Diario contable'!H49,IF('Diario contable'!E49=\"Inventario\",'Diario contable'!H49,0))","v":"00:00:00"},null,null,{"$f":"+IF('Diario contable'!C49=\"Costo de ventas\",'Diario contable'!F49,0)","v":0},null,null,null,{"$f":"+IF('Diario contable'!E49=\"Costo de ventas\",'Diario contable'!F49,0)","v":0},{"$f":"IF('Diario contable'!C49=\"Costo de ventas\",'Diario contable'!I49,IF('Diario contable'!E49=\"Costo de ventas\",'Diario contable'!I49,0))","v":0},{"$f":"IF('Diario contable'!C49=\"Costo de ventas\",'Diario contable'!H49,IF('Diario contable'!E49=\"Costo de ventas\",'Diario contable'!H49,0))","v":"00:00:00"},null,null,{"$f":"+IF('Diario contable'!C49=\"Ventas\",'Diario contable'!F49,0)","v":0},null,null,null,{"$f":"+IF('Diario contable'!E49=\"Ventas\",'Diario contable'!F49,0)","v":0},{"$f":"IF('Diario contable'!C49=\"Ventas\",'Diario contable'!I49,IF('Diario contable'!E49=\"Ventas\",'Diario contable'!I49,0))","v":0},{"$f":"IF('Diario contable'!C49=\"Ventas\",'Diario contable'!H49,IF('Diario contable'!E49=\"Ventas\",'Diario contable'!H49,0))","v":"00:00:00"},null,null,{"$f":"+IF('Diario contable'!C49=\"Gastos por salarios\",'Diario contable'!F49,0)","v":0},null,null,null,{"$f":"+IF('Diario contable'!E49=\"Gastos por salarios\",'Diario contable'!F49,0)","v":0},{"$f":"IF('Diario contable'!C49=\"Gastos por salarios\",'Diario contable'!I49,IF('Diario contable'!E49=\"Gastos por salarios\",'Diario contable'!I49,0))","v":0},{"$f":"IF('Diario contable'!C49=\"Gastos por salarios\",'Diario contable'!H49,IF('Diario contable'!E49=\"Gastos por salarios\",'Diario contable'!H49,0))","v":"00:00:00"},null,null,{"$f":"+IF('Diario contable'!C49=\"Gastos operacionales\",'Diario contable'!F49,0)","v":0},null,null,null,{"$f":"+IF('Diario contable'!E49=\"Gastos operacionales\",'Diario contable'!F49,0)","v":0},{"$f":"IF('Diario contable'!C49=\"Gastos operacionales\",'Diario contable'!I49,IF('Diario contable'!E49=\"Gastos operacionales\",'Diario contable'!I49,0))","v":0},{"$f":"IF('Diario contable'!C49=\"Gastos operacionales\",'Diario contable'!H49,IF('Diario contable'!E49=\"Gastos operacionales\",'Diario contable'!H49,0))","v":"00:00:00"},null,null,{"$f":"+IF('Diario contable'!C49=\"Suministros de oficina\",'Diario contable'!F49,0)","v":0},null,null,null,{"$f":"+IF('Diario contable'!E49=\"Suministros de oficina\",'Diario contable'!F49,0)","v":0},{"$f":"IF('Diario contable'!C49=\"Suministros de oficina\",'Diario contable'!I49,IF('Diario contable'!E49=\"Suministros de oficina\",'Diario contable'!I49,0))","v":0},{"$f":"IF('Diario contable'!C49=\"Suministros de oficina\",'Diario contable'!H49,IF('Diario contable'!E49=\"Suministros de oficina\",'Diario contable'!H49,0))","v":"00:00:00"},null,null,{"$f":"+IF('Diario contable'!C49=\"Capital social\",'Diario contable'!F49,0)","v":0},null,null,null,{"$f":"+IF('Diario contable'!E49=\"Capital social\",'Diario contable'!F49,0)","v":0},{"$f":"IF('Diario contable'!C49=\"Capital social\",'Diario contable'!I49,IF('Diario contable'!E49=\"Capital social\",'Diario contable'!I49,0))","v":0},{"$f":"IF('Diario contable'!C49=\"Capital social\",'Diario contable'!H49,IF('Diario contable'!E49=\"Capital social\",'Diario contable'!H49,0))","v":"00:00:00"},null,null,{"$f":"+IF('Diario contable'!C49=\"Gastos de mercadeo\",'Diario contable'!F49,0)","v":0},null,null,null,{"$f":"+IF('Diario contable'!E49=\"Gastos de mercadeo\",'Diario contable'!F49,0)","v":0},{"$f":"IF('Diario contable'!C49=\"Gastos de mercadeo\",'Diario contable'!I49,IF('Diario contable'!E49=\"Gastos de mercadeo\",'Diario contable'!I49,0))","v":0},{"$f":"IF('Diario contable'!C49=\"Gastos de mercadeo\",'Diario contable'!H49,IF('Diario contable'!E49=\"Gastos de mercadeo\",'Diario contable'!H49,0))","v":"00:00:00"},null,null,{"$f":"+IF('Diario contable'!C49=\"Gastos de suministros de oficina\",'Diario contable'!F49,0)","v":0},null,null,null,{"$f":"+IF('Diario contable'!E49=\"Gastos de suministros de oficina\",'Diario contable'!F49,0)","v":0},{"$f":"IF('Diario contable'!C49=\"Gastos de suministros de oficina\",'Diario contable'!I49,IF('Diario contable'!E49=\"Gastos de suministros de oficina\",'Diario contable'!I49,0))","v":0},{"$f":"IF('Diario contable'!C49=\"Gastos de suministros de oficina\",'Diario contable'!H49,IF('Diario contable'!E49=\"Gastos de suministros de oficina\",'Diario contable'!H49,0))","v":"00:00:00"}]
[null,null,{"$f":"+IF('Diario contable'!C50=\"Caja\",'Diario contable'!F50,0)","v":0},null,null,null,{"$f":"+IF('Diario contable'!E50=\"Caja\",'Diario contable'!F50,0)","v":0},{"$f":"IF('Diario contable'!C50=\"Caja\",'Diario contable'!I50,IF('Diario contable'!E50=\"Caja\",'Diario contable'!I50,0))","v":0},{"$f":"IF('Diario contable'!C50=\"Caja\",'Diario contable'!H50,IF('Diario contable'!E50=\"Caja\",'Diario contable'!H50,0))","v":"00:00:00"},null,null,{"$f":"+IF('Diario contable'!C50=\"Maquinaria\",'Diario contable'!F50,0)","v":0},null,null,null,{"$f":"+IF('Diario contable'!E50=\"Maquinaria\",'Diario contable'!F50,0)","v":0},{"$f":"IF('Diario contable'!C50=\"Maquinaria\",'Diario contable'!I50,IF('Diario contable'!E50=\"Maquinaria\",'Diario contable'!I50,0))","v":0},{"$f":"IF('Diario contable'!C50=\"Maquinaria\",'Diario contable'!H50,IF('Diario contable'!E50=\"Maquinaria\",'Diario contable'!H50,0))","v":"00:00:00"},null,null,{"$f":"+IF('Diario contable'!C50=\"Herramientas\",'Diario contable'!F50,0)","v":0},null,null,null,{"$f":"+IF('Diario contable'!E50=\"Herramientas\",'Diario contable'!F50,0)","v":0},{"$f":"IF('Diario contable'!C50=\"Herramientas\",'Diario contable'!I50,IF('Diario contable'!E50=\"Herramientas\",'Diario contable'!I50,0))","v":0},{"$f":"IF('Diario contable'!C50=\"Herramientas\",'Diario contable'!H50,IF('Diario contable'!E50=\"Herramientas\",'Diario contable'!H50,0))","v":"00:00:00"},null,null,{"$f":"+IF('Diario contable'!C50=\"Donaciones\",'Diario contable'!F50,0)","v":0},null,null,null,{"$f":"+IF('Diario contable'!E50=\"Donaciones\",'Diario contable'!F50,0)","v":0},{"$f":"IF('Diario contable'!C50=\"Donaciones\",'Diario contable'!I50,IF('Diario contable'!E50=\"Donaciones\",'Diario contable'!I50,0))","v":0},{"$f":"IF('Diario contable'!C50=\"Donaciones\",'Diario contable'!H50,IF('Diario contable'!E50=\"Donaciones\",'Diario contable'!H50,0))","v":"00:00:00"},null,null,{"$f":"+IF('Diario contable'!C50=\"Inventario\",'Diario contable'!F50,0)","v":0},null,null,null,{"$f":"+IF('Diario contable'!E50=\"Inventario\",'Diario contable'!F50,0)","v":0},{"$f":"IF('Diario contable'!C50=\"Inventario\",'Diario contable'!I50,IF('Diario contable'!E50=\"Inventario\",'Diario contable'!I50,0))","v":0},{"$f":"IF('Diario contable'!C50=\"Inventario\",'Diario contable'!H50,IF('Diario contable'!E50=\"Inventario\",'Diario contable'!H50,0))","v":"00:00:00"},null,null,{"$f":"+IF('Diario contable'!C50=\"Costo de ventas\",'Diario contable'!F50,0)","v":0},null,null,null,{"$f":"+IF('Diario contable'!E50=\"Costo de ventas\",'Diario contable'!F50,0)","v":0},{"$f":"IF('Diario contable'!C50=\"Costo de ventas\",'Diario contable'!I50,IF('Diario contable'!E50=\"Costo de ventas\",'Diario contable'!I50,0))","v":0},{"$f":"IF('Diario contable'!C50=\"Costo de ventas\",'Diario contable'!H50,IF('Diario contable'!E50=\"Costo de ventas\",'Diario contable'!H50,0))","v":"00:00:00"},null,null,{"$f":"+IF('Diario contable'!C50=\"Ventas\",'Diario contable'!F50,0)","v":0},null,null,null,{"$f":"+IF('Diario contable'!E50=\"Ventas\",'Diario contable'!F50,0)","v":0},{"$f":"IF('Diario contable'!C50=\"Ventas\",'Diario contable'!I50,IF('Diario contable'!E50=\"Ventas\",'Diario contable'!I50,0))","v":0},{"$f":"IF('Diario contable'!C50=\"Ventas\",'Diario contable'!H50,IF('Diario contable'!E50=\"Ventas\",'Diario contable'!H50,0))","v":"00:00:00"},null,null,{"$f":"+IF('Diario contable'!C50=\"Gastos por salarios\",'Diario contable'!F50,0)","v":0},null,null,null,{"$f":"+IF('Diario contable'!E50=\"Gastos por salarios\",'Diario contable'!F50,0)","v":0},{"$f":"IF('Diario contable'!C50=\"Gastos por salarios\",'Diario contable'!I50,IF('Diario contable'!E50=\"Gastos por salarios\",'Diario contable'!I50,0))","v":0},{"$f":"IF('Diario contable'!C50=\"Gastos por salarios\",'Diario contable'!H50,IF('Diario contable'!E50=\"Gastos por salarios\",'Diario contable'!H50,0))","v":"00:00:00"},null,null,{"$f":"+IF('Diario contable'!C50=\"Gastos operacionales\",'Diario contable'!F50,0)","v":0},null,null,null,{"$f":"+IF('Diario contable'!E50=\"Gastos operacionales\",'Diario contable'!F50,0)","v":0},{"$f":"IF('Diario contable'!C50=\"Gastos operacionales\",'Diario contable'!I50,IF('Diario contable'!E50=\"Gastos operacionales\",'Diario contable'!I50,0))","v":0},{"$f":"IF('Diario contable'!C50=\"Gastos operacionales\",'Diario contable'!H50,IF('Diario contable'!E50=\"Gastos operacionales\",'Diario contable'!H50,0))","v":"00:00:00"},null,null,{"$f":"+IF('Diario contable'!C50=\"Suministros de oficina\",'Diario contable'!F50,0)","v":0},null,null,null,{"$f":"+IF('Diario contable'!E50=\"Suministros de oficina\",'Diario contable'!F50,0)","v":0},{"$f":"IF('Diario contable'!C50=\"Suministros de oficina\",'Diario contable'!I50,IF('Diario contable'!E50=\"Suministros de oficina\",'Diario contable'!I50,0))","v":0},{"$f":"IF('Diario contable'!C50=\"Suministros de oficina\",'Diario contable'!H50,IF('Diario contable'!E50=\"Suministros de oficina\",'Diario contable'!H50,0))","v":"00:00:00"},null,null,{"$f":"+IF('Diario contable'!C50=\"Capital social\",'Diario contable'!F50,0)","v":0},null,null,null,{"$f":"+IF('Diario contable'!E50=\"Capital social\",'Diario contable'!F50,0)","v":0},{"$f":"IF('Diario contable'!C50=\"Capital social\",'Diario contable'!I50,IF('Diario contable'!E50=\"Capital social\",'Diario contable'!I50,0))","v":0},{"$f":"IF('Diario contable'!C50=\"Capital social\",'Diario contable'!H50,IF('Diario contable'!E50=\"Capital social\",'Diario contable'!H50,0))","v":"00:00:00"},null,null,{"$f":"+IF('Diario contable'!C50=\"Gastos de mercadeo\",'Diario contable'!F50,0)","v":0},null,null,null,{"$f":"+IF('Diario contable'!E50=\"Gastos de mercadeo\",'Diario contable'!F50,0)","v":0},{"$f":"IF('Diario contable'!C50=\"Gastos de mercadeo\",'Diario contable'!I50,IF('Diario contable'!E50=\"Gastos de mercadeo\",'Diario contable'!I50,0))","v":0},{"$f":"IF('Diario contable'!C50=\"Gastos de mercadeo\",'Diario contable'!H50,IF('Diario contable'!E50=\"Gastos de mercadeo\",'Diario contable'!H50,0))","v":"00:00:00"},null,null,{"$f":"+IF('Diario contable'!C50=\"Gastos de suministros de oficina\",'Diario contable'!F50,0)","v":0},null,null,null,{"$f":"+IF('Diario contable'!E50=\"Gastos de suministros de oficina\",'Diario contable'!F50,0)","v":0},{"$f":"IF('Diario contable'!C50=\"Gastos de suministros de oficina\",'Diario contable'!I50,IF('Diario contable'!E50=\"Gastos de suministros de oficina\",'Diario contable'!I50,0))","v":0},{"$f":"IF('Diario contable'!C50=\"Gastos de suministros de oficina\",'Diario contable'!H50,IF('Diario contable'!E50=\"Gastos de suministros de oficina\",'Diario contable'!H50,0))","v":"00:00:00"}]
[null,null,{"$f":"+IF('Diario contable'!C51=\"Caja\",'Diario contable'!F51,0)","v":0},null,null,null,{"$f":"+IF('Diario contable'!E51=\"Caja\",'Diario contable'!F51,0)","v":0},{"$f":"IF('Diario contable'!C51=\"Caja\",'Diario contable'!I51,IF('Diario contable'!E51=\"Caja\",'Diario contable'!I51,0))","v":0},{"$f":"IF('Diario contable'!C51=\"Caja\",'Diario contable'!H51,IF('Diario contable'!E51=\"Caja\",'Diario contable'!H51,0))","v":"00:00:00"},null,null,{"$f":"+IF('Diario contable'!C51=\"Maquinaria\",'Diario contable'!F51,0)","v":0},null,null,null,{"$f":"+IF('Diario contable'!E51=\"Maquinaria\",'Diario contable'!F51,0)","v":0},{"$f":"IF('Diario contable'!C51=\"Maquinaria\",'Diario contable'!I51,IF('Diario contable'!E51=\"Maquinaria\",'Diario contable'!I51,0))","v":0},{"$f":"IF('Diario contable'!C51=\"Maquinaria\",'Diario contable'!H51,IF('Diario contable'!E51=\"Maquinaria\",'Diario contable'!H51,0))","v":"00:00:00"},null,null,{"$f":"+IF('Diario contable'!C51=\"Herramientas\",'Diario contable'!F51,0)","v":0},null,null,null,{"$f":"+IF('Diario contable'!E51=\"Herramientas\",'Diario contable'!F51,0)","v":0},{"$f":"IF('Diario contable'!C51=\"Herramientas\",'Diario contable'!I51,IF('Diario contable'!E51=\"Herramientas\",'Diario contable'!I51,0))","v":0},{"$f":"IF('Diario contable'!C51=\"Herramientas\",'Diario contable'!H51,IF('Diario contable'!E51=\"Herramientas\",'Diario contable'!H51,0))","v":"00:00:00"},null,null,{"$f":"+IF('Diario contable'!C51=\"Donaciones\",'Diario contable'!F51,0)","v":0},null,null,null,{"$f":"+IF('Diario contable'!E51=\"Donaciones\",'Diario contable'!F51,0)","v":0},{"$f":"IF('Diario contable'!C51=\"Donaciones\",'Diario contable'!I51,IF('Diario contable'!E51=\"Donaciones\",'Diario contable'!I51,0))","v":0},{"$f":"IF('Diario contable'!C51=\"Donaciones\",'Diario contable'!H51,IF('Diario contable'!E51=\"Donaciones\",'Diario contable'!H51,0))","v":"00:00:00"},null,null,{"$f":"+IF('Diario contable'!C51=\"Inventario\",'Diario contable'!F51,0)","v":0},null,null,null,{"$f":"+IF('Diario contable'!E51=\"Inventario\",'Diario contable'!F51,0)","v":0},{"$f":"IF('Diario contable'!C51=\"Inventario\",'Diario contable'!I51,IF('Diario contable'!E51=\"Inventario\",'Diario contable'!I51,0))","v":0},{"$f":"IF('Diario contable'!C51=\"Inventario\",'Diario contable'!H51,IF('Diario contable'!E51=\"Inventario\",'Diario contable'!H51,0))","v":"00:00:00"},null,null,{"$f":"+IF('Diario contable'!C51=\"Costo de ventas\",'Diario contable'!F51,0)","v":0},null,null,null,{"$f":"+IF('Diario contable'!E51=\"Costo de ventas\",'Diario contable'!F51,0)","v":0},{"$f":"IF('Diario contable'!C51=\"Costo de ventas\",'Diario contable'!I51,IF('Diario contable'!E51=\"Costo de ventas\",'Diario contable'!I51,0))","v":0},{"$f":"IF('Diario contable'!C51=\"Costo de ventas\",'Diario contable'!H51,IF('Diario contable'!E51=\"Costo de ventas\",'Diario contable'!H51,0))","v":"00:00:00"},null,null,{"$f":"+IF('Diario contable'!C51=\"Ventas\",'Diario contable'!F51,0)","v":0},null,null,null,{"$f":"+IF('Diario contable'!E51=\"Ventas\",'Diario contable'!F51,0)","v":0},{"$f":"IF('Diario contable'!C51=\"Ventas\",'Diario contable'!I51,IF('Diario contable'!E51=\"Ventas\",'Diario contable'!I51,0))","v":0},{"$f":"IF('Diario contable'!C51=\"Ventas\",'Diario contable'!H51,IF('Diario contable'!E51=\"Ventas\",'Diario contable'!H51,0))","v":"00:00:00"},null,null,{"$f":"+IF('Diario contable'!C51=\"Gastos por salarios\",'Diario contable'!F51,0)","v":0},null,null,null,{"$f":"+IF('Diario contable'!E51=\"Gastos por salarios\",'Diario contable'!F51,0)","v":0},{"$f":"IF('Diario contable'!C51=\"Gastos por salarios\",'Diario contable'!I51,IF('Diario contable'!E51=\"Gastos por salarios\",'Diario contable'!I51,0))","v":0},{"$f":"IF('Diario contable'!C51=\"Gastos por salarios\",'Diario contable'!H51,IF('Diario contable'!E51=\"Gastos por salarios\",'Diario contable'!H51,0))","v":"00:00:00"},null,null,{"$f":"+IF('Diario contable'!C51=\"Gastos operacionales\",'Diario contable'!F51,0)","v":0},null,null,null,{"$f":"+IF('Diario contable'!E51=\"Gastos operacionales\",'Diario contable'!F51,0)","v":0},{"$f":"IF('Diario contable'!C51=\"Gastos operacionales\",'Diario contable'!I51,IF('Diario contable'!E51=\"Gastos operacionales\",'Diario contable'!I51,0))","v":0},{"$f":"IF('Diario contable'!C51=\"Gastos operacionales\",'Diario contable'!H51,IF('Diario contable'!E51=\"Gastos operacionales\",'Diario contable'!H51,0))","v":"00:00:00"},null,null,{"$f":"+IF('Diario contable'!C51=\"Suministros de oficina\",'Diario contable'!F51,0)","v":0},null,null,null,{"$f":"+IF('Diario contable'!E51=\"Suministros de oficina\",'Diario contable'!F51,0)","v":0},{"$f":"IF('Diario contable'!C51=\"Suministros de oficina\",'Diario contable'!I51,IF('Diario contable'!E51=\"Suministros de oficina\",'Diario contable'!I51,0))","v":0},{"$f":"IF('Diario contable'!C51=\"Suministros de oficina\",'Diario contable'!H51,IF('Diario contable'!E51=\"Suministros de oficina\",'Diario contable'!H51,0))","v":"00:00:00"},null,null,{"$f":"+IF('Diario contable'!C51=\"Capital social\",'Diario contable'!F51,0)","v":0},null,null,null,{"$f":"+IF('Diario contable'!E51=\"Capital social\",'Diario contable'!F51,0)","v":0},{"$f":"IF('Diario contable'!C51=\"Capital social\",'Diario contable'!I51,IF('Diario contable'!E51=\"Capital social\",'Diario contable'!I51,0))","v":0},{"$f":"IF('Diario contable'!C51=\"Capital social\",'Diario contable'!H51,IF('Diario contable'!E51=\"Capital social\",'Diario contable'!H51,0))","v":"00:00:00"},null,null,{"$f":"+IF('Diario contable'!C51=\"Gastos de mercadeo\",'Diario contable'!F51,0)","v":0},null,null,null,{"$f":"+IF('Diario contable'!E51=\"Gastos de mercadeo\",'Diario contable'!F51,0)","v":0},{"$f":"IF('Diario contable'!C51=\"Gastos de mercadeo\",'Diario contable'!I51,IF('Diario contable'!E51=\"Gastos de mercadeo\",'Diario contable'!I51,0))","v":0},{"$f":"IF('Diario contable'!C51=\"Gastos de mercadeo\",'Diario contable'!H51,IF('Diario contable'!E51=\"Gastos de mercadeo\",'Diario contable'!H51,0))","v":"00:00:00"},null,null,{"$f":"+IF('Diario contable'!C51=\"Gastos de suministros de oficina\",'Diario contable'!F51,0)","v":0},null,null,null,{"$f":"+IF('Diario contable'!E51=\"Gastos de suministros de oficina\",'Diario contable'!F51,0)","v":0},{"$f":"IF('Diario contable'!C51=\"Gastos de suministros de oficina\",'Diario contable'!I51,IF('Diario contable'!E51=\"Gastos de suministros de oficina\",'Diario contable'!I51,0))","v":0},{"$f":"IF('Diario contable'!C51=\"Gastos de suministros de oficina\",'Diario contable'!H51,IF('Diario contable'!E51=\"Gastos de suministros de oficina\",'Diario contable'!H51,0))","v":"00:00:00"}]
[null,null,{"$f":"+IF('Diario contable'!C52=\"Caja\",'Diario contable'!F52,0)","v":0},null,null,null,{"$f":"+IF('Diario contable'!E52=\"Caja\",'Diario contable'!F52,0)","v":0},{"$f":"IF('Diario contable'!C52=\"Caja\",'Diario contable'!I52,IF('Diario contable'!E52=\"Caja\",'Diario contable'!I52,0))","v":0},{"$f":"IF('Diario contable'!C52=\"Caja\",'Diario contable'!H52,IF('Diario contable'!E52=\"Caja\",'Diario contable'!H52,0))","v":"00:00:00"},null,null,{"$f":"+IF('Diario contable'!C52=\"Maquinaria\",'Diario contable'!F52,0)","v":0},null,null,null,{"$f":"+IF('Diario contable'!E52=\"Maquinaria\",'Diario contable'!F52,0)","v":0},{"$f":"IF('Diario contable'!C52=\"Maquinaria\",'Diario contable'!I52,IF('Diario contable'!E52=\"Maquinaria\",'Diario contable'!I52,0))","v":0},{"$f":"IF('Diario contable'!C52=\"Maquinaria\",'Diario contable'!H52,IF('Diario contable'!E52=\"Maquinaria\",'Diario contable'!H52,0))","v":"00:00:00"},null,null,{"$f":"+IF('Diario contable'!C52=\"Herramientas\",'Diario contable'!F52,0)","v":0},null,null,null,{"$f":"+IF('Diario contable'!E52=\"Herramientas\",'Diario contable'!F52,0)","v":0},{"$f":"IF('Diario contable'!C52=\"Herramientas\",'Diario contable'!I52,IF('Diario contable'!E52=\"Herramientas\",'Diario contable'!I52,0))","v":0},{"$f":"IF('Diario contable'!C52=\"Herramientas\",'Diario contable'!H52,IF('Diario contable'!E52=\"Herramientas\",'Diario contable'!H52,0))","v":"00:00:00"},null,null,{"$f":"+IF('Diario contable'!C52=\"Donaciones\",'Diario contable'!F52,0)","v":0},null,null,null,{"$f":"+IF('Diario contable'!E52=\"Donaciones\",'Diario contable'!F52,0)","v":0},{"$f":"IF('Diario contable'!C52=\"Donaciones\",'Diario contable'!I52,IF('Diario contable'!E52=\"Donaciones\",'Diario contable'!I52,0))","v":0},{"$f":"IF('Diario contable'!C52=\"Donaciones\",'Diario contable'!H52,IF('Diario contable'!E52=\"Donaciones\",'Diario contable'!H52,0))","v":"00:00:00"},null,null,{"$f":"+IF('Diario contable'!C52=\"Inventario\",'Diario contable'!F52,0)","v":0},null,null,null,{"$f":"+IF('Diario contable'!E52=\"Inventario\",'Diario contable'!F52,0)","v":0},{"$f":"IF('Diario contable'!C52=\"Inventario\",'Diario contable'!I52,IF('Diario contable'!E52=\"Inventario\",'Diario contable'!I52,0))","v":0},{"$f":"IF('Diario contable'!C52=\"Inventario\",'Diario contable'!H52,IF('Diario contable'!E52=\"Inventario\",'Diario contable'!H52,0))","v":"00:00:00"},null,null,{"$f":"+IF('Diario contable'!C52=\"Costo de ventas\",'Diario contable'!F52,0)","v":0},null,null,null,{"$f":"+IF('Diario contable'!E52=\"Costo de ventas\",'Diario contable'!F52,0)","v":0},{"$f":"IF('Diario contable'!C52=\"Costo de ventas\",'Diario contable'!I52,IF('Diario contable'!E52=\"Costo de ventas\",'Diario contable'!I52,0))","v":0},{"$f":"IF('Diario contable'!C52=\"Costo de ventas\",'Diario contable'!H52,IF('Diario contable'!E52=\"Costo de ventas\",'Diario contable'!H52,0))","v":"00:00:00"},null,null,{"$f":"+IF('Diario contable'!C52=\"Ventas\",'Diario contable'!F52,0)","v":0},null,null,null,{"$f":"+IF('Diario contable'!E52=\"Ventas\",'Diario contable'!F52,0)","v":0},{"$f":"IF('Diario contable'!C52=\"Ventas\",'Diario contable'!I52,IF('Diario contable'!E52=\"Ventas\",'Diario contable'!I52,0))","v":0},{"$f":"IF('Diario contable'!C52=\"Ventas\",'Diario contable'!H52,IF('Diario contable'!E52=\"Ventas\",'Diario contable'!H52,0))","v":"00:00:00"},null,null,{"$f":"+IF('Diario contable'!C52=\"Gastos por salarios\",'Diario contable'!F52,0)","v":0},null,null,null,{"$f":"+IF('Diario contable'!E52=\"Gastos por salarios\",'Diario contable'!F52,0)","v":0},{"$f":"IF('Diario contable'!C52=\"Gastos por salarios\",'Diario contable'!I52,IF('Diario contable'!E52=\"Gastos por salarios\",'Diario contable'!I52,0))","v":0},{"$f":"IF('Diario contable'!C52=\"Gastos por salarios\",'Diario contable'!H52,IF('Diario contable'!E52=\"Gastos por salarios\",'Diario contable'!H52,0))","v":"00:00:00"},null,null,{"$f":"+IF('Diario contable'!C52=\"Gastos operacionales\",'Diario contable'!F52,0)","v":0},null,null,null,{"$f":"+IF('Diario contable'!E52=\"Gastos operacionales\",'Diario contable'!F52,0)","v":0},{"$f":"IF('Diario contable'!C52=\"Gastos operacionales\",'Diario contable'!I52,IF('Diario contable'!E52=\"Gastos operacionales\",'Diario contable'!I52,0))","v":0},{"$f":"IF('Diario contable'!C52=\"Gastos operacionales\",'Diario contable'!H52,IF('Diario contable'!E52=\"Gastos operacionales\",'Diario contable'!H52,0))","v":"00:00:00"},null,null,{"$f":"+IF('Diario contable'!C52=\"Suministros de oficina\",'Diario contable'!F52,0)","v":0},null,null,null,{"$f":"+IF('Diario contable'!E52=\"Suministros de oficina\",'Diario contable'!F52,0)","v":0},{"$f":"IF('Diario contable'!C52=\"Suministros de oficina\",'Diario contable'!I52,IF('Diario contable'!E52=\"Suministros de oficina\",'Diario contable'!I52,0))","v":0},{"$f":"IF('Diario contable'!C52=\"Suministros de oficina\",'Diario contable'!H52,IF('Diario contable'!E52=\"Suministros de oficina\",'Diario contable'!H52,0))","v":"00:00:00"},null,null,{"$f":"+IF('Diario contable'!C52=\"Capital social\",'Diario contable'!F52,0)","v":0},null,null,null,{"$f":"+IF('Diario contable'!E52=\"Capital social\",'Diario contable'!F52,0)","v":0},{"$f":"IF('Diario contable'!C52=\"Capital social\",'Diario contable'!I52,IF('Diario contable'!E52=\"Capital social\",'Diario contable'!I52,0))","v":0},{"$f":"IF('Diario contable'!C52=\"Capital social\",'Diario contable'!H52,IF('Diario contable'!E52=\"Capital social\",'Diario contable'!H52,0))","v":"00:00:00"},null,null,{"$f":"+IF('Diario contable'!C52=\"Gastos de mercadeo\",'Diario contable'!F52,0)","v":0},null,null,null,{"$f":"+IF('Diario contable'!E52=\"Gastos de mercadeo\",'Diario contable'!F52,0)","v":0},{"$f":"IF('Diario contable'!C52=\"Gastos de mercadeo\",'Diario contable'!I52,IF('Diario contable'!E52=\"Gastos de mercadeo\",'Diario contable'!I52,0))","v":0},{"$f":"IF('Diario contable'!C52=\"Gastos de mercadeo\",'Diario contable'!H52,IF('Diario contable'!E52=\"Gastos de mercadeo\",'Diario contable'!H52,0))","v":"00:00:00"},null,null,{"$f":"+IF('Diario contable'!C52=\"Gastos de suministros de oficina\",'Diario contable'!F52,0)","v":0},null,null,null,{"$f":"+IF('Diario contable'!E52=\"Gastos de suministros de oficina\",'Diario contable'!F52,0)","v":0},{"$f":"IF('Diario contable'!C52=\"Gastos de suministros de oficina\",'Diario contable'!I52,IF('Diario contable'!E52=\"Gastos de suministros de oficina\",'Diario contable'!I52,0))","v":0},{"$f":"IF('Diario contable'!C52=\"Gastos de suministros de oficina\",'Diario contable'!H52,IF('Diario contable'!E52=\"Gastos de suministros de oficina\",'Diario contable'!H52,0))","v":"00:00:00"}]
[null,null,{"$f":"+IF('Diario contable'!C53=\"Caja\",'Diario contable'!F53,0)","v":0},null,null,null,{"$f":"+IF('Diario contable'!E53=\"Caja\",'Diario contable'!F53,0)","v":0},{"$f":"IF('Diario contable'!C53=\"Caja\",'Diario contable'!I53,IF('Diario contable'!E53=\"Caja\",'Diario contable'!I53,0))","v":0},{"$f":"IF('Diario contable'!C53=\"Caja\",'Diario contable'!H53,IF('Diario contable'!E53=\"Caja\",'Diario contable'!H53,0))","v":"00:00:00"},null,null,{"$f":"+IF('Diario contable'!C53=\"Maquinaria\",'Diario contable'!F53,0)","v":0},null,null,null,{"$f":"+IF('Diario contable'!E53=\"Maquinaria\",'Diario contable'!F53,0)","v":0},{"$f":"IF('Diario contable'!C53=\"Maquinaria\",'Diario contable'!I53,IF('Diario contable'!E53=\"Maquinaria\",'Diario contable'!I53,0))","v":0},{"$f":"IF('Diario contable'!C53=\"Maquinaria\",'Diario contable'!H53,IF('Diario contable'!E53=\"Maquinaria\",'Diario contable'!H53,0))","v":"00:00:00"},null,null,{"$f":"+IF('Diario contable'!C53=\"Herramientas\",'Diario contable'!F53,0)","v":0},null,null,null,{"$f":"+IF('Diario contable'!E53=\"Herramientas\",'Diario contable'!F53,0)","v":0},{"$f":"IF('Diario contable'!C53=\"Herramientas\",'Diario contable'!I53,IF('Diario contable'!E53=\"Herramientas\",'Diario contable'!I53,0))","v":0},{"$f":"IF('Diario contable'!C53=\"Herramientas\",'Diario contable'!H53,IF('Diario contable'!E53=\"Herramientas\",'Diario contable'!H53,0))","v":"00:00:00"},null,null,{"$f":"+IF('Diario contable'!C53=\"Donaciones\",'Diario contable'!F53,0)","v":0},null,null,null,{"$f":"+IF('Diario contable'!E53=\"Donaciones\",'Diario contable'!F53,0)","v":0},{"$f":"IF('Diario contable'!C53=\"Donaciones\",'Diario contable'!I53,IF('Diario contable'!E53=\"Donaciones\",'Diario contable'!I53,0))","v":0},{"$f":"IF('Diario contable'!C53=\"Donaciones\",'Diario contable'!H53,IF('Diario contable'!E53=\"Donaciones\",'Diario contable'!H53,0))","v":"00:00:00"},null,null,{"$f":"+IF('Diario contable'!C53=\"Inventario\",'Diario contable'!F53,0)","v":0},null,null,null,{"$f":"+IF('Diario contable'!E53=\"Inventario\",'Diario contable'!F53,0)","v":0},{"$f":"IF('Diario contable'!C53=\"Inventario\",'Diario contable'!I53,IF('Diario contable'!E53=\"Inventario\",'Diario contable'!I53,0))","v":0},{"$f":"IF('Diario contable'!C53=\"Inventario\",'Diario contable'!H53,IF('Diario contable'!E53=\"Inventario\",'Diario contable'!H53,0))","v":"00:00:00"},null,null,{"$f":"+IF('Diario contable'!C53=\"Costo de ventas\",'Diario contable'!F53,0)","v":0},null,null,null,{"$f":"+IF('Diario contable'!E53=\"Costo de ventas\",'Diario contable'!F53,0)","v":0},{"$f":"IF('Diario contable'!C53=\"Costo de ventas\",'Diario contable'!I53,IF('Diario contable'!E53=\"Costo de ventas\",'Diario contable'!I53,0))","v":0},{"$f":"IF('Diario contable'!C53=\"Costo de ventas\",'Diario contable'!H53,IF('Diario contable'!E53=\"Costo de ventas\",'Diario contable'!H53,0))","v":"00:00:00"},null,null,{"$f":"+IF('Diario contable'!C53=\"Ventas\",'Diario contable'!F53,0)","v":0},null,null,null,{"$f":"+IF('Diario contable'!E53=\"Ventas\",'Diario contable'!F53,0)","v":0},{"$f":"IF('Diario contable'!C53=\"Ventas\",'Diario contable'!I53,IF('Diario contable'!E53=\"Ventas\",'Diario contable'!I53,0))","v":0},{"$f":"IF('Diario contable'!C53=\"Ventas\",'Diario contable'!H53,IF('Diario contable'!E53=\"Ventas\",'Diario contable'!H53,0))","v":"00:00:00"},null,null,{"$f":"+IF('Diario contable'!C53=\"Gastos por salarios\",'Diario contable'!F53,0)","v":0},null,null,null,{"$f":"+IF('Diario contable'!E53=\"Gastos por salarios\",'Diario contable'!F53,0)","v":0},{"$f":"IF('Diario contable'!C53=\"Gastos por salarios\",'Diario contable'!I53,IF('Diario contable'!E53=\"Gastos por salarios\",'Diario contable'!I53,0))","v":0},{"$f":"IF('Diario contable'!C53=\"Gastos por salarios\",'Diario contable'!H53,IF('Diario contable'!E53=\"Gastos por salarios\",'Diario contable'!H53,0))","v":"00:00:00"},null,null,{"$f":"+IF('Diario contable'!C53=\"Gastos operacionales\",'Diario contable'!F53,0)","v":0},null,null,null,{"$f":"+IF('Diario contable'!E53=\"Gastos operacionales\",'Diario contable'!F53,0)","v":0},{"$f":"IF('Diario contable'!C53=\"Gastos operacionales\",'Diario contable'!I53,IF('Diario contable'!E53=\"Gastos operacionales\",'Diario contable'!I53,0))","v":0},{"$f":"IF('Diario contable'!C53=\"Gastos operacionales\",'Diario contable'!H53,IF('Diario contable'!E53=\"Gastos operacionales\",'Diario contable'!H53,0))","v":"00:00:00"},null,null,{"$f":"+IF('Diario contable'!C53=\"Suministros de oficina\",'Diario contable'!F53,0)","v":0},null,null,null,{"$f":"+IF('Diario contable'!E53=\"Suministros de oficina\",'Diario contable'!F53,0)","v":0},{"$f":"IF('Diario contable'!C53=\"Suministros de oficina\",'Diario contable'!I53,IF('Diario contable'!E53=\"Suministros de oficina\",'Diario contable'!I53,0))","v":0},{"$f":"IF('Diario contable'!C53=\"Suministros de oficina\",'Diario contable'!H53,IF('Diario contable'!E53=\"Suministros de oficina\",'Diario contable'!H53,0))","v":"00:00:00"},null,null,{"$f":"+IF('Diario contable'!C53=\"Capital social\",'Diario contable'!F53,0)","v":0},null,null,null,{"$f":"+IF('Diario contable'!E53=\"Capital social\",'Diario contable'!F53,0)","v":0},{"$f":"IF('Diario contable'!C53=\"Capital social\",'Diario contable'!I53,IF('Diario contable'!E53=\"Capital social\",'Diario contable'!I53,0))","v":0},{"$f":"IF('Diario contable'!C53=\"Capital social\",'Diario contable'!H53,IF('Diario contable'!E53=\"Capital social\",'Diario contable'!H53,0))","v":"00:00:00"},null,null,{"$f":"+IF('Diario contable'!C53=\"Gastos de mercadeo\",'Diario contable'!F53,0)","v":0},null,null,null,{"$f":"+IF('Diario contable'!E53=\"Gastos de mercadeo\",'Diario contable'!F53,0)","v":0},{"$f":"IF('Diario contable'!C53=\"Gastos de mercadeo\",'Diario contable'!I53,IF('Diario contable'!E53=\"Gastos de mercadeo\",'Diario contable'!I53,0))","v":0},{"$f":"IF('Diario contable'!C53=\"Gastos de mercadeo\",'Diario contable'!H53,IF('Diario contable'!E53=\"Gastos de mercadeo\",'Diario contable'!H53,0))","v":"00:00:00"},null,null,{"$f":"+IF('Diario contable'!C53=\"Gastos de suministros de oficina\",'Diario contable'!F53,0)","v":0},null,null,null,{"$f":"+IF('Diario contable'!E53=\"Gastos de suministros de oficina\",'Diario contable'!F53,0)","v":0},{"$f":"IF('Diario contable'!C53=\"Gastos de suministros de oficina\",'Diario contable'!I53,IF('Diario contable'!E53=\"Gastos de suministros de oficina\",'Diario contable'!I53,0))","v":0},{"$f":"IF('Diario contable'!C53=\"Gastos de suministros de oficina\",'Diario contable'!H53,IF('Diario contable'!E53=\"Gastos de suministros de oficina\",'Diario contable'!H53,0))","v":"00:00:00"}]
[null,null,{"$f":"+IF('Diario contable'!C54=\"Caja\",'Diario contable'!F54,0)","v":0},null,null,null,{"$f":"+IF('Diario contable'!E54=\"Caja\",'Diario contable'!F54,0)","v":0},{"$f":"IF('Diario contable'!C54=\"Caja\",'Diario contable'!I54,IF('Diario contable'!E54=\"Caja\",'Diario contable'!I54,0))","v":0},{"$f":"IF('Diario contable'!C54=\"Caja\",'Diario contable'!H54,IF('Diario contable'!E54=\"Caja\",'Diario contable'!H54,0))","v":"00:00:00"},null,null,{"$f":"+IF('Diario contable'!C54=\"Maquinaria\",'Diario contable'!F54,0)","v":0},null,null,null,{"$f":"+IF('Diario contable'!E54=\"Maquinaria\",'Diario contable'!F54,0)","v":0},{"$f":"IF('Diario contable'!C54=\"Maquinaria\",'Diario contable'!I54,IF('Diario contable'!E54=\"Maquinaria\",'Diario contable'!I54,0))","v":0},{"$f":"IF('Diario contable'!C54=\"Maquinaria\",'Diario contable'!H54,IF('Diario contable'!E54=\"Maquinaria\",'Diario contable'!H54,0))","v":"00:00:00"},null,null,{"$f":"+IF('Diario contable'!C54=\"Herramientas\",'Diario contable'!F54,0)","v":0},null,null,null,{"$f":"+IF('Diario contable'!E54=\"Herramientas\",'Diario contable'!F54,0)","v":0},{"$f":"IF('Diario contable'!C54=\"Herramientas\",'Diario contable'!I54,IF('Diario contable'!E54=\"Herramientas\",'Diario contable'!I54,0))","v":0},{"$f":"IF('Diario contable'!C54=\"Herramientas\",'Diario contable'!H54,IF('Diario contable'!E54=\"Herramientas\",'Diario contable'!H54,0))","v":"00:00:00"},null,null,{"$f":"+IF('Diario contable'!C54=\"Donaciones\",'Diario contable'!F54,0)","v":0},null,null,null,{"$f":"+IF('Diario contable'!E54=\"Donaciones\",'Diario contable'!F54,0)","v":0},{"$f":"IF('Diario contable'!C54=\"Donaciones\",'Diario contable'!I54,IF('Diario contable'!E54=\"Donaciones\",'Diario contable'!I54,0))","v":0},{"$f":"IF('Diario contable'!C54=\"Donaciones\",'Diario contable'!H54,IF('Diario contable'!E54=\"Donaciones\",'Diario contable'!H54,0))","v":"00:00:00"},null,null,{"$f":"+IF('Diario contable'!C54=\"Inventario\",'Diario contable'!F54,0)","v":0},null,null,null,{"$f":"+IF('Diario contable'!E54=\"Inventario\",'Diario contable'!F54,0)","v":0},{"$f":"IF('Diario contable'!C54=\"Inventario\",'Diario contable'!I54,IF('Diario contable'!E54=\"Inventario\",'Diario contable'!I54,0))","v":0},{"$f":"IF('Diario contable'!C54=\"Inventario\",'Diario contable'!H54,IF('Diario contable'!E54=\"Inventario\",'Diario contable'!H54,0))","v":"00:00:00"},null,null,{"$f":"+IF('Diario contable'!C54=\"Costo de ventas\",'Diario contable'!F54,0)","v":0},null,null,null,{"$f":"+IF('Diario contable'!E54=\"Costo de ventas\",'Diario contable'!F54,0)","v":0},{"$f":"IF('Diario contable'!C54=\"Costo de ventas\",'Diario contable'!I54,IF('Diario contable'!E54=\"Costo de ventas\",'Diario contable'!I54,0))","v":0},{"$f":"IF('Diario contable'!C54=\"Costo de ventas\",'Diario contable'!H54,IF('Diario contable'!E54=\"Costo de ventas\",'Diario contable'!H54,0))","v":"00:00:00"},null,null,{"$f":"+IF('Diario contable'!C54=\"Ventas\",'Diario contable'!F54,0)","v":0},null,null,null,{"$f":"+IF('Diario contable'!E54=\"Ventas\",'Diario contable'!F54,0)","v":0},{"$f":"IF('Diario contable'!C54=\"Ventas\",'Diario contable'!I54,IF('Diario contable'!E54=\"Ventas\",'Diario contable'!I54,0))","v":0},{"$f":"IF('Diario contable'!C54=\"Ventas\",'Diario contable'!H54,IF('Diario contable'!E54=\"Ventas\",'Diario contable'!H54,0))","v":"00:00:00"},null,null,{"$f":"+IF('Diario contable'!C54=\"Gastos por salarios\",'Diario contable'!F54,0)","v":0},null,null,null,{"$f":"+IF('Diario contable'!E54=\"Gastos por salarios\",'Diario contable'!F54,0)","v":0},{"$f":"IF('Diario contable'!C54=\"Gastos por salarios\",'Diario contable'!I54,IF('Diario contable'!E54=\"Gastos por salarios\",'Diario contable'!I54,0))","v":0},{"$f":"IF('Diario contable'!C54=\"Gastos por salarios\",'Diario contable'!H54,IF('Diario contable'!E54=\"Gastos por salarios\",'Diario contable'!H54,0))","v":"00:00:00"},null,null,{"$f":"+IF('Diario contable'!C54=\"Gastos operacionales\",'Diario contable'!F54,0)","v":0},null,null,null,{"$f":"+IF('Diario contable'!E54=\"Gastos operacionales\",'Diario contable'!F54,0)","v":0},{"$f":"IF('Diario contable'!C54=\"Gastos operacionales\",'Diario contable'!I54,IF('Diario contable'!E54=\"Gastos operacionales\",'Diario contable'!I54,0))","v":0},{"$f":"IF('Diario contable'!C54=\"Gastos operacionales\",'Diario contable'!H54,IF('Diario contable'!E54=\"Gastos operacionales\",'Diario contable'!H54,0))","v":"00:00:00"},null,null,{"$f":"+IF('Diario contable'!C54=\"Suministros de oficina\",'Diario contable'!F54,0)","v":0},null,null,null,{"$f":"+IF('Diario contable'!E54=\"Suministros de oficina\",'Diario contable'!F54,0)","v":0},{"$f":"IF('Diario contable'!C54=\"Suministros de oficina\",'Diario contable'!I54,IF('Diario contable'!E54=\"Suministros de oficina\",'Diario contable'!I54,0))","v":0},{"$f":"IF('Diario contable'!C54=\"Suministros de oficina\",'Diario contable'!H54,IF('Diario contable'!E54=\"Suministros de oficina\",'Diario contable'!H54,0))","v":"00:00:00"},null,null,{"$f":"+IF('Diario contable'!C54=\"Capital social\",'Diario contable'!F54,0)","v":0},null,null,null,{"$f":"+IF('Diario contable'!E54=\"Capital social\",'Diario contable'!F54,0)","v":0},{"$f":"IF('Diario contable'!C54=\"Capital social\",'Diario contable'!I54,IF('Diario contable'!E54=\"Capital social\",'Diario contable'!I54,0))","v":0},{"$f":"IF('Diario contable'!C54=\"Capital social\",'Diario contable'!H54,IF('Diario contable'!E54=\"Capital social\",'Diario contable'!H54,0))","v":"00:00:00"},null,null,{"$f":"+IF('Diario contable'!C54=\"Gastos de mercadeo\",'Diario contable'!F54,0)","v":0},null,null,null,{"$f":"+IF('Diario contable'!E54=\"Gastos de mercadeo\",'Diario contable'!F54,0)","v":0},{"$f":"IF('Diario contable'!C54=\"Gastos de mercadeo\",'Diario contable'!I54,IF('Diario contable'!E54=\"Gastos de mercadeo\",'Diario contable'!I54,0))","v":0},{"$f":"IF('Diario contable'!C54=\"Gastos de mercadeo\",'Diario contable'!H54,IF('Diario contable'!E54=\"Gastos de mercadeo\",'Diario contable'!H54,0))","v":"00:00:00"},null,null,{"$f":"+IF('Diario contable'!C54=\"Gastos de suministros de oficina\",'Diario contable'!F54,0)","v":0},null,null,null,{"$f":"+IF('Diario contable'!E54=\"Gastos de suministros de oficina\",'Diario contable'!F54,0)","v":0},{"$f":"IF('Diario contable'!C54=\"Gastos de suministros de oficina\",'Diario contable'!I54,IF('Diario contable'!E54=\"Gastos de suministros de oficina\",'Diario contable'!I54,0))","v":0},{"$f":"IF('Diario contable'!C54=\"Gastos de suministros de oficina\",'Diario contable'!H54,IF('Diario contable'!E54=\"Gastos de suministros de oficina\",'Diario contable'!H54,0))","v":"00:00:00"}]
[null,null,{"$f":"+IF('Diario contable'!C55=\"Caja\",'Diario contable'!F55,0)","v":0},null,null,null,{"$f":"+IF('Diario contable'!E55=\"Caja\",'Diario contable'!F55,0)","v":0},{"$f":"IF('Diario contable'!C55=\"Caja\",'Diario contable'!I55,IF('Diario contable'!E55=\"Caja\",'Diario contable'!I55,0))","v":0},{"$f":"IF('Diario contable'!C55=\"Caja\",'Diario contable'!H55,IF('Diario contable'!E55=\"Caja\",'Diario contable'!H55,0))","v":"00:00:00"},null,null,{"$f":"+IF('Diario contable'!C55=\"Maquinaria\",'Diario contable'!F55,0)","v":0},null,null,null,{"$f":"+IF('Diario contable'!E55=\"Maquinaria\",'Diario contable'!F55,0)","v":0},{"$f":"IF('Diario contable'!C55=\"Maquinaria\",'Diario contable'!I55,IF('Diario contable'!E55=\"Maquinaria\",'Diario contable'!I55,0))","v":0},{"$f":"IF('Diario contable'!C55=\"Maquinaria\",'Diario contable'!H55,IF('Diario contable'!E55=\"Maquinaria\",'Diario contable'!H55,0))","v":"00:00:00"},null,null,{"$f":"+IF('Diario contable'!C55=\"Herramientas\",'Diario contable'!F55,0)","v":0},null,null,null,{"$f":"+IF('Diario contable'!E55=\"Herramientas\",'Diario contable'!F55,0)","v":0},{"$f":"IF('Diario contable'!C55=\"Herramientas\",'Diario contable'!I55,IF('Diario contable'!E55=\"Herramientas\",'Diario contable'!I55,0))","v":0},{"$f":"IF('Diario contable'!C55=\"Herramientas\",'Diario contable'!H55,IF('Diario contable'!E55=\"Herramientas\",'Diario contable'!H55,0))","v":"00:00:00"},null,null,{"$f":"+IF('Diario contable'!C55=\"Donaciones\",'Diario contable'!F55,0)","v":0},null,null,null,{"$f":"+IF('Diario contable'!E55=\"Donaciones\",'Diario contable'!F55,0)","v":0},{"$f":"IF('Diario contable'!C55=\"Donaciones\",'Diario contable'!I55,IF('Diario contable'!E55=\"Donaciones\",'Diario contable'!I55,0))","v":0},{"$f":"IF('Diario contable'!C55=\"Donaciones\",'Diario contable'!H55,IF('Diario contable'!E55=\"Donaciones\",'Diario contable'!H55,0))","v":"00:00:00"},null,null,{"$f":"+IF('Diario contable'!C55=\"Inventario\",'Diario contable'!F55,0)","v":0},null,null,null,{"$f":"+IF('Diario contable'!E55=\"Inventario\",'Diario contable'!F55,0)","v":0},{"$f":"IF('Diario contable'!C55=\"Inventario\",'Diario contable'!I55,IF('Diario contable'!E55=\"Inventario\",'Diario contable'!I55,0))","v":0},{"$f":"IF('Diario contable'!C55=\"Inventario\",'Diario contable'!H55,IF('Diario contable'!E55=\"Inventario\",'Diario contable'!H55,0))","v":"00:00:00"},null,null,{"$f":"+IF('Diario contable'!C55=\"Costo de ventas\",'Diario contable'!F55,0)","v":0},null,null,null,{"$f":"+IF('Diario contable'!E55=\"Costo de ventas\",'Diario contable'!F55,0)","v":0},{"$f":"IF('Diario contable'!C55=\"Costo de ventas\",'Diario contable'!I55,IF('Diario contable'!E55=\"Costo de ventas\",'Diario contable'!I55,0))","v":0},{"$f":"IF('Diario contable'!C55=\"Costo de ventas\",'Diario contable'!H55,IF('Diario contable'!E55=\"Costo de ventas\",'Diario contable'!H55,0))","v":"00:00:00"},null,null,{"$f":"+IF('Diario contable'!C55=\"Ventas\",'Diario contable'!F55,0)","v":0},null,null,null,{"$f":"+IF('Diario contable'!E55=\"Ventas\",'Diario contable'!F55,0)","v":0},{"$f":"IF('Diario contable'!C55=\"Ventas\",'Diario contable'!I55,IF('Diario contable'!E55=\"Ventas\",'Diario contable'!I55,0))","v":0},{"$f":"IF('Diario contable'!C55=\"Ventas\",'Diario contable'!H55,IF('Diario contable'!E55=\"Ventas\",'Diario contable'!H55,0))","v":"00:00:00"},null,null,{"$f":"+IF('Diario contable'!C55=\"Gastos por salarios\",'Diario contable'!F55,0)","v":0},null,null,null,{"$f":"+IF('Diario contable'!E55=\"Gastos por salarios\",'Diario contable'!F55,0)","v":0},{"$f":"IF('Diario contable'!C55=\"Gastos por salarios\",'Diario contable'!I55,IF('Diario contable'!E55=\"Gastos por salarios\",'Diario contable'!I55,0))","v":0},{"$f":"IF('Diario contable'!C55=\"Gastos por salarios\",'Diario contable'!H55,IF('Diario contable'!E55=\"Gastos por salarios\",'Diario contable'!H55,0))","v":"00:00:00"},null,null,{"$f":"+IF('Diario contable'!C55=\"Gastos operacionales\",'Diario contable'!F55,0)","v":0},null,null,null,{"$f":"+IF('Diario contable'!E55=\"Gastos operacionales\",'Diario contable'!F55,0)","v":0},{"$f":"IF('Diario contable'!C55=\"Gastos operacionales\",'Diario contable'!I55,IF('Diario contable'!E55=\"Gastos operacionales\",'Diario contable'!I55,0))","v":0},{"$f":"IF('Diario contable'!C55=\"Gastos operacionales\",'Diario contable'!H55,IF('Diario contable'!E55=\"Gastos operacionales\",'Diario contable'!H55,0))","v":"00:00:00"},null,null,{"$f":"+IF('Diario contable'!C55=\"Suministros de oficina\",'Diario contable'!F55,0)","v":0},null,null,null,{"$f":"+IF('Diario contable'!E55=\"Suministros de oficina\",'Diario contable'!F55,0)","v":0},{"$f":"IF('Diario contable'!C55=\"Suministros de oficina\",'Diario contable'!I55,IF('Diario contable'!E55=\"Suministros de oficina\",'Diario contable'!I55,0))","v":0},{"$f":"IF('Diario contable'!C55=\"Suministros de oficina\",'Diario contable'!H55,IF('Diario contable'!E55=\"Suministros de oficina\",'Diario contable'!H55,0))","v":"00:00:00"},null,null,{"$f":"+IF('Diario contable'!C55=\"Capital social\",'Diario contable'!F55,0)","v":0},null,null,null,{"$f":"+IF('Diario contable'!E55=\"Capital social\",'Diario contable'!F55,0)","v":0},{"$f":"IF('Diario contable'!C55=\"Capital social\",'Diario contable'!I55,IF('Diario contable'!E55=\"Capital social\",'Diario contable'!I55,0))","v":0},{"$f":"IF('Diario contable'!C55=\"Capital social\",'Diario contable'!H55,IF('Diario contable'!E55=\"Capital social\",'Diario contable'!H55,0))","v":"00:00:00"},null,null,{"$f":"+IF('Diario contable'!C55=\"Gastos de mercadeo\",'Diario contable'!F55,0)","v":0},null,null,null,{"$f":"+IF('Diario contable'!E55=\"Gastos de mercadeo\",'Diario contable'!F55,0)","v":0},{"$f":"IF('Diario contable'!C55=\"Gastos de mercadeo\",'Diario contable'!I55,IF('Diario contable'!E55=\"Gastos de mercadeo\",'Diario contable'!I55,0))","v":0},{"$f":"IF('Diario contable'!C55=\"Gastos de mercadeo\",'Diario contable'!H55,IF('Diario contable'!E55=\"Gastos de mercadeo\",'Diario contable'!H55,0))","v":"00:00:00"},null,null,{"$f":"+IF('Diario contable'!C55=\"Gastos de suministros de oficina\",'Diario contable'!F55,0)","v":0},null,null,null,{"$f":"+IF('Diario contable'!E55=\"Gastos de suministros de oficina\",'Diario contable'!F55,0)","v":0},{"$f":"IF('Diario contable'!C55=\"Gastos de suministros de oficina\",'Diario contable'!I55,IF('Diario contable'!E55=\"Gastos de suministros de oficina\",'Diario contable'!I55,0))","v":0},{"$f":"IF('Diario contable'!C55=\"Gastos de suministros de oficina\",'Diario contable'!H55,IF('Diario contable'!E55=\"Gastos de suministros de oficina\",'Diario contable'!H55,0))","v":"00:00:00"}]
[null,null,{"$f":"+IF('Diario contable'!C56=\"Caja\",'Diario contable'!F56,0)","v":0},null,null,null,{"$f":"+IF('Diario contable'!E56=\"Caja\",'Diario contable'!F56,0)","v":0},{"$f":"IF('Diario contable'!C56=\"Caja\",'Diario contable'!I56,IF('Diario contable'!E56=\"Caja\",'Diario contable'!I56,0))","v":0},{"$f":"IF('Diario contable'!C56=\"Caja\",'Diario contable'!H56,IF('Diario contable'!E56=\"Caja\",'Diario contable'!H56,0))","v":"00:00:00"},null,null,{"$f":"+IF('Diario contable'!C56=\"Maquinaria\",'Diario contable'!F56,0)","v":0},null,null,null,{"$f":"+IF('Diario contable'!E56=\"Maquinaria\",'Diario contable'!F56,0)","v":0},{"$f":"IF('Diario contable'!C56=\"Maquinaria\",'Diario contable'!I56,IF('Diario contable'!E56=\"Maquinaria\",'Diario contable'!I56,0))","v":0},{"$f":"IF('Diario contable'!C56=\"Maquinaria\",'Diario contable'!H56,IF('Diario contable'!E56=\"Maquinaria\",'Diario contable'!H56,0))","v":"00:00:00"},null,null,{"$f":"+IF('Diario contable'!C56=\"Herramientas\",'Diario contable'!F56,0)","v":0},null,null,null,{"$f":"+IF('Diario contable'!E56=\"Herramientas\",'Diario contable'!F56,0)","v":0},{"$f":"IF('Diario contable'!C56=\"Herramientas\",'Diario contable'!I56,IF('Diario contable'!E56=\"Herramientas\",'Diario contable'!I56,0))","v":0},{"$f":"IF('Diario contable'!C56=\"Herramientas\",'Diario contable'!H56,IF('Diario contable'!E56=\"Herramientas\",'Diario contable'!H56,0))","v":"00:00:00"},null,null,{"$f":"+IF('Diario contable'!C56=\"Donaciones\",'Diario contable'!F56,0)","v":0},null,null,null,{"$f":"+IF('Diario contable'!E56=\"Donaciones\",'Diario contable'!F56,0)","v":0},{"$f":"IF('Diario contable'!C56=\"Donaciones\",'Diario contable'!I56,IF('Diario contable'!E56=\"Donaciones\",'Diario contable'!I56,0))","v":0},{"$f":"IF('Diario contable'!C56=\"Donaciones\",'Diario contable'!H56,IF('Diario contable'!E56=\"Donaciones\",'Diario contable'!H56,0))","v":"00:00:00"},null,null,{"$f":"+IF('Diario contable'!C56=\"Inventario\",'Diario contable'!F56,0)","v":0},null,null,null,{"$f":"+IF('Diario contable'!E56=\"Inventario\",'Diario contable'!F56,0)","v":0},{"$f":"IF('Diario contable'!C56=\"Inventario\",'Diario contable'!I56,IF('Diario contable'!E56=\"Inventario\",'Diario contable'!I56,0))","v":0},{"$f":"IF('Diario contable'!C56=\"Inventario\",'Diario contable'!H56,IF('Diario contable'!E56=\"Inventario\",'Diario contable'!H56,0))","v":"00:00:00"},null,null,{"$f":"+IF('Diario contable'!C56=\"Costo de ventas\",'Diario contable'!F56,0)","v":0},null,null,null,{"$f":"+IF('Diario contable'!E56=\"Costo de ventas\",'Diario contable'!F56,0)","v":0},{"$f":"IF('Diario contable'!C56=\"Costo de ventas\",'Diario contable'!I56,IF('Diario contable'!E56=\"Costo de ventas\",'Diario contable'!I56,0))","v":0},{"$f":"IF('Diario contable'!C56=\"Costo de ventas\",'Diario contable'!H56,IF('Diario contable'!E56=\"Costo de ventas\",'Diario contable'!H56,0))","v":"00:00:00"},null,null,{"$f":"+IF('Diario contable'!C56=\"Ventas\",'Diario contable'!F56,0)","v":0},null,null,null,{"$f":"+IF('Diario contable'!E56=\"Ventas\",'Diario contable'!F56,0)","v":0},{"$f":"IF('Diario contable'!C56=\"Ventas\",'Diario contable'!I56,IF('Diario contable'!E56=\"Ventas\",'Diario contable'!I56,0))","v":0},{"$f":"IF('Diario contable'!C56=\"Ventas\",'Diario contable'!H56,IF('Diario contable'!E56=\"Ventas\",'Diario contable'!H56,0))","v":"00:00:00"},null,null,{"$f":"+IF('Diario contable'!C56=\"Gastos por salarios\",'Diario contable'!F56,0)","v":0},null,null,null,{"$f":"+IF('Diario contable'!E56=\"Gastos por salarios\",'Diario contable'!F56,0)","v":0},{"$f":"IF('Diario contable'!C56=\"Gastos por salarios\",'Diario contable'!I56,IF('Diario contable'!E56=\"Gastos por salarios\",'Diario contable'!I56,0))","v":0},{"$f":"IF('Diario contable'!C56=\"Gastos por salarios\",'Diario contable'!H56,IF('Diario contable'!E56=\"Gastos por salarios\",'Diario contable'!H56,0))","v":"00:00:00"},null,null,{"$f":"+IF('Diario contable'!C56=\"Gastos operacionales\",'Diario contable'!F56,0)","v":0},null,null,null,{"$f":"+IF('Diario contable'!E56=\"Gastos operacionales\",'Diario contable'!F56,0)","v":0},{"$f":"IF('Diario contable'!C56=\"Gastos operacionales\",'Diario contable'!I56,IF('Diario contable'!E56=\"Gastos operacionales\",'Diario contable'!I56,0))","v":0},{"$f":"IF('Diario contable'!C56=\"Gastos operacionales\",'Diario contable'!H56,IF('Diario contable'!E56=\"Gastos operacionales\",'Diario contable'!H56,0))","v":"00:00:00"},null,null,{"$f":"+IF('Diario contable'!C56=\"Suministros de oficina\",'Diario contable'!F56,0)","v":0},null,null,null,{"$f":"+IF('Diario contable'!E56=\"Suministros de oficina\",'Diario contable'!F56,0)","v":0},{"$f":"IF('Diario contable'!C56=\"Suministros de oficina\",'Diario contable'!I56,IF('Diario contable'!E56=\"Suministros de oficina\",'Diario contable'!I56,0))","v":0},{"$f":"IF('Diario contable'!C56=\"Suministros de oficina\",'Diario contable'!H56,IF('Diario contable'!E56=\"Suministros de oficina\",'Diario contable'!H56,0))","v":"00:00:00"},null,null,{"$f":"+IF('Diario contable'!C56=\"Capital social\",'Diario contable'!F56,0)","v":0},null,null,null,{"$f":"+IF('Diario contable'!E56=\"Capital social\",'Diario contable'!F56,0)","v":0},{"$f":"IF('Diario contable'!C56=\"Capital social\",'Diario contable'!I56,IF('Diario contable'!E56=\"Capital social\",'Diario contable'!I56,0))","v":0},{"$f":"IF('Diario contable'!C56=\"Capital social\",'Diario contable'!H56,IF('Diario contable'!E56=\"Capital social\",'Diario contable'!H56,0))","v":"00:00:00"},null,null,{"$f":"+IF('Diario contable'!C56=\"Gastos de mercadeo\",'Diario contable'!F56,0)","v":0},null,null,null,{"$f":"+IF('Diario contable'!E56=\"Gastos de mercadeo\",'Diario contable'!F56,0)","v":0},{"$f":"IF('Diario contable'!C56=\"Gastos de mercadeo\",'Diario contable'!I56,IF('Diario contable'!E56=\"Gastos de mercadeo\",'Diario contable'!I56,0))","v":0},{"$f":"IF('Diario contable'!C56=\"Gastos de mercadeo\",'Diario contable'!H56,IF('Diario contable'!E56=\"Gastos de mercadeo\",'Diario contable'!H56,0))","v":"00:00:00"},null,null,{"$f":"+IF('Diario contable'!C56=\"Gastos de suministros de oficina\",'Diario contable'!F56,0)","v":0},null,null,null,{"$f":"+IF('Diario contable'!E56=\"Gastos de suministros de oficina\",'Diario contable'!F56,0)","v":0},{"$f":"IF('Diario contable'!C56=\"Gastos de suministros de oficina\",'Diario contable'!I56,IF('Diario contable'!E56=\"Gastos de suministros de oficina\",'Diario contable'!I56,0))","v":0},{"$f":"IF('Diario contable'!C56=\"Gastos de suministros de oficina\",'Diario contable'!H56,IF('Diario contable'!E56=\"Gastos de suministros de oficina\",'Diario contable'!H56,0))","v":"00:00:00"}]
[null,null,{"$f":"+IF('Diario contable'!C57=\"Caja\",'Diario contable'!F57,0)","v":0},null,null,null,{"$f":"+IF('Diario contable'!E57=\"Caja\",'Diario contable'!F57,0)","v":0},{"$f":"IF('Diario contable'!C57=\"Caja\",'Diario contable'!I57,IF('Diario contable'!E57=\"Caja\",'Diario contable'!I57,0))","v":0},{"$f":"IF('Diario contable'!C57=\"Caja\",'Diario contable'!H57,IF('Diario contable'!E57=\"Caja\",'Diario contable'!H57,0))","v":"00:00:00"},null,null,{"$f":"+IF('Diario contable'!C57=\"Maquinaria\",'Diario contable'!F57,0)","v":0},null,null,null,{"$f":"+IF('Diario contable'!E57=\"Maquinaria\",'Diario contable'!F57,0)","v":0},{"$f":"IF('Diario contable'!C57=\"Maquinaria\",'Diario contable'!I57,IF('Diario contable'!E57=\"Maquinaria\",'Diario contable'!I57,0))","v":0},{"$f":"IF('Diario contable'!C57=\"Maquinaria\",'Diario contable'!H57,IF('Diario contable'!E57=\"Maquinaria\",'Diario contable'!H57,0))","v":"00:00:00"},null,null,{"$f":"+IF('Diario contable'!C57=\"Herramientas\",'Diario contable'!F57,0)","v":0},null,null,null,{"$f":"+IF('Diario contable'!E57=\"Herramientas\",'Diario contable'!F57,0)","v":0},{"$f":"IF('Diario contable'!C57=\"Herramientas\",'Diario contable'!I57,IF('Diario contable'!E57=\"Herramientas\",'Diario contable'!I57,0))","v":0},{"$f":"IF('Diario contable'!C57=\"Herramientas\",'Diario contable'!H57,IF('Diario contable'!E57=\"Herramientas\",'Diario contable'!H57,0))","v":"00:00:00"},null,null,{"$f":"+IF('Diario contable'!C57=\"Donaciones\",'Diario contable'!F57,0)","v":0},null,null,null,{"$f":"+IF('Diario contable'!E57=\"Donaciones\",'Diario contable'!F57,0)","v":0},{"$f":"IF('Diario contable'!C57=\"Donaciones\",'Diario contable'!I57,IF('Diario contable'!E57=\"Donaciones\",'Diario contable'!I57,0))","v":0},{"$f":"IF('Diario contable'!C57=\"Donaciones\",'Diario contable'!H57,IF('Diario contable'!E57=\"Donaciones\",'Diario contable'!H57,0))","v":"00:00:00"},null,null,{"$f":"+IF('Diario contable'!C57=\"Inventario\",'Diario contable'!F57,0)","v":0},null,null,null,{"$f":"+IF('Diario contable'!E57=\"Inventario\",'Diario contable'!F57,0)","v":0},{"$f":"IF('Diario contable'!C57=\"Inventario\",'Diario contable'!I57,IF('Diario contable'!E57=\"Inventario\",'Diario contable'!I57,0))","v":0},{"$f":"IF('Diario contable'!C57=\"Inventario\",'Diario contable'!H57,IF('Diario contable'!E57=\"Inventario\",'Diario contable'!H57,0))","v":"00:00:00"},null,null,{"$f":"+IF('Diario contable'!C57=\"Costo de ventas\",'Diario contable'!F57,0)","v":0},null,null,null,{"$f":"+IF('Diario contable'!E57=\"Costo de ventas\",'Diario contable'!F57,0)","v":0},{"$f":"IF('Diario contable'!C57=\"Costo de ventas\",'Diario contable'!I57,IF('Diario contable'!E57=\"Costo de ventas\",'Diario contable'!I57,0))","v":0},{"$f":"IF('Diario contable'!C57=\"Costo de ventas\",'Diario contable'!H57,IF('Diario contable'!E57=\"Costo de ventas\",'Diario contable'!H57,0))","v":"00:00:00"},null,null,{"$f":"+IF('Diario contable'!C57=\"Ventas\",'Diario contable'!F57,0)","v":0},null,null,null,{"$f":"+IF('Diario contable'!E57=\"Ventas\",'Diario contable'!F57,0)","v":0},{"$f":"IF('Diario contable'!C57=\"Ventas\",'Diario contable'!I57,IF('Diario contable'!E57=\"Ventas\",'Diario contable'!I57,0))","v":0},{"$f":"IF('Diario contable'!C57=\"Ventas\",'Diario contable'!H57,IF('Diario contable'!E57=\"Ventas\",'Diario contable'!H57,0))","v":"00:00:00"},null,null,{"$f":"+IF('Diario contable'!C57=\"Gastos por salarios\",'Diario contable'!F57,0)","v":0},null,null,null,{"$f":"+IF('Diario contable'!E57=\"Gastos por salarios\",'Diario contable'!F57,0)","v":0},{"$f":"IF('Diario contable'!C57=\"Gastos por salarios\",'Diario contable'!I57,IF('Diario contable'!E57=\"Gastos por salarios\",'Diario contable'!I57,0))","v":0},{"$f":"IF('Diario contable'!C57=\"Gastos por salarios\",'Diario contable'!H57,IF('Diario contable'!E57=\"Gastos por salarios\",'Diario contable'!H57,0))","v":"00:00:00"},null,null,{"$f":"+IF('Diario contable'!C57=\"Gastos operacionales\",'Diario contable'!F57,0)","v":0},null,null,null,{"$f":"+IF('Diario contable'!E57=\"Gastos operacionales\",'Diario contable'!F57,0)","v":0},{"$f":"IF('Diario contable'!C57=\"Gastos operacionales\",'Diario contable'!I57,IF('Diario contable'!E57=\"Gastos operacionales\",'Diario contable'!I57,0))","v":0},{"$f":"IF('Diario contable'!C57=\"Gastos operacionales\",'Diario contable'!H57,IF('Diario contable'!E57=\"Gastos operacionales\",'Diario contable'!H57,0))","v":"00:00:00"},null,null,{"$f":"+IF('Diario contable'!C57=\"Suministros de oficina\",'Diario contable'!F57,0)","v":0},null,null,null,{"$f":"+IF('Diario contable'!E57=\"Suministros de oficina\",'Diario contable'!F57,0)","v":0},{"$f":"IF('Diario contable'!C57=\"Suministros de oficina\",'Diario contable'!I57,IF('Diario contable'!E57=\"Suministros de oficina\",'Diario contable'!I57,0))","v":0},{"$f":"IF('Diario contable'!C57=\"Suministros de oficina\",'Diario contable'!H57,IF('Diario contable'!E57=\"Suministros de oficina\",'Diario contable'!H57,0))","v":"00:00:00"},null,null,{"$f":"+IF('Diario contable'!C57=\"Capital social\",'Diario contable'!F57,0)","v":0},null,null,null,{"$f":"+IF('Diario contable'!E57=\"Capital social\",'Diario contable'!F57,0)","v":0},{"$f":"IF('Diario contable'!C57=\"Capital social\",'Diario contable'!I57,IF('Diario contable'!E57=\"Capital social\",'Diario contable'!I57,0))","v":0},{"$f":"IF('Diario contable'!C57=\"Capital social\",'Diario contable'!H57,IF('Diario contable'!E57=\"Capital social\",'Diario contable'!H57,0))","v":"00:00:00"},null,null,{"$f":"+IF('Diario contable'!C57=\"Gastos de mercadeo\",'Diario contable'!F57,0)","v":0},null,null,null,{"$f":"+IF('Diario contable'!E57=\"Gastos de mercadeo\",'Diario contable'!F57,0)","v":0},{"$f":"IF('Diario contable'!C57=\"Gastos de mercadeo\",'Diario contable'!I57,IF('Diario contable'!E57=\"Gastos de mercadeo\",'Diario contable'!I57,0))","v":0},{"$f":"IF('Diario contable'!C57=\"Gastos de mercadeo\",'Diario contable'!H57,IF('Diario contable'!E57=\"Gastos de mercadeo\",'Diario contable'!H57,0))","v":"00:00:00"},null,null,{"$f":"+IF('Diario contable'!C57=\"Gastos de suministros de oficina\",'Diario contable'!F57,0)","v":0},null,null,null,{"$f":"+IF('Diario contable'!E57=\"Gastos de suministros de oficina\",'Diario contable'!F57,0)","v":0},{"$f":"IF('Diario contable'!C57=\"Gastos de suministros de oficina\",'Diario contable'!I57,IF('Diario contable'!E57=\"Gastos de suministros de oficina\",'Diario contable'!I57,0))","v":0},{"$f":"IF('Diario contable'!C57=\"Gastos de suministros de oficina\",'Diario contable'!H57,IF('Diario contable'!E57=\"Gastos de suministros de oficina\",'Diario contable'!H57,0))","v":"00:00:00"}]
[null,null,{"$f":"+IF('Diario contable'!C58=\"Caja\",'Diario contable'!F58,0)","v":0},null,null,null,{"$f":"+IF('Diario contable'!E58=\"Caja\",'Diario contable'!F58,0)","v":0},{"$f":"IF('Diario contable'!C58=\"Caja\",'Diario contable'!I58,IF('Diario contable'!E58=\"Caja\",'Diario contable'!I58,0))","v":0},{"$f":"IF('Diario contable'!C58=\"Caja\",'Diario contable'!H58,IF('Diario contable'!E58=\"Caja\",'Diario contable'!H58,0))","v":"00:00:00"},null,null,{"$f":"+IF('Diario contable'!C58=\"Maquinaria\",'Diario contable'!F58,0)","v":0},null,null,null,{"$f":"+IF('Diario contable'!E58=\"Maquinaria\",'Diario contable'!F58,0)","v":0},{"$f":"IF('Diario contable'!C58=\"Maquinaria\",'Diario contable'!I58,IF('Diario contable'!E58=\"Maquinaria\",'Diario contable'!I58,0))","v":0},{"$f":"IF('Diario contable'!C58=\"Maquinaria\",'Diario contable'!H58,IF('Diario contable'!E58=\"Maquinaria\",'Diario contable'!H58,0))","v":"00:00:00"},null,null,{"$f":"+IF('Diario contable'!C58=\"Herramientas\",'Diario contable'!F58,0)","v":0},null,null,null,{"$f":"+IF('Diario contable'!E58=\"Herramientas\",'Diario contable'!F58,0)","v":0},{"$f":"IF('Diario contable'!C58=\"Herramientas\",'Diario contable'!I58,IF('Diario contable'!E58=\"Herramientas\",'Diario contable'!I58,0))","v":0},{"$f":"IF('Diario contable'!C58=\"Herramientas\",'Diario contable'!H58,IF('Diario contable'!E58=\"Herramientas\",'Diario contable'!H58,0))","v":"00:00:00"},null,null,{"$f":"+IF('Diario contable'!C58=\"Donaciones\",'Diario contable'!F58,0)","v":0},null,null,null,{"$f":"+IF('Diario contable'!E58=\"Donaciones\",'Diario contable'!F58,0)","v":0},{"$f":"IF('Diario contable'!C58=\"Donaciones\",'Diario contable'!I58,IF('Diario contable'!E58=\"Donaciones\",'Diario contable'!I58,0))","v":0},{"$f":"IF('Diario contable'!C58=\"Donaciones\",'Diario contable'!H58,IF('Diario contable'!E58=\"Donaciones\",'Diario contable'!H58,0))","v":"00:00:00"},null,null,{"$f":"+IF('Diario contable'!C58=\"Inventario\",'Diario contable'!F58,0)","v":0},null,null,null,{"$f":"+IF('Diario contable'!E58=\"Inventario\",'Diario contable'!F58,0)","v":0},{"$f":"IF('Diario contable'!C58=\"Inventario\",'Diario contable'!I58,IF('Diario contable'!E58=\"Inventario\",'Diario contable'!I58,0))","v":0},{"$f":"IF('Diario contable'!C58=\"Inventario\",'Diario contable'!H58,IF('Diario contable'!E58=\"Inventario\",'Diario contable'!H58,0))","v":"00:00:00"},null,null,{"$f":"+IF('Diario contable'!C58=\"Costo de ventas\",'Diario contable'!F58,0)","v":0},null,null,null,{"$f":"+IF('Diario contable'!E58=\"Costo de ventas\",'Diario contable'!F58,0)","v":0},{"$f":"IF('Diario contable'!C58=\"Costo de ventas\",'Diario contable'!I58,IF('Diario contable'!E58=\"Costo de ventas\",'Diario contable'!I58,0))","v":0},{"$f":"IF('Diario contable'!C58=\"Costo de ventas\",'Diario contable'!H58,IF('Diario contable'!E58=\"Costo de ventas\",'Diario contable'!H58,0))","v":"00:00:00"},null,null,{"$f":"+IF('Diario contable'!C58=\"Ventas\",'Diario contable'!F58,0)","v":0},null,null,null,{"$f":"+IF('Diario contable'!E58=\"Ventas\",'Diario contable'!F58,0)","v":0},{"$f":"IF('Diario contable'!C58=\"Ventas\",'Diario contable'!I58,IF('Diario contable'!E58=\"Ventas\",'Diario contable'!I58,0))","v":0},{"$f":"IF('Diario contable'!C58=\"Ventas\",'Diario contable'!H58,IF('Diario contable'!E58=\"Ventas\",'Diario contable'!H58,0))","v":"00:00:00"},null,null,{"$f":"+IF('Diario contable'!C58=\"Gastos por salarios\",'Diario contable'!F58,0)","v":0},null,null,null,{"$f":"+IF('Diario contable'!E58=\"Gastos por salarios\",'Diario contable'!F58,0)","v":0},{"$f":"IF('Diario contable'!C58=\"Gastos por salarios\",'Diario contable'!I58,IF('Diario contable'!E58=\"Gastos por salarios\",'Diario contable'!I58,0))","v":0},{"$f":"IF('Diario contable'!C58=\"Gastos por salarios\",'Diario contable'!H58,IF('Diario contable'!E58=\"Gastos por salarios\",'Diario contable'!H58,0))","v":"00:00:00"},null,null,{"$f":"+IF('Diario contable'!C58=\"Gastos operacionales\",'Diario contable'!F58,0)","v":0},null,null,null,{"$f":"+IF('Diario contable'!E58=\"Gastos operacionales\",'Diario contable'!F58,0)","v":0},{"$f":"IF('Diario contable'!C58=\"Gastos operacionales\",'Diario contable'!I58,IF('Diario contable'!E58=\"Gastos operacionales\",'Diario contable'!I58,0))","v":0},{"$f":"IF('Diario contable'!C58=\"Gastos operacionales\",'Diario contable'!H58,IF('Diario contable'!E58=\"Gastos operacionales\",'Diario contable'!H58,0))","v":"00:00:00"},null,null,{"$f":"+IF('Diario contable'!C58=\"Suministros de oficina\",'Diario contable'!F58,0)","v":0},null,null,null,{"$f":"+IF('Diario contable'!E58=\"Suministros de oficina\",'Diario contable'!F58,0)","v":0},{"$f":"IF('Diario contable'!C58=\"Suministros de oficina\",'Diario contable'!I58,IF('Diario contable'!E58=\"Suministros de oficina\",'Diario contable'!I58,0))","v":0},{"$f":"IF('Diario contable'!C58=\"Suministros de oficina\",'Diario contable'!H58,IF('Diario contable'!E58=\"Suministros de oficina\",'Diario contable'!H58,0))","v":"00:00:00"},null,null,{"$f":"+IF('Diario contable'!C58=\"Capital social\",'Diario contable'!F58,0)","v":0},null,null,null,{"$f":"+IF('Diario contable'!E58=\"Capital social\",'Diario contable'!F58,0)","v":0},{"$f":"IF('Diario contable'!C58=\"Capital social\",'Diario contable'!I58,IF('Diario contable'!E58=\"Capital social\",'Diario contable'!I58,0))","v":0},{"$f":"IF('Diario contable'!C58=\"Capital social\",'Diario contable'!H58,IF('Diario contable'!E58=\"Capital social\",'Diario contable'!H58,0))","v":"00:00:00"},null,null,{"$f":"+IF('Diario contable'!C58=\"Gastos de mercadeo\",'Diario contable'!F58,0)","v":0},null,null,null,{"$f":"+IF('Diario contable'!E58=\"Gastos de mercadeo\",'Diario contable'!F58,0)","v":0},{"$f":"IF('Diario contable'!C58=\"Gastos de mercadeo\",'Diario contable'!I58,IF('Diario contable'!E58=\"Gastos de mercadeo\",'Diario contable'!I58,0))","v":0},{"$f":"IF('Diario contable'!C58=\"Gastos de mercadeo\",'Diario contable'!H58,IF('Diario contable'!E58=\"Gastos de mercadeo\",'Diario contable'!H58,0))","v":"00:00:00"},null,null,{"$f":"+IF('Diario contable'!C58=\"Gastos de suministros de oficina\",'Diario contable'!F58,0)","v":0},null,null,null,{"$f":"+IF('Diario contable'!E58=\"Gastos de suministros de oficina\",'Diario contable'!F58,0)","v":0},{"$f":"IF('Diario contable'!C58=\"Gastos de suministros de oficina\",'Diario contable'!I58,IF('Diario contable'!E58=\"Gastos de suministros de oficina\",'Diario contable'!I58,0))","v":0},{"$f":"IF('Diario contable'!C58=\"Gastos de suministros de oficina\",'Diario contable'!H58,IF('Diario contable'!E58=\"Gastos de suministros de oficina\",'Diario contable'!H58,0))","v":"00:00:00"}]
[null,null,{"$f":"+IF('Diario contable'!C59=\"Caja\",'Diario contable'!F59,0)","v":0},null,null,null,{"$f":"+IF('Diario contable'!E59=\"Caja\",'Diario contable'!F59,0)","v":0},{"$f":"IF('Diario contable'!C59=\"Caja\",'Diario contable'!I59,IF('Diario contable'!E59=\"Caja\",'Diario contable'!I59,0))","v":0},{"$f":"IF('Diario contable'!C59=\"Caja\",'Diario contable'!H59,IF('Diario contable'!E59=\"Caja\",'Diario contable'!H59,0))","v":"00:00:00"},null,null,{"$f":"+IF('Diario contable'!C59=\"Maquinaria\",'Diario contable'!F59,0)","v":0},null,null,null,{"$f":"+IF('Diario contable'!E59=\"Maquinaria\",'Diario contable'!F59,0)","v":0},{"$f":"IF('Diario contable'!C59=\"Maquinaria\",'Diario contable'!I59,IF('Diario contable'!E59=\"Maquinaria\",'Diario contable'!I59,0))","v":0},{"$f":"IF('Diario contable'!C59=\"Maquinaria\",'Diario contable'!H59,IF('Diario contable'!E59=\"Maquinaria\",'Diario contable'!H59,0))","v":"00:00:00"},null,null,{"$f":"+IF('Diario contable'!C59=\"Herramientas\",'Diario contable'!F59,0)","v":0},null,null,null,{"$f":"+IF('Diario contable'!E59=\"Herramientas\",'Diario contable'!F59,0)","v":0},{"$f":"IF('Diario contable'!C59=\"Herramientas\",'Diario contable'!I59,IF('Diario contable'!E59=\"Herramientas\",'Diario contable'!I59,0))","v":0},{"$f":"IF('Diario contable'!C59=\"Herramientas\",'Diario contable'!H59,IF('Diario contable'!E59=\"Herramientas\",'Diario contable'!H59,0))","v":"00:00:00"},null,null,{"$f":"+IF('Diario contable'!C59=\"Donaciones\",'Diario contable'!F59,0)","v":0},null,null,null,{"$f":"+IF('Diario contable'!E59=\"Donaciones\",'Diario contable'!F59,0)","v":0},{"$f":"IF('Diario contable'!C59=\"Donaciones\",'Diario contable'!I59,IF('Diario contable'!E59=\"Donaciones\",'Diario contable'!I59,0))","v":0},{"$f":"IF('Diario contable'!C59=\"Donaciones\",'Diario contable'!H59,IF('Diario contable'!E59=\"Donaciones\",'Diario contable'!H59,0))","v":"00:00:00"},null,null,{"$f":"+IF('Diario contable'!C59=\"Inventario\",'Diario contable'!F59,0)","v":0},null,null,null,{"$f":"+IF('Diario contable'!E59=\"Inventario\",'Diario contable'!F59,0)","v":0},{"$f":"IF('Diario contable'!C59=\"Inventario\",'Diario contable'!I59,IF('Diario contable'!E59=\"Inventario\",'Diario contable'!I59,0))","v":0},{"$f":"IF('Diario contable'!C59=\"Inventario\",'Diario contable'!H59,IF('Diario contable'!E59=\"Inventario\",'Diario contable'!H59,0))","v":"00:00:00"},null,null,{"$f":"+IF('Diario contable'!C59=\"Costo de ventas\",'Diario contable'!F59,0)","v":0},null,null,null,{"$f":"+IF('Diario contable'!E59=\"Costo de ventas\",'Diario contable'!F59,0)","v":0},{"$f":"IF('Diario contable'!C59=\"Costo de ventas\",'Diario contable'!I59,IF('Diario contable'!E59=\"Costo de ventas\",'Diario contable'!I59,0))","v":0},{"$f":"IF('Diario contable'!C59=\"Costo de ventas\",'Diario contable'!H59,IF('Diario contable'!E59=\"Costo de ventas\",'Diario contable'!H59,0))","v":"00:00:00"},null,null,{"$f":"+IF('Diario contable'!C59=\"Ventas\",'Diario contable'!F59,0)","v":0},null,null,null,{"$f":"+IF('Diario contable'!E59=\"Ventas\",'Diario contable'!F59,0)","v":0},{"$f":"IF('Diario contable'!C59=\"Ventas\",'Diario contable'!I59,IF('Diario contable'!E59=\"Ventas\",'Diario contable'!I59,0))","v":0},{"$f":"IF('Diario contable'!C59=\"Ventas\",'Diario contable'!H59,IF('Diario contable'!E59=\"Ventas\",'Diario contable'!H59,0))","v":"00:00:00"},null,null,{"$f":"+IF('Diario contable'!C59=\"Gastos por salarios\",'Diario contable'!F59,0)","v":0},null,null,null,{"$f":"+IF('Diario contable'!E59=\"Gastos por salarios\",'Diario contable'!F59,0)","v":0},{"$f":"IF('Diario contable'!C59=\"Gastos por salarios\",'Diario contable'!I59,IF('Diario contable'!E59=\"Gastos por salarios\",'Diario contable'!I59,0))","v":0},{"$f":"IF('Diario contable'!C59=\"Gastos por salarios\",'Diario contable'!H59,IF('Diario contable'!E59=\"Gastos por salarios\",'Diario contable'!H59,0))","v":"00:00:00"},null,null,{"$f":"+IF('Diario contable'!C59=\"Gastos operacionales\",'Diario contable'!F59,0)","v":0},null,null,null,{"$f":"+IF('Diario contable'!E59=\"Gastos operacionales\",'Diario contable'!F59,0)","v":0},{"$f":"IF('Diario contable'!C59=\"Gastos operacionales\",'Diario contable'!I59,IF('Diario contable'!E59=\"Gastos operacionales\",'Diario contable'!I59,0))","v":0},{"$f":"IF('Diario contable'!C59=\"Gastos operacionales\",'Diario contable'!H59,IF('Diario contable'!E59=\"Gastos operacionales\",'Diario contable'!H59,0))","v":"00:00:00"},null,null,{"$f":"+IF('Diario contable'!C59=\"Suministros de oficina\",'Diario contable'!F59,0)","v":0},null,null,null,{"$f":"+IF('Diario contable'!E59=\"Suministros de oficina\",'Diario contable'!F59,0)","v":0},{"$f":"IF('Diario contable'!C59=\"Suministros de oficina\",'Diario contable'!I59,IF('Diario contable'!E59=\"Suministros de oficina\",'Diario contable'!I59,0))","v":0},{"$f":"IF('Diario contable'!C59=\"Suministros de oficina\",'Diario contable'!H59,IF('Diario contable'!E59=\"Suministros de oficina\",'Diario contable'!H59,0))","v":"00:00:00"},null,null,{"$f":"+IF('Diario contable'!C59=\"Capital social\",'Diario contable'!F59,0)","v":0},null,null,null,{"$f":"+IF('Diario contable'!E59=\"Capital social\",'Diario contable'!F59,0)","v":0},{"$f":"IF('Diario contable'!C59=\"Capital social\",'Diario contable'!I59,IF('Diario contable'!E59=\"Capital social\",'Diario contable'!I59,0))","v":0},{"$f":"IF('Diario contable'!C59=\"Capital social\",'Diario contable'!H59,IF('Diario contable'!E59=\"Capital social\",'Diario contable'!H59,0))","v":"00:00:00"},null,null,{"$f":"+IF('Diario contable'!C59=\"Gastos de mercadeo\",'Diario contable'!F59,0)","v":0},null,null,null,{"$f":"+IF('Diario contable'!E59=\"Gastos de mercadeo\",'Diario contable'!F59,0)","v":0},{"$f":"IF('Diario contable'!C59=\"Gastos de mercadeo\",'Diario contable'!I59,IF('Diario contable'!E59=\"Gastos de mercadeo\",'Diario contable'!I59,0))","v":0},{"$f":"IF('Diario contable'!C59=\"Gastos de mercadeo\",'Diario contable'!H59,IF('Diario contable'!E59=\"Gastos de mercadeo\",'Diario contable'!H59,0))","v":"00:00:00"},null,null,{"$f":"+IF('Diario contable'!C59=\"Gastos de suministros de oficina\",'Diario contable'!F59,0)","v":0},null,null,null,{"$f":"+IF('Diario contable'!E59=\"Gastos de suministros de oficina\",'Diario contable'!F59,0)","v":0},{"$f":"IF('Diario contable'!C59=\"Gastos de suministros de oficina\",'Diario contable'!I59,IF('Diario contable'!E59=\"Gastos de suministros de oficina\",'Diario contable'!I59,0))","v":0},{"$f":"IF('Diario contable'!C59=\"Gastos de suministros de oficina\",'Diario contable'!H59,IF('Diario contable'!E59=\"Gastos de suministros de oficina\",'Diario contable'!H59,0))","v":"00:00:00"}]
[null,null,{"$f":"+IF('Diario contable'!C60=\"Caja\",'Diario contable'!F60,0)","v":0},null,null,null,{"$f":"+IF('Diario contable'!E60=\"Caja\",'Diario contable'!F60,0)","v":0},{"$f":"IF('Diario contable'!C60=\"Caja\",'Diario contable'!I60,IF('Diario contable'!E60=\"Caja\",'Diario contable'!I60,0))","v":0},{"$f":"IF('Diario contable'!C60=\"Caja\",'Diario contable'!H60,IF('Diario contable'!E60=\"Caja\",'Diario contable'!H60,0))","v":"00:00:00"},null,null,{"$f":"+IF('Diario contable'!C60=\"Maquinaria\",'Diario contable'!F60,0)","v":0},null,null,null,{"$f":"+IF('Diario contable'!E60=\"Maquinaria\",'Diario contable'!F60,0)","v":0},{"$f":"IF('Diario contable'!C60=\"Maquinaria\",'Diario contable'!I60,IF('Diario contable'!E60=\"Maquinaria\",'Diario contable'!I60,0))","v":0},{"$f":"IF('Diario contable'!C60=\"Maquinaria\",'Diario contable'!H60,IF('Diario contable'!E60=\"Maquinaria\",'Diario contable'!H60,0))","v":"00:00:00"},null,null,{"$f":"+IF('Diario contable'!C60=\"Herramientas\",'Diario contable'!F60,0)","v":0},null,null,null,{"$f":"+IF('Diario contable'!E60=\"Herramientas\",'Diario contable'!F60,0)","v":0},{"$f":"IF('Diario contable'!C60=\"Herramientas\",'Diario contable'!I60,IF('Diario contable'!E60=\"Herramientas\",'Diario contable'!I60,0))","v":0},{"$f":"IF('Diario contable'!C60=\"Herramientas\",'Diario contable'!H60,IF('Diario contable'!E60=\"Herramientas\",'Diario contable'!H60,0))","v":"00:00:00"},null,null,{"$f":"+IF('Diario contable'!C60=\"Donaciones\",'Diario contable'!F60,0)","v":0},null,null,null,{"$f":"+IF('Diario contable'!E60=\"Donaciones\",'Diario contable'!F60,0)","v":0},{"$f":"IF('Diario contable'!C60=\"Donaciones\",'Diario contable'!I60,IF('Diario contable'!E60=\"Donaciones\",'Diario contable'!I60,0))","v":0},{"$f":"IF('Diario contable'!C60=\"Donaciones\",'Diario contable'!H60,IF('Diario contable'!E60=\"Donaciones\",'Diario contable'!H60,0))","v":"00:00:00"},null,null,{"$f":"+IF('Diario contable'!C60=\"Inventario\",'Diario contable'!F60,0)","v":0},null,null,null,{"$f":"+IF('Diario contable'!E60=\"Inventario\",'Diario contable'!F60,0)","v":0},{"$f":"IF('Diario contable'!C60=\"Inventario\",'Diario contable'!I60,IF('Diario contable'!E60=\"Inventario\",'Diario contable'!I60,0))","v":0},{"$f":"IF('Diario contable'!C60=\"Inventario\",'Diario contable'!H60,IF('Diario contable'!E60=\"Inventario\",'Diario contable'!H60,0))","v":"00:00:00"},null,null,{"$f":"+IF('Diario contable'!C60=\"Costo de ventas\",'Diario contable'!F60,0)","v":0},null,null,null,{"$f":"+IF('Diario contable'!E60=\"Costo de ventas\",'Diario contable'!F60,0)","v":0},{"$f":"IF('Diario contable'!C60=\"Costo de ventas\",'Diario contable'!I60,IF('Diario contable'!E60=\"Costo de ventas\",'Diario contable'!I60,0))","v":0},{"$f":"IF('Diario contable'!C60=\"Costo de ventas\",'Diario contable'!H60,IF('Diario contable'!E60=\"Costo de ventas\",'Diario contable'!H60,0))","v":"00:00:00"},null,null,{"$f":"+IF('Diario contable'!C60=\"Ventas\",'Diario contable'!F60,0)","v":0},null,null,null,{"$f":"+IF('Diario contable'!E60=\"Ventas\",'Diario contable'!F60,0)","v":0},{"$f":"IF('Diario contable'!C60=\"Ventas\",'Diario contable'!I60,IF('Diario contable'!E60=\"Ventas\",'Diario contable'!I60,0))","v":0},{"$f":"IF('Diario contable'!C60=\"Ventas\",'Diario contable'!H60,IF('Diario contable'!E60=\"Ventas\",'Diario contable'!H60,0))","v":"00:00:00"},null,null,{"$f":"+IF('Diario contable'!C60=\"Gastos por salarios\",'Diario contable'!F60,0)","v":0},null,null,null,{"$f":"+IF('Diario contable'!E60=\"Gastos por salarios\",'Diario contable'!F60,0)","v":0},{"$f":"IF('Diario contable'!C60=\"Gastos por salarios\",'Diario contable'!I60,IF('Diario contable'!E60=\"Gastos por salarios\",'Diario contable'!I60,0))","v":0},{"$f":"IF('Diario contable'!C60=\"Gastos por salarios\",'Diario contable'!H60,IF('Diario contable'!E60=\"Gastos por salarios\",'Diario contable'!H60,0))","v":"00:00:00"},null,null,{"$f":"+IF('Diario contable'!C60=\"Gastos operacionales\",'Diario contable'!F60,0)","v":0},null,null,null,{"$f":"+IF('Diario contable'!E60=\"Gastos operacionales\",'Diario contable'!F60,0)","v":0},{"$f":"IF('Diario contable'!C60=\"Gastos operacionales\",'Diario contable'!I60,IF('Diario contable'!E60=\"Gastos operacionales\",'Diario contable'!I60,0))","v":0},{"$f":"IF('Diario contable'!C60=\"Gastos operacionales\",'Diario contable'!H60,IF('Diario contable'!E60=\"Gastos operacionales\",'Diario contable'!H60,0))","v":"00:00:00"},null,null,{"$f":"+IF('Diario contable'!C60=\"Suministros de oficina\",'Diario contable'!F60,0)","v":0},null,null,null,{"$f":"+IF('Diario contable'!E60=\"Suministros de oficina\",'Diario contable'!F60,0)","v":0},{"$f":"IF('Diario contable'!C60=\"Suministros de oficina\",'Diario contable'!I60,IF('Diario contable'!E60=\"Suministros de oficina\",'Diario contable'!I60,0))","v":0},{"$f":"IF('Diario contable'!C60=\"Suministros de oficina\",'Diario contable'!H60,IF('Diario contable'!E60=\"Suministros de oficina\",'Diario contable'!H60,0))","v":"00:00:00"},null,null,{"$f":"+IF('Diario contable'!C60=\"Capital social\",'Diario contable'!F60,0)","v":0},null,null,null,{"$f":"+IF('Diario contable'!E60=\"Capital social\",'Diario contable'!F60,0)","v":0},{"$f":"IF('Diario contable'!C60=\"Capital social\",'Diario contable'!I60,IF('Diario contable'!E60=\"Capital social\",'Diario contable'!I60,0))","v":0},{"$f":"IF('Diario contable'!C60=\"Capital social\",'Diario contable'!H60,IF('Diario contable'!E60=\"Capital social\",'Diario contable'!H60,0))","v":"00:00:00"},null,null,{"$f":"+IF('Diario contable'!C60=\"Gastos de mercadeo\",'Diario contable'!F60,0)","v":0},null,null,null,{"$f":"+IF('Diario contable'!E60=\"Gastos de mercadeo\",'Diario contable'!F60,0)","v":0},{"$f":"IF('Diario contable'!C60=\"Gastos de mercadeo\",'Diario contable'!I60,IF('Diario contable'!E60=\"Gastos de mercadeo\",'Diario contable'!I60,0))","v":0},{"$f":"IF('Diario contable'!C60=\"Gastos de mercadeo\",'Diario contable'!H60,IF('Diario contable'!E60=\"Gastos de mercadeo\",'Diario contable'!H60,0))","v":"00:00:00"},null,null,{"$f":"+IF('Diario contable'!C60=\"Gastos de suministros de oficina\",'Diario contable'!F60,0)","v":0},null,null,null,{"$f":"+IF('Diario contable'!E60=\"Gastos de suministros de oficina\",'Diario contable'!F60,0)","v":0},{"$f":"IF('Diario contable'!C60=\"Gastos de suministros de oficina\",'Diario contable'!I60,IF('Diario contable'!E60=\"Gastos de suministros de oficina\",'Diario contable'!I60,0))","v":0},{"$f":"IF('Diario contable'!C60=\"Gastos de suministros de oficina\",'Diario contable'!H60,IF('Diario contable'!E60=\"Gastos de suministros de oficina\",'Diario contable'!H60,0))","v":"00:00:00"}]
[null,null,{"$f":"+IF('Diario contable'!C61=\"Caja\",'Diario contable'!F61,0)","v":0},null,null,null,{"$f":"+IF('Diario contable'!E61=\"Caja\",'Diario contable'!F61,0)","v":0},{"$f":"IF('Diario contable'!C61=\"Caja\",'Diario contable'!I61,IF('Diario contable'!E61=\"Caja\",'Diario contable'!I61,0))","v":0},{"$f":"IF('Diario contable'!C61=\"Caja\",'Diario contable'!H61,IF('Diario contable'!E61=\"Caja\",'Diario contable'!H61,0))","v":"00:00:00"},null,null,{"$f":"+IF('Diario contable'!C61=\"Maquinaria\",'Diario contable'!F61,0)","v":0},null,null,null,{"$f":"+IF('Diario contable'!E61=\"Maquinaria\",'Diario contable'!F61,0)","v":0},{"$f":"IF('Diario contable'!C61=\"Maquinaria\",'Diario contable'!I61,IF('Diario contable'!E61=\"Maquinaria\",'Diario contable'!I61,0))","v":0},{"$f":"IF('Diario contable'!C61=\"Maquinaria\",'Diario contable'!H61,IF('Diario contable'!E61=\"Maquinaria\",'Diario contable'!H61,0))","v":"00:00:00"},null,null,{"$f":"+IF('Diario contable'!C61=\"Herramientas\",'Diario contable'!F61,0)","v":0},null,null,null,{"$f":"+IF('Diario contable'!E61=\"Herramientas\",'Diario contable'!F61,0)","v":0},{"$f":"IF('Diario contable'!C61=\"Herramientas\",'Diario contable'!I61,IF('Diario contable'!E61=\"Herramientas\",'Diario contable'!I61,0))","v":0},{"$f":"IF('Diario contable'!C61=\"Herramientas\",'Diario contable'!H61,IF('Diario contable'!E61=\"Herramientas\",'Diario contable'!H61,0))","v":"00:00:00"},null,null,{"$f":"+IF('Diario contable'!C61=\"Donaciones\",'Diario contable'!F61,0)","v":0},null,null,null,{"$f":"+IF('Diario contable'!E61=\"Donaciones\",'Diario contable'!F61,0)","v":0},{"$f":"IF('Diario contable'!C61=\"Donaciones\",'Diario contable'!I61,IF('Diario contable'!E61=\"Donaciones\",'Diario contable'!I61,0))","v":0},{"$f":"IF('Diario contable'!C61=\"Donaciones\",'Diario contable'!H61,IF('Diario contable'!E61=\"Donaciones\",'Diario contable'!H61,0))","v":"00:00:00"},null,null,{"$f":"+IF('Diario contable'!C61=\"Inventario\",'Diario contable'!F61,0)","v":0},null,null,null,{"$f":"+IF('Diario contable'!E61=\"Inventario\",'Diario contable'!F61,0)","v":0},{"$f":"IF('Diario contable'!C61=\"Inventario\",'Diario contable'!I61,IF('Diario contable'!E61=\"Inventario\",'Diario contable'!I61,0))","v":0},{"$f":"IF('Diario contable'!C61=\"Inventario\",'Diario contable'!H61,IF('Diario contable'!E61=\"Inventario\",'Diario contable'!H61,0))","v":"00:00:00"},null,null,{"$f":"+IF('Diario contable'!C61=\"Costo de ventas\",'Diario contable'!F61,0)","v":0},null,null,null,{"$f":"+IF('Diario contable'!E61=\"Costo de ventas\",'Diario contable'!F61,0)","v":0},{"$f":"IF('Diario contable'!C61=\"Costo de ventas\",'Diario contable'!I61,IF('Diario contable'!E61=\"Costo de ventas\",'Diario contable'!I61,0))","v":0},{"$f":"IF('Diario contable'!C61=\"Costo de ventas\",'Diario contable'!H61,IF('Diario contable'!E61=\"Costo de ventas\",'Diario contable'!H61,0))","v":"00:00:00"},null,null,{"$f":"+IF('Diario contable'!C61=\"Ventas\",'Diario contable'!F61,0)","v":0},null,null,null,{"$f":"+IF('Diario contable'!E61=\"Ventas\",'Diario contable'!F61,0)","v":0},{"$f":"IF('Diario contable'!C61=\"Ventas\",'Diario contable'!I61,IF('Diario contable'!E61=\"Ventas\",'Diario contable'!I61,0))","v":0},{"$f":"IF('Diario contable'!C61=\"Ventas\",'Diario contable'!H61,IF('Diario contable'!E61=\"Ventas\",'Diario contable'!H61,0))","v":"00:00:00"},null,null,{"$f":"+IF('Diario contable'!C61=\"Gastos por salarios\",'Diario contable'!F61,0)","v":0},null,null,null,{"$f":"+IF('Diario contable'!E61=\"Gastos por salarios\",'Diario contable'!F61,0)","v":0},{"$f":"IF('Diario contable'!C61=\"Gastos por salarios\",'Diario contable'!I61,IF('Diario contable'!E61=\"Gastos por salarios\",'Diario contable'!I61,0))","v":0},{"$f":"IF('Diario contable'!C61=\"Gastos por salarios\",'Diario contable'!H61,IF('Diario contable'!E61=\"Gastos por salarios\",'Diario contable'!H61,0))","v":"00:00:00"},null,null,{"$f":"+IF('Diario contable'!C61=\"Gastos operacionales\",'Diario contable'!F61,0)","v":0},null,null,null,{"$f":"+IF('Diario contable'!E61=\"Gastos operacionales\",'Diario contable'!F61,0)","v":0},{"$f":"IF('Diario contable'!C61=\"Gastos operacionales\",'Diario contable'!I61,IF('Diario contable'!E61=\"Gastos operacionales\",'Diario contable'!I61,0))","v":0},{"$f":"IF('Diario contable'!C61=\"Gastos operacionales\",'Diario contable'!H61,IF('Diario contable'!E61=\"Gastos operacionales\",'Diario contable'!H61,0))","v":"00:00:00"},null,null,{"$f":"+IF('Diario contable'!C61=\"Suministros de oficina\",'Diario contable'!F61,0)","v":0},null,null,null,{"$f":"+IF('Diario contable'!E61=\"Suministros de oficina\",'Diario contable'!F61,0)","v":0},{"$f":"IF('Diario contable'!C61=\"Suministros de oficina\",'Diario contable'!I61,IF('Diario contable'!E61=\"Suministros de oficina\",'Diario contable'!I61,0))","v":0},{"$f":"IF('Diario contable'!C61=\"Suministros de oficina\",'Diario contable'!H61,IF('Diario contable'!E61=\"Suministros de oficina\",'Diario contable'!H61,0))","v":"00:00:00"},null,null,{"$f":"+IF('Diario contable'!C61=\"Capital social\",'Diario contable'!F61,0)","v":0},null,null,null,{"$f":"+IF('Diario contable'!E61=\"Capital social\",'Diario contable'!F61,0)","v":0},{"$f":"IF('Diario contable'!C61=\"Capital social\",'Diario contable'!I61,IF('Diario contable'!E61=\"Capital social\",'Diario contable'!I61,0))","v":0},{"$f":"IF('Diario contable'!C61=\"Capital social\",'Diario contable'!H61,IF('Diario contable'!E61=\"Capital social\",'Diario contable'!H61,0))","v":"00:00:00"},null,null,{"$f":"+IF('Diario contable'!C61=\"Gastos de mercadeo\",'Diario contable'!F61,0)","v":0},null,null,null,{"$f":"+IF('Diario contable'!E61=\"Gastos de mercadeo\",'Diario contable'!F61,0)","v":0},{"$f":"IF('Diario contable'!C61=\"Gastos de mercadeo\",'Diario contable'!I61,IF('Diario contable'!E61=\"Gastos de mercadeo\",'Diario contable'!I61,0))","v":0},{"$f":"IF('Diario contable'!C61=\"Gastos de mercadeo\",'Diario contable'!H61,IF('Diario contable'!E61=\"Gastos de mercadeo\",'Diario contable'!H61,0))","v":"00:00:00"},null,null,{"$f":"+IF('Diario contable'!C61=\"Gastos de suministros de oficina\",'Diario contable'!F61,0)","v":0},null,null,null,{"$f":"+IF('Diario contable'!E61=\"Gastos de suministros de oficina\",'Diario contable'!F61,0)","v":0},{"$f":"IF('Diario contable'!C61=\"Gastos de suministros de oficina\",'Diario contable'!I61,IF('Diario contable'!E61=\"Gastos de suministros de oficina\",'Diario contable'!I61,0))","v":0},{"$f":"IF('Diario contable'!C61=\"Gastos de suministros de oficina\",'Diario contable'!H61,IF('Diario contable'!E61=\"Gastos de suministros de oficina\",'Diario contable'!H61,0))","v":"00:00:00"}]
[null,null,{"$f":"+IF('Diario contable'!C62=\"Caja\",'Diario contable'!F62,0)","v":0},null,null,null,{"$f":"+IF('Diario contable'!E62=\"Caja\",'Diario contable'!F62,0)","v":0},{"$f":"IF('Diario contable'!C62=\"Caja\",'Diario contable'!I62,IF('Diario contable'!E62=\"Caja\",'Diario contable'!I62,0))","v":0},{"$f":"IF('Diario contable'!C62=\"Caja\",'Diario contable'!H62,IF('Diario contable'!E62=\"Caja\",'Diario contable'!H62,0))","v":"00:00:00"},null,null,{"$f":"+IF('Diario contable'!C62=\"Maquinaria\",'Diario contable'!F62,0)","v":0},null,null,null,{"$f":"+IF('Diario contable'!E62=\"Maquinaria\",'Diario contable'!F62,0)","v":0},{"$f":"IF('Diario contable'!C62=\"Maquinaria\",'Diario contable'!I62,IF('Diario contable'!E62=\"Maquinaria\",'Diario contable'!I62,0))","v":0},{"$f":"IF('Diario contable'!C62=\"Maquinaria\",'Diario contable'!H62,IF('Diario contable'!E62=\"Maquinaria\",'Diario contable'!H62,0))","v":"00:00:00"},null,null,{"$f":"+IF('Diario contable'!C62=\"Herramientas\",'Diario contable'!F62,0)","v":0},null,null,null,{"$f":"+IF('Diario contable'!E62=\"Herramientas\",'Diario contable'!F62,0)","v":0},{"$f":"IF('Diario contable'!C62=\"Herramientas\",'Diario contable'!I62,IF('Diario contable'!E62=\"Herramientas\",'Diario contable'!I62,0))","v":0},{"$f":"IF('Diario contable'!C62=\"Herramientas\",'Diario contable'!H62,IF('Diario contable'!E62=\"Herramientas\",'Diario contable'!H62,0))","v":"00:00:00"},null,null,{"$f":"+IF('Diario contable'!C62=\"Donaciones\",'Diario contable'!F62,0)","v":0},null,null,null,{"$f":"+IF('Diario contable'!E62=\"Donaciones\",'Diario contable'!F62,0)","v":0},{"$f":"IF('Diario contable'!C62=\"Donaciones\",'Diario contable'!I62,IF('Diario contable'!E62=\"Donaciones\",'Diario contable'!I62,0))","v":0},{"$f":"IF('Diario contable'!C62=\"Donaciones\",'Diario contable'!H62,IF('Diario contable'!E62=\"Donaciones\",'Diario contable'!H62,0))","v":"00:00:00"},null,null,{"$f":"+IF('Diario contable'!C62=\"Inventario\",'Diario contable'!F62,0)","v":0},null,null,null,{"$f":"+IF('Diario contable'!E62=\"Inventario\",'Diario contable'!F62,0)","v":0},{"$f":"IF('Diario contable'!C62=\"Inventario\",'Diario contable'!I62,IF('Diario contable'!E62=\"Inventario\",'Diario contable'!I62,0))","v":0},{"$f":"IF('Diario contable'!C62=\"Inventario\",'Diario contable'!H62,IF('Diario contable'!E62=\"Inventario\",'Diario contable'!H62,0))","v":"00:00:00"},null,null,{"$f":"+IF('Diario contable'!C62=\"Costo de ventas\",'Diario contable'!F62,0)","v":0},null,null,null,{"$f":"+IF('Diario contable'!E62=\"Costo de ventas\",'Diario contable'!F62,0)","v":0},{"$f":"IF('Diario contable'!C62=\"Costo de ventas\",'Diario contable'!I62,IF('Diario contable'!E62=\"Costo de ventas\",'Diario contable'!I62,0))","v":0},{"$f":"IF('Diario contable'!C62=\"Costo de ventas\",'Diario contable'!H62,IF('Diario contable'!E62=\"Costo de ventas\",'Diario contable'!H62,0))","v":"00:00:00"},null,null,{"$f":"+IF('Diario contable'!C62=\"Ventas\",'Diario contable'!F62,0)","v":0},null,null,null,{"$f":"+IF('Diario contable'!E62=\"Ventas\",'Diario contable'!F62,0)","v":0},{"$f":"IF('Diario contable'!C62=\"Ventas\",'Diario contable'!I62,IF('Diario contable'!E62=\"Ventas\",'Diario contable'!I62,0))","v":0},{"$f":"IF('Diario contable'!C62=\"Ventas\",'Diario contable'!H62,IF('Diario contable'!E62=\"Ventas\",'Diario contable'!H62,0))","v":"00:00:00"},null,null,{"$f":"+IF('Diario contable'!C62=\"Gastos por salarios\",'Diario contable'!F62,0)","v":0},null,null,null,{"$f":"+IF('Diario contable'!E62=\"Gastos por salarios\",'Diario contable'!F62,0)","v":0},{"$f":"IF('Diario contable'!C62=\"Gastos por salarios\",'Diario contable'!I62,IF('Diario contable'!E62=\"Gastos por salarios\",'Diario contable'!I62,0))","v":0},{"$f":"IF('Diario contable'!C62=\"Gastos por salarios\",'Diario contable'!H62,IF('Diario contable'!E62=\"Gastos por salarios\",'Diario contable'!H62,0))","v":"00:00:00"},null,null,{"$f":"+IF('Diario contable'!C62=\"Gastos operacionales\",'Diario contable'!F62,0)","v":0},null,null,null,{"$f":"+IF('Diario contable'!E62=\"Gastos operacionales\",'Diario contable'!F62,0)","v":0},{"$f":"IF('Diario contable'!C62=\"Gastos operacionales\",'Diario contable'!I62,IF('Diario contable'!E62=\"Gastos operacionales\",'Diario contable'!I62,0))","v":0},{"$f":"IF('Diario contable'!C62=\"Gastos operacionales\",'Diario contable'!H62,IF('Diario contable'!E62=\"Gastos operacionales\",'Diario contable'!H62,0))","v":"00:00:00"},null,null,{"$f":"+IF('Diario contable'!C62=\"Suministros de oficina\",'Diario contable'!F62,0)","v":0},null,null,null,{"$f":"+IF('Diario contable'!E62=\"Suministros de oficina\",'Diario contable'!F62,0)","v":0},{"$f":"IF('Diario contable'!C62=\"Suministros de oficina\",'Diario contable'!I62,IF('Diario contable'!E62=\"Suministros de oficina\",'Diario contable'!I62,0))","v":0},{"$f":"IF('Diario contable'!C62=\"Suministros de oficina\",'Diario contable'!H62,IF('Diario contable'!E62=\"Suministros de oficina\",'Diario contable'!H62,0))","v":"00:00:00"},null,null,{"$f":"+IF('Diario contable'!C62=\"Capital social\",'Diario contable'!F62,0)","v":0},null,null,null,{"$f":"+IF('Diario contable'!E62=\"Capital social\",'Diario contable'!F62,0)","v":0},{"$f":"IF('Diario contable'!C62=\"Capital social\",'Diario contable'!I62,IF('Diario contable'!E62=\"Capital social\",'Diario contable'!I62,0))","v":0},{"$f":"IF('Diario contable'!C62=\"Capital social\",'Diario contable'!H62,IF('Diario contable'!E62=\"Capital social\",'Diario contable'!H62,0))","v":"00:00:00"},null,null,{"$f":"+IF('Diario contable'!C62=\"Gastos de mercadeo\",'Diario contable'!F62,0)","v":0},null,null,null,{"$f":"+IF('Diario contable'!E62=\"Gastos de mercadeo\",'Diario contable'!F62,0)","v":0},{"$f":"IF('Diario contable'!C62=\"Gastos de mercadeo\",'Diario contable'!I62,IF('Diario contable'!E62=\"Gastos de mercadeo\",'Diario contable'!I62,0))","v":0},{"$f":"IF('Diario contable'!C62=\"Gastos de mercadeo\",'Diario contable'!H62,IF('Diario contable'!E62=\"Gastos de mercadeo\",'Diario contable'!H62,0))","v":"00:00:00"},null,null,{"$f":"+IF('Diario contable'!C62=\"Gastos de suministros de oficina\",'Diario contable'!F62,0)","v":0},null,null,null,{"$f":"+IF('Diario contable'!E62=\"Gastos de suministros de oficina\",'Diario contable'!F62,0)","v":0},{"$f":"IF('Diario contable'!C62=\"Gastos de suministros de oficina\",'Diario contable'!I62,IF('Diario contable'!E62=\"Gastos de suministros de oficina\",'Diario contable'!I62,0))","v":0},{"$f":"IF('Diario contable'!C62=\"Gastos de suministros de oficina\",'Diario contable'!H62,IF('Diario contable'!E62=\"Gastos de suministros de oficina\",'Diario contable'!H62,0))","v":"00:00:00"}]
[null,null,{"$f":"+IF('Diario contable'!C63=\"Caja\",'Diario contable'!F63,0)","v":0},null,null,null,{"$f":"+IF('Diario contable'!E63=\"Caja\",'Diario contable'!F63,0)","v":0},{"$f":"IF('Diario contable'!C63=\"Caja\",'Diario contable'!I63,IF('Diario contable'!E63=\"Caja\",'Diario contable'!I63,0))","v":0},{"$f":"IF('Diario contable'!C63=\"Caja\",'Diario contable'!H63,IF('Diario contable'!E63=\"Caja\",'Diario contable'!H63,0))","v":"00:00:00"},null,null,{"$f":"+IF('Diario contable'!C63=\"Maquinaria\",'Diario contable'!F63,0)","v":0},null,null,null,{"$f":"+IF('Diario contable'!E63=\"Maquinaria\",'Diario contable'!F63,0)","v":0},{"$f":"IF('Diario contable'!C63=\"Maquinaria\",'Diario contable'!I63,IF('Diario contable'!E63=\"Maquinaria\",'Diario contable'!I63,0))","v":0},{"$f":"IF('Diario contable'!C63=\"Maquinaria\",'Diario contable'!H63,IF('Diario contable'!E63=\"Maquinaria\",'Diario contable'!H63,0))","v":"00:00:00"},null,null,{"$f":"+IF('Diario contable'!C63=\"Herramientas\",'Diario contable'!F63,0)","v":0},null,null,null,{"$f":"+IF('Diario contable'!E63=\"Herramientas\",'Diario contable'!F63,0)","v":0},{"$f":"IF('Diario contable'!C63=\"Herramientas\",'Diario contable'!I63,IF('Diario contable'!E63=\"Herramientas\",'Diario contable'!I63,0))","v":0},{"$f":"IF('Diario contable'!C63=\"Herramientas\",'Diario contable'!H63,IF('Diario contable'!E63=\"Herramientas\",'Diario contable'!H63,0))","v":"00:00:00"},null,null,{"$f":"+IF('Diario contable'!C63=\"Donaciones\",'Diario contable'!F63,0)","v":0},null,null,null,{"$f":"+IF('Diario contable'!E63=\"Donaciones\",'Diario contable'!F63,0)","v":0},{"$f":"IF('Diario contable'!C63=\"Donaciones\",'Diario contable'!I63,IF('Diario contable'!E63=\"Donaciones\",'Diario contable'!I63,0))","v":0},{"$f":"IF('Diario contable'!C63=\"Donaciones\",'Diario contable'!H63,IF('Diario contable'!E63=\"Donaciones\",'Diario contable'!H63,0))","v":"00:00:00"},null,null,{"$f":"+IF('Diario contable'!C63=\"Inventario\",'Diario contable'!F63,0)","v":0},null,null,null,{"$f":"+IF('Diario contable'!E63=\"Inventario\",'Diario contable'!F63,0)","v":0},{"$f":"IF('Diario contable'!C63=\"Inventario\",'Diario contable'!I63,IF('Diario contable'!E63=\"Inventario\",'Diario contable'!I63,0))","v":0},{"$f":"IF('Diario contable'!C63=\"Inventario\",'Diario contable'!H63,IF('Diario contable'!E63=\"Inventario\",'Diario contable'!H63,0))","v":"00:00:00"},null,null,{"$f":"+IF('Diario contable'!C63=\"Costo de ventas\",'Diario contable'!F63,0)","v":0},null,null,null,{"$f":"+IF('Diario contable'!E63=\"Costo de ventas\",'Diario contable'!F63,0)","v":0},{"$f":"IF('Diario contable'!C63=\"Costo de ventas\",'Diario contable'!I63,IF('Diario contable'!E63=\"Costo de ventas\",'Diario contable'!I63,0))","v":0},{"$f":"IF('Diario contable'!C63=\"Costo de ventas\",'Diario contable'!H63,IF('Diario contable'!E63=\"Costo de ventas\",'Diario contable'!H63,0))","v":"00:00:00"},null,null,{"$f":"+IF('Diario contable'!C63=\"Ventas\",'Diario contable'!F63,0)","v":0},null,null,null,{"$f":"+IF('Diario contable'!E63=\"Ventas\",'Diario contable'!F63,0)","v":0},{"$f":"IF('Diario contable'!C63=\"Ventas\",'Diario contable'!I63,IF('Diario contable'!E63=\"Ventas\",'Diario contable'!I63,0))","v":0},{"$f":"IF('Diario contable'!C63=\"Ventas\",'Diario contable'!H63,IF('Diario contable'!E63=\"Ventas\",'Diario contable'!H63,0))","v":"00:00:00"},null,null,{"$f":"+IF('Diario contable'!C63=\"Gastos por salarios\",'Diario contable'!F63,0)","v":0},null,null,null,{"$f":"+IF('Diario contable'!E63=\"Gastos por salarios\",'Diario contable'!F63,0)","v":0},{"$f":"IF('Diario contable'!C63=\"Gastos por salarios\",'Diario contable'!I63,IF('Diario contable'!E63=\"Gastos por salarios\",'Diario contable'!I63,0))","v":0},{"$f":"IF('Diario contable'!C63=\"Gastos por salarios\",'Diario contable'!H63,IF('Diario contable'!E63=\"Gastos por salarios\",'Diario contable'!H63,0))","v":"00:00:00"},null,null,{"$f":"+IF('Diario contable'!C63=\"Gastos operacionales\",'Diario contable'!F63,0)","v":0},null,null,null,{"$f":"+IF('Diario contable'!E63=\"Gastos operacionales\",'Diario contable'!F63,0)","v":0},{"$f":"IF('Diario contable'!C63=\"Gastos operacionales\",'Diario contable'!I63,IF('Diario contable'!E63=\"Gastos operacionales\",'Diario contable'!I63,0))","v":0},{"$f":"IF('Diario contable'!C63=\"Gastos operacionales\",'Diario contable'!H63,IF('Diario contable'!E63=\"Gastos operacionales\",'Diario contable'!H63,0))","v":"00:00:00"},null,null,{"$f":"+IF('Diario contable'!C63=\"Suministros de oficina\",'Diario contable'!F63,0)","v":0},null,null,null,{"$f":"+IF('Diario contable'!E63=\"Suministros de oficina\",'Diario contable'!F63,0)","v":0},{"$f":"IF('Diario contable'!C63=\"Suministros de oficina\",'Diario contable'!I63,IF('Diario contable'!E63=\"Suministros de oficina\",'Diario contable'!I63,0))","v":0},{"$f":"IF('Diario contable'!C63=\"Suministros de oficina\",'Diario contable'!H63,IF('Diario contable'!E63=\"Suministros de oficina\",'Diario contable'!H63,0))","v":"00:00:00"},null,null,{"$f":"+IF('Diario contable'!C63=\"Capital social\",'Diario contable'!F63,0)","v":0},null,null,null,{"$f":"+IF('Diario contable'!E63=\"Capital social\",'Diario contable'!F63,0)","v":0},{"$f":"IF('Diario contable'!C63=\"Capital social\",'Diario contable'!I63,IF('Diario contable'!E63=\"Capital social\",'Diario contable'!I63,0))","v":0},{"$f":"IF('Diario contable'!C63=\"Capital social\",'Diario contable'!H63,IF('Diario contable'!E63=\"Capital social\",'Diario contable'!H63,0))","v":"00:00:00"},null,null,{"$f":"+IF('Diario contable'!C63=\"Gastos de mercadeo\",'Diario contable'!F63,0)","v":0},null,null,null,{"$f":"+IF('Diario contable'!E63=\"Gastos de mercadeo\",'Diario contable'!F63,0)","v":0},{"$f":"IF('Diario contable'!C63=\"Gastos de mercadeo\",'Diario contable'!I63,IF('Diario contable'!E63=\"Gastos de mercadeo\",'Diario contable'!I63,0))","v":0},{"$f":"IF('Diario contable'!C63=\"Gastos de mercadeo\",'Diario contable'!H63,IF('Diario contable'!E63=\"Gastos de mercadeo\",'Diario contable'!H63,0))","v":"00:00:00"},null,null,{"$f":"+IF('Diario contable'!C63=\"Gastos de suministros de oficina\",'Diario contable'!F63,0)","v":0},null,null,null,{"$f":"+IF('Diario contable'!E63=\"Gastos de suministros de oficina\",'Diario contable'!F63,0)","v":0},{"$f":"IF('Diario contable'!C63=\"Gastos de suministros de oficina\",'Diario contable'!I63,IF('Diario contable'!E63=\"Gastos de suministros de oficina\",'Diario contable'!I63,0))","v":0},{"$f":"IF('Diario contable'!C63=\"Gastos de suministros de oficina\",'Diario contable'!H63,IF('Diario contable'!E63=\"Gastos de suministros de oficina\",'Diario contable'!H63,0))","v":"00:00:00"}]
[null,null,{"$f":"+IF('Diario contable'!C64=\"Caja\",'Diario contable'!F64,0)","v":0},null,null,null,{"$f":"+IF('Diario contable'!E64=\"Caja\",'Diario contable'!F64,0)","v":0},{"$f":"IF('Diario contable'!C64=\"Caja\",'Diario contable'!I64,IF('Diario contable'!E64=\"Caja\",'Diario contable'!I64,0))","v":0},{"$f":"IF('Diario contable'!C64=\"Caja\",'Diario contable'!H64,IF('Diario contable'!E64=\"Caja\",'Diario contable'!H64,0))","v":"00:00:00"},null,null,{"$f":"+IF('Diario contable'!C64=\"Maquinaria\",'Diario contable'!F64,0)","v":0},null,null,null,{"$f":"+IF('Diario contable'!E64=\"Maquinaria\",'Diario contable'!F64,0)","v":0},{"$f":"IF('Diario contable'!C64=\"Maquinaria\",'Diario contable'!I64,IF('Diario contable'!E64=\"Maquinaria\",'Diario contable'!I64,0))","v":0},{"$f":"IF('Diario contable'!C64=\"Maquinaria\",'Diario contable'!H64,IF('Diario contable'!E64=\"Maquinaria\",'Diario contable'!H64,0))","v":"00:00:00"},null,null,{"$f":"+IF('Diario contable'!C64=\"Herramientas\",'Diario contable'!F64,0)","v":0},null,null,null,{"$f":"+IF('Diario contable'!E64=\"Herramientas\",'Diario contable'!F64,0)","v":0},{"$f":"IF('Diario contable'!C64=\"Herramientas\",'Diario contable'!I64,IF('Diario contable'!E64=\"Herramientas\",'Diario contable'!I64,0))","v":0},{"$f":"IF('Diario contable'!C64=\"Herramientas\",'Diario contable'!H64,IF('Diario contable'!E64=\"Herramientas\",'Diario contable'!H64,0))","v":"00:00:00"},null,null,{"$f":"+IF('Diario contable'!C64=\"Donaciones\",'Diario contable'!F64,0)","v":0},null,null,null,{"$f":"+IF('Diario contable'!E64=\"Donaciones\",'Diario contable'!F64,0)","v":0},{"$f":"IF('Diario contable'!C64=\"Donaciones\",'Diario contable'!I64,IF('Diario contable'!E64=\"Donaciones\",'Diario contable'!I64,0))","v":0},{"$f":"IF('Diario contable'!C64=\"Donaciones\",'Diario contable'!H64,IF('Diario contable'!E64=\"Donaciones\",'Diario contable'!H64,0))","v":"00:00:00"},null,null,{"$f":"+IF('Diario contable'!C64=\"Inventario\",'Diario contable'!F64,0)","v":0},null,null,null,{"$f":"+IF('Diario contable'!E64=\"Inventario\",'Diario contable'!F64,0)","v":0},{"$f":"IF('Diario contable'!C64=\"Inventario\",'Diario contable'!I64,IF('Diario contable'!E64=\"Inventario\",'Diario contable'!I64,0))","v":0},{"$f":"IF('Diario contable'!C64=\"Inventario\",'Diario contable'!H64,IF('Diario contable'!E64=\"Inventario\",'Diario contable'!H64,0))","v":"00:00:00"},null,null,{"$f":"+IF('Diario contable'!C64=\"Costo de ventas\",'Diario contable'!F64,0)","v":0},null,null,null,{"$f":"+IF('Diario contable'!E64=\"Costo de ventas\",'Diario contable'!F64,0)","v":0},{"$f":"IF('Diario contable'!C64=\"Costo de ventas\",'Diario contable'!I64,IF('Diario contable'!E64=\"Costo de ventas\",'Diario contable'!I64,0))","v":0},{"$f":"IF('Diario contable'!C64=\"Costo de ventas\",'Diario contable'!H64,IF('Diario contable'!E64=\"Costo de ventas\",'Diario contable'!H64,0))","v":"00:00:00"},null,null,{"$f":"+IF('Diario contable'!C64=\"Ventas\",'Diario contable'!F64,0)","v":0},null,null,null,{"$f":"+IF('Diario contable'!E64=\"Ventas\",'Diario contable'!F64,0)","v":0},{"$f":"IF('Diario contable'!C64=\"Ventas\",'Diario contable'!I64,IF('Diario contable'!E64=\"Ventas\",'Diario contable'!I64,0))","v":0},{"$f":"IF('Diario contable'!C64=\"Ventas\",'Diario contable'!H64,IF('Diario contable'!E64=\"Ventas\",'Diario contable'!H64,0))","v":"00:00:00"},null,null,{"$f":"+IF('Diario contable'!C64=\"Gastos por salarios\",'Diario contable'!F64,0)","v":0},null,null,null,{"$f":"+IF('Diario contable'!E64=\"Gastos por salarios\",'Diario contable'!F64,0)","v":0},{"$f":"IF('Diario contable'!C64=\"Gastos por salarios\",'Diario contable'!I64,IF('Diario contable'!E64=\"Gastos por salarios\",'Diario contable'!I64,0))","v":0},{"$f":"IF('Diario contable'!C64=\"Gastos por salarios\",'Diario contable'!H64,IF('Diario contable'!E64=\"Gastos por salarios\",'Diario contable'!H64,0))","v":"00:00:00"},null,null,{"$f":"+IF('Diario contable'!C64=\"Gastos operacionales\",'Diario contable'!F64,0)","v":0},null,null,null,{"$f":"+IF('Diario contable'!E64=\"Gastos operacionales\",'Diario contable'!F64,0)","v":0},{"$f":"IF('Diario contable'!C64=\"Gastos operacionales\",'Diario contable'!I64,IF('Diario contable'!E64=\"Gastos operacionales\",'Diario contable'!I64,0))","v":0},{"$f":"IF('Diario contable'!C64=\"Gastos operacionales\",'Diario contable'!H64,IF('Diario contable'!E64=\"Gastos operacionales\",'Diario contable'!H64,0))","v":"00:00:00"},null,null,{"$f":"+IF('Diario contable'!C64=\"Suministros de oficina\",'Diario contable'!F64,0)","v":0},null,null,null,{"$f":"+IF('Diario contable'!E64=\"Suministros de oficina\",'Diario contable'!F64,0)","v":0},{"$f":"IF('Diario contable'!C64=\"Suministros de oficina\",'Diario contable'!I64,IF('Diario contable'!E64=\"Suministros de oficina\",'Diario contable'!I64,0))","v":0},{"$f":"IF('Diario contable'!C64=\"Suministros de oficina\",'Diario contable'!H64,IF('Diario contable'!E64=\"Suministros de oficina\",'Diario contable'!H64,0))","v":"00:00:00"},null,null,{"$f":"+IF('Diario contable'!C64=\"Capital social\",'Diario contable'!F64,0)","v":0},null,null,null,{"$f":"+IF('Diario contable'!E64=\"Capital social\",'Diario contable'!F64,0)","v":0},{"$f":"IF('Diario contable'!C64=\"Capital social\",'Diario contable'!I64,IF('Diario contable'!E64=\"Capital social\",'Diario contable'!I64,0))","v":0},{"$f":"IF('Diario contable'!C64=\"Capital social\",'Diario contable'!H64,IF('Diario contable'!E64=\"Capital social\",'Diario contable'!H64,0))","v":"00:00:00"},null,null,{"$f":"+IF('Diario contable'!C64=\"Gastos de mercadeo\",'Diario contable'!F64,0)","v":0},null,null,null,{"$f":"+IF('Diario contable'!E64=\"Gastos de mercadeo\",'Diario contable'!F64,0)","v":0},{"$f":"IF('Diario contable'!C64=\"Gastos de mercadeo\",'Diario contable'!I64,IF('Diario contable'!E64=\"Gastos de mercadeo\",'Diario contable'!I64,0))","v":0},{"$f":"IF('Diario contable'!C64=\"Gastos de mercadeo\",'Diario contable'!H64,IF('Diario contable'!E64=\"Gastos de mercadeo\",'Diario contable'!H64,0))","v":"00:00:00"},null,null,{"$f":"+IF('Diario contable'!C64=\"Gastos de suministros de oficina\",'Diario contable'!F64,0)","v":0},null,null,null,{"$f":"+IF('Diario contable'!E64=\"Gastos de suministros de oficina\",'Diario contable'!F64,0)","v":0},{"$f":"IF('Diario contable'!C64=\"Gastos de suministros de oficina\",'Diario contable'!I64,IF('Diario contable'!E64=\"Gastos de suministros de oficina\",'Diario contable'!I64,0))","v":0},{"$f":"IF('Diario contable'!C64=\"Gastos de suministros de oficina\",'Diario contable'!H64,IF('Diario contable'!E64=\"Gastos de suministros de oficina\",'Diario contable'!H64,0))","v":"00:00:00"}]
[null,null,{"$f":"+IF('Diario contable'!C65=\"Caja\",'Diario contable'!F65,0)","v":0},null,null,null,{"$f":"+IF('Diario contable'!E65=\"Caja\",'Diario contable'!F65,0)","v":0},{"$f":"IF('Diario contable'!C65=\"Caja\",'Diario contable'!I65,IF('Diario contable'!E65=\"Caja\",'Diario contable'!I65,0))","v":0},{"$f":"IF('Diario contable'!C65=\"Caja\",'Diario contable'!H65,IF('Diario contable'!E65=\"Caja\",'Diario contable'!H65,0))","v":"00:00:00"},null,null,{"$f":"+IF('Diario contable'!C65=\"Maquinaria\",'Diario contable'!F65,0)","v":0},null,null,null,{"$f":"+IF('Diario contable'!E65=\"Maquinaria\",'Diario contable'!F65,0)","v":0},{"$f":"IF('Diario contable'!C65=\"Maquinaria\",'Diario contable'!I65,IF('Diario contable'!E65=\"Maquinaria\",'Diario contable'!I65,0))","v":0},{"$f":"IF('Diario contable'!C65=\"Maquinaria\",'Diario contable'!H65,IF('Diario contable'!E65=\"Maquinaria\",'Diario contable'!H65,0))","v":"00:00:00"},null,null,{"$f":"+IF('Diario contable'!C65=\"Herramientas\",'Diario contable'!F65,0)","v":0},null,null,null,{"$f":"+IF('Diario contable'!E65=\"Herramientas\",'Diario contable'!F65,0)","v":0},{"$f":"IF('Diario contable'!C65=\"Herramientas\",'Diario contable'!I65,IF('Diario contable'!E65=\"Herramientas\",'Diario contable'!I65,0))","v":0},{"$f":"IF('Diario contable'!C65=\"Herramientas\",'Diario contable'!H65,IF('Diario contable'!E65=\"Herramientas\",'Diario contable'!H65,0))","v":"00:00:00"},null,null,{"$f":"+IF('Diario contable'!C65=\"Donaciones\",'Diario contable'!F65,0)","v":0},null,null,null,{"$f":"+IF('Diario contable'!E65=\"Donaciones\",'Diario contable'!F65,0)","v":0},{"$f":"IF('Diario contable'!C65=\"Donaciones\",'Diario contable'!I65,IF('Diario contable'!E65=\"Donaciones\",'Diario contable'!I65,0))","v":0},{"$f":"IF('Diario contable'!C65=\"Donaciones\",'Diario contable'!H65,IF('Diario contable'!E65=\"Donaciones\",'Diario contable'!H65,0))","v":"00:00:00"},null,null,{"$f":"+IF('Diario contable'!C65=\"Inventario\",'Diario contable'!F65,0)","v":0},null,null,null,{"$f":"+IF('Diario contable'!E65=\"Inventario\",'Diario contable'!F65,0)","v":0},{"$f":"IF('Diario contable'!C65=\"Inventario\",'Diario contable'!I65,IF('Diario contable'!E65=\"Inventario\",'Diario contable'!I65,0))","v":0},{"$f":"IF('Diario contable'!C65=\"Inventario\",'Diario contable'!H65,IF('Diario contable'!E65=\"Inventario\",'Diario contable'!H65,0))","v":"00:00:00"},null,null,{"$f":"+IF('Diario contable'!C65=\"Costo de ventas\",'Diario contable'!F65,0)","v":0},null,null,null,{"$f":"+IF('Diario contable'!E65=\"Costo de ventas\",'Diario contable'!F65,0)","v":0},{"$f":"IF('Diario contable'!C65=\"Costo de ventas\",'Diario contable'!I65,IF('Diario contable'!E65=\"Costo de ventas\",'Diario contable'!I65,0))","v":0},{"$f":"IF('Diario contable'!C65=\"Costo de ventas\",'Diario contable'!H65,IF('Diario contable'!E65=\"Costo de ventas\",'Diario contable'!H65,0))","v":"00:00:00"},null,null,{"$f":"+IF('Diario contable'!C65=\"Ventas\",'Diario contable'!F65,0)","v":0},null,null,null,{"$f":"+IF('Diario contable'!E65=\"Ventas\",'Diario contable'!F65,0)","v":0},{"$f":"IF('Diario contable'!C65=\"Ventas\",'Diario contable'!I65,IF('Diario contable'!E65=\"Ventas\",'Diario contable'!I65,0))","v":0},{"$f":"IF('Diario contable'!C65=\"Ventas\",'Diario contable'!H65,IF('Diario contable'!E65=\"Ventas\",'Diario contable'!H65,0))","v":"00:00:00"},null,null,{"$f":"+IF('Diario contable'!C65=\"Gastos por salarios\",'Diario contable'!F65,0)","v":0},null,null,null,{"$f":"+IF('Diario contable'!E65=\"Gastos por salarios\",'Diario contable'!F65,0)","v":0},{"$f":"IF('Diario contable'!C65=\"Gastos por salarios\",'Diario contable'!I65,IF('Diario contable'!E65=\"Gastos por salarios\",'Diario contable'!I65,0))","v":0},{"$f":"IF('Diario contable'!C65=\"Gastos por salarios\",'Diario contable'!H65,IF('Diario contable'!E65=\"Gastos por salarios\",'Diario contable'!H65,0))","v":"00:00:00"},null,null,{"$f":"+IF('Diario contable'!C65=\"Gastos operacionales\",'Diario contable'!F65,0)","v":0},null,null,null,{"$f":"+IF('Diario contable'!E65=\"Gastos operacionales\",'Diario contable'!F65,0)","v":0},{"$f":"IF('Diario contable'!C65=\"Gastos operacionales\",'Diario contable'!I65,IF('Diario contable'!E65=\"Gastos operacionales\",'Diario contable'!I65,0))","v":0},{"$f":"IF('Diario contable'!C65=\"Gastos operacionales\",'Diario contable'!H65,IF('Diario contable'!E65=\"Gastos operacionales\",'Diario contable'!H65,0))","v":"00:00:00"},null,null,{"$f":"+IF('Diario contable'!C65=\"Suministros de oficina\",'Diario contable'!F65,0)","v":0},null,null,null,{"$f":"+IF('Diario contable'!E65=\"Suministros de oficina\",'Diario contable'!F65,0)","v":0},{"$f":"IF('Diario contable'!C65=\"Suministros de oficina\",'Diario contable'!I65,IF('Diario contable'!E65=\"Suministros de oficina\",'Diario contable'!I65,0))","v":0},{"$f":"IF('Diario contable'!C65=\"Suministros de oficina\",'Diario contable'!H65,IF('Diario contable'!E65=\"Suministros de oficina\",'Diario contable'!H65,0))","v":"00:00:00"},null,null,{"$f":"+IF('Diario contable'!C65=\"Capital social\",'Diario contable'!F65,0)","v":0},null,null,null,{"$f":"+IF('Diario contable'!E65=\"Capital social\",'Diario contable'!F65,0)","v":0},{"$f":"IF('Diario contable'!C65=\"Capital social\",'Diario contable'!I65,IF('Diario contable'!E65=\"Capital social\",'Diario contable'!I65,0))","v":0},{"$f":"IF('Diario contable'!C65=\"Capital social\",'Diario contable'!H65,IF('Diario contable'!E65=\"Capital social\",'Diario contable'!H65,0))","v":"00:00:00"},null,null,{"$f":"+IF('Diario contable'!C65=\"Gastos de mercadeo\",'Diario contable'!F65,0)","v":0},null,null,null,{"$f":"+IF('Diario contable'!E65=\"Gastos de mercadeo\",'Diario contable'!F65,0)","v":0},{"$f":"IF('Diario contable'!C65=\"Gastos de mercadeo\",'Diario contable'!I65,IF('Diario contable'!E65=\"Gastos de mercadeo\",'Diario contable'!I65,0))","v":0},{"$f":"IF('Diario contable'!C65=\"Gastos de mercadeo\",'Diario contable'!H65,IF('Diario contable'!E65=\"Gastos de mercadeo\",'Diario contable'!H65,0))","v":"00:00:00"},null,null,{"$f":"+IF('Diario contable'!C65=\"Gastos de suministros de oficina\",'Diario contable'!F65,0)","v":0},null,null,null,{"$f":"+IF('Diario contable'!E65=\"Gastos de suministros de oficina\",'Diario contable'!F65,0)","v":0},{"$f":"IF('Diario contable'!C65=\"Gastos de suministros de oficina\",'Diario contable'!I65,IF('Diario contable'!E65=\"Gastos de suministros de oficina\",'Diario contable'!I65,0))","v":0},{"$f":"IF('Diario contable'!C65=\"Gastos de suministros de oficina\",'Diario contable'!H65,IF('Diario contable'!E65=\"Gastos de suministros de oficina\",'Diario contable'!H65,0))","v":"00:00:00"}]
[null,null,{"$f":"+IF('Diario contable'!C66=\"Caja\",'Diario contable'!F66,0)","v":0},null,null,null,{"$f":"+IF('Diario contable'!E66=\"Caja\",'Diario contable'!F66,0)","v":0},{"$f":"IF('Diario contable'!C66=\"Caja\",'Diario contable'!I66,IF('Diario contable'!E66=\"Caja\",'Diario contable'!I66,0))","v":0},{"$f":"IF('Diario contable'!C66=\"Caja\",'Diario contable'!H66,IF('Diario contable'!E66=\"Caja\",'Diario contable'!H66,0))","v":"00:00:00"},null,null,{"$f":"+IF('Diario contable'!C66=\"Maquinaria\",'Diario contable'!F66,0)","v":0},null,null,null,{"$f":"+IF('Diario contable'!E66=\"Maquinaria\",'Diario contable'!F66,0)","v":0},{"$f":"IF('Diario contable'!C66=\"Maquinaria\",'Diario contable'!I66,IF('Diario contable'!E66=\"Maquinaria\",'Diario contable'!I66,0))","v":0},{"$f":"IF('Diario contable'!C66=\"Maquinaria\",'Diario contable'!H66,IF('Diario contable'!E66=\"Maquinaria\",'Diario contable'!H66,0))","v":"00:00:00"},null,null,{"$f":"+IF('Diario contable'!C66=\"Herramientas\",'Diario contable'!F66,0)","v":0},null,null,null,{"$f":"+IF('Diario contable'!E66=\"Herramientas\",'Diario contable'!F66,0)","v":0},{"$f":"IF('Diario contable'!C66=\"Herramientas\",'Diario contable'!I66,IF('Diario contable'!E66=\"Herramientas\",'Diario contable'!I66,0))","v":0},{"$f":"IF('Diario contable'!C66=\"Herramientas\",'Diario contable'!H66,IF('Diario contable'!E66=\"Herramientas\",'Diario contable'!H66,0))","v":"00:00:00"},null,null,{"$f":"+IF('Diario contable'!C66=\"Donaciones\",'Diario contable'!F66,0)","v":0},null,null,null,{"$f":"+IF('Diario contable'!E66=\"Donaciones\",'Diario contable'!F66,0)","v":0},{"$f":"IF('Diario contable'!C66=\"Donaciones\",'Diario contable'!I66,IF('Diario contable'!E66=\"Donaciones\",'Diario contable'!I66,0))","v":0},{"$f":"IF('Diario contable'!C66=\"Donaciones\",'Diario contable'!H66,IF('Diario contable'!E66=\"Donaciones\",'Diario contable'!H66,0))","v":"00:00:00"},null,null,{"$f":"+IF('Diario contable'!C66=\"Inventario\",'Diario contable'!F66,0)","v":0},null,null,null,{"$f":"+IF('Diario contable'!E66=\"Inventario\",'Diario contable'!F66,0)","v":0},{"$f":"IF('Diario contable'!C66=\"Inventario\",'Diario contable'!I66,IF('Diario contable'!E66=\"Inventario\",'Diario contable'!I66,0))","v":0},{"$f":"IF('Diario contable'!C66=\"Inventario\",'Diario contable'!H66,IF('Diario contable'!E66=\"Inventario\",'Diario contable'!H66,0))","v":"00:00:00"},null,null,{"$f":"+IF('Diario contable'!C66=\"Costo de ventas\",'Diario contable'!F66,0)","v":0},null,null,null,{"$f":"+IF('Diario contable'!E66=\"Costo de ventas\",'Diario contable'!F66,0)","v":0},{"$f":"IF('Diario contable'!C66=\"Costo de ventas\",'Diario contable'!I66,IF('Diario contable'!E66=\"Costo de ventas\",'Diario contable'!I66,0))","v":0},{"$f":"IF('Diario contable'!C66=\"Costo de ventas\",'Diario contable'!H66,IF('Diario contable'!E66=\"Costo de ventas\",'Diario contable'!H66,0))","v":"00:00:00"},null,null,{"$f":"+IF('Diario contable'!C66=\"Ventas\",'Diario contable'!F66,0)","v":0},null,null,null,{"$f":"+IF('Diario contable'!E66=\"Ventas\",'Diario contable'!F66,0)","v":0},{"$f":"IF('Diario contable'!C66=\"Ventas\",'Diario contable'!I66,IF('Diario contable'!E66=\"Ventas\",'Diario contable'!I66,0))","v":0},{"$f":"IF('Diario contable'!C66=\"Ventas\",'Diario contable'!H66,IF('Diario contable'!E66=\"Ventas\",'Diario contable'!H66,0))","v":"00:00:00"},null,null,{"$f":"+IF('Diario contable'!C66=\"Gastos por salarios\",'Diario contable'!F66,0)","v":0},null,null,null,{"$f":"+IF('Diario contable'!E66=\"Gastos por salarios\",'Diario contable'!F66,0)","v":0},{"$f":"IF('Diario contable'!C66=\"Gastos por salarios\",'Diario contable'!I66,IF('Diario contable'!E66=\"Gastos por salarios\",'Diario contable'!I66,0))","v":0},{"$f":"IF('Diario contable'!C66=\"Gastos por salarios\",'Diario contable'!H66,IF('Diario contable'!E66=\"Gastos por salarios\",'Diario contable'!H66,0))","v":"00:00:00"},null,null,{"$f":"+IF('Diario contable'!C66=\"Gastos operacionales\",'Diario contable'!F66,0)","v":0},null,null,null,{"$f":"+IF('Diario contable'!E66=\"Gastos operacionales\",'Diario contable'!F66,0)","v":0},{"$f":"IF('Diario contable'!C66=\"Gastos operacionales\",'Diario contable'!I66,IF('Diario contable'!E66=\"Gastos operacionales\",'Diario contable'!I66,0))","v":0},{"$f":"IF('Diario contable'!C66=\"Gastos operacionales\",'Diario contable'!H66,IF('Diario contable'!E66=\"Gastos operacionales\",'Diario contable'!H66,0))","v":"00:00:00"},null,null,{"$f":"+IF('Diario contable'!C66=\"Suministros de oficina\",'Diario contable'!F66,0)","v":0},null,null,null,{"$f":"+IF('Diario contable'!E66=\"Suministros de oficina\",'Diario contable'!F66,0)","v":0},{"$f":"IF('Diario contable'!C66=\"Suministros de oficina\",'Diario contable'!I66,IF('Diario contable'!E66=\"Suministros de oficina\",'Diario contable'!I66,0))","v":0},{"$f":"IF('Diario contable'!C66=\"Suministros de oficina\",'Diario contable'!H66,IF('Diario contable'!E66=\"Suministros de oficina\",'Diario contable'!H66,0))","v":"00:00:00"},null,null,{"$f":"+IF('Diario contable'!C66=\"Capital social\",'Diario contable'!F66,0)","v":0},null,null,null,{"$f":"+IF('Diario contable'!E66=\"Capital social\",'Diario contable'!F66,0)","v":0},{"$f":"IF('Diario contable'!C66=\"Capital social\",'Diario contable'!I66,IF('Diario contable'!E66=\"Capital social\",'Diario contable'!I66,0))","v":0},{"$f":"IF('Diario contable'!C66=\"Capital social\",'Diario contable'!H66,IF('Diario contable'!E66=\"Capital social\",'Diario contable'!H66,0))","v":"00:00:00"},null,null,{"$f":"+IF('Diario contable'!C66=\"Gastos de mercadeo\",'Diario contable'!F66,0)","v":0},null,null,null,{"$f":"+IF('Diario contable'!E66=\"Gastos de mercadeo\",'Diario contable'!F66,0)","v":0},{"$f":"IF('Diario contable'!C66=\"Gastos de mercadeo\",'Diario contable'!I66,IF('Diario contable'!E66=\"Gastos de mercadeo\",'Diario contable'!I66,0))","v":0},{"$f":"IF('Diario contable'!C66=\"Gastos de mercadeo\",'Diario contable'!H66,IF('Diario contable'!E66=\"Gastos de mercadeo\",'Diario contable'!H66,0))","v":"00:00:00"},null,null,{"$f":"+IF('Diario contable'!C66=\"Gastos de suministros de oficina\",'Diario contable'!F66,0)","v":0},null,null,null,{"$f":"+IF('Diario contable'!E66=\"Gastos de suministros de oficina\",'Diario contable'!F66,0)","v":0},{"$f":"IF('Diario contable'!C66=\"Gastos de suministros de oficina\",'Diario contable'!I66,IF('Diario contable'!E66=\"Gastos de suministros de oficina\",'Diario contable'!I66,0))","v":0},{"$f":"IF('Diario contable'!C66=\"Gastos de suministros de oficina\",'Diario contable'!H66,IF('Diario contable'!E66=\"Gastos de suministros de oficina\",'Diario contable'!H66,0))","v":"00:00:00"}]
[null,null,{"$f":"+IF('Diario contable'!C67=\"Caja\",'Diario contable'!F67,0)","v":0},null,null,null,{"$f":"+IF('Diario contable'!E67=\"Caja\",'Diario contable'!F67,0)","v":0},{"$f":"IF('Diario contable'!C67=\"Caja\",'Diario contable'!I67,IF('Diario contable'!E67=\"Caja\",'Diario contable'!I67,0))","v":0},{"$f":"IF('Diario contable'!C67=\"Caja\",'Diario contable'!H67,IF('Diario contable'!E67=\"Caja\",'Diario contable'!H67,0))","v":"00:00:00"},null,null,{"$f":"+IF('Diario contable'!C67=\"Maquinaria\",'Diario contable'!F67,0)","v":0},null,null,null,{"$f":"+IF('Diario contable'!E67=\"Maquinaria\",'Diario contable'!F67,0)","v":0},{"$f":"IF('Diario contable'!C67=\"Maquinaria\",'Diario contable'!I67,IF('Diario contable'!E67=\"Maquinaria\",'Diario contable'!I67,0))","v":0},{"$f":"IF('Diario contable'!C67=\"Maquinaria\",'Diario contable'!H67,IF('Diario contable'!E67=\"Maquinaria\",'Diario contable'!H67,0))","v":"00:00:00"},null,null,{"$f":"+IF('Diario contable'!C67=\"Herramientas\",'Diario contable'!F67,0)","v":0},null,null,null,{"$f":"+IF('Diario contable'!E67=\"Herramientas\",'Diario contable'!F67,0)","v":0},{"$f":"IF('Diario contable'!C67=\"Herramientas\",'Diario contable'!I67,IF('Diario contable'!E67=\"Herramientas\",'Diario contable'!I67,0))","v":0},{"$f":"IF('Diario contable'!C67=\"Herramientas\",'Diario contable'!H67,IF('Diario contable'!E67=\"Herramientas\",'Diario contable'!H67,0))","v":"00:00:00"},null,null,{"$f":"+IF('Diario contable'!C67=\"Donaciones\",'Diario contable'!F67,0)","v":0},null,null,null,{"$f":"+IF('Diario contable'!E67=\"Donaciones\",'Diario contable'!F67,0)","v":0},{"$f":"IF('Diario contable'!C67=\"Donaciones\",'Diario contable'!I67,IF('Diario contable'!E67=\"Donaciones\",'Diario contable'!I67,0))","v":0},{"$f":"IF('Diario contable'!C67=\"Donaciones\",'Diario contable'!H67,IF('Diario contable'!E67=\"Donaciones\",'Diario contable'!H67,0))","v":"00:00:00"},null,null,{"$f":"+IF('Diario contable'!C67=\"Inventario\",'Diario contable'!F67,0)","v":0},null,null,null,{"$f":"+IF('Diario contable'!E67=\"Inventario\",'Diario contable'!F67,0)","v":0},{"$f":"IF('Diario contable'!C67=\"Inventario\",'Diario contable'!I67,IF('Diario contable'!E67=\"Inventario\",'Diario contable'!I67,0))","v":0},{"$f":"IF('Diario contable'!C67=\"Inventario\",'Diario contable'!H67,IF('Diario contable'!E67=\"Inventario\",'Diario contable'!H67,0))","v":"00:00:00"},null,null,{"$f":"+IF('Diario contable'!C67=\"Costo de ventas\",'Diario contable'!F67,0)","v":0},null,null,null,{"$f":"+IF('Diario contable'!E67=\"Costo de ventas\",'Diario contable'!F67,0)","v":0},{"$f":"IF('Diario contable'!C67=\"Costo de ventas\",'Diario contable'!I67,IF('Diario contable'!E67=\"Costo de ventas\",'Diario contable'!I67,0))","v":0},{"$f":"IF('Diario contable'!C67=\"Costo de ventas\",'Diario contable'!H67,IF('Diario contable'!E67=\"Costo de ventas\",'Diario contable'!H67,0))","v":"00:00:00"},null,null,{"$f":"+IF('Diario contable'!C67=\"Ventas\",'Diario contable'!F67,0)","v":0},null,null,null,{"$f":"+IF('Diario contable'!E67=\"Ventas\",'Diario contable'!F67,0)","v":0},{"$f":"IF('Diario contable'!C67=\"Ventas\",'Diario contable'!I67,IF('Diario contable'!E67=\"Ventas\",'Diario contable'!I67,0))","v":0},{"$f":"IF('Diario contable'!C67=\"Ventas\",'Diario contable'!H67,IF('Diario contable'!E67=\"Ventas\",'Diario contable'!H67,0))","v":"00:00:00"},null,null,{"$f":"+IF('Diario contable'!C67=\"Gastos por salarios\",'Diario contable'!F67,0)","v":0},null,null,null,{"$f":"+IF('Diario contable'!E67=\"Gastos por salarios\",'Diario contable'!F67,0)","v":0},{"$f":"IF('Diario contable'!C67=\"Gastos por salarios\",'Diario contable'!I67,IF('Diario contable'!E67=\"Gastos por salarios\",'Diario contable'!I67,0))","v":0},{"$f":"IF('Diario contable'!C67=\"Gastos por salarios\",'Diario contable'!H67,IF('Diario contable'!E67=\"Gastos por salarios\",'Diario contable'!H67,0))","v":"00:00:00"},null,null,{"$f":"+IF('Diario contable'!C67=\"Gastos operacionales\",'Diario contable'!F67,0)","v":0},null,null,null,{"$f":"+IF('Diario contable'!E67=\"Gastos operacionales\",'Diario contable'!F67,0)","v":0},{"$f":"IF('Diario contable'!C67=\"Gastos operacionales\",'Diario contable'!I67,IF('Diario contable'!E67=\"Gastos operacionales\",'Diario contable'!I67,0))","v":0},{"$f":"IF('Diario contable'!C67=\"Gastos operacionales\",'Diario contable'!H67,IF('Diario contable'!E67=\"Gastos operacionales\",'Diario contable'!H67,0))","v":"00:00:00"},null,null,{"$f":"+IF('Diario contable'!C67=\"Suministros de oficina\",'Diario contable'!F67,0)","v":0},null,null,null,{"$f":"+IF('Diario contable'!E67=\"Suministros de oficina\",'Diario contable'!F67,0)","v":0},{"$f":"IF('Diario contable'!C67=\"Suministros de oficina\",'Diario contable'!I67,IF('Diario contable'!E67=\"Suministros de oficina\",'Diario contable'!I67,0))","v":0},{"$f":"IF('Diario contable'!C67=\"Suministros de oficina\",'Diario contable'!H67,IF('Diario contable'!E67=\"Suministros de oficina\",'Diario contable'!H67,0))","v":"00:00:00"},null,null,{"$f":"+IF('Diario contable'!C67=\"Capital social\",'Diario contable'!F67,0)","v":0},null,null,null,{"$f":"+IF('Diario contable'!E67=\"Capital social\",'Diario contable'!F67,0)","v":0},{"$f":"IF('Diario contable'!C67=\"Capital social\",'Diario contable'!I67,IF('Diario contable'!E67=\"Capital social\",'Diario contable'!I67,0))","v":0},{"$f":"IF('Diario contable'!C67=\"Capital social\",'Diario contable'!H67,IF('Diario contable'!E67=\"Capital social\",'Diario contable'!H67,0))","v":"00:00:00"},null,null,{"$f":"+IF('Diario contable'!C67=\"Gastos de mercadeo\",'Diario contable'!F67,0)","v":0},null,null,null,{"$f":"+IF('Diario contable'!E67=\"Gastos de mercadeo\",'Diario contable'!F67,0)","v":0},{"$f":"IF('Diario contable'!C67=\"Gastos de mercadeo\",'Diario contable'!I67,IF('Diario contable'!E67=\"Gastos de mercadeo\",'Diario contable'!I67,0))","v":0},{"$f":"IF('Diario contable'!C67=\"Gastos de mercadeo\",'Diario contable'!H67,IF('Diario contable'!E67=\"Gastos de mercadeo\",'Diario contable'!H67,0))","v":"00:00:00"},null,null,{"$f":"+IF('Diario contable'!C67=\"Gastos de suministros de oficina\",'Diario contable'!F67,0)","v":0},null,null,null,{"$f":"+IF('Diario contable'!E67=\"Gastos de suministros de oficina\",'Diario contable'!F67,0)","v":0},{"$f":"IF('Diario contable'!C67=\"Gastos de suministros de oficina\",'Diario contable'!I67,IF('Diario contable'!E67=\"Gastos de suministros de oficina\",'Diario contable'!I67,0))","v":0},{"$f":"IF('Diario contable'!C67=\"Gastos de suministros de oficina\",'Diario contable'!H67,IF('Diario contable'!E67=\"Gastos de suministros de oficina\",'Diario contable'!H67,0))","v":"00:00:00"}]
[null,null,{"$f":"+IF('Diario contable'!C68=\"Caja\",'Diario contable'!F68,0)","v":0},null,null,null,{"$f":"+IF('Diario contable'!E68=\"Caja\",'Diario contable'!F68,0)","v":0},{"$f":"IF('Diario contable'!C68=\"Caja\",'Diario contable'!I68,IF('Diario contable'!E68=\"Caja\",'Diario contable'!I68,0))","v":0},{"$f":"IF('Diario contable'!C68=\"Caja\",'Diario contable'!H68,IF('Diario contable'!E68=\"Caja\",'Diario contable'!H68,0))","v":"00:00:00"},null,null,{"$f":"+IF('Diario contable'!C68=\"Maquinaria\",'Diario contable'!F68,0)","v":0},null,null,null,{"$f":"+IF('Diario contable'!E68=\"Maquinaria\",'Diario contable'!F68,0)","v":0},{"$f":"IF('Diario contable'!C68=\"Maquinaria\",'Diario contable'!I68,IF('Diario contable'!E68=\"Maquinaria\",'Diario contable'!I68,0))","v":0},{"$f":"IF('Diario contable'!C68=\"Maquinaria\",'Diario contable'!H68,IF('Diario contable'!E68=\"Maquinaria\",'Diario contable'!H68,0))","v":"00:00:00"},null,null,{"$f":"+IF('Diario contable'!C68=\"Herramientas\",'Diario contable'!F68,0)","v":0},null,null,null,{"$f":"+IF('Diario contable'!E68=\"Herramientas\",'Diario contable'!F68,0)","v":0},{"$f":"IF('Diario contable'!C68=\"Herramientas\",'Diario contable'!I68,IF('Diario contable'!E68=\"Herramientas\",'Diario contable'!I68,0))","v":0},{"$f":"IF('Diario contable'!C68=\"Herramientas\",'Diario contable'!H68,IF('Diario contable'!E68=\"Herramientas\",'Diario contable'!H68,0))","v":"00:00:00"},null,null,{"$f":"+IF('Diario contable'!C68=\"Donaciones\",'Diario contable'!F68,0)","v":0},null,null,null,{"$f":"+IF('Diario contable'!E68=\"Donaciones\",'Diario contable'!F68,0)","v":0},{"$f":"IF('Diario contable'!C68=\"Donaciones\",'Diario contable'!I68,IF('Diario contable'!E68=\"Donaciones\",'Diario contable'!I68,0))","v":0},{"$f":"IF('Diario contable'!C68=\"Donaciones\",'Diario contable'!H68,IF('Diario contable'!E68=\"Donaciones\",'Diario contable'!H68,0))","v":"00:00:00"},null,null,{"$f":"+IF('Diario contable'!C68=\"Inventario\",'Diario contable'!F68,0)","v":0},null,null,null,{"$f":"+IF('Diario contable'!E68=\"Inventario\",'Diario contable'!F68,0)","v":0},{"$f":"IF('Diario contable'!C68=\"Inventario\",'Diario contable'!I68,IF('Diario contable'!E68=\"Inventario\",'Diario contable'!I68,0))","v":0},{"$f":"IF('Diario contable'!C68=\"Inventario\",'Diario contable'!H68,IF('Diario contable'!E68=\"Inventario\",'Diario contable'!H68,0))","v":"00:00:00"},null,null,{"$f":"+IF('Diario contable'!C68=\"Costo de ventas\",'Diario contable'!F68,0)","v":0},null,null,null,{"$f":"+IF('Diario contable'!E68=\"Costo de ventas\",'Diario contable'!F68,0)","v":0},{"$f":"IF('Diario contable'!C68=\"Costo de ventas\",'Diario contable'!I68,IF('Diario contable'!E68=\"Costo de ventas\",'Diario contable'!I68,0))","v":0},{"$f":"IF('Diario contable'!C68=\"Costo de ventas\",'Diario contable'!H68,IF('Diario contable'!E68=\"Costo de ventas\",'Diario contable'!H68,0))","v":"00:00:00"},null,null,{"$f":"+IF('Diario contable'!C68=\"Ventas\",'Diario contable'!F68,0)","v":0},null,null,null,{"$f":"+IF('Diario contable'!E68=\"Ventas\",'Diario contable'!F68,0)","v":0},{"$f":"IF('Diario contable'!C68=\"Ventas\",'Diario contable'!I68,IF('Diario contable'!E68=\"Ventas\",'Diario contable'!I68,0))","v":0},{"$f":"IF('Diario contable'!C68=\"Ventas\",'Diario contable'!H68,IF('Diario contable'!E68=\"Ventas\",'Diario contable'!H68,0))","v":"00:00:00"},null,null,{"$f":"+IF('Diario contable'!C68=\"Gastos por salarios\",'Diario contable'!F68,0)","v":0},null,null,null,{"$f":"+IF('Diario contable'!E68=\"Gastos por salarios\",'Diario contable'!F68,0)","v":0},{"$f":"IF('Diario contable'!C68=\"Gastos por salarios\",'Diario contable'!I68,IF('Diario contable'!E68=\"Gastos por salarios\",'Diario contable'!I68,0))","v":0},{"$f":"IF('Diario contable'!C68=\"Gastos por salarios\",'Diario contable'!H68,IF('Diario contable'!E68=\"Gastos por salarios\",'Diario contable'!H68,0))","v":"00:00:00"},null,null,{"$f":"+IF('Diario contable'!C68=\"Gastos operacionales\",'Diario contable'!F68,0)","v":0},null,null,null,{"$f":"+IF('Diario contable'!E68=\"Gastos operacionales\",'Diario contable'!F68,0)","v":0},{"$f":"IF('Diario contable'!C68=\"Gastos operacionales\",'Diario contable'!I68,IF('Diario contable'!E68=\"Gastos operacionales\",'Diario contable'!I68,0))","v":0},{"$f":"IF('Diario contable'!C68=\"Gastos operacionales\",'Diario contable'!H68,IF('Diario contable'!E68=\"Gastos operacionales\",'Diario contable'!H68,0))","v":"00:00:00"},null,null,{"$f":"+IF('Diario contable'!C68=\"Suministros de oficina\",'Diario contable'!F68,0)","v":0},null,null,null,{"$f":"+IF('Diario contable'!E68=\"Suministros de oficina\",'Diario contable'!F68,0)","v":0},{"$f":"IF('Diario contable'!C68=\"Suministros de oficina\",'Diario contable'!I68,IF('Diario contable'!E68=\"Suministros de oficina\",'Diario contable'!I68,0))","v":0},{"$f":"IF('Diario contable'!C68=\"Suministros de oficina\",'Diario contable'!H68,IF('Diario contable'!E68=\"Suministros de oficina\",'Diario contable'!H68,0))","v":"00:00:00"},null,null,{"$f":"+IF('Diario contable'!C68=\"Capital social\",'Diario contable'!F68,0)","v":0},null,null,null,{"$f":"+IF('Diario contable'!E68=\"Capital social\",'Diario contable'!F68,0)","v":0},{"$f":"IF('Diario contable'!C68=\"Capital social\",'Diario contable'!I68,IF('Diario contable'!E68=\"Capital social\",'Diario contable'!I68,0))","v":0},{"$f":"IF('Diario contable'!C68=\"Capital social\",'Diario contable'!H68,IF('Diario contable'!E68=\"Capital social\",'Diario contable'!H68,0))","v":"00:00:00"},null,null,{"$f":"+IF('Diario contable'!C68=\"Gastos de mercadeo\",'Diario contable'!F68,0)","v":0},null,null,null,{"$f":"+IF('Diario contable'!E68=\"Gastos de mercadeo\",'Diario contable'!F68,0)","v":0},{"$f":"IF('Diario contable'!C68=\"Gastos de mercadeo\",'Diario contable'!I68,IF('Diario contable'!E68=\"Gastos de mercadeo\",'Diario contable'!I68,0))","v":0},{"$f":"IF('Diario contable'!C68=\"Gastos de mercadeo\",'Diario contable'!H68,IF('Diario contable'!E68=\"Gastos de mercadeo\",'Diario contable'!H68,0))","v":"00:00:00"},null,null,{"$f":"+IF('Diario contable'!C68=\"Gastos de suministros de oficina\",'Diario contable'!F68,0)","v":0},null,null,null,{"$f":"+IF('Diario contable'!E68=\"Gastos de suministros de oficina\",'Diario contable'!F68,0)","v":0},{"$f":"IF('Diario contable'!C68=\"Gastos de suministros de oficina\",'Diario contable'!I68,IF('Diario contable'!E68=\"Gastos de suministros de oficina\",'Diario contable'!I68,0))","v":0},{"$f":"IF('Diario contable'!C68=\"Gastos de suministros de oficina\",'Diario contable'!H68,IF('Diario contable'!E68=\"Gastos de suministros de oficina\",'Diario contable'!H68,0))","v":"00:00:00"}]
[null,null,{"$f":"+IF('Diario contable'!C69=\"Caja\",'Diario contable'!F69,0)","v":0},null,null,null,{"$f":"+IF('Diario contable'!E69=\"Caja\",'Diario contable'!F69,0)","v":0},{"$f":"IF('Diario contable'!C69=\"Caja\",'Diario contable'!I69,IF('Diario contable'!E69=\"Caja\",'Diario contable'!I69,0))","v":0},{"$f":"IF('Diario contable'!C69=\"Caja\",'Diario contable'!H69,IF('Diario contable'!E69=\"Caja\",'Diario contable'!H69,0))","v":"00:00:00"},null,null,{"$f":"+IF('Diario contable'!C69=\"Maquinaria\",'Diario contable'!F69,0)","v":0},null,null,null,{"$f":"+IF('Diario contable'!E69=\"Maquinaria\",'Diario contable'!F69,0)","v":0},{"$f":"IF('Diario contable'!C69=\"Maquinaria\",'Diario contable'!I69,IF('Diario contable'!E69=\"Maquinaria\",'Diario contable'!I69,0))","v":0},{"$f":"IF('Diario contable'!C69=\"Maquinaria\",'Diario contable'!H69,IF('Diario contable'!E69=\"Maquinaria\",'Diario contable'!H69,0))","v":"00:00:00"},null,null,{"$f":"+IF('Diario contable'!C69=\"Herramientas\",'Diario contable'!F69,0)","v":0},null,null,null,{"$f":"+IF('Diario contable'!E69=\"Herramientas\",'Diario contable'!F69,0)","v":0},{"$f":"IF('Diario contable'!C69=\"Herramientas\",'Diario contable'!I69,IF('Diario contable'!E69=\"Herramientas\",'Diario contable'!I69,0))","v":0},{"$f":"IF('Diario contable'!C69=\"Herramientas\",'Diario contable'!H69,IF('Diario contable'!E69=\"Herramientas\",'Diario contable'!H69,0))","v":"00:00:00"},null,null,{"$f":"+IF('Diario contable'!C69=\"Donaciones\",'Diario contable'!F69,0)","v":0},null,null,null,{"$f":"+IF('Diario contable'!E69=\"Donaciones\",'Diario contable'!F69,0)","v":0},{"$f":"IF('Diario contable'!C69=\"Donaciones\",'Diario contable'!I69,IF('Diario contable'!E69=\"Donaciones\",'Diario contable'!I69,0))","v":0},{"$f":"IF('Diario contable'!C69=\"Donaciones\",'Diario contable'!H69,IF('Diario contable'!E69=\"Donaciones\",'Diario contable'!H69,0))","v":"00:00:00"},null,null,{"$f":"+IF('Diario contable'!C69=\"Inventario\",'Diario contable'!F69,0)","v":0},null,null,null,{"$f":"+IF('Diario contable'!E69=\"Inventario\",'Diario contable'!F69,0)","v":0},{"$f":"IF('Diario contable'!C69=\"Inventario\",'Diario contable'!I69,IF('Diario contable'!E69=\"Inventario\",'Diario contable'!I69,0))","v":0},{"$f":"IF('Diario contable'!C69=\"Inventario\",'Diario contable'!H69,IF('Diario contable'!E69=\"Inventario\",'Diario contable'!H69,0))","v":"00:00:00"},null,null,{"$f":"+IF('Diario contable'!C69=\"Costo de ventas\",'Diario contable'!F69,0)","v":0},null,null,null,{"$f":"+IF('Diario contable'!E69=\"Costo de ventas\",'Diario contable'!F69,0)","v":0},{"$f":"IF('Diario contable'!C69=\"Costo de ventas\",'Diario contable'!I69,IF('Diario contable'!E69=\"Costo de ventas\",'Diario contable'!I69,0))","v":0},{"$f":"IF('Diario contable'!C69=\"Costo de ventas\",'Diario contable'!H69,IF('Diario contable'!E69=\"Costo de ventas\",'Diario contable'!H69,0))","v":"00:00:00"},null,null,{"$f":"+IF('Diario contable'!C69=\"Ventas\",'Diario contable'!F69,0)","v":0},null,null,null,{"$f":"+IF('Diario contable'!E69=\"Ventas\",'Diario contable'!F69,0)","v":0},{"$f":"IF('Diario contable'!C69=\"Ventas\",'Diario contable'!I69,IF('Diario contable'!E69=\"Ventas\",'Diario contable'!I69,0))","v":0},{"$f":"IF('Diario contable'!C69=\"Ventas\",'Diario contable'!H69,IF('Diario contable'!E69=\"Ventas\",'Diario contable'!H69,0))","v":"00:00:00"},null,null,{"$f":"+IF('Diario contable'!C69=\"Gastos por salarios\",'Diario contable'!F69,0)","v":0},null,null,null,{"$f":"+IF('Diario contable'!E69=\"Gastos por salarios\",'Diario contable'!F69,0)","v":0},{"$f":"IF('Diario contable'!C69=\"Gastos por salarios\",'Diario contable'!I69,IF('Diario contable'!E69=\"Gastos por salarios\",'Diario contable'!I69,0))","v":0},{"$f":"IF('Diario contable'!C69=\"Gastos por salarios\",'Diario contable'!H69,IF('Diario contable'!E69=\"Gastos por salarios\",'Diario contable'!H69,0))","v":"00:00:00"},null,null,{"$f":"+IF('Diario contable'!C69=\"Gastos operacionales\",'Diario contable'!F69,0)","v":0},null,null,null,{"$f":"+IF('Diario contable'!E69=\"Gastos operacionales\",'Diario contable'!F69,0)","v":0},{"$f":"IF('Diario contable'!C69=\"Gastos operacionales\",'Diario contable'!I69,IF('Diario contable'!E69=\"Gastos operacionales\",'Diario contable'!I69,0))","v":0},{"$f":"IF('Diario contable'!C69=\"Gastos operacionales\",'Diario contable'!H69,IF('Diario contable'!E69=\"Gastos operacionales\",'Diario contable'!H69,0))","v":"00:00:00"},null,null,{"$f":"+IF('Diario contable'!C69=\"Suministros de oficina\",'Diario contable'!F69,0)","v":0},null,null,null,{"$f":"+IF('Diario contable'!E69=\"Suministros de oficina\",'Diario contable'!F69,0)","v":0},{"$f":"IF('Diario contable'!C69=\"Suministros de oficina\",'Diario contable'!I69,IF('Diario contable'!E69=\"Suministros de oficina\",'Diario contable'!I69,0))","v":0},{"$f":"IF('Diario contable'!C69=\"Suministros de oficina\",'Diario contable'!H69,IF('Diario contable'!E69=\"Suministros de oficina\",'Diario contable'!H69,0))","v":"00:00:00"},null,null,{"$f":"+IF('Diario contable'!C69=\"Capital social\",'Diario contable'!F69,0)","v":0},null,null,null,{"$f":"+IF('Diario contable'!E69=\"Capital social\",'Diario contable'!F69,0)","v":0},{"$f":"IF('Diario contable'!C69=\"Capital social\",'Diario contable'!I69,IF('Diario contable'!E69=\"Capital social\",'Diario contable'!I69,0))","v":0},{"$f":"IF('Diario contable'!C69=\"Capital social\",'Diario contable'!H69,IF('Diario contable'!E69=\"Capital social\",'Diario contable'!H69,0))","v":"00:00:00"},null,null,{"$f":"+IF('Diario contable'!C69=\"Gastos de mercadeo\",'Diario contable'!F69,0)","v":0},null,null,null,{"$f":"+IF('Diario contable'!E69=\"Gastos de mercadeo\",'Diario contable'!F69,0)","v":0},{"$f":"IF('Diario contable'!C69=\"Gastos de mercadeo\",'Diario contable'!I69,IF('Diario contable'!E69=\"Gastos de mercadeo\",'Diario contable'!I69,0))","v":0},{"$f":"IF('Diario contable'!C69=\"Gastos de mercadeo\",'Diario contable'!H69,IF('Diario contable'!E69=\"Gastos de mercadeo\",'Diario contable'!H69,0))","v":"00:00:00"},null,null,{"$f":"+IF('Diario contable'!C69=\"Gastos de suministros de oficina\",'Diario contable'!F69,0)","v":0},null,null,null,{"$f":"+IF('Diario contable'!E69=\"Gastos de suministros de oficina\",'Diario contable'!F69,0)","v":0},{"$f":"IF('Diario contable'!C69=\"Gastos de suministros de oficina\",'Diario contable'!I69,IF('Diario contable'!E69=\"Gastos de suministros de oficina\",'Diario contable'!I69,0))","v":0},{"$f":"IF('Diario contable'!C69=\"Gastos de suministros de oficina\",'Diario contable'!H69,IF('Diario contable'!E69=\"Gastos de suministros de oficina\",'Diario contable'!H69,0))","v":"00:00:00"}]
[null,null,{"$f":"+IF('Diario contable'!C70=\"Caja\",'Diario contable'!F70,0)","v":0},null,null,null,{"$f":"+IF('Diario contable'!E70=\"Caja\",'Diario contable'!F70,0)","v":0},{"$f":"IF('Diario contable'!C70=\"Caja\",'Diario contable'!I70,IF('Diario contable'!E70=\"Caja\",'Diario contable'!I70,0))","v":0},{"$f":"IF('Diario contable'!C70=\"Caja\",'Diario contable'!H70,IF('Diario contable'!E70=\"Caja\",'Diario contable'!H70,0))","v":"00:00:00"},null,null,{"$f":"+IF('Diario contable'!C70=\"Maquinaria\",'Diario contable'!F70,0)","v":0},null,null,null,{"$f":"+IF('Diario contable'!E70=\"Maquinaria\",'Diario contable'!F70,0)","v":0},{"$f":"IF('Diario contable'!C70=\"Maquinaria\",'Diario contable'!I70,IF('Diario contable'!E70=\"Maquinaria\",'Diario contable'!I70,0))","v":0},{"$f":"IF('Diario contable'!C70=\"Maquinaria\",'Diario contable'!H70,IF('Diario contable'!E70=\"Maquinaria\",'Diario contable'!H70,0))","v":"00:00:00"},null,null,{"$f":"+IF('Diario contable'!C70=\"Herramientas\",'Diario contable'!F70,0)","v":0},null,null,null,{"$f":"+IF('Diario contable'!E70=\"Herramientas\",'Diario contable'!F70,0)","v":0},{"$f":"IF('Diario contable'!C70=\"Herramientas\",'Diario contable'!I70,IF('Diario contable'!E70=\"Herramientas\",'Diario contable'!I70,0))","v":0},{"$f":"IF('Diario contable'!C70=\"Herramientas\",'Diario contable'!H70,IF('Diario contable'!E70=\"Herramientas\",'Diario contable'!H70,0))","v":"00:00:00"},null,null,{"$f":"+IF('Diario contable'!C70=\"Donaciones\",'Diario contable'!F70,0)","v":0},null,null,null,{"$f":"+IF('Diario contable'!E70=\"Donaciones\",'Diario contable'!F70,0)","v":0},{"$f":"IF('Diario contable'!C70=\"Donaciones\",'Diario contable'!I70,IF('Diario contable'!E70=\"Donaciones\",'Diario contable'!I70,0))","v":0},{"$f":"IF('Diario contable'!C70=\"Donaciones\",'Diario contable'!H70,IF('Diario contable'!E70=\"Donaciones\",'Diario contable'!H70,0))","v":"00:00:00"},null,null,{"$f":"+IF('Diario contable'!C70=\"Inventario\",'Diario contable'!F70,0)","v":0},null,null,null,{"$f":"+IF('Diario contable'!E70=\"Inventario\",'Diario contable'!F70,0)","v":0},{"$f":"IF('Diario contable'!C70=\"Inventario\",'Diario contable'!I70,IF('Diario contable'!E70=\"Inventario\",'Diario contable'!I70,0))","v":0},{"$f":"IF('Diario contable'!C70=\"Inventario\",'Diario contable'!H70,IF('Diario contable'!E70=\"Inventario\",'Diario contable'!H70,0))","v":"00:00:00"},null,null,{"$f":"+IF('Diario contable'!C70=\"Costo de ventas\",'Diario contable'!F70,0)","v":0},null,null,null,{"$f":"+IF('Diario contable'!E70=\"Costo de ventas\",'Diario contable'!F70,0)","v":0},{"$f":"IF('Diario contable'!C70=\"Costo de ventas\",'Diario contable'!I70,IF('Diario contable'!E70=\"Costo de ventas\",'Diario contable'!I70,0))","v":0},{"$f":"IF('Diario contable'!C70=\"Costo de ventas\",'Diario contable'!H70,IF('Diario contable'!E70=\"Costo de ventas\",'Diario contable'!H70,0))","v":"00:00:00"},null,null,{"$f":"+IF('Diario contable'!C70=\"Ventas\",'Diario contable'!F70,0)","v":0},null,null,null,{"$f":"+IF('Diario contable'!E70=\"Ventas\",'Diario contable'!F70,0)","v":0},{"$f":"IF('Diario contable'!C70=\"Ventas\",'Diario contable'!I70,IF('Diario contable'!E70=\"Ventas\",'Diario contable'!I70,0))","v":0},{"$f":"IF('Diario contable'!C70=\"Ventas\",'Diario contable'!H70,IF('Diario contable'!E70=\"Ventas\",'Diario contable'!H70,0))","v":"00:00:00"},null,null,{"$f":"+IF('Diario contable'!C70=\"Gastos por salarios\",'Diario contable'!F70,0)","v":0},null,null,null,{"$f":"+IF('Diario contable'!E70=\"Gastos por salarios\",'Diario contable'!F70,0)","v":0},{"$f":"IF('Diario contable'!C70=\"Gastos por salarios\",'Diario contable'!I70,IF('Diario contable'!E70=\"Gastos por salarios\",'Diario contable'!I70,0))","v":0},{"$f":"IF('Diario contable'!C70=\"Gastos por salarios\",'Diario contable'!H70,IF('Diario contable'!E70=\"Gastos por salarios\",'Diario contable'!H70,0))","v":"00:00:00"},null,null,{"$f":"+IF('Diario contable'!C70=\"Gastos operacionales\",'Diario contable'!F70,0)","v":0},null,null,null,{"$f":"+IF('Diario contable'!E70=\"Gastos operacionales\",'Diario contable'!F70,0)","v":0},{"$f":"IF('Diario contable'!C70=\"Gastos operacionales\",'Diario contable'!I70,IF('Diario contable'!E70=\"Gastos operacionales\",'Diario contable'!I70,0))","v":0},{"$f":"IF('Diario contable'!C70=\"Gastos operacionales\",'Diario contable'!H70,IF('Diario contable'!E70=\"Gastos operacionales\",'Diario contable'!H70,0))","v":"00:00:00"},null,null,{"$f":"+IF('Diario contable'!C70=\"Suministros de oficina\",'Diario contable'!F70,0)","v":0},null,null,null,{"$f":"+IF('Diario contable'!E70=\"Suministros de oficina\",'Diario contable'!F70,0)","v":0},{"$f":"IF('Diario contable'!C70=\"Suministros de oficina\",'Diario contable'!I70,IF('Diario contable'!E70=\"Suministros de oficina\",'Diario contable'!I70,0))","v":0},{"$f":"IF('Diario contable'!C70=\"Suministros de oficina\",'Diario contable'!H70,IF('Diario contable'!E70=\"Suministros de oficina\",'Diario contable'!H70,0))","v":"00:00:00"},null,null,{"$f":"+IF('Diario contable'!C70=\"Capital social\",'Diario contable'!F70,0)","v":0},null,null,null,{"$f":"+IF('Diario contable'!E70=\"Capital social\",'Diario contable'!F70,0)","v":0},{"$f":"IF('Diario contable'!C70=\"Capital social\",'Diario contable'!I70,IF('Diario contable'!E70=\"Capital social\",'Diario contable'!I70,0))","v":0},{"$f":"IF('Diario contable'!C70=\"Capital social\",'Diario contable'!H70,IF('Diario contable'!E70=\"Capital social\",'Diario contable'!H70,0))","v":"00:00:00"},null,null,{"$f":"+IF('Diario contable'!C70=\"Gastos de mercadeo\",'Diario contable'!F70,0)","v":0},null,null,null,{"$f":"+IF('Diario contable'!E70=\"Gastos de mercadeo\",'Diario contable'!F70,0)","v":0},{"$f":"IF('Diario contable'!C70=\"Gastos de mercadeo\",'Diario contable'!I70,IF('Diario contable'!E70=\"Gastos de mercadeo\",'Diario contable'!I70,0))","v":0},{"$f":"IF('Diario contable'!C70=\"Gastos de mercadeo\",'Diario contable'!H70,IF('Diario contable'!E70=\"Gastos de mercadeo\",'Diario contable'!H70,0))","v":"00:00:00"},null,null,{"$f":"+IF('Diario contable'!C70=\"Gastos de suministros de oficina\",'Diario contable'!F70,0)","v":0},null,null,null,{"$f":"+IF('Diario contable'!E70=\"Gastos de suministros de oficina\",'Diario contable'!F70,0)","v":0},{"$f":"IF('Diario contable'!C70=\"Gastos de suministros de oficina\",'Diario contable'!I70,IF('Diario contable'!E70=\"Gastos de suministros de oficina\",'Diario contable'!I70,0))","v":0},{"$f":"IF('Diario contable'!C70=\"Gastos de suministros de oficina\",'Diario contable'!H70,IF('Diario contable'!E70=\"Gastos de suministros de oficina\",'Diario contable'!H70,0))","v":"00:00:00"}]
[null,null,{"$f":"+IF('Diario contable'!C71=\"Caja\",'Diario contable'!F71,0)","v":0},null,null,null,{"$f":"+IF('Diario contable'!E71=\"Caja\",'Diario contable'!F71,0)","v":0},{"$f":"IF('Diario contable'!C71=\"Caja\",'Diario contable'!I71,IF('Diario contable'!E71=\"Caja\",'Diario contable'!I71,0))","v":0},{"$f":"IF('Diario contable'!C71=\"Caja\",'Diario contable'!H71,IF('Diario contable'!E71=\"Caja\",'Diario contable'!H71,0))","v":"00:00:00"},null,null,{"$f":"+IF('Diario contable'!C71=\"Maquinaria\",'Diario contable'!F71,0)","v":0},null,null,null,{"$f":"+IF('Diario contable'!E71=\"Maquinaria\",'Diario contable'!F71,0)","v":0},{"$f":"IF('Diario contable'!C71=\"Maquinaria\",'Diario contable'!I71,IF('Diario contable'!E71=\"Maquinaria\",'Diario contable'!I71,0))","v":0},{"$f":"IF('Diario contable'!C71=\"Maquinaria\",'Diario contable'!H71,IF('Diario contable'!E71=\"Maquinaria\",'Diario contable'!H71,0))","v":"00:00:00"},null,null,{"$f":"+IF('Diario contable'!C71=\"Herramientas\",'Diario contable'!F71,0)","v":0},null,null,null,{"$f":"+IF('Diario contable'!E71=\"Herramientas\",'Diario contable'!F71,0)","v":0},{"$f":"IF('Diario contable'!C71=\"Herramientas\",'Diario contable'!I71,IF('Diario contable'!E71=\"Herramientas\",'Diario contable'!I71,0))","v":0},{"$f":"IF('Diario contable'!C71=\"Herramientas\",'Diario contable'!H71,IF('Diario contable'!E71=\"Herramientas\",'Diario contable'!H71,0))","v":"00:00:00"},null,null,{"$f":"+IF('Diario contable'!C71=\"Donaciones\",'Diario contable'!F71,0)","v":0},null,null,null,{"$f":"+IF('Diario contable'!E71=\"Donaciones\",'Diario contable'!F71,0)","v":0},{"$f":"IF('Diario contable'!C71=\"Donaciones\",'Diario contable'!I71,IF('Diario contable'!E71=\"Donaciones\",'Diario contable'!I71,0))","v":0},{"$f":"IF('Diario contable'!C71=\"Donaciones\",'Diario contable'!H71,IF('Diario contable'!E71=\"Donaciones\",'Diario contable'!H71,0))","v":"00:00:00"},null,null,{"$f":"+IF('Diario contable'!C71=\"Inventario\",'Diario contable'!F71,0)","v":0},null,null,null,{"$f":"+IF('Diario contable'!E71=\"Inventario\",'Diario contable'!F71,0)","v":0},{"$f":"IF('Diario contable'!C71=\"Inventario\",'Diario contable'!I71,IF('Diario contable'!E71=\"Inventario\",'Diario contable'!I71,0))","v":0},{"$f":"IF('Diario contable'!C71=\"Inventario\",'Diario contable'!H71,IF('Diario contable'!E71=\"Inventario\",'Diario contable'!H71,0))","v":"00:00:00"},null,null,{"$f":"+IF('Diario contable'!C71=\"Costo de ventas\",'Diario contable'!F71,0)","v":0},null,null,null,{"$f":"+IF('Diario contable'!E71=\"Costo de ventas\",'Diario contable'!F71,0)","v":0},{"$f":"IF('Diario contable'!C71=\"Costo de ventas\",'Diario contable'!I71,IF('Diario contable'!E71=\"Costo de ventas\",'Diario contable'!I71,0))","v":0},{"$f":"IF('Diario contable'!C71=\"Costo de ventas\",'Diario contable'!H71,IF('Diario contable'!E71=\"Costo de ventas\",'Diario contable'!H71,0))","v":"00:00:00"},null,null,{"$f":"+IF('Diario contable'!C71=\"Ventas\",'Diario contable'!F71,0)","v":0},null,null,null,{"$f":"+IF('Diario contable'!E71=\"Ventas\",'Diario contable'!F71,0)","v":0},{"$f":"IF('Diario contable'!C71=\"Ventas\",'Diario contable'!I71,IF('Diario contable'!E71=\"Ventas\",'Diario contable'!I71,0))","v":0},{"$f":"IF('Diario contable'!C71=\"Ventas\",'Diario contable'!H71,IF('Diario contable'!E71=\"Ventas\",'Diario contable'!H71,0))","v":"00:00:00"},null,null,{"$f":"+IF('Diario contable'!C71=\"Gastos por salarios\",'Diario contable'!F71,0)","v":0},null,null,null,{"$f":"+IF('Diario contable'!E71=\"Gastos por salarios\",'Diario contable'!F71,0)","v":0},{"$f":"IF('Diario contable'!C71=\"Gastos por salarios\",'Diario contable'!I71,IF('Diario contable'!E71=\"Gastos por salarios\",'Diario contable'!I71,0))","v":0},{"$f":"IF('Diario contable'!C71=\"Gastos por salarios\",'Diario contable'!H71,IF('Diario contable'!E71=\"Gastos por salarios\",'Diario contable'!H71,0))","v":"00:00:00"},null,null,{"$f":"+IF('Diario contable'!C71=\"Gastos operacionales\",'Diario contable'!F71,0)","v":0},null,null,null,{"$f":"+IF('Diario contable'!E71=\"Gastos operacionales\",'Diario contable'!F71,0)","v":0},{"$f":"IF('Diario contable'!C71=\"Gastos operacionales\",'Diario contable'!I71,IF('Diario contable'!E71=\"Gastos operacionales\",'Diario contable'!I71,0))","v":0},{"$f":"IF('Diario contable'!C71=\"Gastos operacionales\",'Diario contable'!H71,IF('Diario contable'!E71=\"Gastos operacionales\",'Diario contable'!H71,0))","v":"00:00:00"},null,null,{"$f":"+IF('Diario contable'!C71=\"Suministros de oficina\",'Diario contable'!F71,0)","v":0},null,null,null,{"$f":"+IF('Diario contable'!E71=\"Suministros de oficina\",'Diario contable'!F71,0)","v":0},{"$f":"IF('Diario contable'!C71=\"Suministros de oficina\",'Diario contable'!I71,IF('Diario contable'!E71=\"Suministros de oficina\",'Diario contable'!I71,0))","v":0},{"$f":"IF('Diario contable'!C71=\"Suministros de oficina\",'Diario contable'!H71,IF('Diario contable'!E71=\"Suministros de oficina\",'Diario contable'!H71,0))","v":"00:00:00"},null,null,{"$f":"+IF('Diario contable'!C71=\"Capital social\",'Diario contable'!F71,0)","v":0},null,null,null,{"$f":"+IF('Diario contable'!E71=\"Capital social\",'Diario contable'!F71,0)","v":0},{"$f":"IF('Diario contable'!C71=\"Capital social\",'Diario contable'!I71,IF('Diario contable'!E71=\"Capital social\",'Diario contable'!I71,0))","v":0},{"$f":"IF('Diario contable'!C71=\"Capital social\",'Diario contable'!H71,IF('Diario contable'!E71=\"Capital social\",'Diario contable'!H71,0))","v":"00:00:00"},null,null,{"$f":"+IF('Diario contable'!C71=\"Gastos de mercadeo\",'Diario contable'!F71,0)","v":0},null,null,null,{"$f":"+IF('Diario contable'!E71=\"Gastos de mercadeo\",'Diario contable'!F71,0)","v":0},{"$f":"IF('Diario contable'!C71=\"Gastos de mercadeo\",'Diario contable'!I71,IF('Diario contable'!E71=\"Gastos de mercadeo\",'Diario contable'!I71,0))","v":0},{"$f":"IF('Diario contable'!C71=\"Gastos de mercadeo\",'Diario contable'!H71,IF('Diario contable'!E71=\"Gastos de mercadeo\",'Diario contable'!H71,0))","v":"00:00:00"},null,null,{"$f":"+IF('Diario contable'!C71=\"Gastos de suministros de oficina\",'Diario contable'!F71,0)","v":0},null,null,null,{"$f":"+IF('Diario contable'!E71=\"Gastos de suministros de oficina\",'Diario contable'!F71,0)","v":0},{"$f":"IF('Diario contable'!C71=\"Gastos de suministros de oficina\",'Diario contable'!I71,IF('Diario contable'!E71=\"Gastos de suministros de oficina\",'Diario contable'!I71,0))","v":0},{"$f":"IF('Diario contable'!C71=\"Gastos de suministros de oficina\",'Diario contable'!H71,IF('Diario contable'!E71=\"Gastos de suministros de oficina\",'Diario contable'!H71,0))","v":"00:00:00"}]
[null,null,{"$f":"+IF('Diario contable'!C72=\"Caja\",'Diario contable'!F72,0)","v":0},null,null,null,{"$f":"+IF('Diario contable'!E72=\"Caja\",'Diario contable'!F72,0)","v":0},{"$f":"IF('Diario contable'!C72=\"Caja\",'Diario contable'!I72,IF('Diario contable'!E72=\"Caja\",'Diario contable'!I72,0))","v":0},{"$f":"IF('Diario contable'!C72=\"Caja\",'Diario contable'!H72,IF('Diario contable'!E72=\"Caja\",'Diario contable'!H72,0))","v":"00:00:00"},null,null,{"$f":"+IF('Diario contable'!C72=\"Maquinaria\",'Diario contable'!F72,0)","v":0},null,null,null,{"$f":"+IF('Diario contable'!E72=\"Maquinaria\",'Diario contable'!F72,0)","v":0},{"$f":"IF('Diario contable'!C72=\"Maquinaria\",'Diario contable'!I72,IF('Diario contable'!E72=\"Maquinaria\",'Diario contable'!I72,0))","v":0},{"$f":"IF('Diario contable'!C72=\"Maquinaria\",'Diario contable'!H72,IF('Diario contable'!E72=\"Maquinaria\",'Diario contable'!H72,0))","v":"00:00:00"},null,null,{"$f":"+IF('Diario contable'!C72=\"Herramientas\",'Diario contable'!F72,0)","v":0},null,null,null,{"$f":"+IF('Diario contable'!E72=\"Herramientas\",'Diario contable'!F72,0)","v":0},{"$f":"IF('Diario contable'!C72=\"Herramientas\",'Diario contable'!I72,IF('Diario contable'!E72=\"Herramientas\",'Diario contable'!I72,0))","v":0},{"$f":"IF('Diario contable'!C72=\"Herramientas\",'Diario contable'!H72,IF('Diario contable'!E72=\"Herramientas\",'Diario contable'!H72,0))","v":"00:00:00"},null,null,{"$f":"+IF('Diario contable'!C72=\"Donaciones\",'Diario contable'!F72,0)","v":0},null,null,null,{"$f":"+IF('Diario contable'!E72=\"Donaciones\",'Diario contable'!F72,0)","v":0},{"$f":"IF('Diario contable'!C72=\"Donaciones\",'Diario contable'!I72,IF('Diario contable'!E72=\"Donaciones\",'Diario contable'!I72,0))","v":0},{"$f":"IF('Diario contable'!C72=\"Donaciones\",'Diario contable'!H72,IF('Diario contable'!E72=\"Donaciones\",'Diario contable'!H72,0))","v":"00:00:00"},null,null,{"$f":"+IF('Diario contable'!C72=\"Inventario\",'Diario contable'!F72,0)","v":0},null,null,null,{"$f":"+IF('Diario contable'!E72=\"Inventario\",'Diario contable'!F72,0)","v":0},{"$f":"IF('Diario contable'!C72=\"Inventario\",'Diario contable'!I72,IF('Diario contable'!E72=\"Inventario\",'Diario contable'!I72,0))","v":0},{"$f":"IF('Diario contable'!C72=\"Inventario\",'Diario contable'!H72,IF('Diario contable'!E72=\"Inventario\",'Diario contable'!H72,0))","v":"00:00:00"},null,null,{"$f":"+IF('Diario contable'!C72=\"Costo de ventas\",'Diario contable'!F72,0)","v":0},null,null,null,{"$f":"+IF('Diario contable'!E72=\"Costo de ventas\",'Diario contable'!F72,0)","v":0},{"$f":"IF('Diario contable'!C72=\"Costo de ventas\",'Diario contable'!I72,IF('Diario contable'!E72=\"Costo de ventas\",'Diario contable'!I72,0))","v":0},{"$f":"IF('Diario contable'!C72=\"Costo de ventas\",'Diario contable'!H72,IF('Diario contable'!E72=\"Costo de ventas\",'Diario contable'!H72,0))","v":"00:00:00"},null,null,{"$f":"+IF('Diario contable'!C72=\"Ventas\",'Diario contable'!F72,0)","v":0},null,null,null,{"$f":"+IF('Diario contable'!E72=\"Ventas\",'Diario contable'!F72,0)","v":0},{"$f":"IF('Diario contable'!C72=\"Ventas\",'Diario contable'!I72,IF('Diario contable'!E72=\"Ventas\",'Diario contable'!I72,0))","v":0},{"$f":"IF('Diario contable'!C72=\"Ventas\",'Diario contable'!H72,IF('Diario contable'!E72=\"Ventas\",'Diario contable'!H72,0))","v":"00:00:00"},null,null,{"$f":"+IF('Diario contable'!C72=\"Gastos por salarios\",'Diario contable'!F72,0)","v":0},null,null,null,{"$f":"+IF('Diario contable'!E72=\"Gastos por salarios\",'Diario contable'!F72,0)","v":0},{"$f":"IF('Diario contable'!C72=\"Gastos por salarios\",'Diario contable'!I72,IF('Diario contable'!E72=\"Gastos por salarios\",'Diario contable'!I72,0))","v":0},{"$f":"IF('Diario contable'!C72=\"Gastos por salarios\",'Diario contable'!H72,IF('Diario contable'!E72=\"Gastos por salarios\",'Diario contable'!H72,0))","v":"00:00:00"},null,null,{"$f":"+IF('Diario contable'!C72=\"Gastos operacionales\",'Diario contable'!F72,0)","v":0},null,null,null,{"$f":"+IF('Diario contable'!E72=\"Gastos operacionales\",'Diario contable'!F72,0)","v":0},{"$f":"IF('Diario contable'!C72=\"Gastos operacionales\",'Diario contable'!I72,IF('Diario contable'!E72=\"Gastos operacionales\",'Diario contable'!I72,0))","v":0},{"$f":"IF('Diario contable'!C72=\"Gastos operacionales\",'Diario contable'!H72,IF('Diario contable'!E72=\"Gastos operacionales\",'Diario contable'!H72,0))","v":"00:00:00"},null,null,{"$f":"+IF('Diario contable'!C72=\"Suministros de oficina\",'Diario contable'!F72,0)","v":0},null,null,null,{"$f":"+IF('Diario contable'!E72=\"Suministros de oficina\",'Diario contable'!F72,0)","v":0},{"$f":"IF('Diario contable'!C72=\"Suministros de oficina\",'Diario contable'!I72,IF('Diario contable'!E72=\"Suministros de oficina\",'Diario contable'!I72,0))","v":0},{"$f":"IF('Diario contable'!C72=\"Suministros de oficina\",'Diario contable'!H72,IF('Diario contable'!E72=\"Suministros de oficina\",'Diario contable'!H72,0))","v":"00:00:00"},null,null,{"$f":"+IF('Diario contable'!C72=\"Capital social\",'Diario contable'!F72,0)","v":0},null,null,null,{"$f":"+IF('Diario contable'!E72=\"Capital social\",'Diario contable'!F72,0)","v":0},{"$f":"IF('Diario contable'!C72=\"Capital social\",'Diario contable'!I72,IF('Diario contable'!E72=\"Capital social\",'Diario contable'!I72,0))","v":0},{"$f":"IF('Diario contable'!C72=\"Capital social\",'Diario contable'!H72,IF('Diario contable'!E72=\"Capital social\",'Diario contable'!H72,0))","v":"00:00:00"},null,null,{"$f":"+IF('Diario contable'!C72=\"Gastos de mercadeo\",'Diario contable'!F72,0)","v":0},null,null,null,{"$f":"+IF('Diario contable'!E72=\"Gastos de mercadeo\",'Diario contable'!F72,0)","v":0},{"$f":"IF('Diario contable'!C72=\"Gastos de mercadeo\",'Diario contable'!I72,IF('Diario contable'!E72=\"Gastos de mercadeo\",'Diario contable'!I72,0))","v":0},{"$f":"IF('Diario contable'!C72=\"Gastos de mercadeo\",'Diario contable'!H72,IF('Diario contable'!E72=\"Gastos de mercadeo\",'Diario contable'!H72,0))","v":"00:00:00"},null,null,{"$f":"+IF('Diario contable'!C72=\"Gastos de suministros de oficina\",'Diario contable'!F72,0)","v":0},null,null,null,{"$f":"+IF('Diario contable'!E72=\"Gastos de suministros de oficina\",'Diario contable'!F72,0)","v":0},{"$f":"IF('Diario contable'!C72=\"Gastos de suministros de oficina\",'Diario contable'!I72,IF('Diario contable'!E72=\"Gastos de suministros de oficina\",'Diario contable'!I72,0))","v":0},{"$f":"IF('Diario contable'!C72=\"Gastos de suministros de oficina\",'Diario contable'!H72,IF('Diario contable'!E72=\"Gastos de suministros de oficina\",'Diario contable'!H72,0))","v":"00:00:00"}]
[null,null,{"$f":"+IF('Diario contable'!C73=\"Caja\",'Diario contable'!F73,0)","v":0},null,null,null,{"$f":"+IF('Diario contable'!E73=\"Caja\",'Diario contable'!F73,0)","v":0},{"$f":"IF('Diario contable'!C73=\"Caja\",'Diario contable'!I73,IF('Diario contable'!E73=\"Caja\",'Diario contable'!I73,0))","v":0},{"$f":"IF('Diario contable'!C73=\"Caja\",'Diario contable'!H73,IF('Diario contable'!E73=\"Caja\",'Diario contable'!H73,0))","v":"00:00:00"},null,null,{"$f":"+IF('Diario contable'!C73=\"Maquinaria\",'Diario contable'!F73,0)","v":0},null,null,null,{"$f":"+IF('Diario contable'!E73=\"Maquinaria\",'Diario contable'!F73,0)","v":0},{"$f":"IF('Diario contable'!C73=\"Maquinaria\",'Diario contable'!I73,IF('Diario contable'!E73=\"Maquinaria\",'Diario contable'!I73,0))","v":0},{"$f":"IF('Diario contable'!C73=\"Maquinaria\",'Diario contable'!H73,IF('Diario contable'!E73=\"Maquinaria\",'Diario contable'!H73,0))","v":"00:00:00"},null,null,{"$f":"+IF('Diario contable'!C73=\"Herramientas\",'Diario contable'!F73,0)","v":0},null,null,null,{"$f":"+IF('Diario contable'!E73=\"Herramientas\",'Diario contable'!F73,0)","v":0},{"$f":"IF('Diario contable'!C73=\"Herramientas\",'Diario contable'!I73,IF('Diario contable'!E73=\"Herramientas\",'Diario contable'!I73,0))","v":0},{"$f":"IF('Diario contable'!C73=\"Herramientas\",'Diario contable'!H73,IF('Diario contable'!E73=\"Herramientas\",'Diario contable'!H73,0))","v":"00:00:00"},null,null,{"$f":"+IF('Diario contable'!C73=\"Donaciones\",'Diario contable'!F73,0)","v":0},null,null,null,{"$f":"+IF('Diario contable'!E73=\"Donaciones\",'Diario contable'!F73,0)","v":0},{"$f":"IF('Diario contable'!C73=\"Donaciones\",'Diario contable'!I73,IF('Diario contable'!E73=\"Donaciones\",'Diario contable'!I73,0))","v":0},{"$f":"IF('Diario contable'!C73=\"Donaciones\",'Diario contable'!H73,IF('Diario contable'!E73=\"Donaciones\",'Diario contable'!H73,0))","v":"00:00:00"},null,null,{"$f":"+IF('Diario contable'!C73=\"Inventario\",'Diario contable'!F73,0)","v":0},null,null,null,{"$f":"+IF('Diario contable'!E73=\"Inventario\",'Diario contable'!F73,0)","v":0},{"$f":"IF('Diario contable'!C73=\"Inventario\",'Diario contable'!I73,IF('Diario contable'!E73=\"Inventario\",'Diario contable'!I73,0))","v":0},{"$f":"IF('Diario contable'!C73=\"Inventario\",'Diario contable'!H73,IF('Diario contable'!E73=\"Inventario\",'Diario contable'!H73,0))","v":"00:00:00"},null,null,{"$f":"+IF('Diario contable'!C73=\"Costo de ventas\",'Diario contable'!F73,0)","v":0},null,null,null,{"$f":"+IF('Diario contable'!E73=\"Costo de ventas\",'Diario contable'!F73,0)","v":0},{"$f":"IF('Diario contable'!C73=\"Costo de ventas\",'Diario contable'!I73,IF('Diario contable'!E73=\"Costo de ventas\",'Diario contable'!I73,0))","v":0},{"$f":"IF('Diario contable'!C73=\"Costo de ventas\",'Diario contable'!H73,IF('Diario contable'!E73=\"Costo de ventas\",'Diario contable'!H73,0))","v":"00:00:00"},null,null,{"$f":"+IF('Diario contable'!C73=\"Ventas\",'Diario contable'!F73,0)","v":0},null,null,null,{"$f":"+IF('Diario contable'!E73=\"Ventas\",'Diario contable'!F73,0)","v":0},{"$f":"IF('Diario contable'!C73=\"Ventas\",'Diario contable'!I73,IF('Diario contable'!E73=\"Ventas\",'Diario contable'!I73,0))","v":0},{"$f":"IF('Diario contable'!C73=\"Ventas\",'Diario contable'!H73,IF('Diario contable'!E73=\"Ventas\",'Diario contable'!H73,0))","v":"00:00:00"},null,null,{"$f":"+IF('Diario contable'!C73=\"Gastos por salarios\",'Diario contable'!F73,0)","v":0},null,null,null,{"$f":"+IF('Diario contable'!E73=\"Gastos por salarios\",'Diario contable'!F73,0)","v":0},{"$f":"IF('Diario contable'!C73=\"Gastos por salarios\",'Diario contable'!I73,IF('Diario contable'!E73=\"Gastos por salarios\",'Diario contable'!I73,0))","v":0},{"$f":"IF('Diario contable'!C73=\"Gastos por salarios\",'Diario contable'!H73,IF('Diario contable'!E73=\"Gastos por salarios\",'Diario contable'!H73,0))","v":"00:00:00"},null,null,{"$f":"+IF('Diario contable'!C73=\"Gastos operacionales\",'Diario contable'!F73,0)","v":0},null,null,null,{"$f":"+IF('Diario contable'!E73=\"Gastos operacionales\",'Diario contable'!F73,0)","v":0},{"$f":"IF('Diario contable'!C73=\"Gastos operacionales\",'Diario contable'!I73,IF('Diario contable'!E73=\"Gastos operacionales\",'Diario contable'!I73,0))","v":0},{"$f":"IF('Diario contable'!C73=\"Gastos operacionales\",'Diario contable'!H73,IF('Diario contable'!E73=\"Gastos operacionales\",'Diario contable'!H73,0))","v":"00:00:00"},null,null,{"$f":"+IF('Diario contable'!C73=\"Suministros de oficina\",'Diario contable'!F73,0)","v":0},null,null,null,{"$f":"+IF('Diario contable'!E73=\"Suministros de oficina\",'Diario contable'!F73,0)","v":0},{"$f":"IF('Diario contable'!C73=\"Suministros de oficina\",'Diario contable'!I73,IF('Diario contable'!E73=\"Suministros de oficina\",'Diario contable'!I73,0))","v":0},{"$f":"IF('Diario contable'!C73=\"Suministros de oficina\",'Diario contable'!H73,IF('Diario contable'!E73=\"Suministros de oficina\",'Diario contable'!H73,0))","v":"00:00:00"},null,null,{"$f":"+IF('Diario contable'!C73=\"Capital social\",'Diario contable'!F73,0)","v":0},null,null,null,{"$f":"+IF('Diario contable'!E73=\"Capital social\",'Diario contable'!F73,0)","v":0},{"$f":"IF('Diario contable'!C73=\"Capital social\",'Diario contable'!I73,IF('Diario contable'!E73=\"Capital social\",'Diario contable'!I73,0))","v":0},{"$f":"IF('Diario contable'!C73=\"Capital social\",'Diario contable'!H73,IF('Diario contable'!E73=\"Capital social\",'Diario contable'!H73,0))","v":"00:00:00"},null,null,{"$f":"+IF('Diario contable'!C73=\"Gastos de mercadeo\",'Diario contable'!F73,0)","v":0},null,null,null,{"$f":"+IF('Diario contable'!E73=\"Gastos de mercadeo\",'Diario contable'!F73,0)","v":0},{"$f":"IF('Diario contable'!C73=\"Gastos de mercadeo\",'Diario contable'!I73,IF('Diario contable'!E73=\"Gastos de mercadeo\",'Diario contable'!I73,0))","v":0},{"$f":"IF('Diario contable'!C73=\"Gastos de mercadeo\",'Diario contable'!H73,IF('Diario contable'!E73=\"Gastos de mercadeo\",'Diario contable'!H73,0))","v":"00:00:00"},null,null,{"$f":"+IF('Diario contable'!C73=\"Gastos de suministros de oficina\",'Diario contable'!F73,0)","v":0},null,null,null,{"$f":"+IF('Diario contable'!E73=\"Gastos de suministros de oficina\",'Diario contable'!F73,0)","v":0},{"$f":"IF('Diario contable'!C73=\"Gastos de suministros de oficina\",'Diario contable'!I73,IF('Diario contable'!E73=\"Gastos de suministros de oficina\",'Diario contable'!I73,0))","v":0},{"$f":"IF('Diario contable'!C73=\"Gastos de suministros de oficina\",'Diario contable'!H73,IF('Diario contable'!E73=\"Gastos de suministros de oficina\",'Diario contable'!H73,0))","v":"00:00:00"}]
[null,null,{"$f":"+IF('Diario contable'!C74=\"Caja\",'Diario contable'!F74,0)","v":0},null,null,null,{"$f":"+IF('Diario contable'!E74=\"Caja\",'Diario contable'!F74,0)","v":0},{"$f":"IF('Diario contable'!C74=\"Caja\",'Diario contable'!I74,IF('Diario contable'!E74=\"Caja\",'Diario contable'!I74,0))","v":0},{"$f":"IF('Diario contable'!C74=\"Caja\",'Diario contable'!H74,IF('Diario contable'!E74=\"Caja\",'Diario contable'!H74,0))","v":"00:00:00"},null,null,{"$f":"+IF('Diario contable'!C74=\"Maquinaria\",'Diario contable'!F74,0)","v":0},null,null,null,{"$f":"+IF('Diario contable'!E74=\"Maquinaria\",'Diario contable'!F74,0)","v":0},{"$f":"IF('Diario contable'!C74=\"Maquinaria\",'Diario contable'!I74,IF('Diario contable'!E74=\"Maquinaria\",'Diario contable'!I74,0))","v":0},{"$f":"IF('Diario contable'!C74=\"Maquinaria\",'Diario contable'!H74,IF('Diario contable'!E74=\"Maquinaria\",'Diario contable'!H74,0))","v":"00:00:00"},null,null,{"$f":"+IF('Diario contable'!C74=\"Herramientas\",'Diario contable'!F74,0)","v":0},null,null,null,{"$f":"+IF('Diario contable'!E74=\"Herramientas\",'Diario contable'!F74,0)","v":0},{"$f":"IF('Diario contable'!C74=\"Herramientas\",'Diario contable'!I74,IF('Diario contable'!E74=\"Herramientas\",'Diario contable'!I74,0))","v":0},{"$f":"IF('Diario contable'!C74=\"Herramientas\",'Diario contable'!H74,IF('Diario contable'!E74=\"Herramientas\",'Diario contable'!H74,0))","v":"00:00:00"},null,null,{"$f":"+IF('Diario contable'!C74=\"Donaciones\",'Diario contable'!F74,0)","v":0},null,null,null,{"$f":"+IF('Diario contable'!E74=\"Donaciones\",'Diario contable'!F74,0)","v":0},{"$f":"IF('Diario contable'!C74=\"Donaciones\",'Diario contable'!I74,IF('Diario contable'!E74=\"Donaciones\",'Diario contable'!I74,0))","v":0},{"$f":"IF('Diario contable'!C74=\"Donaciones\",'Diario contable'!H74,IF('Diario contable'!E74=\"Donaciones\",'Diario contable'!H74,0))","v":"00:00:00"},null,null,{"$f":"+IF('Diario contable'!C74=\"Inventario\",'Diario contable'!F74,0)","v":0},null,null,null,{"$f":"+IF('Diario contable'!E74=\"Inventario\",'Diario contable'!F74,0)","v":0},{"$f":"IF('Diario contable'!C74=\"Inventario\",'Diario contable'!I74,IF('Diario contable'!E74=\"Inventario\",'Diario contable'!I74,0))","v":0},{"$f":"IF('Diario contable'!C74=\"Inventario\",'Diario contable'!H74,IF('Diario contable'!E74=\"Inventario\",'Diario contable'!H74,0))","v":"00:00:00"},null,null,{"$f":"+IF('Diario contable'!C74=\"Costo de ventas\",'Diario contable'!F74,0)","v":0},null,null,null,{"$f":"+IF('Diario contable'!E74=\"Costo de ventas\",'Diario contable'!F74,0)","v":0},{"$f":"IF('Diario contable'!C74=\"Costo de ventas\",'Diario contable'!I74,IF('Diario contable'!E74=\"Costo de ventas\",'Diario contable'!I74,0))","v":0},{"$f":"IF('Diario contable'!C74=\"Costo de ventas\",'Diario contable'!H74,IF('Diario contable'!E74=\"Costo de ventas\",'Diario contable'!H74,0))","v":"00:00:00"},null,null,{"$f":"+IF('Diario contable'!C74=\"Ventas\",'Diario contable'!F74,0)","v":0},null,null,null,{"$f":"+IF('Diario contable'!E74=\"Ventas\",'Diario contable'!F74,0)","v":0},{"$f":"IF('Diario contable'!C74=\"Ventas\",'Diario contable'!I74,IF('Diario contable'!E74=\"Ventas\",'Diario contable'!I74,0))","v":0},{"$f":"IF('Diario contable'!C74=\"Ventas\",'Diario contable'!H74,IF('Diario contable'!E74=\"Ventas\",'Diario contable'!H74,0))","v":"00:00:00"},null,null,{"$f":"+IF('Diario contable'!C74=\"Gastos por salarios\",'Diario contable'!F74,0)","v":0},null,null,null,{"$f":"+IF('Diario contable'!E74=\"Gastos por salarios\",'Diario contable'!F74,0)","v":0},{"$f":"IF('Diario contable'!C74=\"Gastos por salarios\",'Diario contable'!I74,IF('Diario contable'!E74=\"Gastos por salarios\",'Diario contable'!I74,0))","v":0},{"$f":"IF('Diario contable'!C74=\"Gastos por salarios\",'Diario contable'!H74,IF('Diario contable'!E74=\"Gastos por salarios\",'Diario contable'!H74,0))","v":"00:00:00"},null,null,{"$f":"+IF('Diario contable'!C74=\"Gastos operacionales\",'Diario contable'!F74,0)","v":0},null,null,null,{"$f":"+IF('Diario contable'!E74=\"Gastos operacionales\",'Diario contable'!F74,0)","v":0},{"$f":"IF('Diario contable'!C74=\"Gastos operacionales\",'Diario contable'!I74,IF('Diario contable'!E74=\"Gastos operacionales\",'Diario contable'!I74,0))","v":0},{"$f":"IF('Diario contable'!C74=\"Gastos operacionales\",'Diario contable'!H74,IF('Diario contable'!E74=\"Gastos operacionales\",'Diario contable'!H74,0))","v":"00:00:00"},null,null,{"$f":"+IF('Diario contable'!C74=\"Suministros de oficina\",'Diario contable'!F74,0)","v":0},null,null,null,{"$f":"+IF('Diario contable'!E74=\"Suministros de oficina\",'Diario contable'!F74,0)","v":0},{"$f":"IF('Diario contable'!C74=\"Suministros de oficina\",'Diario contable'!I74,IF('Diario contable'!E74=\"Suministros de oficina\",'Diario contable'!I74,0))","v":0},{"$f":"IF('Diario contable'!C74=\"Suministros de oficina\",'Diario contable'!H74,IF('Diario contable'!E74=\"Suministros de oficina\",'Diario contable'!H74,0))","v":"00:00:00"},null,null,{"$f":"+IF('Diario contable'!C74=\"Capital social\",'Diario contable'!F74,0)","v":0},null,null,null,{"$f":"+IF('Diario contable'!E74=\"Capital social\",'Diario contable'!F74,0)","v":0},{"$f":"IF('Diario contable'!C74=\"Capital social\",'Diario contable'!I74,IF('Diario contable'!E74=\"Capital social\",'Diario contable'!I74,0))","v":0},{"$f":"IF('Diario contable'!C74=\"Capital social\",'Diario contable'!H74,IF('Diario contable'!E74=\"Capital social\",'Diario contable'!H74,0))","v":"00:00:00"},null,null,{"$f":"+IF('Diario contable'!C74=\"Gastos de mercadeo\",'Diario contable'!F74,0)","v":0},null,null,null,{"$f":"+IF('Diario contable'!E74=\"Gastos de mercadeo\",'Diario contable'!F74,0)","v":0},{"$f":"IF('Diario contable'!C74=\"Gastos de mercadeo\",'Diario contable'!I74,IF('Diario contable'!E74=\"Gastos de mercadeo\",'Diario contable'!I74,0))","v":0},{"$f":"IF('Diario contable'!C74=\"Gastos de mercadeo\",'Diario contable'!H74,IF('Diario contable'!E74=\"Gastos de mercadeo\",'Diario contable'!H74,0))","v":"00:00:00"},null,null,{"$f":"+IF('Diario contable'!C74=\"Gastos de suministros de oficina\",'Diario contable'!F74,0)","v":0},null,null,null,{"$f":"+IF('Diario contable'!E74=\"Gastos de suministros de oficina\",'Diario contable'!F74,0)","v":0},{"$f":"IF('Diario contable'!C74=\"Gastos de suministros de oficina\",'Diario contable'!I74,IF('Diario contable'!E74=\"Gastos de suministros de oficina\",'Diario contable'!I74,0))","v":0},{"$f":"IF('Diario contable'!C74=\"Gastos de suministros de oficina\",'Diario contable'!H74,IF('Diario contable'!E74=\"Gastos de suministros de oficina\",'Diario contable'!H74,0))","v":"00:00:00"}]
[null,null,{"$f":"+IF('Diario contable'!C75=\"Caja\",'Diario contable'!F75,0)","v":0},null,null,null,{"$f":"+IF('Diario contable'!E75=\"Caja\",'Diario contable'!F75,0)","v":0},{"$f":"IF('Diario contable'!C75=\"Caja\",'Diario contable'!I75,IF('Diario contable'!E75=\"Caja\",'Diario contable'!I75,0))","v":0},{"$f":"IF('Diario contable'!C75=\"Caja\",'Diario contable'!H75,IF('Diario contable'!E75=\"Caja\",'Diario contable'!H75,0))","v":"00:00:00"},null,null,{"$f":"+IF('Diario contable'!C75=\"Maquinaria\",'Diario contable'!F75,0)","v":0},null,null,null,{"$f":"+IF('Diario contable'!E75=\"Maquinaria\",'Diario contable'!F75,0)","v":0},{"$f":"IF('Diario contable'!C75=\"Maquinaria\",'Diario contable'!I75,IF('Diario contable'!E75=\"Maquinaria\",'Diario contable'!I75,0))","v":0},{"$f":"IF('Diario contable'!C75=\"Maquinaria\",'Diario contable'!H75,IF('Diario contable'!E75=\"Maquinaria\",'Diario contable'!H75,0))","v":"00:00:00"},null,null,{"$f":"+IF('Diario contable'!C75=\"Herramientas\",'Diario contable'!F75,0)","v":0},null,null,null,{"$f":"+IF('Diario contable'!E75=\"Herramientas\",'Diario contable'!F75,0)","v":0},{"$f":"IF('Diario contable'!C75=\"Herramientas\",'Diario contable'!I75,IF('Diario contable'!E75=\"Herramientas\",'Diario contable'!I75,0))","v":0},{"$f":"IF('Diario contable'!C75=\"Herramientas\",'Diario contable'!H75,IF('Diario contable'!E75=\"Herramientas\",'Diario contable'!H75,0))","v":"00:00:00"},null,null,{"$f":"+IF('Diario contable'!C75=\"Donaciones\",'Diario contable'!F75,0)","v":0},null,null,null,{"$f":"+IF('Diario contable'!E75=\"Donaciones\",'Diario contable'!F75,0)","v":0},{"$f":"IF('Diario contable'!C75=\"Donaciones\",'Diario contable'!I75,IF('Diario contable'!E75=\"Donaciones\",'Diario contable'!I75,0))","v":0},{"$f":"IF('Diario contable'!C75=\"Donaciones\",'Diario contable'!H75,IF('Diario contable'!E75=\"Donaciones\",'Diario contable'!H75,0))","v":"00:00:00"},null,null,{"$f":"+IF('Diario contable'!C75=\"Inventario\",'Diario contable'!F75,0)","v":0},null,null,null,{"$f":"+IF('Diario contable'!E75=\"Inventario\",'Diario contable'!F75,0)","v":0},{"$f":"IF('Diario contable'!C75=\"Inventario\",'Diario contable'!I75,IF('Diario contable'!E75=\"Inventario\",'Diario contable'!I75,0))","v":0},{"$f":"IF('Diario contable'!C75=\"Inventario\",'Diario contable'!H75,IF('Diario contable'!E75=\"Inventario\",'Diario contable'!H75,0))","v":"00:00:00"},null,null,{"$f":"+IF('Diario contable'!C75=\"Costo de ventas\",'Diario contable'!F75,0)","v":0},null,null,null,{"$f":"+IF('Diario contable'!E75=\"Costo de ventas\",'Diario contable'!F75,0)","v":0},{"$f":"IF('Diario contable'!C75=\"Costo de ventas\",'Diario contable'!I75,IF('Diario contable'!E75=\"Costo de ventas\",'Diario contable'!I75,0))","v":0},{"$f":"IF('Diario contable'!C75=\"Costo de ventas\",'Diario contable'!H75,IF('Diario contable'!E75=\"Costo de ventas\",'Diario contable'!H75,0))","v":"00:00:00"},null,null,{"$f":"+IF('Diario contable'!C75=\"Ventas\",'Diario contable'!F75,0)","v":0},null,null,null,{"$f":"+IF('Diario contable'!E75=\"Ventas\",'Diario contable'!F75,0)","v":0},{"$f":"IF('Diario contable'!C75=\"Ventas\",'Diario contable'!I75,IF('Diario contable'!E75=\"Ventas\",'Diario contable'!I75,0))","v":0},{"$f":"IF('Diario contable'!C75=\"Ventas\",'Diario contable'!H75,IF('Diario contable'!E75=\"Ventas\",'Diario contable'!H75,0))","v":"00:00:00"},null,null,{"$f":"+IF('Diario contable'!C75=\"Gastos por salarios\",'Diario contable'!F75,0)","v":0},null,null,null,{"$f":"+IF('Diario contable'!E75=\"Gastos por salarios\",'Diario contable'!F75,0)","v":0},{"$f":"IF('Diario contable'!C75=\"Gastos por salarios\",'Diario contable'!I75,IF('Diario contable'!E75=\"Gastos por salarios\",'Diario contable'!I75,0))","v":0},{"$f":"IF('Diario contable'!C75=\"Gastos por salarios\",'Diario contable'!H75,IF('Diario contable'!E75=\"Gastos por salarios\",'Diario contable'!H75,0))","v":"00:00:00"},null,null,{"$f":"+IF('Diario contable'!C75=\"Gastos operacionales\",'Diario contable'!F75,0)","v":0},null,null,null,{"$f":"+IF('Diario contable'!E75=\"Gastos operacionales\",'Diario contable'!F75,0)","v":0},{"$f":"IF('Diario contable'!C75=\"Gastos operacionales\",'Diario contable'!I75,IF('Diario contable'!E75=\"Gastos operacionales\",'Diario contable'!I75,0))","v":0},{"$f":"IF('Diario contable'!C75=\"Gastos operacionales\",'Diario contable'!H75,IF('Diario contable'!E75=\"Gastos operacionales\",'Diario contable'!H75,0))","v":"00:00:00"},null,null,{"$f":"+IF('Diario contable'!C75=\"Suministros de oficina\",'Diario contable'!F75,0)","v":0},null,null,null,{"$f":"+IF('Diario contable'!E75=\"Suministros de oficina\",'Diario contable'!F75,0)","v":0},{"$f":"IF('Diario contable'!C75=\"Suministros de oficina\",'Diario contable'!I75,IF('Diario contable'!E75=\"Suministros de oficina\",'Diario contable'!I75,0))","v":0},{"$f":"IF('Diario contable'!C75=\"Suministros de oficina\",'Diario contable'!H75,IF('Diario contable'!E75=\"Suministros de oficina\",'Diario contable'!H75,0))","v":"00:00:00"},null,null,{"$f":"+IF('Diario contable'!C75=\"Capital social\",'Diario contable'!F75,0)","v":0},null,null,null,{"$f":"+IF('Diario contable'!E75=\"Capital social\",'Diario contable'!F75,0)","v":0},{"$f":"IF('Diario contable'!C75=\"Capital social\",'Diario contable'!I75,IF('Diario contable'!E75=\"Capital social\",'Diario contable'!I75,0))","v":0},{"$f":"IF('Diario contable'!C75=\"Capital social\",'Diario contable'!H75,IF('Diario contable'!E75=\"Capital social\",'Diario contable'!H75,0))","v":"00:00:00"},null,null,{"$f":"+IF('Diario contable'!C75=\"Gastos de mercadeo\",'Diario contable'!F75,0)","v":0},null,null,null,{"$f":"+IF('Diario contable'!E75=\"Gastos de mercadeo\",'Diario contable'!F75,0)","v":0},{"$f":"IF('Diario contable'!C75=\"Gastos de mercadeo\",'Diario contable'!I75,IF('Diario contable'!E75=\"Gastos de mercadeo\",'Diario contable'!I75,0))","v":0},{"$f":"IF('Diario contable'!C75=\"Gastos de mercadeo\",'Diario contable'!H75,IF('Diario contable'!E75=\"Gastos de mercadeo\",'Diario contable'!H75,0))","v":"00:00:00"},null,null,{"$f":"+IF('Diario contable'!C75=\"Gastos de suministros de oficina\",'Diario contable'!F75,0)","v":0},null,null,null,{"$f":"+IF('Diario contable'!E75=\"Gastos de suministros de oficina\",'Diario contable'!F75,0)","v":0},{"$f":"IF('Diario contable'!C75=\"Gastos de suministros de oficina\",'Diario contable'!I75,IF('Diario contable'!E75=\"Gastos de suministros de oficina\",'Diario contable'!I75,0))","v":0},{"$f":"IF('Diario contable'!C75=\"Gastos de suministros de oficina\",'Diario contable'!H75,IF('Diario contable'!E75=\"Gastos de suministros de oficina\",'Diario contable'!H75,0))","v":"00:00:00"}]
[null,null,{"$f":"+IF('Diario contable'!C76=\"Caja\",'Diario contable'!F76,0)","v":0},null,null,null,{"$f":"+IF('Diario contable'!E76=\"Caja\",'Diario contable'!F76,0)","v":0},{"$f":"IF('Diario contable'!C76=\"Caja\",'Diario contable'!I76,IF('Diario contable'!E76=\"Caja\",'Diario contable'!I76,0))","v":0},{"$f":"IF('Diario contable'!C76=\"Caja\",'Diario contable'!H76,IF('Diario contable'!E76=\"Caja\",'Diario contable'!H76,0))","v":"00:00:00"},null,null,{"$f":"+IF('Diario contable'!C76=\"Maquinaria\",'Diario contable'!F76,0)","v":0},null,null,null,{"$f":"+IF('Diario contable'!E76=\"Maquinaria\",'Diario contable'!F76,0)","v":0},{"$f":"IF('Diario contable'!C76=\"Maquinaria\",'Diario contable'!I76,IF('Diario contable'!E76=\"Maquinaria\",'Diario contable'!I76,0))","v":0},{"$f":"IF('Diario contable'!C76=\"Maquinaria\",'Diario contable'!H76,IF('Diario contable'!E76=\"Maquinaria\",'Diario contable'!H76,0))","v":"00:00:00"},null,null,{"$f":"+IF('Diario contable'!C76=\"Herramientas\",'Diario contable'!F76,0)","v":0},null,null,null,{"$f":"+IF('Diario contable'!E76=\"Herramientas\",'Diario contable'!F76,0)","v":0},{"$f":"IF('Diario contable'!C76=\"Herramientas\",'Diario contable'!I76,IF('Diario contable'!E76=\"Herramientas\",'Diario contable'!I76,0))","v":0},{"$f":"IF('Diario contable'!C76=\"Herramientas\",'Diario contable'!H76,IF('Diario contable'!E76=\"Herramientas\",'Diario contable'!H76,0))","v":"00:00:00"},null,null,{"$f":"+IF('Diario contable'!C76=\"Donaciones\",'Diario contable'!F76,0)","v":0},null,null,null,{"$f":"+IF('Diario contable'!E76=\"Donaciones\",'Diario contable'!F76,0)","v":0},{"$f":"IF('Diario contable'!C76=\"Donaciones\",'Diario contable'!I76,IF('Diario contable'!E76=\"Donaciones\",'Diario contable'!I76,0))","v":0},{"$f":"IF('Diario contable'!C76=\"Donaciones\",'Diario contable'!H76,IF('Diario contable'!E76=\"Donaciones\",'Diario contable'!H76,0))","v":"00:00:00"},null,null,{"$f":"+IF('Diario contable'!C76=\"Inventario\",'Diario contable'!F76,0)","v":0},null,null,null,{"$f":"+IF('Diario contable'!E76=\"Inventario\",'Diario contable'!F76,0)","v":0},{"$f":"IF('Diario contable'!C76=\"Inventario\",'Diario contable'!I76,IF('Diario contable'!E76=\"Inventario\",'Diario contable'!I76,0))","v":0},{"$f":"IF('Diario contable'!C76=\"Inventario\",'Diario contable'!H76,IF('Diario contable'!E76=\"Inventario\",'Diario contable'!H76,0))","v":"00:00:00"},null,null,{"$f":"+IF('Diario contable'!C76=\"Costo de ventas\",'Diario contable'!F76,0)","v":0},null,null,null,{"$f":"+IF('Diario contable'!E76=\"Costo de ventas\",'Diario contable'!F76,0)","v":0},{"$f":"IF('Diario contable'!C76=\"Costo de ventas\",'Diario contable'!I76,IF('Diario contable'!E76=\"Costo de ventas\",'Diario contable'!I76,0))","v":0},{"$f":"IF('Diario contable'!C76=\"Costo de ventas\",'Diario contable'!H76,IF('Diario contable'!E76=\"Costo de ventas\",'Diario contable'!H76,0))","v":"00:00:00"},null,null,{"$f":"+IF('Diario contable'!C76=\"Ventas\",'Diario contable'!F76,0)","v":0},null,null,null,{"$f":"+IF('Diario contable'!E76=\"Ventas\",'Diario contable'!F76,0)","v":0},{"$f":"IF('Diario contable'!C76=\"Ventas\",'Diario contable'!I76,IF('Diario contable'!E76=\"Ventas\",'Diario contable'!I76,0))","v":0},{"$f":"IF('Diario contable'!C76=\"Ventas\",'Diario contable'!H76,IF('Diario contable'!E76=\"Ventas\",'Diario contable'!H76,0))","v":"00:00:00"},null,null,{"$f":"+IF('Diario contable'!C76=\"Gastos por salarios\",'Diario contable'!F76,0)","v":0},null,null,null,{"$f":"+IF('Diario contable'!E76=\"Gastos por salarios\",'Diario contable'!F76,0)","v":0},{"$f":"IF('Diario contable'!C76=\"Gastos por salarios\",'Diario contable'!I76,IF('Diario contable'!E76=\"Gastos por salarios\",'Diario contable'!I76,0))","v":0},{"$f":"IF('Diario contable'!C76=\"Gastos por salarios\",'Diario contable'!H76,IF('Diario contable'!E76=\"Gastos por salarios\",'Diario contable'!H76,0))","v":"00:00:00"},null,null,{"$f":"+IF('Diario contable'!C76=\"Gastos operacionales\",'Diario contable'!F76,0)","v":0},null,null,null,{"$f":"+IF('Diario contable'!E76=\"Gastos operacionales\",'Diario contable'!F76,0)","v":0},{"$f":"IF('Diario contable'!C76=\"Gastos operacionales\",'Diario contable'!I76,IF('Diario contable'!E76=\"Gastos operacionales\",'Diario contable'!I76,0))","v":0},{"$f":"IF('Diario contable'!C76=\"Gastos operacionales\",'Diario contable'!H76,IF('Diario contable'!E76=\"Gastos operacionales\",'Diario contable'!H76,0))","v":"00:00:00"},null,null,{"$f":"+IF('Diario contable'!C76=\"Suministros de oficina\",'Diario contable'!F76,0)","v":0},null,null,null,{"$f":"+IF('Diario contable'!E76=\"Suministros de oficina\",'Diario contable'!F76,0)","v":0},{"$f":"IF('Diario contable'!C76=\"Suministros de oficina\",'Diario contable'!I76,IF('Diario contable'!E76=\"Suministros de oficina\",'Diario contable'!I76,0))","v":0},{"$f":"IF('Diario contable'!C76=\"Suministros de oficina\",'Diario contable'!H76,IF('Diario contable'!E76=\"Suministros de oficina\",'Diario contable'!H76,0))","v":"00:00:00"},null,null,{"$f":"+IF('Diario contable'!C76=\"Capital social\",'Diario contable'!F76,0)","v":0},null,null,null,{"$f":"+IF('Diario contable'!E76=\"Capital social\",'Diario contable'!F76,0)","v":0},{"$f":"IF('Diario contable'!C76=\"Capital social\",'Diario contable'!I76,IF('Diario contable'!E76=\"Capital social\",'Diario contable'!I76,0))","v":0},{"$f":"IF('Diario contable'!C76=\"Capital social\",'Diario contable'!H76,IF('Diario contable'!E76=\"Capital social\",'Diario contable'!H76,0))","v":"00:00:00"},null,null,{"$f":"+IF('Diario contable'!C76=\"Gastos de mercadeo\",'Diario contable'!F76,0)","v":0},null,null,null,{"$f":"+IF('Diario contable'!E76=\"Gastos de mercadeo\",'Diario contable'!F76,0)","v":0},{"$f":"IF('Diario contable'!C76=\"Gastos de mercadeo\",'Diario contable'!I76,IF('Diario contable'!E76=\"Gastos de mercadeo\",'Diario contable'!I76,0))","v":0},{"$f":"IF('Diario contable'!C76=\"Gastos de mercadeo\",'Diario contable'!H76,IF('Diario contable'!E76=\"Gastos de mercadeo\",'Diario contable'!H76,0))","v":"00:00:00"},null,null,{"$f":"+IF('Diario contable'!C76=\"Gastos de suministros de oficina\",'Diario contable'!F76,0)","v":0},null,null,null,{"$f":"+IF('Diario contable'!E76=\"Gastos de suministros de oficina\",'Diario contable'!F76,0)","v":0},{"$f":"IF('Diario contable'!C76=\"Gastos de suministros de oficina\",'Diario contable'!I76,IF('Diario contable'!E76=\"Gastos de suministros de oficina\",'Diario contable'!I76,0))","v":0},{"$f":"IF('Diario contable'!C76=\"Gastos de suministros de oficina\",'Diario contable'!H76,IF('Diario contable'!E76=\"Gastos de suministros de oficina\",'Diario contable'!H76,0))","v":"00:00:00"}]
[null,null,{"$f":"+IF('Diario contable'!C77=\"Caja\",'Diario contable'!F77,0)","v":0},null,null,null,{"$f":"+IF('Diario contable'!E77=\"Caja\",'Diario contable'!F77,0)","v":0},{"$f":"IF('Diario contable'!C77=\"Caja\",'Diario contable'!I77,IF('Diario contable'!E77=\"Caja\",'Diario contable'!I77,0))","v":0},{"$f":"IF('Diario contable'!C77=\"Caja\",'Diario contable'!H77,IF('Diario contable'!E77=\"Caja\",'Diario contable'!H77,0))","v":"00:00:00"},null,null,{"$f":"+IF('Diario contable'!C77=\"Maquinaria\",'Diario contable'!F77,0)","v":0},null,null,null,{"$f":"+IF('Diario contable'!E77=\"Maquinaria\",'Diario contable'!F77,0)","v":0},{"$f":"IF('Diario contable'!C77=\"Maquinaria\",'Diario contable'!I77,IF('Diario contable'!E77=\"Maquinaria\",'Diario contable'!I77,0))","v":0},{"$f":"IF('Diario contable'!C77=\"Maquinaria\",'Diario contable'!H77,IF('Diario contable'!E77=\"Maquinaria\",'Diario contable'!H77,0))","v":"00:00:00"},null,null,{"$f":"+IF('Diario contable'!C77=\"Herramientas\",'Diario contable'!F77,0)","v":0},null,null,null,{"$f":"+IF('Diario contable'!E77=\"Herramientas\",'Diario contable'!F77,0)","v":0},{"$f":"IF('Diario contable'!C77=\"Herramientas\",'Diario contable'!I77,IF('Diario contable'!E77=\"Herramientas\",'Diario contable'!I77,0))","v":0},{"$f":"IF('Diario contable'!C77=\"Herramientas\",'Diario contable'!H77,IF('Diario contable'!E77=\"Herramientas\",'Diario contable'!H77,0))","v":"00:00:00"},null,null,{"$f":"+IF('Diario contable'!C77=\"Donaciones\",'Diario contable'!F77,0)","v":0},null,null,null,{"$f":"+IF('Diario contable'!E77=\"Donaciones\",'Diario contable'!F77,0)","v":0},{"$f":"IF('Diario contable'!C77=\"Donaciones\",'Diario contable'!I77,IF('Diario contable'!E77=\"Donaciones\",'Diario contable'!I77,0))","v":0},{"$f":"IF('Diario contable'!C77=\"Donaciones\",'Diario contable'!H77,IF('Diario contable'!E77=\"Donaciones\",'Diario contable'!H77,0))","v":"00:00:00"},null,null,{"$f":"+IF('Diario contable'!C77=\"Inventario\",'Diario contable'!F77,0)","v":0},null,null,null,{"$f":"+IF('Diario contable'!E77=\"Inventario\",'Diario contable'!F77,0)","v":0},{"$f":"IF('Diario contable'!C77=\"Inventario\",'Diario contable'!I77,IF('Diario contable'!E77=\"Inventario\",'Diario contable'!I77,0))","v":0},{"$f":"IF('Diario contable'!C77=\"Inventario\",'Diario contable'!H77,IF('Diario contable'!E77=\"Inventario\",'Diario contable'!H77,0))","v":"00:00:00"},null,null,{"$f":"+IF('Diario contable'!C77=\"Costo de ventas\",'Diario contable'!F77,0)","v":0},null,null,null,{"$f":"+IF('Diario contable'!E77=\"Costo de ventas\",'Diario contable'!F77,0)","v":0},{"$f":"IF('Diario contable'!C77=\"Costo de ventas\",'Diario contable'!I77,IF('Diario contable'!E77=\"Costo de ventas\",'Diario contable'!I77,0))","v":0},{"$f":"IF('Diario contable'!C77=\"Costo de ventas\",'Diario contable'!H77,IF('Diario contable'!E77=\"Costo de ventas\",'Diario contable'!H77,0))","v":"00:00:00"},null,null,{"$f":"+IF('Diario contable'!C77=\"Ventas\",'Diario contable'!F77,0)","v":0},null,null,null,{"$f":"+IF('Diario contable'!E77=\"Ventas\",'Diario contable'!F77,0)","v":0},{"$f":"IF('Diario contable'!C77=\"Ventas\",'Diario contable'!I77,IF('Diario contable'!E77=\"Ventas\",'Diario contable'!I77,0))","v":0},{"$f":"IF('Diario contable'!C77=\"Ventas\",'Diario contable'!H77,IF('Diario contable'!E77=\"Ventas\",'Diario contable'!H77,0))","v":"00:00:00"},null,null,{"$f":"+IF('Diario contable'!C77=\"Gastos por salarios\",'Diario contable'!F77,0)","v":0},null,null,null,{"$f":"+IF('Diario contable'!E77=\"Gastos por salarios\",'Diario contable'!F77,0)","v":0},{"$f":"IF('Diario contable'!C77=\"Gastos por salarios\",'Diario contable'!I77,IF('Diario contable'!E77=\"Gastos por salarios\",'Diario contable'!I77,0))","v":0},{"$f":"IF('Diario contable'!C77=\"Gastos por salarios\",'Diario contable'!H77,IF('Diario contable'!E77=\"Gastos por salarios\",'Diario contable'!H77,0))","v":"00:00:00"},null,null,{"$f":"+IF('Diario contable'!C77=\"Gastos operacionales\",'Diario contable'!F77,0)","v":0},null,null,null,{"$f":"+IF('Diario contable'!E77=\"Gastos operacionales\",'Diario contable'!F77,0)","v":0},{"$f":"IF('Diario contable'!C77=\"Gastos operacionales\",'Diario contable'!I77,IF('Diario contable'!E77=\"Gastos operacionales\",'Diario contable'!I77,0))","v":0},{"$f":"IF('Diario contable'!C77=\"Gastos operacionales\",'Diario contable'!H77,IF('Diario contable'!E77=\"Gastos operacionales\",'Diario contable'!H77,0))","v":"00:00:00"},null,null,{"$f":"+IF('Diario contable'!C77=\"Suministros de oficina\",'Diario contable'!F77,0)","v":0},null,null,null,{"$f":"+IF('Diario contable'!E77=\"Suministros de oficina\",'Diario contable'!F77,0)","v":0},{"$f":"IF('Diario contable'!C77=\"Suministros de oficina\",'Diario contable'!I77,IF('Diario contable'!E77=\"Suministros de oficina\",'Diario contable'!I77,0))","v":0},{"$f":"IF('Diario contable'!C77=\"Suministros de oficina\",'Diario contable'!H77,IF('Diario contable'!E77=\"Suministros de oficina\",'Diario contable'!H77,0))","v":"00:00:00"},null,null,{"$f":"+IF('Diario contable'!C77=\"Capital social\",'Diario contable'!F77,0)","v":0},null,null,null,{"$f":"+IF('Diario contable'!E77=\"Capital social\",'Diario contable'!F77,0)","v":0},{"$f":"IF('Diario contable'!C77=\"Capital social\",'Diario contable'!I77,IF('Diario contable'!E77=\"Capital social\",'Diario contable'!I77,0))","v":0},{"$f":"IF('Diario contable'!C77=\"Capital social\",'Diario contable'!H77,IF('Diario contable'!E77=\"Capital social\",'Diario contable'!H77,0))","v":"00:00:00"},null,null,{"$f":"+IF('Diario contable'!C77=\"Gastos de mercadeo\",'Diario contable'!F77,0)","v":0},null,null,null,{"$f":"+IF('Diario contable'!E77=\"Gastos de mercadeo\",'Diario contable'!F77,0)","v":0},{"$f":"IF('Diario contable'!C77=\"Gastos de mercadeo\",'Diario contable'!I77,IF('Diario contable'!E77=\"Gastos de mercadeo\",'Diario contable'!I77,0))","v":0},{"$f":"IF('Diario contable'!C77=\"Gastos de mercadeo\",'Diario contable'!H77,IF('Diario contable'!E77=\"Gastos de mercadeo\",'Diario contable'!H77,0))","v":"00:00:00"},null,null,{"$f":"+IF('Diario contable'!C77=\"Gastos de suministros de oficina\",'Diario contable'!F77,0)","v":0},null,null,null,{"$f":"+IF('Diario contable'!E77=\"Gastos de suministros de oficina\",'Diario contable'!F77,0)","v":0},{"$f":"IF('Diario contable'!C77=\"Gastos de suministros de oficina\",'Diario contable'!I77,IF('Diario contable'!E77=\"Gastos de suministros de oficina\",'Diario contable'!I77,0))","v":0},{"$f":"IF('Diario contable'!C77=\"Gastos de suministros de oficina\",'Diario contable'!H77,IF('Diario contable'!E77=\"Gastos de suministros de oficina\",'Diario contable'!H77,0))","v":"00:00:00"}]
[null,null,{"$f":"+IF('Diario contable'!C78=\"Caja\",'Diario contable'!F78,0)","v":0},null,null,null,{"$f":"+IF('Diario contable'!E78=\"Caja\",'Diario contable'!F78,0)","v":0},{"$f":"IF('Diario contable'!C78=\"Caja\",'Diario contable'!I78,IF('Diario contable'!E78=\"Caja\",'Diario contable'!I78,0))","v":0},{"$f":"IF('Diario contable'!C78=\"Caja\",'Diario contable'!H78,IF('Diario contable'!E78=\"Caja\",'Diario contable'!H78,0))","v":"00:00:00"},null,null,{"$f":"+IF('Diario contable'!C78=\"Maquinaria\",'Diario contable'!F78,0)","v":0},null,null,null,{"$f":"+IF('Diario contable'!E78=\"Maquinaria\",'Diario contable'!F78,0)","v":0},{"$f":"IF('Diario contable'!C78=\"Maquinaria\",'Diario contable'!I78,IF('Diario contable'!E78=\"Maquinaria\",'Diario contable'!I78,0))","v":0},{"$f":"IF('Diario contable'!C78=\"Maquinaria\",'Diario contable'!H78,IF('Diario contable'!E78=\"Maquinaria\",'Diario contable'!H78,0))","v":"00:00:00"},null,null,{"$f":"+IF('Diario contable'!C78=\"Herramientas\",'Diario contable'!F78,0)","v":0},null,null,null,{"$f":"+IF('Diario contable'!E78=\"Herramientas\",'Diario contable'!F78,0)","v":0},{"$f":"IF('Diario contable'!C78=\"Herramientas\",'Diario contable'!I78,IF('Diario contable'!E78=\"Herramientas\",'Diario contable'!I78,0))","v":0},{"$f":"IF('Diario contable'!C78=\"Herramientas\",'Diario contable'!H78,IF('Diario contable'!E78=\"Herramientas\",'Diario contable'!H78,0))","v":"00:00:00"},null,null,{"$f":"+IF('Diario contable'!C78=\"Donaciones\",'Diario contable'!F78,0)","v":0},null,null,null,{"$f":"+IF('Diario contable'!E78=\"Donaciones\",'Diario contable'!F78,0)","v":0},{"$f":"IF('Diario contable'!C78=\"Donaciones\",'Diario contable'!I78,IF('Diario contable'!E78=\"Donaciones\",'Diario contable'!I78,0))","v":0},{"$f":"IF('Diario contable'!C78=\"Donaciones\",'Diario contable'!H78,IF('Diario contable'!E78=\"Donaciones\",'Diario contable'!H78,0))","v":"00:00:00"},null,null,{"$f":"+IF('Diario contable'!C78=\"Inventario\",'Diario contable'!F78,0)","v":0},null,null,null,{"$f":"+IF('Diario contable'!E78=\"Inventario\",'Diario contable'!F78,0)","v":0},{"$f":"IF('Diario contable'!C78=\"Inventario\",'Diario contable'!I78,IF('Diario contable'!E78=\"Inventario\",'Diario contable'!I78,0))","v":0},{"$f":"IF('Diario contable'!C78=\"Inventario\",'Diario contable'!H78,IF('Diario contable'!E78=\"Inventario\",'Diario contable'!H78,0))","v":"00:00:00"},null,null,{"$f":"+IF('Diario contable'!C78=\"Costo de ventas\",'Diario contable'!F78,0)","v":0},null,null,null,{"$f":"+IF('Diario contable'!E78=\"Costo de ventas\",'Diario contable'!F78,0)","v":0},{"$f":"IF('Diario contable'!C78=\"Costo de ventas\",'Diario contable'!I78,IF('Diario contable'!E78=\"Costo de ventas\",'Diario contable'!I78,0))","v":0},{"$f":"IF('Diario contable'!C78=\"Costo de ventas\",'Diario contable'!H78,IF('Diario contable'!E78=\"Costo de ventas\",'Diario contable'!H78,0))","v":"00:00:00"},null,null,{"$f":"+IF('Diario contable'!C78=\"Ventas\",'Diario contable'!F78,0)","v":0},null,null,null,{"$f":"+IF('Diario contable'!E78=\"Ventas\",'Diario contable'!F78,0)","v":0},{"$f":"IF('Diario contable'!C78=\"Ventas\",'Diario contable'!I78,IF('Diario contable'!E78=\"Ventas\",'Diario contable'!I78,0))","v":0},{"$f":"IF('Diario contable'!C78=\"Ventas\",'Diario contable'!H78,IF('Diario contable'!E78=\"Ventas\",'Diario contable'!H78,0))","v":"00:00:00"},null,null,{"$f":"+IF('Diario contable'!C78=\"Gastos por salarios\",'Diario contable'!F78,0)","v":0},null,null,null,{"$f":"+IF('Diario contable'!E78=\"Gastos por salarios\",'Diario contable'!F78,0)","v":0},{"$f":"IF('Diario contable'!C78=\"Gastos por salarios\",'Diario contable'!I78,IF('Diario contable'!E78=\"Gastos por salarios\",'Diario contable'!I78,0))","v":0},{"$f":"IF('Diario contable'!C78=\"Gastos por salarios\",'Diario contable'!H78,IF('Diario contable'!E78=\"Gastos por salarios\",'Diario contable'!H78,0))","v":"00:00:00"},null,null,{"$f":"+IF('Diario contable'!C78=\"Gastos operacionales\",'Diario contable'!F78,0)","v":0},null,null,null,{"$f":"+IF('Diario contable'!E78=\"Gastos operacionales\",'Diario contable'!F78,0)","v":0},{"$f":"IF('Diario contable'!C78=\"Gastos operacionales\",'Diario contable'!I78,IF('Diario contable'!E78=\"Gastos operacionales\",'Diario contable'!I78,0))","v":0},{"$f":"IF('Diario contable'!C78=\"Gastos operacionales\",'Diario contable'!H78,IF('Diario contable'!E78=\"Gastos operacionales\",'Diario contable'!H78,0))","v":"00:00:00"},null,null,{"$f":"+IF('Diario contable'!C78=\"Suministros de oficina\",'Diario contable'!F78,0)","v":0},null,null,null,{"$f":"+IF('Diario contable'!E78=\"Suministros de oficina\",'Diario contable'!F78,0)","v":0},{"$f":"IF('Diario contable'!C78=\"Suministros de oficina\",'Diario contable'!I78,IF('Diario contable'!E78=\"Suministros de oficina\",'Diario contable'!I78,0))","v":0},{"$f":"IF('Diario contable'!C78=\"Suministros de oficina\",'Diario contable'!H78,IF('Diario contable'!E78=\"Suministros de oficina\",'Diario contable'!H78,0))","v":"00:00:00"},null,null,{"$f":"+IF('Diario contable'!C78=\"Capital social\",'Diario contable'!F78,0)","v":0},null,null,null,{"$f":"+IF('Diario contable'!E78=\"Capital social\",'Diario contable'!F78,0)","v":0},{"$f":"IF('Diario contable'!C78=\"Capital social\",'Diario contable'!I78,IF('Diario contable'!E78=\"Capital social\",'Diario contable'!I78,0))","v":0},{"$f":"IF('Diario contable'!C78=\"Capital social\",'Diario contable'!H78,IF('Diario contable'!E78=\"Capital social\",'Diario contable'!H78,0))","v":"00:00:00"},null,null,{"$f":"+IF('Diario contable'!C78=\"Gastos de mercadeo\",'Diario contable'!F78,0)","v":0},null,null,null,{"$f":"+IF('Diario contable'!E78=\"Gastos de mercadeo\",'Diario contable'!F78,0)","v":0},{"$f":"IF('Diario contable'!C78=\"Gastos de mercadeo\",'Diario contable'!I78,IF('Diario contable'!E78=\"Gastos de mercadeo\",'Diario contable'!I78,0))","v":0},{"$f":"IF('Diario contable'!C78=\"Gastos de mercadeo\",'Diario contable'!H78,IF('Diario contable'!E78=\"Gastos de mercadeo\",'Diario contable'!H78,0))","v":"00:00:00"},null,null,{"$f":"+IF('Diario contable'!C78=\"Gastos de suministros de oficina\",'Diario contable'!F78,0)","v":0},null,null,null,{"$f":"+IF('Diario contable'!E78=\"Gastos de suministros de oficina\",'Diario contable'!F78,0)","v":0},{"$f":"IF('Diario contable'!C78=\"Gastos de suministros de oficina\",'Diario contable'!I78,IF('Diario contable'!E78=\"Gastos de suministros de oficina\",'Diario contable'!I78,0))","v":0},{"$f":"IF('Diario contable'!C78=\"Gastos de suministros de oficina\",'Diario contable'!H78,IF('Diario contable'!E78=\"Gastos de suministros de oficina\",'Diario contable'!H78,0))","v":"00:00:00"}]
[null,null,{"$f":"+IF('Diario contable'!C79=\"Caja\",'Diario contable'!F79,0)","v":0},null,null,null,{"$f":"+IF('Diario contable'!E79=\"Caja\",'Diario contable'!F79,0)","v":0},{"$f":"IF('Diario contable'!C79=\"Caja\",'Diario contable'!I79,IF('Diario contable'!E79=\"Caja\",'Diario contable'!I79,0))","v":0},{"$f":"IF('Diario contable'!C79=\"Caja\",'Diario contable'!H79,IF('Diario contable'!E79=\"Caja\",'Diario contable'!H79,0))","v":"00:00:00"},null,null,{"$f":"+IF('Diario contable'!C79=\"Maquinaria\",'Diario contable'!F79,0)","v":0},null,null,null,{"$f":"+IF('Diario contable'!E79=\"Maquinaria\",'Diario contable'!F79,0)","v":0},{"$f":"IF('Diario contable'!C79=\"Maquinaria\",'Diario contable'!I79,IF('Diario contable'!E79=\"Maquinaria\",'Diario contable'!I79,0))","v":0},{"$f":"IF('Diario contable'!C79=\"Maquinaria\",'Diario contable'!H79,IF('Diario contable'!E79=\"Maquinaria\",'Diario contable'!H79,0))","v":"00:00:00"},null,null,{"$f":"+IF('Diario contable'!C79=\"Herramientas\",'Diario contable'!F79,0)","v":0},null,null,null,{"$f":"+IF('Diario contable'!E79=\"Herramientas\",'Diario contable'!F79,0)","v":0},{"$f":"IF('Diario contable'!C79=\"Herramientas\",'Diario contable'!I79,IF('Diario contable'!E79=\"Herramientas\",'Diario contable'!I79,0))","v":0},{"$f":"IF('Diario contable'!C79=\"Herramientas\",'Diario contable'!H79,IF('Diario contable'!E79=\"Herramientas\",'Diario contable'!H79,0))","v":"00:00:00"},null,null,{"$f":"+IF('Diario contable'!C79=\"Donaciones\",'Diario contable'!F79,0)","v":0},null,null,null,{"$f":"+IF('Diario contable'!E79=\"Donaciones\",'Diario contable'!F79,0)","v":0},{"$f":"IF('Diario contable'!C79=\"Donaciones\",'Diario contable'!I79,IF('Diario contable'!E79=\"Donaciones\",'Diario contable'!I79,0))","v":0},{"$f":"IF('Diario contable'!C79=\"Donaciones\",'Diario contable'!H79,IF('Diario contable'!E79=\"Donaciones\",'Diario contable'!H79,0))","v":"00:00:00"},null,null,{"$f":"+IF('Diario contable'!C79=\"Inventario\",'Diario contable'!F79,0)","v":0},null,null,null,{"$f":"+IF('Diario contable'!E79=\"Inventario\",'Diario contable'!F79,0)","v":0},{"$f":"IF('Diario contable'!C79=\"Inventario\",'Diario contable'!I79,IF('Diario contable'!E79=\"Inventario\",'Diario contable'!I79,0))","v":0},{"$f":"IF('Diario contable'!C79=\"Inventario\",'Diario contable'!H79,IF('Diario contable'!E79=\"Inventario\",'Diario contable'!H79,0))","v":"00:00:00"},null,null,{"$f":"+IF('Diario contable'!C79=\"Costo de ventas\",'Diario contable'!F79,0)","v":0},null,null,null,{"$f":"+IF('Diario contable'!E79=\"Costo de ventas\",'Diario contable'!F79,0)","v":0},{"$f":"IF('Diario contable'!C79=\"Costo de ventas\",'Diario contable'!I79,IF('Diario contable'!E79=\"Costo de ventas\",'Diario contable'!I79,0))","v":0},{"$f":"IF('Diario contable'!C79=\"Costo de ventas\",'Diario contable'!H79,IF('Diario contable'!E79=\"Costo de ventas\",'Diario contable'!H79,0))","v":"00:00:00"},null,null,{"$f":"+IF('Diario contable'!C79=\"Ventas\",'Diario contable'!F79,0)","v":0},null,null,null,{"$f":"+IF('Diario contable'!E79=\"Ventas\",'Diario contable'!F79,0)","v":0},{"$f":"IF('Diario contable'!C79=\"Ventas\",'Diario contable'!I79,IF('Diario contable'!E79=\"Ventas\",'Diario contable'!I79,0))","v":0},{"$f":"IF('Diario contable'!C79=\"Ventas\",'Diario contable'!H79,IF('Diario contable'!E79=\"Ventas\",'Diario contable'!H79,0))","v":"00:00:00"},null,null,{"$f":"+IF('Diario contable'!C79=\"Gastos por salarios\",'Diario contable'!F79,0)","v":0},null,null,null,{"$f":"+IF('Diario contable'!E79=\"Gastos por salarios\",'Diario contable'!F79,0)","v":0},{"$f":"IF('Diario contable'!C79=\"Gastos por salarios\",'Diario contable'!I79,IF('Diario contable'!E79=\"Gastos por salarios\",'Diario contable'!I79,0))","v":0},{"$f":"IF('Diario contable'!C79=\"Gastos por salarios\",'Diario contable'!H79,IF('Diario contable'!E79=\"Gastos por salarios\",'Diario contable'!H79,0))","v":"00:00:00"},null,null,{"$f":"+IF('Diario contable'!C79=\"Gastos operacionales\",'Diario contable'!F79,0)","v":0},null,null,null,{"$f":"+IF('Diario contable'!E79=\"Gastos operacionales\",'Diario contable'!F79,0)","v":0},{"$f":"IF('Diario contable'!C79=\"Gastos operacionales\",'Diario contable'!I79,IF('Diario contable'!E79=\"Gastos operacionales\",'Diario contable'!I79,0))","v":0},{"$f":"IF('Diario contable'!C79=\"Gastos operacionales\",'Diario contable'!H79,IF('Diario contable'!E79=\"Gastos operacionales\",'Diario contable'!H79,0))","v":"00:00:00"},null,null,{"$f":"+IF('Diario contable'!C79=\"Suministros de oficina\",'Diario contable'!F79,0)","v":0},null,null,null,{"$f":"+IF('Diario contable'!E79=\"Suministros de oficina\",'Diario contable'!F79,0)","v":0},{"$f":"IF('Diario contable'!C79=\"Suministros de oficina\",'Diario contable'!I79,IF('Diario contable'!E79=\"Suministros de oficina\",'Diario contable'!I79,0))","v":0},{"$f":"IF('Diario contable'!C79=\"Suministros de oficina\",'Diario contable'!H79,IF('Diario contable'!E79=\"Suministros de oficina\",'Diario contable'!H79,0))","v":"00:00:00"},null,null,{"$f":"+IF('Diario contable'!C79=\"Capital social\",'Diario contable'!F79,0)","v":0},null,null,null,{"$f":"+IF('Diario contable'!E79=\"Capital social\",'Diario contable'!F79,0)","v":0},{"$f":"IF('Diario contable'!C79=\"Capital social\",'Diario contable'!I79,IF('Diario contable'!E79=\"Capital social\",'Diario contable'!I79,0))","v":0},{"$f":"IF('Diario contable'!C79=\"Capital social\",'Diario contable'!H79,IF('Diario contable'!E79=\"Capital social\",'Diario contable'!H79,0))","v":"00:00:00"},null,null,{"$f":"+IF('Diario contable'!C79=\"Gastos de mercadeo\",'Diario contable'!F79,0)","v":0},null,null,null,{"$f":"+IF('Diario contable'!E79=\"Gastos de mercadeo\",'Diario contable'!F79,0)","v":0},{"$f":"IF('Diario contable'!C79=\"Gastos de mercadeo\",'Diario contable'!I79,IF('Diario contable'!E79=\"Gastos de mercadeo\",'Diario contable'!I79,0))","v":0},{"$f":"IF('Diario contable'!C79=\"Gastos de mercadeo\",'Diario contable'!H79,IF('Diario contable'!E79=\"Gastos de mercadeo\",'Diario contable'!H79,0))","v":"00:00:00"},null,null,{"$f":"+IF('Diario contable'!C79=\"Gastos de suministros de oficina\",'Diario contable'!F79,0)","v":0},null,null,null,{"$f":"+IF('Diario contable'!E79=\"Gastos de suministros de oficina\",'Diario contable'!F79,0)","v":0},{"$f":"IF('Diario contable'!C79=\"Gastos de suministros de oficina\",'Diario contable'!I79,IF('Diario contable'!E79=\"Gastos de suministros de oficina\",'Diario contable'!I79,0))","v":0},{"$f":"IF('Diario contable'!C79=\"Gastos de suministros de oficina\",'Diario contable'!H79,IF('Diario contable'!E79=\"Gastos de suministros de oficina\",'Diario contable'!H79,0))","v":"00:00:00"}]
[null,null,{"$f":"+IF('Diario contable'!C80=\"Caja\",'Diario contable'!F80,0)","v":0},null,null,null,{"$f":"+IF('Diario contable'!E80=\"Caja\",'Diario contable'!F80,0)","v":0},{"$f":"IF('Diario contable'!C80=\"Caja\",'Diario contable'!I80,IF('Diario contable'!E80=\"Caja\",'Diario contable'!I80,0))","v":0},{"$f":"IF('Diario contable'!C80=\"Caja\",'Diario contable'!H80,IF('Diario contable'!E80=\"Caja\",'Diario contable'!H80,0))","v":"00:00:00"},null,null,{"$f":"+IF('Diario contable'!C80=\"Maquinaria\",'Diario contable'!F80,0)","v":0},null,null,null,{"$f":"+IF('Diario contable'!E80=\"Maquinaria\",'Diario contable'!F80,0)","v":0},{"$f":"IF('Diario contable'!C80=\"Maquinaria\",'Diario contable'!I80,IF('Diario contable'!E80=\"Maquinaria\",'Diario contable'!I80,0))","v":0},{"$f":"IF('Diario contable'!C80=\"Maquinaria\",'Diario contable'!H80,IF('Diario contable'!E80=\"Maquinaria\",'Diario contable'!H80,0))","v":"00:00:00"},null,null,{"$f":"+IF('Diario contable'!C80=\"Herramientas\",'Diario contable'!F80,0)","v":0},null,null,null,{"$f":"+IF('Diario contable'!E80=\"Herramientas\",'Diario contable'!F80,0)","v":0},{"$f":"IF('Diario contable'!C80=\"Herramientas\",'Diario contable'!I80,IF('Diario contable'!E80=\"Herramientas\",'Diario contable'!I80,0))","v":0},{"$f":"IF('Diario contable'!C80=\"Herramientas\",'Diario contable'!H80,IF('Diario contable'!E80=\"Herramientas\",'Diario contable'!H80,0))","v":"00:00:00"},null,null,{"$f":"+IF('Diario contable'!C80=\"Donaciones\",'Diario contable'!F80,0)","v":0},null,null,null,{"$f":"+IF('Diario contable'!E80=\"Donaciones\",'Diario contable'!F80,0)","v":0},{"$f":"IF('Diario contable'!C80=\"Donaciones\",'Diario contable'!I80,IF('Diario contable'!E80=\"Donaciones\",'Diario contable'!I80,0))","v":0},{"$f":"IF('Diario contable'!C80=\"Donaciones\",'Diario contable'!H80,IF('Diario contable'!E80=\"Donaciones\",'Diario contable'!H80,0))","v":"00:00:00"},null,null,{"$f":"+IF('Diario contable'!C80=\"Inventario\",'Diario contable'!F80,0)","v":0},null,null,null,{"$f":"+IF('Diario contable'!E80=\"Inventario\",'Diario contable'!F80,0)","v":0},{"$f":"IF('Diario contable'!C80=\"Inventario\",'Diario contable'!I80,IF('Diario contable'!E80=\"Inventario\",'Diario contable'!I80,0))","v":0},{"$f":"IF('Diario contable'!C80=\"Inventario\",'Diario contable'!H80,IF('Diario contable'!E80=\"Inventario\",'Diario contable'!H80,0))","v":"00:00:00"},null,null,{"$f":"+IF('Diario contable'!C80=\"Costo de ventas\",'Diario contable'!F80,0)","v":0},null,null,null,{"$f":"+IF('Diario contable'!E80=\"Costo de ventas\",'Diario contable'!F80,0)","v":0},{"$f":"IF('Diario contable'!C80=\"Costo de ventas\",'Diario contable'!I80,IF('Diario contable'!E80=\"Costo de ventas\",'Diario contable'!I80,0))","v":0},{"$f":"IF('Diario contable'!C80=\"Costo de ventas\",'Diario contable'!H80,IF('Diario contable'!E80=\"Costo de ventas\",'Diario contable'!H80,0))","v":"00:00:00"},null,null,{"$f":"+IF('Diario contable'!C80=\"Ventas\",'Diario contable'!F80,0)","v":0},null,null,null,{"$f":"+IF('Diario contable'!E80=\"Ventas\",'Diario contable'!F80,0)","v":0},{"$f":"IF('Diario contable'!C80=\"Ventas\",'Diario contable'!I80,IF('Diario contable'!E80=\"Ventas\",'Diario contable'!I80,0))","v":0},{"$f":"IF('Diario contable'!C80=\"Ventas\",'Diario contable'!H80,IF('Diario contable'!E80=\"Ventas\",'Diario contable'!H80,0))","v":"00:00:00"},null,null,{"$f":"+IF('Diario contable'!C80=\"Gastos por salarios\",'Diario contable'!F80,0)","v":0},null,null,null,{"$f":"+IF('Diario contable'!E80=\"Gastos por salarios\",'Diario contable'!F80,0)","v":0},{"$f":"IF('Diario contable'!C80=\"Gastos por salarios\",'Diario contable'!I80,IF('Diario contable'!E80=\"Gastos por salarios\",'Diario contable'!I80,0))","v":0},{"$f":"IF('Diario contable'!C80=\"Gastos por salarios\",'Diario contable'!H80,IF('Diario contable'!E80=\"Gastos por salarios\",'Diario contable'!H80,0))","v":"00:00:00"},null,null,{"$f":"+IF('Diario contable'!C80=\"Gastos operacionales\",'Diario contable'!F80,0)","v":0},null,null,null,{"$f":"+IF('Diario contable'!E80=\"Gastos operacionales\",'Diario contable'!F80,0)","v":0},{"$f":"IF('Diario contable'!C80=\"Gastos operacionales\",'Diario contable'!I80,IF('Diario contable'!E80=\"Gastos operacionales\",'Diario contable'!I80,0))","v":0},{"$f":"IF('Diario contable'!C80=\"Gastos operacionales\",'Diario contable'!H80,IF('Diario contable'!E80=\"Gastos operacionales\",'Diario contable'!H80,0))","v":"00:00:00"},null,null,{"$f":"+IF('Diario contable'!C80=\"Suministros de oficina\",'Diario contable'!F80,0)","v":0},null,null,null,{"$f":"+IF('Diario contable'!E80=\"Suministros de oficina\",'Diario contable'!F80,0)","v":0},{"$f":"IF('Diario contable'!C80=\"Suministros de oficina\",'Diario contable'!I80,IF('Diario contable'!E80=\"Suministros de oficina\",'Diario contable'!I80,0))","v":0},{"$f":"IF('Diario contable'!C80=\"Suministros de oficina\",'Diario contable'!H80,IF('Diario contable'!E80=\"Suministros de oficina\",'Diario contable'!H80,0))","v":"00:00:00"},null,null,{"$f":"+IF('Diario contable'!C80=\"Capital social\",'Diario contable'!F80,0)","v":0},null,null,null,{"$f":"+IF('Diario contable'!E80=\"Capital social\",'Diario contable'!F80,0)","v":0},{"$f":"IF('Diario contable'!C80=\"Capital social\",'Diario contable'!I80,IF('Diario contable'!E80=\"Capital social\",'Diario contable'!I80,0))","v":0},{"$f":"IF('Diario contable'!C80=\"Capital social\",'Diario contable'!H80,IF('Diario contable'!E80=\"Capital social\",'Diario contable'!H80,0))","v":"00:00:00"},null,null,{"$f":"+IF('Diario contable'!C80=\"Gastos de mercadeo\",'Diario contable'!F80,0)","v":0},null,null,null,{"$f":"+IF('Diario contable'!E80=\"Gastos de mercadeo\",'Diario contable'!F80,0)","v":0},{"$f":"IF('Diario contable'!C80=\"Gastos de mercadeo\",'Diario contable'!I80,IF('Diario contable'!E80=\"Gastos de mercadeo\",'Diario contable'!I80,0))","v":0},{"$f":"IF('Diario contable'!C80=\"Gastos de mercadeo\",'Diario contable'!H80,IF('Diario contable'!E80=\"Gastos de mercadeo\",'Diario contable'!H80,0))","v":"00:00:00"},null,null,{"$f":"+IF('Diario contable'!C80=\"Gastos de suministros de oficina\",'Diario contable'!F80,0)","v":0},null,null,null,{"$f":"+IF('Diario contable'!E80=\"Gastos de suministros de oficina\",'Diario contable'!F80,0)","v":0},{"$f":"IF('Diario contable'!C80=\"Gastos de suministros de oficina\",'Diario contable'!I80,IF('Diario contable'!E80=\"Gastos de suministros de oficina\",'Diario contable'!I80,0))","v":0},{"$f":"IF('Diario contable'!C80=\"Gastos de suministros de oficina\",'Diario contable'!H80,IF('Diario contable'!E80=\"Gastos de suministros de oficina\",'Diario contable'!H80,0))","v":"00:00:00"}]
[null,null,{"$f":"+IF('Diario contable'!C81=\"Caja\",'Diario contable'!F81,0)","v":0},null,null,null,{"$f":"+IF('Diario contable'!E81=\"Caja\",'Diario contable'!F81,0)","v":0},{"$f":"IF('Diario contable'!C81=\"Caja\",'Diario contable'!I81,IF('Diario contable'!E81=\"Caja\",'Diario contable'!I81,0))","v":0},{"$f":"IF('Diario contable'!C81=\"Caja\",'Diario contable'!H81,IF('Diario contable'!E81=\"Caja\",'Diario contable'!H81,0))","v":"00:00:00"},null,null,{"$f":"+IF('Diario contable'!C81=\"Maquinaria\",'Diario contable'!F81,0)","v":0},null,null,null,{"$f":"+IF('Diario contable'!E81=\"Maquinaria\",'Diario contable'!F81,0)","v":0},{"$f":"IF('Diario contable'!C81=\"Maquinaria\",'Diario contable'!I81,IF('Diario contable'!E81=\"Maquinaria\",'Diario contable'!I81,0))","v":0},{"$f":"IF('Diario contable'!C81=\"Maquinaria\",'Diario contable'!H81,IF('Diario contable'!E81=\"Maquinaria\",'Diario contable'!H81,0))","v":"00:00:00"},null,null,{"$f":"+IF('Diario contable'!C81=\"Herramientas\",'Diario contable'!F81,0)","v":0},null,null,null,{"$f":"+IF('Diario contable'!E81=\"Herramientas\",'Diario contable'!F81,0)","v":0},{"$f":"IF('Diario contable'!C81=\"Herramientas\",'Diario contable'!I81,IF('Diario contable'!E81=\"Herramientas\",'Diario contable'!I81,0))","v":0},{"$f":"IF('Diario contable'!C81=\"Herramientas\",'Diario contable'!H81,IF('Diario contable'!E81=\"Herramientas\",'Diario contable'!H81,0))","v":"00:00:00"},null,null,{"$f":"+IF('Diario contable'!C81=\"Donaciones\",'Diario contable'!F81,0)","v":0},null,null,null,{"$f":"+IF('Diario contable'!E81=\"Donaciones\",'Diario contable'!F81,0)","v":0},{"$f":"IF('Diario contable'!C81=\"Donaciones\",'Diario contable'!I81,IF('Diario contable'!E81=\"Donaciones\",'Diario contable'!I81,0))","v":0},{"$f":"IF('Diario contable'!C81=\"Donaciones\",'Diario contable'!H81,IF('Diario contable'!E81=\"Donaciones\",'Diario contable'!H81,0))","v":"00:00:00"},null,null,{"$f":"+IF('Diario contable'!C81=\"Inventario\",'Diario contable'!F81,0)","v":0},null,null,null,{"$f":"+IF('Diario contable'!E81=\"Inventario\",'Diario contable'!F81,0)","v":0},{"$f":"IF('Diario contable'!C81=\"Inventario\",'Diario contable'!I81,IF('Diario contable'!E81=\"Inventario\",'Diario contable'!I81,0))","v":0},{"$f":"IF('Diario contable'!C81=\"Inventario\",'Diario contable'!H81,IF('Diario contable'!E81=\"Inventario\",'Diario contable'!H81,0))","v":"00:00:00"},null,null,{"$f":"+IF('Diario contable'!C81=\"Costo de ventas\",'Diario contable'!F81,0)","v":0},null,null,null,{"$f":"+IF('Diario contable'!E81=\"Costo de ventas\",'Diario contable'!F81,0)","v":0},{"$f":"IF('Diario contable'!C81=\"Costo de ventas\",'Diario contable'!I81,IF('Diario contable'!E81=\"Costo de ventas\",'Diario contable'!I81,0))","v":0},{"$f":"IF('Diario contable'!C81=\"Costo de ventas\",'Diario contable'!H81,IF('Diario contable'!E81=\"Costo de ventas\",'Diario contable'!H81,0))","v":"00:00:00"},null,null,{"$f":"+IF('Diario contable'!C81=\"Ventas\",'Diario contable'!F81,0)","v":0},null,null,null,{"$f":"+IF('Diario contable'!E81=\"Ventas\",'Diario contable'!F81,0)","v":0},{"$f":"IF('Diario contable'!C81=\"Ventas\",'Diario contable'!I81,IF('Diario contable'!E81=\"Ventas\",'Diario contable'!I81,0))","v":0},{"$f":"IF('Diario contable'!C81=\"Ventas\",'Diario contable'!H81,IF('Diario contable'!E81=\"Ventas\",'Diario contable'!H81,0))","v":"00:00:00"},null,null,{"$f":"+IF('Diario contable'!C81=\"Gastos por salarios\",'Diario contable'!F81,0)","v":0},null,null,null,{"$f":"+IF('Diario contable'!E81=\"Gastos por salarios\",'Diario contable'!F81,0)","v":0},{"$f":"IF('Diario contable'!C81=\"Gastos por salarios\",'Diario contable'!I81,IF('Diario contable'!E81=\"Gastos por salarios\",'Diario contable'!I81,0))","v":0},{"$f":"IF('Diario contable'!C81=\"Gastos por salarios\",'Diario contable'!H81,IF('Diario contable'!E81=\"Gastos por salarios\",'Diario contable'!H81,0))","v":"00:00:00"},null,null,{"$f":"+IF('Diario contable'!C81=\"Gastos operacionales\",'Diario contable'!F81,0)","v":0},null,null,null,{"$f":"+IF('Diario contable'!E81=\"Gastos operacionales\",'Diario contable'!F81,0)","v":0},{"$f":"IF('Diario contable'!C81=\"Gastos operacionales\",'Diario contable'!I81,IF('Diario contable'!E81=\"Gastos operacionales\",'Diario contable'!I81,0))","v":0},{"$f":"IF('Diario contable'!C81=\"Gastos operacionales\",'Diario contable'!H81,IF('Diario contable'!E81=\"Gastos operacionales\",'Diario contable'!H81,0))","v":"00:00:00"},null,null,{"$f":"+IF('Diario contable'!C81=\"Suministros de oficina\",'Diario contable'!F81,0)","v":0},null,null,null,{"$f":"+IF('Diario contable'!E81=\"Suministros de oficina\",'Diario contable'!F81,0)","v":0},{"$f":"IF('Diario contable'!C81=\"Suministros de oficina\",'Diario contable'!I81,IF('Diario contable'!E81=\"Suministros de oficina\",'Diario contable'!I81,0))","v":0},{"$f":"IF('Diario contable'!C81=\"Suministros de oficina\",'Diario contable'!H81,IF('Diario contable'!E81=\"Suministros de oficina\",'Diario contable'!H81,0))","v":"00:00:00"},null,null,{"$f":"+IF('Diario contable'!C81=\"Capital social\",'Diario contable'!F81,0)","v":0},null,null,null,{"$f":"+IF('Diario contable'!E81=\"Capital social\",'Diario contable'!F81,0)","v":0},{"$f":"IF('Diario contable'!C81=\"Capital social\",'Diario contable'!I81,IF('Diario contable'!E81=\"Capital social\",'Diario contable'!I81,0))","v":0},{"$f":"IF('Diario contable'!C81=\"Capital social\",'Diario contable'!H81,IF('Diario contable'!E81=\"Capital social\",'Diario contable'!H81,0))","v":"00:00:00"},null,null,{"$f":"+IF('Diario contable'!C81=\"Gastos de mercadeo\",'Diario contable'!F81,0)","v":0},null,null,null,{"$f":"+IF('Diario contable'!E81=\"Gastos de mercadeo\",'Diario contable'!F81,0)","v":0},{"$f":"IF('Diario contable'!C81=\"Gastos de mercadeo\",'Diario contable'!I81,IF('Diario contable'!E81=\"Gastos de mercadeo\",'Diario contable'!I81,0))","v":0},{"$f":"IF('Diario contable'!C81=\"Gastos de mercadeo\",'Diario contable'!H81,IF('Diario contable'!E81=\"Gastos de mercadeo\",'Diario contable'!H81,0))","v":"00:00:00"},null,null,{"$f":"+IF('Diario contable'!C81=\"Gastos de suministros de oficina\",'Diario contable'!F81,0)","v":0},null,null,null,{"$f":"+IF('Diario contable'!E81=\"Gastos de suministros de oficina\",'Diario contable'!F81,0)","v":0},{"$f":"IF('Diario contable'!C81=\"Gastos de suministros de oficina\",'Diario contable'!I81,IF('Diario contable'!E81=\"Gastos de suministros de oficina\",'Diario contable'!I81,0))","v":0},{"$f":"IF('Diario contable'!C81=\"Gastos de suministros de oficina\",'Diario contable'!H81,IF('Diario contable'!E81=\"Gastos de suministros de oficina\",'Diario contable'!H81,0))","v":"00:00:00"}]
[null,null,{"$f":"+IF('Diario contable'!C82=\"Caja\",'Diario contable'!F82,0)","v":0},null,null,null,{"$f":"+IF('Diario contable'!E82=\"Caja\",'Diario contable'!F82,0)","v":0},{"$f":"IF('Diario contable'!C82=\"Caja\",'Diario contable'!I82,IF('Diario contable'!E82=\"Caja\",'Diario contable'!I82,0))","v":0},{"$f":"IF('Diario contable'!C82=\"Caja\",'Diario contable'!H82,IF('Diario contable'!E82=\"Caja\",'Diario contable'!H82,0))","v":"00:00:00"},null,null,{"$f":"+IF('Diario contable'!C82=\"Maquinaria\",'Diario contable'!F82,0)","v":0},null,null,null,{"$f":"+IF('Diario contable'!E82=\"Maquinaria\",'Diario contable'!F82,0)","v":0},{"$f":"IF('Diario contable'!C82=\"Maquinaria\",'Diario contable'!I82,IF('Diario contable'!E82=\"Maquinaria\",'Diario contable'!I82,0))","v":0},{"$f":"IF('Diario contable'!C82=\"Maquinaria\",'Diario contable'!H82,IF('Diario contable'!E82=\"Maquinaria\",'Diario contable'!H82,0))","v":"00:00:00"},null,null,{"$f":"+IF('Diario contable'!C82=\"Herramientas\",'Diario contable'!F82,0)","v":0},null,null,null,{"$f":"+IF('Diario contable'!E82=\"Herramientas\",'Diario contable'!F82,0)","v":0},{"$f":"IF('Diario contable'!C82=\"Herramientas\",'Diario contable'!I82,IF('Diario contable'!E82=\"Herramientas\",'Diario contable'!I82,0))","v":0},{"$f":"IF('Diario contable'!C82=\"Herramientas\",'Diario contable'!H82,IF('Diario contable'!E82=\"Herramientas\",'Diario contable'!H82,0))","v":"00:00:00"},null,null,{"$f":"+IF('Diario contable'!C82=\"Donaciones\",'Diario contable'!F82,0)","v":0},null,null,null,{"$f":"+IF('Diario contable'!E82=\"Donaciones\",'Diario contable'!F82,0)","v":0},{"$f":"IF('Diario contable'!C82=\"Donaciones\",'Diario contable'!I82,IF('Diario contable'!E82=\"Donaciones\",'Diario contable'!I82,0))","v":0},{"$f":"IF('Diario contable'!C82=\"Donaciones\",'Diario contable'!H82,IF('Diario contable'!E82=\"Donaciones\",'Diario contable'!H82,0))","v":"00:00:00"},null,null,{"$f":"+IF('Diario contable'!C82=\"Inventario\",'Diario contable'!F82,0)","v":0},null,null,null,{"$f":"+IF('Diario contable'!E82=\"Inventario\",'Diario contable'!F82,0)","v":0},{"$f":"IF('Diario contable'!C82=\"Inventario\",'Diario contable'!I82,IF('Diario contable'!E82=\"Inventario\",'Diario contable'!I82,0))","v":0},{"$f":"IF('Diario contable'!C82=\"Inventario\",'Diario contable'!H82,IF('Diario contable'!E82=\"Inventario\",'Diario contable'!H82,0))","v":"00:00:00"},null,null,{"$f":"+IF('Diario contable'!C82=\"Costo de ventas\",'Diario contable'!F82,0)","v":0},null,null,null,{"$f":"+IF('Diario contable'!E82=\"Costo de ventas\",'Diario contable'!F82,0)","v":0},{"$f":"IF('Diario contable'!C82=\"Costo de ventas\",'Diario contable'!I82,IF('Diario contable'!E82=\"Costo de ventas\",'Diario contable'!I82,0))","v":0},{"$f":"IF('Diario contable'!C82=\"Costo de ventas\",'Diario contable'!H82,IF('Diario contable'!E82=\"Costo de ventas\",'Diario contable'!H82,0))","v":"00:00:00"},null,null,{"$f":"+IF('Diario contable'!C82=\"Ventas\",'Diario contable'!F82,0)","v":0},null,null,null,{"$f":"+IF('Diario contable'!E82=\"Ventas\",'Diario contable'!F82,0)","v":0},{"$f":"IF('Diario contable'!C82=\"Ventas\",'Diario contable'!I82,IF('Diario contable'!E82=\"Ventas\",'Diario contable'!I82,0))","v":0},{"$f":"IF('Diario contable'!C82=\"Ventas\",'Diario contable'!H82,IF('Diario contable'!E82=\"Ventas\",'Diario contable'!H82,0))","v":"00:00:00"},null,null,{"$f":"+IF('Diario contable'!C82=\"Gastos por salarios\",'Diario contable'!F82,0)","v":0},null,null,null,{"$f":"+IF('Diario contable'!E82=\"Gastos por salarios\",'Diario contable'!F82,0)","v":0},{"$f":"IF('Diario contable'!C82=\"Gastos por salarios\",'Diario contable'!I82,IF('Diario contable'!E82=\"Gastos por salarios\",'Diario contable'!I82,0))","v":0},{"$f":"IF('Diario contable'!C82=\"Gastos por salarios\",'Diario contable'!H82,IF('Diario contable'!E82=\"Gastos por salarios\",'Diario contable'!H82,0))","v":"00:00:00"},null,null,{"$f":"+IF('Diario contable'!C82=\"Gastos operacionales\",'Diario contable'!F82,0)","v":0},null,null,null,{"$f":"+IF('Diario contable'!E82=\"Gastos operacionales\",'Diario contable'!F82,0)","v":0},{"$f":"IF('Diario contable'!C82=\"Gastos operacionales\",'Diario contable'!I82,IF('Diario contable'!E82=\"Gastos operacionales\",'Diario contable'!I82,0))","v":0},{"$f":"IF('Diario contable'!C82=\"Gastos operacionales\",'Diario contable'!H82,IF('Diario contable'!E82=\"Gastos operacionales\",'Diario contable'!H82,0))","v":"00:00:00"},null,null,{"$f":"+IF('Diario contable'!C82=\"Suministros de oficina\",'Diario contable'!F82,0)","v":0},null,null,null,{"$f":"+IF('Diario contable'!E82=\"Suministros de oficina\",'Diario contable'!F82,0)","v":0},{"$f":"IF('Diario contable'!C82=\"Suministros de oficina\",'Diario contable'!I82,IF('Diario contable'!E82=\"Suministros de oficina\",'Diario contable'!I82,0))","v":0},{"$f":"IF('Diario contable'!C82=\"Suministros de oficina\",'Diario contable'!H82,IF('Diario contable'!E82=\"Suministros de oficina\",'Diario contable'!H82,0))","v":"00:00:00"},null,null,{"$f":"+IF('Diario contable'!C82=\"Capital social\",'Diario contable'!F82,0)","v":0},null,null,null,{"$f":"+IF('Diario contable'!E82=\"Capital social\",'Diario contable'!F82,0)","v":0},{"$f":"IF('Diario contable'!C82=\"Capital social\",'Diario contable'!I82,IF('Diario contable'!E82=\"Capital social\",'Diario contable'!I82,0))","v":0},{"$f":"IF('Diario contable'!C82=\"Capital social\",'Diario contable'!H82,IF('Diario contable'!E82=\"Capital social\",'Diario contable'!H82,0))","v":"00:00:00"},null,null,{"$f":"+IF('Diario contable'!C82=\"Gastos de mercadeo\",'Diario contable'!F82,0)","v":0},null,null,null,{"$f":"+IF('Diario contable'!E82=\"Gastos de mercadeo\",'Diario contable'!F82,0)","v":0},{"$f":"IF('Diario contable'!C82=\"Gastos de mercadeo\",'Diario contable'!I82,IF('Diario contable'!E82=\"Gastos de mercadeo\",'Diario contable'!I82,0))","v":0},{"$f":"IF('Diario contable'!C82=\"Gastos de mercadeo\",'Diario contable'!H82,IF('Diario contable'!E82=\"Gastos de mercadeo\",'Diario contable'!H82,0))","v":"00:00:00"},null,null,{"$f":"+IF('Diario contable'!C82=\"Gastos de suministros de oficina\",'Diario contable'!F82,0)","v":0},null,null,null,{"$f":"+IF('Diario contable'!E82=\"Gastos de suministros de oficina\",'Diario contable'!F82,0)","v":0},{"$f":"IF('Diario contable'!C82=\"Gastos de suministros de oficina\",'Diario contable'!I82,IF('Diario contable'!E82=\"Gastos de suministros de oficina\",'Diario contable'!I82,0))","v":0},{"$f":"IF('Diario contable'!C82=\"Gastos de suministros de oficina\",'Diario contable'!H82,IF('Diario contable'!E82=\"Gastos de suministros de oficina\",'Diario contable'!H82,0))","v":"00:00:00"}]
[null,null,{"$f":"+IF('Diario contable'!C83=\"Caja\",'Diario contable'!F83,0)","v":0},null,null,null,{"$f":"+IF('Diario contable'!E83=\"Caja\",'Diario contable'!F83,0)","v":0},{"$f":"IF('Diario contable'!C83=\"Caja\",'Diario contable'!I83,IF('Diario contable'!E83=\"Caja\",'Diario contable'!I83,0))","v":0},{"$f":"IF('Diario contable'!C83=\"Caja\",'Diario contable'!H83,IF('Diario contable'!E83=\"Caja\",'Diario contable'!H83,0))","v":"00:00:00"},null,null,{"$f":"+IF('Diario contable'!C83=\"Maquinaria\",'Diario contable'!F83,0)","v":0},null,null,null,{"$f":"+IF('Diario contable'!E83=\"Maquinaria\",'Diario contable'!F83,0)","v":0},{"$f":"IF('Diario contable'!C83=\"Maquinaria\",'Diario contable'!I83,IF('Diario contable'!E83=\"Maquinaria\",'Diario contable'!I83,0))","v":0},{"$f":"IF('Diario contable'!C83=\"Maquinaria\",'Diario contable'!H83,IF('Diario contable'!E83=\"Maquinaria\",'Diario contable'!H83,0))","v":"00:00:00"},null,null,{"$f":"+IF('Diario contable'!C83=\"Herramientas\",'Diario contable'!F83,0)","v":0},null,null,null,{"$f":"+IF('Diario contable'!E83=\"Herramientas\",'Diario contable'!F83,0)","v":0},{"$f":"IF('Diario contable'!C83=\"Herramientas\",'Diario contable'!I83,IF('Diario contable'!E83=\"Herramientas\",'Diario contable'!I83,0))","v":0},{"$f":"IF('Diario contable'!C83=\"Herramientas\",'Diario contable'!H83,IF('Diario contable'!E83=\"Herramientas\",'Diario contable'!H83,0))","v":"00:00:00"},null,null,{"$f":"+IF('Diario contable'!C83=\"Donaciones\",'Diario contable'!F83,0)","v":0},null,null,null,{"$f":"+IF('Diario contable'!E83=\"Donaciones\",'Diario contable'!F83,0)","v":0},{"$f":"IF('Diario contable'!C83=\"Donaciones\",'Diario contable'!I83,IF('Diario contable'!E83=\"Donaciones\",'Diario contable'!I83,0))","v":0},{"$f":"IF('Diario contable'!C83=\"Donaciones\",'Diario contable'!H83,IF('Diario contable'!E83=\"Donaciones\",'Diario contable'!H83,0))","v":"00:00:00"},null,null,{"$f":"+IF('Diario contable'!C83=\"Inventario\",'Diario contable'!F83,0)","v":0},null,null,null,{"$f":"+IF('Diario contable'!E83=\"Inventario\",'Diario contable'!F83,0)","v":0},{"$f":"IF('Diario contable'!C83=\"Inventario\",'Diario contable'!I83,IF('Diario contable'!E83=\"Inventario\",'Diario contable'!I83,0))","v":0},{"$f":"IF('Diario contable'!C83=\"Inventario\",'Diario contable'!H83,IF('Diario contable'!E83=\"Inventario\",'Diario contable'!H83,0))","v":"00:00:00"},null,null,{"$f":"+IF('Diario contable'!C83=\"Costo de ventas\",'Diario contable'!F83,0)","v":0},null,null,null,{"$f":"+IF('Diario contable'!E83=\"Costo de ventas\",'Diario contable'!F83,0)","v":0},{"$f":"IF('Diario contable'!C83=\"Costo de ventas\",'Diario contable'!I83,IF('Diario contable'!E83=\"Costo de ventas\",'Diario contable'!I83,0))","v":0},{"$f":"IF('Diario contable'!C83=\"Costo de ventas\",'Diario contable'!H83,IF('Diario contable'!E83=\"Costo de ventas\",'Diario contable'!H83,0))","v":"00:00:00"},null,null,{"$f":"+IF('Diario contable'!C83=\"Ventas\",'Diario contable'!F83,0)","v":0},null,null,null,{"$f":"+IF('Diario contable'!E83=\"Ventas\",'Diario contable'!F83,0)","v":0},{"$f":"IF('Diario contable'!C83=\"Ventas\",'Diario contable'!I83,IF('Diario contable'!E83=\"Ventas\",'Diario contable'!I83,0))","v":0},{"$f":"IF('Diario contable'!C83=\"Ventas\",'Diario contable'!H83,IF('Diario contable'!E83=\"Ventas\",'Diario contable'!H83,0))","v":"00:00:00"},null,null,{"$f":"+IF('Diario contable'!C83=\"Gastos por salarios\",'Diario contable'!F83,0)","v":0},null,null,null,{"$f":"+IF('Diario contable'!E83=\"Gastos por salarios\",'Diario contable'!F83,0)","v":0},{"$f":"IF('Diario contable'!C83=\"Gastos por salarios\",'Diario contable'!I83,IF('Diario contable'!E83=\"Gastos por salarios\",'Diario contable'!I83,0))","v":0},{"$f":"IF('Diario contable'!C83=\"Gastos por salarios\",'Diario contable'!H83,IF('Diario contable'!E83=\"Gastos por salarios\",'Diario contable'!H83,0))","v":"00:00:00"},null,null,{"$f":"+IF('Diario contable'!C83=\"Gastos operacionales\",'Diario contable'!F83,0)","v":0},null,null,null,{"$f":"+IF('Diario contable'!E83=\"Gastos operacionales\",'Diario contable'!F83,0)","v":0},{"$f":"IF('Diario contable'!C83=\"Gastos operacionales\",'Diario contable'!I83,IF('Diario contable'!E83=\"Gastos operacionales\",'Diario contable'!I83,0))","v":0},{"$f":"IF('Diario contable'!C83=\"Gastos operacionales\",'Diario contable'!H83,IF('Diario contable'!E83=\"Gastos operacionales\",'Diario contable'!H83,0))","v":"00:00:00"},null,null,{"$f":"+IF('Diario contable'!C83=\"Suministros de oficina\",'Diario contable'!F83,0)","v":0},null,null,null,{"$f":"+IF('Diario contable'!E83=\"Suministros de oficina\",'Diario contable'!F83,0)","v":0},{"$f":"IF('Diario contable'!C83=\"Suministros de oficina\",'Diario contable'!I83,IF('Diario contable'!E83=\"Suministros de oficina\",'Diario contable'!I83,0))","v":0},{"$f":"IF('Diario contable'!C83=\"Suministros de oficina\",'Diario contable'!H83,IF('Diario contable'!E83=\"Suministros de oficina\",'Diario contable'!H83,0))","v":"00:00:00"},null,null,{"$f":"+IF('Diario contable'!C83=\"Capital social\",'Diario contable'!F83,0)","v":0},null,null,null,{"$f":"+IF('Diario contable'!E83=\"Capital social\",'Diario contable'!F83,0)","v":0},{"$f":"IF('Diario contable'!C83=\"Capital social\",'Diario contable'!I83,IF('Diario contable'!E83=\"Capital social\",'Diario contable'!I83,0))","v":0},{"$f":"IF('Diario contable'!C83=\"Capital social\",'Diario contable'!H83,IF('Diario contable'!E83=\"Capital social\",'Diario contable'!H83,0))","v":"00:00:00"},null,null,{"$f":"+IF('Diario contable'!C83=\"Gastos de mercadeo\",'Diario contable'!F83,0)","v":0},null,null,null,{"$f":"+IF('Diario contable'!E83=\"Gastos de mercadeo\",'Diario contable'!F83,0)","v":0},{"$f":"IF('Diario contable'!C83=\"Gastos de mercadeo\",'Diario contable'!I83,IF('Diario contable'!E83=\"Gastos de mercadeo\",'Diario contable'!I83,0))","v":0},{"$f":"IF('Diario contable'!C83=\"Gastos de mercadeo\",'Diario contable'!H83,IF('Diario contable'!E83=\"Gastos de mercadeo\",'Diario contable'!H83,0))","v":"00:00:00"},null,null,{"$f":"+IF('Diario contable'!C83=\"Gastos de suministros de oficina\",'Diario contable'!F83,0)","v":0},null,null,null,{"$f":"+IF('Diario contable'!E83=\"Gastos de suministros de oficina\",'Diario contable'!F83,0)","v":0},{"$f":"IF('Diario contable'!C83=\"Gastos de suministros de oficina\",'Diario contable'!I83,IF('Diario contable'!E83=\"Gastos de suministros de oficina\",'Diario contable'!I83,0))","v":0},{"$f":"IF('Diario contable'!C83=\"Gastos de suministros de oficina\",'Diario contable'!H83,IF('Diario contable'!E83=\"Gastos de suministros de oficina\",'Diario contable'!H83,0))","v":"00:00:00"}]
[null,null,{"$f":"+IF('Diario contable'!C84=\"Caja\",'Diario contable'!F84,0)","v":0},null,null,null,{"$f":"+IF('Diario contable'!E84=\"Caja\",'Diario contable'!F84,0)","v":0},{"$f":"IF('Diario contable'!C84=\"Caja\",'Diario contable'!I84,IF('Diario contable'!E84=\"Caja\",'Diario contable'!I84,0))","v":0},{"$f":"IF('Diario contable'!C84=\"Caja\",'Diario contable'!H84,IF('Diario contable'!E84=\"Caja\",'Diario contable'!H84,0))","v":"00:00:00"},null,null,{"$f":"+IF('Diario contable'!C84=\"Maquinaria\",'Diario contable'!F84,0)","v":0},null,null,null,{"$f":"+IF('Diario contable'!E84=\"Maquinaria\",'Diario contable'!F84,0)","v":0},{"$f":"IF('Diario contable'!C84=\"Maquinaria\",'Diario contable'!I84,IF('Diario contable'!E84=\"Maquinaria\",'Diario contable'!I84,0))","v":0},{"$f":"IF('Diario contable'!C84=\"Maquinaria\",'Diario contable'!H84,IF('Diario contable'!E84=\"Maquinaria\",'Diario contable'!H84,0))","v":"00:00:00"},null,null,{"$f":"+IF('Diario contable'!C84=\"Herramientas\",'Diario contable'!F84,0)","v":0},null,null,null,{"$f":"+IF('Diario contable'!E84=\"Herramientas\",'Diario contable'!F84,0)","v":0},{"$f":"IF('Diario contable'!C84=\"Herramientas\",'Diario contable'!I84,IF('Diario contable'!E84=\"Herramientas\",'Diario contable'!I84,0))","v":0},{"$f":"IF('Diario contable'!C84=\"Herramientas\",'Diario contable'!H84,IF('Diario contable'!E84=\"Herramientas\",'Diario contable'!H84,0))","v":"00:00:00"},null,null,{"$f":"+IF('Diario contable'!C84=\"Donaciones\",'Diario contable'!F84,0)","v":0},null,null,null,{"$f":"+IF('Diario contable'!E84=\"Donaciones\",'Diario contable'!F84,0)","v":0},{"$f":"IF('Diario contable'!C84=\"Donaciones\",'Diario contable'!I84,IF('Diario contable'!E84=\"Donaciones\",'Diario contable'!I84,0))","v":0},{"$f":"IF('Diario contable'!C84=\"Donaciones\",'Diario contable'!H84,IF('Diario contable'!E84=\"Donaciones\",'Diario contable'!H84,0))","v":"00:00:00"},null,null,{"$f":"+IF('Diario contable'!C84=\"Inventario\",'Diario contable'!F84,0)","v":0},null,null,null,{"$f":"+IF('Diario contable'!E84=\"Inventario\",'Diario contable'!F84,0)","v":0},{"$f":"IF('Diario contable'!C84=\"Inventario\",'Diario contable'!I84,IF('Diario contable'!E84=\"Inventario\",'Diario contable'!I84,0))","v":0},{"$f":"IF('Diario contable'!C84=\"Inventario\",'Diario contable'!H84,IF('Diario contable'!E84=\"Inventario\",'Diario contable'!H84,0))","v":"00:00:00"},null,null,{"$f":"+IF('Diario contable'!C84=\"Costo de ventas\",'Diario contable'!F84,0)","v":0},null,null,null,{"$f":"+IF('Diario contable'!E84=\"Costo de ventas\",'Diario contable'!F84,0)","v":0},{"$f":"IF('Diario contable'!C84=\"Costo de ventas\",'Diario contable'!I84,IF('Diario contable'!E84=\"Costo de ventas\",'Diario contable'!I84,0))","v":0},{"$f":"IF('Diario contable'!C84=\"Costo de ventas\",'Diario contable'!H84,IF('Diario contable'!E84=\"Costo de ventas\",'Diario contable'!H84,0))","v":"00:00:00"},null,null,{"$f":"+IF('Diario contable'!C84=\"Ventas\",'Diario contable'!F84,0)","v":0},null,null,null,{"$f":"+IF('Diario contable'!E84=\"Ventas\",'Diario contable'!F84,0)","v":0},{"$f":"IF('Diario contable'!C84=\"Ventas\",'Diario contable'!I84,IF('Diario contable'!E84=\"Ventas\",'Diario contable'!I84,0))","v":0},{"$f":"IF('Diario contable'!C84=\"Ventas\",'Diario contable'!H84,IF('Diario contable'!E84=\"Ventas\",'Diario contable'!H84,0))","v":"00:00:00"},null,null,{"$f":"+IF('Diario contable'!C84=\"Gastos por salarios\",'Diario contable'!F84,0)","v":0},null,null,null,{"$f":"+IF('Diario contable'!E84=\"Gastos por salarios\",'Diario contable'!F84,0)","v":0},{"$f":"IF('Diario contable'!C84=\"Gastos por salarios\",'Diario contable'!I84,IF('Diario contable'!E84=\"Gastos por salarios\",'Diario contable'!I84,0))","v":0},{"$f":"IF('Diario contable'!C84=\"Gastos por salarios\",'Diario contable'!H84,IF('Diario contable'!E84=\"Gastos por salarios\",'Diario contable'!H84,0))","v":"00:00:00"},null,null,{"$f":"+IF('Diario contable'!C84=\"Gastos operacionales\",'Diario contable'!F84,0)","v":0},null,null,null,{"$f":"+IF('Diario contable'!E84=\"Gastos operacionales\",'Diario contable'!F84,0)","v":0},{"$f":"IF('Diario contable'!C84=\"Gastos operacionales\",'Diario contable'!I84,IF('Diario contable'!E84=\"Gastos operacionales\",'Diario contable'!I84,0))","v":0},{"$f":"IF('Diario contable'!C84=\"Gastos operacionales\",'Diario contable'!H84,IF('Diario contable'!E84=\"Gastos operacionales\",'Diario contable'!H84,0))","v":"00:00:00"},null,null,{"$f":"+IF('Diario contable'!C84=\"Suministros de oficina\",'Diario contable'!F84,0)","v":0},null,null,null,{"$f":"+IF('Diario contable'!E84=\"Suministros de oficina\",'Diario contable'!F84,0)","v":0},{"$f":"IF('Diario contable'!C84=\"Suministros de oficina\",'Diario contable'!I84,IF('Diario contable'!E84=\"Suministros de oficina\",'Diario contable'!I84,0))","v":0},{"$f":"IF('Diario contable'!C84=\"Suministros de oficina\",'Diario contable'!H84,IF('Diario contable'!E84=\"Suministros de oficina\",'Diario contable'!H84,0))","v":"00:00:00"},null,null,{"$f":"+IF('Diario contable'!C84=\"Capital social\",'Diario contable'!F84,0)","v":0},null,null,null,{"$f":"+IF('Diario contable'!E84=\"Capital social\",'Diario contable'!F84,0)","v":0},{"$f":"IF('Diario contable'!C84=\"Capital social\",'Diario contable'!I84,IF('Diario contable'!E84=\"Capital social\",'Diario contable'!I84,0))","v":0},{"$f":"IF('Diario contable'!C84=\"Capital social\",'Diario contable'!H84,IF('Diario contable'!E84=\"Capital social\",'Diario contable'!H84,0))","v":"00:00:00"},null,null,{"$f":"+IF('Diario contable'!C84=\"Gastos de mercadeo\",'Diario contable'!F84,0)","v":0},null,null,null,{"$f":"+IF('Diario contable'!E84=\"Gastos de mercadeo\",'Diario contable'!F84,0)","v":0},{"$f":"IF('Diario contable'!C84=\"Gastos de mercadeo\",'Diario contable'!I84,IF('Diario contable'!E84=\"Gastos de mercadeo\",'Diario contable'!I84,0))","v":0},{"$f":"IF('Diario contable'!C84=\"Gastos de mercadeo\",'Diario contable'!H84,IF('Diario contable'!E84=\"Gastos de mercadeo\",'Diario contable'!H84,0))","v":"00:00:00"},null,null,{"$f":"+IF('Diario contable'!C84=\"Gastos de suministros de oficina\",'Diario contable'!F84,0)","v":0},null,null,null,{"$f":"+IF('Diario contable'!E84=\"Gastos de suministros de oficina\",'Diario contable'!F84,0)","v":0},{"$f":"IF('Diario contable'!C84=\"Gastos de suministros de oficina\",'Diario contable'!I84,IF('Diario contable'!E84=\"Gastos de suministros de oficina\",'Diario contable'!I84,0))","v":0},{"$f":"IF('Diario contable'!C84=\"Gastos de suministros de oficina\",'Diario contable'!H84,IF('Diario contable'!E84=\"Gastos de suministros de oficina\",'Diario contable'!H84,0))","v":"00:00:00"}]
[null,null,{"$f":"+IF('Diario contable'!C85=\"Caja\",'Diario contable'!F85,0)","v":0},null,null,null,{"$f":"+IF('Diario contable'!E85=\"Caja\",'Diario contable'!F85,0)","v":0},{"$f":"IF('Diario contable'!C85=\"Caja\",'Diario contable'!I85,IF('Diario contable'!E85=\"Caja\",'Diario contable'!I85,0))","v":0},{"$f":"IF('Diario contable'!C85=\"Caja\",'Diario contable'!H85,IF('Diario contable'!E85=\"Caja\",'Diario contable'!H85,0))","v":"00:00:00"},null,null,{"$f":"+IF('Diario contable'!C85=\"Maquinaria\",'Diario contable'!F85,0)","v":0},null,null,null,{"$f":"+IF('Diario contable'!E85=\"Maquinaria\",'Diario contable'!F85,0)","v":0},{"$f":"IF('Diario contable'!C85=\"Maquinaria\",'Diario contable'!I85,IF('Diario contable'!E85=\"Maquinaria\",'Diario contable'!I85,0))","v":0},{"$f":"IF('Diario contable'!C85=\"Maquinaria\",'Diario contable'!H85,IF('Diario contable'!E85=\"Maquinaria\",'Diario contable'!H85,0))","v":"00:00:00"},null,null,{"$f":"+IF('Diario contable'!C85=\"Herramientas\",'Diario contable'!F85,0)","v":0},null,null,null,{"$f":"+IF('Diario contable'!E85=\"Herramientas\",'Diario contable'!F85,0)","v":0},{"$f":"IF('Diario contable'!C85=\"Herramientas\",'Diario contable'!I85,IF('Diario contable'!E85=\"Herramientas\",'Diario contable'!I85,0))","v":0},{"$f":"IF('Diario contable'!C85=\"Herramientas\",'Diario contable'!H85,IF('Diario contable'!E85=\"Herramientas\",'Diario contable'!H85,0))","v":"00:00:00"},null,null,{"$f":"+IF('Diario contable'!C85=\"Donaciones\",'Diario contable'!F85,0)","v":0},null,null,null,{"$f":"+IF('Diario contable'!E85=\"Donaciones\",'Diario contable'!F85,0)","v":0},{"$f":"IF('Diario contable'!C85=\"Donaciones\",'Diario contable'!I85,IF('Diario contable'!E85=\"Donaciones\",'Diario contable'!I85,0))","v":0},{"$f":"IF('Diario contable'!C85=\"Donaciones\",'Diario contable'!H85,IF('Diario contable'!E85=\"Donaciones\",'Diario contable'!H85,0))","v":"00:00:00"},null,null,{"$f":"+IF('Diario contable'!C85=\"Inventario\",'Diario contable'!F85,0)","v":0},null,null,null,{"$f":"+IF('Diario contable'!E85=\"Inventario\",'Diario contable'!F85,0)","v":0},{"$f":"IF('Diario contable'!C85=\"Inventario\",'Diario contable'!I85,IF('Diario contable'!E85=\"Inventario\",'Diario contable'!I85,0))","v":0},{"$f":"IF('Diario contable'!C85=\"Inventario\",'Diario contable'!H85,IF('Diario contable'!E85=\"Inventario\",'Diario contable'!H85,0))","v":"00:00:00"},null,null,{"$f":"+IF('Diario contable'!C85=\"Costo de ventas\",'Diario contable'!F85,0)","v":0},null,null,null,{"$f":"+IF('Diario contable'!E85=\"Costo de ventas\",'Diario contable'!F85,0)","v":0},{"$f":"IF('Diario contable'!C85=\"Costo de ventas\",'Diario contable'!I85,IF('Diario contable'!E85=\"Costo de ventas\",'Diario contable'!I85,0))","v":0},{"$f":"IF('Diario contable'!C85=\"Costo de ventas\",'Diario contable'!H85,IF('Diario contable'!E85=\"Costo de ventas\",'Diario contable'!H85,0))","v":"00:00:00"},null,null,{"$f":"+IF('Diario contable'!C85=\"Ventas\",'Diario contable'!F85,0)","v":0},null,null,null,{"$f":"+IF('Diario contable'!E85=\"Ventas\",'Diario contable'!F85,0)","v":0},{"$f":"IF('Diario contable'!C85=\"Ventas\",'Diario contable'!I85,IF('Diario contable'!E85=\"Ventas\",'Diario contable'!I85,0))","v":0},{"$f":"IF('Diario contable'!C85=\"Ventas\",'Diario contable'!H85,IF('Diario contable'!E85=\"Ventas\",'Diario contable'!H85,0))","v":"00:00:00"},null,null,{"$f":"+IF('Diario contable'!C85=\"Gastos por salarios\",'Diario contable'!F85,0)","v":0},null,null,null,{"$f":"+IF('Diario contable'!E85=\"Gastos por salarios\",'Diario contable'!F85,0)","v":0},{"$f":"IF('Diario contable'!C85=\"Gastos por salarios\",'Diario contable'!I85,IF('Diario contable'!E85=\"Gastos por salarios\",'Diario contable'!I85,0))","v":0},{"$f":"IF('Diario contable'!C85=\"Gastos por salarios\",'Diario contable'!H85,IF('Diario contable'!E85=\"Gastos por salarios\",'Diario contable'!H85,0))","v":"00:00:00"},null,null,{"$f":"+IF('Diario contable'!C85=\"Gastos operacionales\",'Diario contable'!F85,0)","v":0},null,null,null,{"$f":"+IF('Diario contable'!E85=\"Gastos operacionales\",'Diario contable'!F85,0)","v":0},{"$f":"IF('Diario contable'!C85=\"Gastos operacionales\",'Diario contable'!I85,IF('Diario contable'!E85=\"Gastos operacionales\",'Diario contable'!I85,0))","v":0},{"$f":"IF('Diario contable'!C85=\"Gastos operacionales\",'Diario contable'!H85,IF('Diario contable'!E85=\"Gastos operacionales\",'Diario contable'!H85,0))","v":"00:00:00"},null,null,{"$f":"+IF('Diario contable'!C85=\"Suministros de oficina\",'Diario contable'!F85,0)","v":0},null,null,null,{"$f":"+IF('Diario contable'!E85=\"Suministros de oficina\",'Diario contable'!F85,0)","v":0},{"$f":"IF('Diario contable'!C85=\"Suministros de oficina\",'Diario contable'!I85,IF('Diario contable'!E85=\"Suministros de oficina\",'Diario contable'!I85,0))","v":0},{"$f":"IF('Diario contable'!C85=\"Suministros de oficina\",'Diario contable'!H85,IF('Diario contable'!E85=\"Suministros de oficina\",'Diario contable'!H85,0))","v":"00:00:00"},null,null,{"$f":"+IF('Diario contable'!C85=\"Capital social\",'Diario contable'!F85,0)","v":0},null,null,null,{"$f":"+IF('Diario contable'!E85=\"Capital social\",'Diario contable'!F85,0)","v":0},{"$f":"IF('Diario contable'!C85=\"Capital social\",'Diario contable'!I85,IF('Diario contable'!E85=\"Capital social\",'Diario contable'!I85,0))","v":0},{"$f":"IF('Diario contable'!C85=\"Capital social\",'Diario contable'!H85,IF('Diario contable'!E85=\"Capital social\",'Diario contable'!H85,0))","v":"00:00:00"},null,null,{"$f":"+IF('Diario contable'!C85=\"Gastos de mercadeo\",'Diario contable'!F85,0)","v":0},null,null,null,{"$f":"+IF('Diario contable'!E85=\"Gastos de mercadeo\",'Diario contable'!F85,0)","v":0},{"$f":"IF('Diario contable'!C85=\"Gastos de mercadeo\",'Diario contable'!I85,IF('Diario contable'!E85=\"Gastos de mercadeo\",'Diario contable'!I85,0))","v":0},{"$f":"IF('Diario contable'!C85=\"Gastos de mercadeo\",'Diario contable'!H85,IF('Diario contable'!E85=\"Gastos de mercadeo\",'Diario contable'!H85,0))","v":"00:00:00"},null,null,{"$f":"+IF('Diario contable'!C85=\"Gastos de suministros de oficina\",'Diario contable'!F85,0)","v":0},null,null,null,{"$f":"+IF('Diario contable'!E85=\"Gastos de suministros de oficina\",'Diario contable'!F85,0)","v":0},{"$f":"IF('Diario contable'!C85=\"Gastos de suministros de oficina\",'Diario contable'!I85,IF('Diario contable'!E85=\"Gastos de suministros de oficina\",'Diario contable'!I85,0))","v":0},{"$f":"IF('Diario contable'!C85=\"Gastos de suministros de oficina\",'Diario contable'!H85,IF('Diario contable'!E85=\"Gastos de suministros de oficina\",'Diario contable'!H85,0))","v":"00:00:00"}]
[null,null,{"$f":"+IF('Diario contable'!C86=\"Caja\",'Diario contable'!F86,0)","v":0},null,null,null,{"$f":"+IF('Diario contable'!E86=\"Caja\",'Diario contable'!F86,0)","v":0},{"$f":"IF('Diario contable'!C86=\"Caja\",'Diario contable'!I86,IF('Diario contable'!E86=\"Caja\",'Diario contable'!I86,0))","v":0},{"$f":"IF('Diario contable'!C86=\"Caja\",'Diario contable'!H86,IF('Diario contable'!E86=\"Caja\",'Diario contable'!H86,0))","v":"00:00:00"},null,null,{"$f":"+IF('Diario contable'!C86=\"Maquinaria\",'Diario contable'!F86,0)","v":0},null,null,null,{"$f":"+IF('Diario contable'!E86=\"Maquinaria\",'Diario contable'!F86,0)","v":0},{"$f":"IF('Diario contable'!C86=\"Maquinaria\",'Diario contable'!I86,IF('Diario contable'!E86=\"Maquinaria\",'Diario contable'!I86,0))","v":0},{"$f":"IF('Diario contable'!C86=\"Maquinaria\",'Diario contable'!H86,IF('Diario contable'!E86=\"Maquinaria\",'Diario contable'!H86,0))","v":"00:00:00"},null,null,{"$f":"+IF('Diario contable'!C86=\"Herramientas\",'Diario contable'!F86,0)","v":0},null,null,null,{"$f":"+IF('Diario contable'!E86=\"Herramientas\",'Diario contable'!F86,0)","v":0},{"$f":"IF('Diario contable'!C86=\"Herramientas\",'Diario contable'!I86,IF('Diario contable'!E86=\"Herramientas\",'Diario contable'!I86,0))","v":0},{"$f":"IF('Diario contable'!C86=\"Herramientas\",'Diario contable'!H86,IF('Diario contable'!E86=\"Herramientas\",'Diario contable'!H86,0))","v":"00:00:00"},null,null,{"$f":"+IF('Diario contable'!C86=\"Donaciones\",'Diario contable'!F86,0)","v":0},null,null,null,{"$f":"+IF('Diario contable'!E86=\"Donaciones\",'Diario contable'!F86,0)","v":0},{"$f":"IF('Diario contable'!C86=\"Donaciones\",'Diario contable'!I86,IF('Diario contable'!E86=\"Donaciones\",'Diario contable'!I86,0))","v":0},{"$f":"IF('Diario contable'!C86=\"Donaciones\",'Diario contable'!H86,IF('Diario contable'!E86=\"Donaciones\",'Diario contable'!H86,0))","v":"00:00:00"},null,null,{"$f":"+IF('Diario contable'!C86=\"Inventario\",'Diario contable'!F86,0)","v":0},null,null,null,{"$f":"+IF('Diario contable'!E86=\"Inventario\",'Diario contable'!F86,0)","v":0},{"$f":"IF('Diario contable'!C86=\"Inventario\",'Diario contable'!I86,IF('Diario contable'!E86=\"Inventario\",'Diario contable'!I86,0))","v":0},{"$f":"IF('Diario contable'!C86=\"Inventario\",'Diario contable'!H86,IF('Diario contable'!E86=\"Inventario\",'Diario contable'!H86,0))","v":"00:00:00"},null,null,{"$f":"+IF('Diario contable'!C86=\"Costo de ventas\",'Diario contable'!F86,0)","v":0},null,null,null,{"$f":"+IF('Diario contable'!E86=\"Costo de ventas\",'Diario contable'!F86,0)","v":0},{"$f":"IF('Diario contable'!C86=\"Costo de ventas\",'Diario contable'!I86,IF('Diario contable'!E86=\"Costo de ventas\",'Diario contable'!I86,0))","v":0},{"$f":"IF('Diario contable'!C86=\"Costo de ventas\",'Diario contable'!H86,IF('Diario contable'!E86=\"Costo de ventas\",'Diario contable'!H86,0))","v":"00:00:00"},null,null,{"$f":"+IF('Diario contable'!C86=\"Ventas\",'Diario contable'!F86,0)","v":0},null,null,null,{"$f":"+IF('Diario contable'!E86=\"Ventas\",'Diario contable'!F86,0)","v":0},{"$f":"IF('Diario contable'!C86=\"Ventas\",'Diario contable'!I86,IF('Diario contable'!E86=\"Ventas\",'Diario contable'!I86,0))","v":0},{"$f":"IF('Diario contable'!C86=\"Ventas\",'Diario contable'!H86,IF('Diario contable'!E86=\"Ventas\",'Diario contable'!H86,0))","v":"00:00:00"},null,null,{"$f":"+IF('Diario contable'!C86=\"Gastos por salarios\",'Diario contable'!F86,0)","v":0},null,null,null,{"$f":"+IF('Diario contable'!E86=\"Gastos por salarios\",'Diario contable'!F86,0)","v":0},{"$f":"IF('Diario contable'!C86=\"Gastos por salarios\",'Diario contable'!I86,IF('Diario contable'!E86=\"Gastos por salarios\",'Diario contable'!I86,0))","v":0},{"$f":"IF('Diario contable'!C86=\"Gastos por salarios\",'Diario contable'!H86,IF('Diario contable'!E86=\"Gastos por salarios\",'Diario contable'!H86,0))","v":"00:00:00"},null,null,{"$f":"+IF('Diario contable'!C86=\"Gastos operacionales\",'Diario contable'!F86,0)","v":0},null,null,null,{"$f":"+IF('Diario contable'!E86=\"Gastos operacionales\",'Diario contable'!F86,0)","v":0},{"$f":"IF('Diario contable'!C86=\"Gastos operacionales\",'Diario contable'!I86,IF('Diario contable'!E86=\"Gastos operacionales\",'Diario contable'!I86,0))","v":0},{"$f":"IF('Diario contable'!C86=\"Gastos operacionales\",'Diario contable'!H86,IF('Diario contable'!E86=\"Gastos operacionales\",'Diario contable'!H86,0))","v":"00:00:00"},null,null,{"$f":"+IF('Diario contable'!C86=\"Suministros de oficina\",'Diario contable'!F86,0)","v":0},null,null,null,{"$f":"+IF('Diario contable'!E86=\"Suministros de oficina\",'Diario contable'!F86,0)","v":0},{"$f":"IF('Diario contable'!C86=\"Suministros de oficina\",'Diario contable'!I86,IF('Diario contable'!E86=\"Suministros de oficina\",'Diario contable'!I86,0))","v":0},{"$f":"IF('Diario contable'!C86=\"Suministros de oficina\",'Diario contable'!H86,IF('Diario contable'!E86=\"Suministros de oficina\",'Diario contable'!H86,0))","v":"00:00:00"},null,null,{"$f":"+IF('Diario contable'!C86=\"Capital social\",'Diario contable'!F86,0)","v":0},null,null,null,{"$f":"+IF('Diario contable'!E86=\"Capital social\",'Diario contable'!F86,0)","v":0},{"$f":"IF('Diario contable'!C86=\"Capital social\",'Diario contable'!I86,IF('Diario contable'!E86=\"Capital social\",'Diario contable'!I86,0))","v":0},{"$f":"IF('Diario contable'!C86=\"Capital social\",'Diario contable'!H86,IF('Diario contable'!E86=\"Capital social\",'Diario contable'!H86,0))","v":"00:00:00"},null,null,{"$f":"+IF('Diario contable'!C86=\"Gastos de mercadeo\",'Diario contable'!F86,0)","v":0},null,null,null,{"$f":"+IF('Diario contable'!E86=\"Gastos de mercadeo\",'Diario contable'!F86,0)","v":0},{"$f":"IF('Diario contable'!C86=\"Gastos de mercadeo\",'Diario contable'!I86,IF('Diario contable'!E86=\"Gastos de mercadeo\",'Diario contable'!I86,0))","v":0},{"$f":"IF('Diario contable'!C86=\"Gastos de mercadeo\",'Diario contable'!H86,IF('Diario contable'!E86=\"Gastos de mercadeo\",'Diario contable'!H86,0))","v":"00:00:00"},null,null,{"$f":"+IF('Diario contable'!C86=\"Gastos de suministros de oficina\",'Diario contable'!F86,0)","v":0},null,null,null,{"$f":"+IF('Diario contable'!E86=\"Gastos de suministros de oficina\",'Diario contable'!F86,0)","v":0},{"$f":"IF('Diario contable'!C86=\"Gastos de suministros de oficina\",'Diario contable'!I86,IF('Diario contable'!E86=\"Gastos de suministros de oficina\",'Diario contable'!I86,0))","v":0},{"$f":"IF('Diario contable'!C86=\"Gastos de suministros de oficina\",'Diario contable'!H86,IF('Diario contable'!E86=\"Gastos de suministros de oficina\",'Diario contable'!H86,0))","v":"00:00:00"}]
[null,null,{"$f":"+IF('Diario contable'!C87=\"Caja\",'Diario contable'!F87,0)","v":0},null,null,null,{"$f":"+IF('Diario contable'!E87=\"Caja\",'Diario contable'!F87,0)","v":0},{"$f":"IF('Diario contable'!C87=\"Caja\",'Diario contable'!I87,IF('Diario contable'!E87=\"Caja\",'Diario contable'!I87,0))","v":0},{"$f":"IF('Diario contable'!C87=\"Caja\",'Diario contable'!H87,IF('Diario contable'!E87=\"Caja\",'Diario contable'!H87,0))","v":"00:00:00"},null,null,{"$f":"+IF('Diario contable'!C87=\"Maquinaria\",'Diario contable'!F87,0)","v":0},null,null,null,{"$f":"+IF('Diario contable'!E87=\"Maquinaria\",'Diario contable'!F87,0)","v":0},{"$f":"IF('Diario contable'!C87=\"Maquinaria\",'Diario contable'!I87,IF('Diario contable'!E87=\"Maquinaria\",'Diario contable'!I87,0))","v":0},{"$f":"IF('Diario contable'!C87=\"Maquinaria\",'Diario contable'!H87,IF('Diario contable'!E87=\"Maquinaria\",'Diario contable'!H87,0))","v":"00:00:00"},null,null,{"$f":"+IF('Diario contable'!C87=\"Herramientas\",'Diario contable'!F87,0)","v":0},null,null,null,{"$f":"+IF('Diario contable'!E87=\"Herramientas\",'Diario contable'!F87,0)","v":0},{"$f":"IF('Diario contable'!C87=\"Herramientas\",'Diario contable'!I87,IF('Diario contable'!E87=\"Herramientas\",'Diario contable'!I87,0))","v":0},{"$f":"IF('Diario contable'!C87=\"Herramientas\",'Diario contable'!H87,IF('Diario contable'!E87=\"Herramientas\",'Diario contable'!H87,0))","v":"00:00:00"},null,null,{"$f":"+IF('Diario contable'!C87=\"Donaciones\",'Diario contable'!F87,0)","v":0},null,null,null,{"$f":"+IF('Diario contable'!E87=\"Donaciones\",'Diario contable'!F87,0)","v":0},{"$f":"IF('Diario contable'!C87=\"Donaciones\",'Diario contable'!I87,IF('Diario contable'!E87=\"Donaciones\",'Diario contable'!I87,0))","v":0},{"$f":"IF('Diario contable'!C87=\"Donaciones\",'Diario contable'!H87,IF('Diario contable'!E87=\"Donaciones\",'Diario contable'!H87,0))","v":"00:00:00"},null,null,{"$f":"+IF('Diario contable'!C87=\"Inventario\",'Diario contable'!F87,0)","v":0},null,null,null,{"$f":"+IF('Diario contable'!E87=\"Inventario\",'Diario contable'!F87,0)","v":0},{"$f":"IF('Diario contable'!C87=\"Inventario\",'Diario contable'!I87,IF('Diario contable'!E87=\"Inventario\",'Diario contable'!I87,0))","v":0},{"$f":"IF('Diario contable'!C87=\"Inventario\",'Diario contable'!H87,IF('Diario contable'!E87=\"Inventario\",'Diario contable'!H87,0))","v":"00:00:00"},null,null,{"$f":"+IF('Diario contable'!C87=\"Costo de ventas\",'Diario contable'!F87,0)","v":0},null,null,null,{"$f":"+IF('Diario contable'!E87=\"Costo de ventas\",'Diario contable'!F87,0)","v":0},{"$f":"IF('Diario contable'!C87=\"Costo de ventas\",'Diario contable'!I87,IF('Diario contable'!E87=\"Costo de ventas\",'Diario contable'!I87,0))","v":0},{"$f":"IF('Diario contable'!C87=\"Costo de ventas\",'Diario contable'!H87,IF('Diario contable'!E87=\"Costo de ventas\",'Diario contable'!H87,0))","v":"00:00:00"},null,null,{"$f":"+IF('Diario contable'!C87=\"Ventas\",'Diario contable'!F87,0)","v":0},null,null,null,{"$f":"+IF('Diario contable'!E87=\"Ventas\",'Diario contable'!F87,0)","v":0},{"$f":"IF('Diario contable'!C87=\"Ventas\",'Diario contable'!I87,IF('Diario contable'!E87=\"Ventas\",'Diario contable'!I87,0))","v":0},{"$f":"IF('Diario contable'!C87=\"Ventas\",'Diario contable'!H87,IF('Diario contable'!E87=\"Ventas\",'Diario contable'!H87,0))","v":"00:00:00"},null,null,{"$f":"+IF('Diario contable'!C87=\"Gastos por salarios\",'Diario contable'!F87,0)","v":0},null,null,null,{"$f":"+IF('Diario contable'!E87=\"Gastos por salarios\",'Diario contable'!F87,0)","v":0},{"$f":"IF('Diario contable'!C87=\"Gastos por salarios\",'Diario contable'!I87,IF('Diario contable'!E87=\"Gastos por salarios\",'Diario contable'!I87,0))","v":0},{"$f":"IF('Diario contable'!C87=\"Gastos por salarios\",'Diario contable'!H87,IF('Diario contable'!E87=\"Gastos por salarios\",'Diario contable'!H87,0))","v":"00:00:00"},null,null,{"$f":"+IF('Diario contable'!C87=\"Gastos operacionales\",'Diario contable'!F87,0)","v":0},null,null,null,{"$f":"+IF('Diario contable'!E87=\"Gastos operacionales\",'Diario contable'!F87,0)","v":0},{"$f":"IF('Diario contable'!C87=\"Gastos operacionales\",'Diario contable'!I87,IF('Diario contable'!E87=\"Gastos operacionales\",'Diario contable'!I87,0))","v":0},{"$f":"IF('Diario contable'!C87=\"Gastos operacionales\",'Diario contable'!H87,IF('Diario contable'!E87=\"Gastos operacionales\",'Diario contable'!H87,0))","v":"00:00:00"},null,null,{"$f":"+IF('Diario contable'!C87=\"Suministros de oficina\",'Diario contable'!F87,0)","v":0},null,null,null,{"$f":"+IF('Diario contable'!E87=\"Suministros de oficina\",'Diario contable'!F87,0)","v":0},{"$f":"IF('Diario contable'!C87=\"Suministros de oficina\",'Diario contable'!I87,IF('Diario contable'!E87=\"Suministros de oficina\",'Diario contable'!I87,0))","v":0},{"$f":"IF('Diario contable'!C87=\"Suministros de oficina\",'Diario contable'!H87,IF('Diario contable'!E87=\"Suministros de oficina\",'Diario contable'!H87,0))","v":"00:00:00"},null,null,{"$f":"+IF('Diario contable'!C87=\"Capital social\",'Diario contable'!F87,0)","v":0},null,null,null,{"$f":"+IF('Diario contable'!E87=\"Capital social\",'Diario contable'!F87,0)","v":0},{"$f":"IF('Diario contable'!C87=\"Capital social\",'Diario contable'!I87,IF('Diario contable'!E87=\"Capital social\",'Diario contable'!I87,0))","v":0},{"$f":"IF('Diario contable'!C87=\"Capital social\",'Diario contable'!H87,IF('Diario contable'!E87=\"Capital social\",'Diario contable'!H87,0))","v":"00:00:00"},null,null,{"$f":"+IF('Diario contable'!C87=\"Gastos de mercadeo\",'Diario contable'!F87,0)","v":0},null,null,null,{"$f":"+IF('Diario contable'!E87=\"Gastos de mercadeo\",'Diario contable'!F87,0)","v":0},{"$f":"IF('Diario contable'!C87=\"Gastos de mercadeo\",'Diario contable'!I87,IF('Diario contable'!E87=\"Gastos de mercadeo\",'Diario contable'!I87,0))","v":0},{"$f":"IF('Diario contable'!C87=\"Gastos de mercadeo\",'Diario contable'!H87,IF('Diario contable'!E87=\"Gastos de mercadeo\",'Diario contable'!H87,0))","v":"00:00:00"},null,null,{"$f":"+IF('Diario contable'!C87=\"Gastos de suministros de oficina\",'Diario contable'!F87,0)","v":0},null,null,null,{"$f":"+IF('Diario contable'!E87=\"Gastos de suministros de oficina\",'Diario contable'!F87,0)","v":0},{"$f":"IF('Diario contable'!C87=\"Gastos de suministros de oficina\",'Diario contable'!I87,IF('Diario contable'!E87=\"Gastos de suministros de oficina\",'Diario contable'!I87,0))","v":0},{"$f":"IF('Diario contable'!C87=\"Gastos de suministros de oficina\",'Diario contable'!H87,IF('Diario contable'!E87=\"Gastos de suministros de oficina\",'Diario contable'!H87,0))","v":"00:00:00"}]
[null,null,{"$f":"+IF('Diario contable'!C88=\"Caja\",'Diario contable'!F88,0)","v":0},null,null,null,{"$f":"+IF('Diario contable'!E88=\"Caja\",'Diario contable'!F88,0)","v":0},{"$f":"IF('Diario contable'!C88=\"Caja\",'Diario contable'!I88,IF('Diario contable'!E88=\"Caja\",'Diario contable'!I88,0))","v":0},{"$f":"IF('Diario contable'!C88=\"Caja\",'Diario contable'!H88,IF('Diario contable'!E88=\"Caja\",'Diario contable'!H88,0))","v":"00:00:00"},null,null,{"$f":"+IF('Diario contable'!C88=\"Maquinaria\",'Diario contable'!F88,0)","v":0},null,null,null,{"$f":"+IF('Diario contable'!E88=\"Maquinaria\",'Diario contable'!F88,0)","v":0},{"$f":"IF('Diario contable'!C88=\"Maquinaria\",'Diario contable'!I88,IF('Diario contable'!E88=\"Maquinaria\",'Diario contable'!I88,0))","v":0},{"$f":"IF('Diario contable'!C88=\"Maquinaria\",'Diario contable'!H88,IF('Diario contable'!E88=\"Maquinaria\",'Diario contable'!H88,0))","v":"00:00:00"},null,null,{"$f":"+IF('Diario contable'!C88=\"Herramientas\",'Diario contable'!F88,0)","v":0},null,null,null,{"$f":"+IF('Diario contable'!E88=\"Herramientas\",'Diario contable'!F88,0)","v":0},{"$f":"IF('Diario contable'!C88=\"Herramientas\",'Diario contable'!I88,IF('Diario contable'!E88=\"Herramientas\",'Diario contable'!I88,0))","v":0},{"$f":"IF('Diario contable'!C88=\"Herramientas\",'Diario contable'!H88,IF('Diario contable'!E88=\"Herramientas\",'Diario contable'!H88,0))","v":"00:00:00"},null,null,{"$f":"+IF('Diario contable'!C88=\"Donaciones\",'Diario contable'!F88,0)","v":0},null,null,null,{"$f":"+IF('Diario contable'!E88=\"Donaciones\",'Diario contable'!F88,0)","v":0},{"$f":"IF('Diario contable'!C88=\"Donaciones\",'Diario contable'!I88,IF('Diario contable'!E88=\"Donaciones\",'Diario contable'!I88,0))","v":0},{"$f":"IF('Diario contable'!C88=\"Donaciones\",'Diario contable'!H88,IF('Diario contable'!E88=\"Donaciones\",'Diario contable'!H88,0))","v":"00:00:00"},null,null,{"$f":"+IF('Diario contable'!C88=\"Inventario\",'Diario contable'!F88,0)","v":0},null,null,null,{"$f":"+IF('Diario contable'!E88=\"Inventario\",'Diario contable'!F88,0)","v":0},{"$f":"IF('Diario contable'!C88=\"Inventario\",'Diario contable'!I88,IF('Diario contable'!E88=\"Inventario\",'Diario contable'!I88,0))","v":0},{"$f":"IF('Diario contable'!C88=\"Inventario\",'Diario contable'!H88,IF('Diario contable'!E88=\"Inventario\",'Diario contable'!H88,0))","v":"00:00:00"},null,null,{"$f":"+IF('Diario contable'!C88=\"Costo de ventas\",'Diario contable'!F88,0)","v":0},null,null,null,{"$f":"+IF('Diario contable'!E88=\"Costo de ventas\",'Diario contable'!F88,0)","v":0},{"$f":"IF('Diario contable'!C88=\"Costo de ventas\",'Diario contable'!I88,IF('Diario contable'!E88=\"Costo de ventas\",'Diario contable'!I88,0))","v":0},{"$f":"IF('Diario contable'!C88=\"Costo de ventas\",'Diario contable'!H88,IF('Diario contable'!E88=\"Costo de ventas\",'Diario contable'!H88,0))","v":"00:00:00"},null,null,{"$f":"+IF('Diario contable'!C88=\"Ventas\",'Diario contable'!F88,0)","v":0},null,null,null,{"$f":"+IF('Diario contable'!E88=\"Ventas\",'Diario contable'!F88,0)","v":0},{"$f":"IF('Diario contable'!C88=\"Ventas\",'Diario contable'!I88,IF('Diario contable'!E88=\"Ventas\",'Diario contable'!I88,0))","v":0},{"$f":"IF('Diario contable'!C88=\"Ventas\",'Diario contable'!H88,IF('Diario contable'!E88=\"Ventas\",'Diario contable'!H88,0))","v":"00:00:00"},null,null,{"$f":"+IF('Diario contable'!C88=\"Gastos por salarios\",'Diario contable'!F88,0)","v":0},null,null,null,{"$f":"+IF('Diario contable'!E88=\"Gastos por salarios\",'Diario contable'!F88,0)","v":0},{"$f":"IF('Diario contable'!C88=\"Gastos por salarios\",'Diario contable'!I88,IF('Diario contable'!E88=\"Gastos por salarios\",'Diario contable'!I88,0))","v":0},{"$f":"IF('Diario contable'!C88=\"Gastos por salarios\",'Diario contable'!H88,IF('Diario contable'!E88=\"Gastos por salarios\",'Diario contable'!H88,0))","v":"00:00:00"},null,null,{"$f":"+IF('Diario contable'!C88=\"Gastos operacionales\",'Diario contable'!F88,0)","v":0},null,null,null,{"$f":"+IF('Diario contable'!E88=\"Gastos operacionales\",'Diario contable'!F88,0)","v":0},{"$f":"IF('Diario contable'!C88=\"Gastos operacionales\",'Diario contable'!I88,IF('Diario contable'!E88=\"Gastos operacionales\",'Diario contable'!I88,0))","v":0},{"$f":"IF('Diario contable'!C88=\"Gastos operacionales\",'Diario contable'!H88,IF('Diario contable'!E88=\"Gastos operacionales\",'Diario contable'!H88,0))","v":"00:00:00"},null,null,{"$f":"+IF('Diario contable'!C88=\"Suministros de oficina\",'Diario contable'!F88,0)","v":0},null,null,null,{"$f":"+IF('Diario contable'!E88=\"Suministros de oficina\",'Diario contable'!F88,0)","v":0},{"$f":"IF('Diario contable'!C88=\"Suministros de oficina\",'Diario contable'!I88,IF('Diario contable'!E88=\"Suministros de oficina\",'Diario contable'!I88,0))","v":0},{"$f":"IF('Diario contable'!C88=\"Suministros de oficina\",'Diario contable'!H88,IF('Diario contable'!E88=\"Suministros de oficina\",'Diario contable'!H88,0))","v":"00:00:00"},null,null,{"$f":"+IF('Diario contable'!C88=\"Capital social\",'Diario contable'!F88,0)","v":0},null,null,null,{"$f":"+IF('Diario contable'!E88=\"Capital social\",'Diario contable'!F88,0)","v":0},{"$f":"IF('Diario contable'!C88=\"Capital social\",'Diario contable'!I88,IF('Diario contable'!E88=\"Capital social\",'Diario contable'!I88,0))","v":0},{"$f":"IF('Diario contable'!C88=\"Capital social\",'Diario contable'!H88,IF('Diario contable'!E88=\"Capital social\",'Diario contable'!H88,0))","v":"00:00:00"},null,null,{"$f":"+IF('Diario contable'!C88=\"Gastos de mercadeo\",'Diario contable'!F88,0)","v":0},null,null,null,{"$f":"+IF('Diario contable'!E88=\"Gastos de mercadeo\",'Diario contable'!F88,0)","v":0},{"$f":"IF('Diario contable'!C88=\"Gastos de mercadeo\",'Diario contable'!I88,IF('Diario contable'!E88=\"Gastos de mercadeo\",'Diario contable'!I88,0))","v":0},{"$f":"IF('Diario contable'!C88=\"Gastos de mercadeo\",'Diario contable'!H88,IF('Diario contable'!E88=\"Gastos de mercadeo\",'Diario contable'!H88,0))","v":"00:00:00"},null,null,{"$f":"+IF('Diario contable'!C88=\"Gastos de suministros de oficina\",'Diario contable'!F88,0)","v":0},null,null,null,{"$f":"+IF('Diario contable'!E88=\"Gastos de suministros de oficina\",'Diario contable'!F88,0)","v":0},{"$f":"IF('Diario contable'!C88=\"Gastos de suministros de oficina\",'Diario contable'!I88,IF('Diario contable'!E88=\"Gastos de suministros de oficina\",'Diario contable'!I88,0))","v":0},{"$f":"IF('Diario contable'!C88=\"Gastos de suministros de oficina\",'Diario contable'!H88,IF('Diario contable'!E88=\"Gastos de suministros de oficina\",'Diario contable'!H88,0))","v":"00:00:00"}]
[null,null,{"$f":"+IF('Diario contable'!C89=\"Caja\",'Diario contable'!F89,0)","v":0},null,null,null,{"$f":"+IF('Diario contable'!E89=\"Caja\",'Diario contable'!F89,0)","v":0},{"$f":"IF('Diario contable'!C89=\"Caja\",'Diario contable'!I89,IF('Diario contable'!E89=\"Caja\",'Diario contable'!I89,0))","v":0},{"$f":"IF('Diario contable'!C89=\"Caja\",'Diario contable'!H89,IF('Diario contable'!E89=\"Caja\",'Diario contable'!H89,0))","v":"00:00:00"},null,null,{"$f":"+IF('Diario contable'!C89=\"Maquinaria\",'Diario contable'!F89,0)","v":0},null,null,null,{"$f":"+IF('Diario contable'!E89=\"Maquinaria\",'Diario contable'!F89,0)","v":0},{"$f":"IF('Diario contable'!C89=\"Maquinaria\",'Diario contable'!I89,IF('Diario contable'!E89=\"Maquinaria\",'Diario contable'!I89,0))","v":0},{"$f":"IF('Diario contable'!C89=\"Maquinaria\",'Diario contable'!H89,IF('Diario contable'!E89=\"Maquinaria\",'Diario contable'!H89,0))","v":"00:00:00"},null,null,{"$f":"+IF('Diario contable'!C89=\"Herramientas\",'Diario contable'!F89,0)","v":0},null,null,null,{"$f":"+IF('Diario contable'!E89=\"Herramientas\",'Diario contable'!F89,0)","v":0},{"$f":"IF('Diario contable'!C89=\"Herramientas\",'Diario contable'!I89,IF('Diario contable'!E89=\"Herramientas\",'Diario contable'!I89,0))","v":0},{"$f":"IF('Diario contable'!C89=\"Herramientas\",'Diario contable'!H89,IF('Diario contable'!E89=\"Herramientas\",'Diario contable'!H89,0))","v":"00:00:00"},null,null,{"$f":"+IF('Diario contable'!C89=\"Donaciones\",'Diario contable'!F89,0)","v":0},null,null,null,{"$f":"+IF('Diario contable'!E89=\"Donaciones\",'Diario contable'!F89,0)","v":0},{"$f":"IF('Diario contable'!C89=\"Donaciones\",'Diario contable'!I89,IF('Diario contable'!E89=\"Donaciones\",'Diario contable'!I89,0))","v":0},{"$f":"IF('Diario contable'!C89=\"Donaciones\",'Diario contable'!H89,IF('Diario contable'!E89=\"Donaciones\",'Diario contable'!H89,0))","v":"00:00:00"},null,null,{"$f":"+IF('Diario contable'!C89=\"Inventario\",'Diario contable'!F89,0)","v":0},null,null,null,{"$f":"+IF('Diario contable'!E89=\"Inventario\",'Diario contable'!F89,0)","v":0},{"$f":"IF('Diario contable'!C89=\"Inventario\",'Diario contable'!I89,IF('Diario contable'!E89=\"Inventario\",'Diario contable'!I89,0))","v":0},{"$f":"IF('Diario contable'!C89=\"Inventario\",'Diario contable'!H89,IF('Diario contable'!E89=\"Inventario\",'Diario contable'!H89,0))","v":"00:00:00"},null,null,{"$f":"+IF('Diario contable'!C89=\"Costo de ventas\",'Diario contable'!F89,0)","v":0},null,null,null,{"$f":"+IF('Diario contable'!E89=\"Costo de ventas\",'Diario contable'!F89,0)","v":0},{"$f":"IF('Diario contable'!C89=\"Costo de ventas\",'Diario contable'!I89,IF('Diario contable'!E89=\"Costo de ventas\",'Diario contable'!I89,0))","v":0},{"$f":"IF('Diario contable'!C89=\"Costo de ventas\",'Diario contable'!H89,IF('Diario contable'!E89=\"Costo de ventas\",'Diario contable'!H89,0))","v":"00:00:00"},null,null,{"$f":"+IF('Diario contable'!C89=\"Ventas\",'Diario contable'!F89,0)","v":0},null,null,null,{"$f":"+IF('Diario contable'!E89=\"Ventas\",'Diario contable'!F89,0)","v":0},{"$f":"IF('Diario contable'!C89=\"Ventas\",'Diario contable'!I89,IF('Diario contable'!E89=\"Ventas\",'Diario contable'!I89,0))","v":0},{"$f":"IF('Diario contable'!C89=\"Ventas\",'Diario contable'!H89,IF('Diario contable'!E89=\"Ventas\",'Diario contable'!H89,0))","v":"00:00:00"},null,null,{"$f":"+IF('Diario contable'!C89=\"Gastos por salarios\",'Diario contable'!F89,0)","v":0},null,null,null,{"$f":"+IF('Diario contable'!E89=\"Gastos por salarios\",'Diario contable'!F89,0)","v":0},{"$f":"IF('Diario contable'!C89=\"Gastos por salarios\",'Diario contable'!I89,IF('Diario contable'!E89=\"Gastos por salarios\",'Diario contable'!I89,0))","v":0},{"$f":"IF('Diario contable'!C89=\"Gastos por salarios\",'Diario contable'!H89,IF('Diario contable'!E89=\"Gastos por salarios\",'Diario contable'!H89,0))","v":"00:00:00"},null,null,{"$f":"+IF('Diario contable'!C89=\"Gastos operacionales\",'Diario contable'!F89,0)","v":0},null,null,null,{"$f":"+IF('Diario contable'!E89=\"Gastos operacionales\",'Diario contable'!F89,0)","v":0},{"$f":"IF('Diario contable'!C89=\"Gastos operacionales\",'Diario contable'!I89,IF('Diario contable'!E89=\"Gastos operacionales\",'Diario contable'!I89,0))","v":0},{"$f":"IF('Diario contable'!C89=\"Gastos operacionales\",'Diario contable'!H89,IF('Diario contable'!E89=\"Gastos operacionales\",'Diario contable'!H89,0))","v":"00:00:00"},null,null,{"$f":"+IF('Diario contable'!C89=\"Suministros de oficina\",'Diario contable'!F89,0)","v":0},null,null,null,{"$f":"+IF('Diario contable'!E89=\"Suministros de oficina\",'Diario contable'!F89,0)","v":0},{"$f":"IF('Diario contable'!C89=\"Suministros de oficina\",'Diario contable'!I89,IF('Diario contable'!E89=\"Suministros de oficina\",'Diario contable'!I89,0))","v":0},{"$f":"IF('Diario contable'!C89=\"Suministros de oficina\",'Diario contable'!H89,IF('Diario contable'!E89=\"Suministros de oficina\",'Diario contable'!H89,0))","v":"00:00:00"},null,null,{"$f":"+IF('Diario contable'!C89=\"Capital social\",'Diario contable'!F89,0)","v":0},null,null,null,{"$f":"+IF('Diario contable'!E89=\"Capital social\",'Diario contable'!F89,0)","v":0},{"$f":"IF('Diario contable'!C89=\"Capital social\",'Diario contable'!I89,IF('Diario contable'!E89=\"Capital social\",'Diario contable'!I89,0))","v":0},{"$f":"IF('Diario contable'!C89=\"Capital social\",'Diario contable'!H89,IF('Diario contable'!E89=\"Capital social\",'Diario contable'!H89,0))","v":"00:00:00"},null,null,{"$f":"+IF('Diario contable'!C89=\"Gastos de mercadeo\",'Diario contable'!F89,0)","v":0},null,null,null,{"$f":"+IF('Diario contable'!E89=\"Gastos de mercadeo\",'Diario contable'!F89,0)","v":0},{"$f":"IF('Diario contable'!C89=\"Gastos de mercadeo\",'Diario contable'!I89,IF('Diario contable'!E89=\"Gastos de mercadeo\",'Diario contable'!I89,0))","v":0},{"$f":"IF('Diario contable'!C89=\"Gastos de mercadeo\",'Diario contable'!H89,IF('Diario contable'!E89=\"Gastos de mercadeo\",'Diario contable'!H89,0))","v":"00:00:00"},null,null,{"$f":"+IF('Diario contable'!C89=\"Gastos de suministros de oficina\",'Diario contable'!F89,0)","v":0},null,null,null,{"$f":"+IF('Diario contable'!E89=\"Gastos de suministros de oficina\",'Diario contable'!F89,0)","v":0},{"$f":"IF('Diario contable'!C89=\"Gastos de suministros de oficina\",'Diario contable'!I89,IF('Diario contable'!E89=\"Gastos de suministros de oficina\",'Diario contable'!I89,0))","v":0},{"$f":"IF('Diario contable'!C89=\"Gastos de suministros de oficina\",'Diario contable'!H89,IF('Diario contable'!E89=\"Gastos de suministros de oficina\",'Diario contable'!H89,0))","v":"00:00:00"}]
[null,null,{"$f":"+IF('Diario contable'!C90=\"Caja\",'Diario contable'!F90,0)","v":0},null,null,null,{"$f":"+IF('Diario contable'!E90=\"Caja\",'Diario contable'!F90,0)","v":0},{"$f":"IF('Diario contable'!C90=\"Caja\",'Diario contable'!I90,IF('Diario contable'!E90=\"Caja\",'Diario contable'!I90,0))","v":0},{"$f":"IF('Diario contable'!C90=\"Caja\",'Diario contable'!H90,IF('Diario contable'!E90=\"Caja\",'Diario contable'!H90,0))","v":"00:00:00"},null,null,{"$f":"+IF('Diario contable'!C90=\"Maquinaria\",'Diario contable'!F90,0)","v":0},null,null,null,{"$f":"+IF('Diario contable'!E90=\"Maquinaria\",'Diario contable'!F90,0)","v":0},{"$f":"IF('Diario contable'!C90=\"Maquinaria\",'Diario contable'!I90,IF('Diario contable'!E90=\"Maquinaria\",'Diario contable'!I90,0))","v":0},{"$f":"IF('Diario contable'!C90=\"Maquinaria\",'Diario contable'!H90,IF('Diario contable'!E90=\"Maquinaria\",'Diario contable'!H90,0))","v":"00:00:00"},null,null,{"$f":"+IF('Diario contable'!C90=\"Herramientas\",'Diario contable'!F90,0)","v":0},null,null,null,{"$f":"+IF('Diario contable'!E90=\"Herramientas\",'Diario contable'!F90,0)","v":0},{"$f":"IF('Diario contable'!C90=\"Herramientas\",'Diario contable'!I90,IF('Diario contable'!E90=\"Herramientas\",'Diario contable'!I90,0))","v":0},{"$f":"IF('Diario contable'!C90=\"Herramientas\",'Diario contable'!H90,IF('Diario contable'!E90=\"Herramientas\",'Diario contable'!H90,0))","v":"00:00:00"},null,null,{"$f":"+IF('Diario contable'!C90=\"Donaciones\",'Diario contable'!F90,0)","v":0},null,null,null,{"$f":"+IF('Diario contable'!E90=\"Donaciones\",'Diario contable'!F90,0)","v":0},{"$f":"IF('Diario contable'!C90=\"Donaciones\",'Diario contable'!I90,IF('Diario contable'!E90=\"Donaciones\",'Diario contable'!I90,0))","v":0},{"$f":"IF('Diario contable'!C90=\"Donaciones\",'Diario contable'!H90,IF('Diario contable'!E90=\"Donaciones\",'Diario contable'!H90,0))","v":"00:00:00"},null,null,{"$f":"+IF('Diario contable'!C90=\"Inventario\",'Diario contable'!F90,0)","v":0},null,null,null,{"$f":"+IF('Diario contable'!E90=\"Inventario\",'Diario contable'!F90,0)","v":0},{"$f":"IF('Diario contable'!C90=\"Inventario\",'Diario contable'!I90,IF('Diario contable'!E90=\"Inventario\",'Diario contable'!I90,0))","v":0},{"$f":"IF('Diario contable'!C90=\"Inventario\",'Diario contable'!H90,IF('Diario contable'!E90=\"Inventario\",'Diario contable'!H90,0))","v":"00:00:00"},null,null,{"$f":"+IF('Diario contable'!C90=\"Costo de ventas\",'Diario contable'!F90,0)","v":0},null,null,null,{"$f":"+IF('Diario contable'!E90=\"Costo de ventas\",'Diario contable'!F90,0)","v":0},{"$f":"IF('Diario contable'!C90=\"Costo de ventas\",'Diario contable'!I90,IF('Diario contable'!E90=\"Costo de ventas\",'Diario contable'!I90,0))","v":0},{"$f":"IF('Diario contable'!C90=\"Costo de ventas\",'Diario contable'!H90,IF('Diario contable'!E90=\"Costo de ventas\",'Diario contable'!H90,0))","v":"00:00:00"},null,null,{"$f":"+IF('Diario contable'!C90=\"Ventas\",'Diario contable'!F90,0)","v":0},null,null,null,{"$f":"+IF('Diario contable'!E90=\"Ventas\",'Diario contable'!F90,0)","v":0},{"$f":"IF('Diario contable'!C90=\"Ventas\",'Diario contable'!I90,IF('Diario contable'!E90=\"Ventas\",'Diario contable'!I90,0))","v":0},{"$f":"IF('Diario contable'!C90=\"Ventas\",'Diario contable'!H90,IF('Diario contable'!E90=\"Ventas\",'Diario contable'!H90,0))","v":"00:00:00"},null,null,{"$f":"+IF('Diario contable'!C90=\"Gastos por salarios\",'Diario contable'!F90,0)","v":0},null,null,null,{"$f":"+IF('Diario contable'!E90=\"Gastos por salarios\",'Diario contable'!F90,0)","v":0},{"$f":"IF('Diario contable'!C90=\"Gastos por salarios\",'Diario contable'!I90,IF('Diario contable'!E90=\"Gastos por salarios\",'Diario contable'!I90,0))","v":0},{"$f":"IF('Diario contable'!C90=\"Gastos por salarios\",'Diario contable'!H90,IF('Diario contable'!E90=\"Gastos por salarios\",'Diario contable'!H90,0))","v":"00:00:00"},null,null,{"$f":"+IF('Diario contable'!C90=\"Gastos operacionales\",'Diario contable'!F90,0)","v":0},null,null,null,{"$f":"+IF('Diario contable'!E90=\"Gastos operacionales\",'Diario contable'!F90,0)","v":0},{"$f":"IF('Diario contable'!C90=\"Gastos operacionales\",'Diario contable'!I90,IF('Diario contable'!E90=\"Gastos operacionales\",'Diario contable'!I90,0))","v":0},{"$f":"IF('Diario contable'!C90=\"Gastos operacionales\",'Diario contable'!H90,IF('Diario contable'!E90=\"Gastos operacionales\",'Diario contable'!H90,0))","v":"00:00:00"},null,null,{"$f":"+IF('Diario contable'!C90=\"Suministros de oficina\",'Diario contable'!F90,0)","v":0},null,null,null,{"$f":"+IF('Diario contable'!E90=\"Suministros de oficina\",'Diario contable'!F90,0)","v":0},{"$f":"IF('Diario contable'!C90=\"Suministros de oficina\",'Diario contable'!I90,IF('Diario contable'!E90=\"Suministros de oficina\",'Diario contable'!I90,0))","v":0},{"$f":"IF('Diario contable'!C90=\"Suministros de oficina\",'Diario contable'!H90,IF('Diario contable'!E90=\"Suministros de oficina\",'Diario contable'!H90,0))","v":"00:00:00"},null,null,{"$f":"+IF('Diario contable'!C90=\"Capital social\",'Diario contable'!F90,0)","v":0},null,null,null,{"$f":"+IF('Diario contable'!E90=\"Capital social\",'Diario contable'!F90,0)","v":0},{"$f":"IF('Diario contable'!C90=\"Capital social\",'Diario contable'!I90,IF('Diario contable'!E90=\"Capital social\",'Diario contable'!I90,0))","v":0},{"$f":"IF('Diario contable'!C90=\"Capital social\",'Diario contable'!H90,IF('Diario contable'!E90=\"Capital social\",'Diario contable'!H90,0))","v":"00:00:00"},null,null,{"$f":"+IF('Diario contable'!C90=\"Gastos de mercadeo\",'Diario contable'!F90,0)","v":0},null,null,null,{"$f":"+IF('Diario contable'!E90=\"Gastos de mercadeo\",'Diario contable'!F90,0)","v":0},{"$f":"IF('Diario contable'!C90=\"Gastos de mercadeo\",'Diario contable'!I90,IF('Diario contable'!E90=\"Gastos de mercadeo\",'Diario contable'!I90,0))","v":0},{"$f":"IF('Diario contable'!C90=\"Gastos de mercadeo\",'Diario contable'!H90,IF('Diario contable'!E90=\"Gastos de mercadeo\",'Diario contable'!H90,0))","v":"00:00:00"},null,null,{"$f":"+IF('Diario contable'!C90=\"Gastos de suministros de oficina\",'Diario contable'!F90,0)","v":0},null,null,null,{"$f":"+IF('Diario contable'!E90=\"Gastos de suministros de oficina\",'Diario contable'!F90,0)","v":0},{"$f":"IF('Diario contable'!C90=\"Gastos de suministros de oficina\",'Diario contable'!I90,IF('Diario contable'!E90=\"Gastos de suministros de oficina\",'Diario contable'!I90,0))","v":0},{"$f":"IF('Diario contable'!C90=\"Gastos de suministros de oficina\",'Diario contable'!H90,IF('Diario contable'!E90=\"Gastos de suministros de oficina\",'Diario contable'!H90,0))","v":"00:00:00"}]
[null,null,{"$f":"+IF('Diario contable'!C91=\"Caja\",'Diario contable'!F91,0)","v":0},null,null,null,{"$f":"+IF('Diario contable'!E91=\"Caja\",'Diario contable'!F91,0)","v":0},{"$f":"IF('Diario contable'!C91=\"Caja\",'Diario contable'!I91,IF('Diario contable'!E91=\"Caja\",'Diario contable'!I91,0))","v":0},{"$f":"IF('Diario contable'!C91=\"Caja\",'Diario contable'!H91,IF('Diario contable'!E91=\"Caja\",'Diario contable'!H91,0))","v":"00:00:00"},null,null,{"$f":"+IF('Diario contable'!C91=\"Maquinaria\",'Diario contable'!F91,0)","v":0},null,null,null,{"$f":"+IF('Diario contable'!E91=\"Maquinaria\",'Diario contable'!F91,0)","v":0},{"$f":"IF('Diario contable'!C91=\"Maquinaria\",'Diario contable'!I91,IF('Diario contable'!E91=\"Maquinaria\",'Diario contable'!I91,0))","v":0},{"$f":"IF('Diario contable'!C91=\"Maquinaria\",'Diario contable'!H91,IF('Diario contable'!E91=\"Maquinaria\",'Diario contable'!H91,0))","v":"00:00:00"},null,null,{"$f":"+IF('Diario contable'!C91=\"Herramientas\",'Diario contable'!F91,0)","v":0},null,null,null,{"$f":"+IF('Diario contable'!E91=\"Herramientas\",'Diario contable'!F91,0)","v":0},{"$f":"IF('Diario contable'!C91=\"Herramientas\",'Diario contable'!I91,IF('Diario contable'!E91=\"Herramientas\",'Diario contable'!I91,0))","v":0},{"$f":"IF('Diario contable'!C91=\"Herramientas\",'Diario contable'!H91,IF('Diario contable'!E91=\"Herramientas\",'Diario contable'!H91,0))","v":"00:00:00"},null,null,{"$f":"+IF('Diario contable'!C91=\"Donaciones\",'Diario contable'!F91,0)","v":0},null,null,null,{"$f":"+IF('Diario contable'!E91=\"Donaciones\",'Diario contable'!F91,0)","v":0},{"$f":"IF('Diario contable'!C91=\"Donaciones\",'Diario contable'!I91,IF('Diario contable'!E91=\"Donaciones\",'Diario contable'!I91,0))","v":0},{"$f":"IF('Diario contable'!C91=\"Donaciones\",'Diario contable'!H91,IF('Diario contable'!E91=\"Donaciones\",'Diario contable'!H91,0))","v":"00:00:00"},null,null,{"$f":"+IF('Diario contable'!C91=\"Inventario\",'Diario contable'!F91,0)","v":0},null,null,null,{"$f":"+IF('Diario contable'!E91=\"Inventario\",'Diario contable'!F91,0)","v":0},{"$f":"IF('Diario contable'!C91=\"Inventario\",'Diario contable'!I91,IF('Diario contable'!E91=\"Inventario\",'Diario contable'!I91,0))","v":0},{"$f":"IF('Diario contable'!C91=\"Inventario\",'Diario contable'!H91,IF('Diario contable'!E91=\"Inventario\",'Diario contable'!H91,0))","v":"00:00:00"},null,null,{"$f":"+IF('Diario contable'!C91=\"Costo de ventas\",'Diario contable'!F91,0)","v":0},null,null,null,{"$f":"+IF('Diario contable'!E91=\"Costo de ventas\",'Diario contable'!F91,0)","v":0},{"$f":"IF('Diario contable'!C91=\"Costo de ventas\",'Diario contable'!I91,IF('Diario contable'!E91=\"Costo de ventas\",'Diario contable'!I91,0))","v":0},{"$f":"IF('Diario contable'!C91=\"Costo de ventas\",'Diario contable'!H91,IF('Diario contable'!E91=\"Costo de ventas\",'Diario contable'!H91,0))","v":"00:00:00"},null,null,{"$f":"+IF('Diario contable'!C91=\"Ventas\",'Diario contable'!F91,0)","v":0},null,null,null,{"$f":"+IF('Diario contable'!E91=\"Ventas\",'Diario contable'!F91,0)","v":0},{"$f":"IF('Diario contable'!C91=\"Ventas\",'Diario contable'!I91,IF('Diario contable'!E91=\"Ventas\",'Diario contable'!I91,0))","v":0},{"$f":"IF('Diario contable'!C91=\"Ventas\",'Diario contable'!H91,IF('Diario contable'!E91=\"Ventas\",'Diario contable'!H91,0))","v":"00:00:00"},null,null,{"$f":"+IF('Diario contable'!C91=\"Gastos por salarios\",'Diario contable'!F91,0)","v":0},null,null,null,{"$f":"+IF('Diario contable'!E91=\"Gastos por salarios\",'Diario contable'!F91,0)","v":0},{"$f":"IF('Diario contable'!C91=\"Gastos por salarios\",'Diario contable'!I91,IF('Diario contable'!E91=\"Gastos por salarios\",'Diario contable'!I91,0))","v":0},{"$f":"IF('Diario contable'!C91=\"Gastos por salarios\",'Diario contable'!H91,IF('Diario contable'!E91=\"Gastos por salarios\",'Diario contable'!H91,0))","v":"00:00:00"},null,null,{"$f":"+IF('Diario contable'!C91=\"Gastos operacionales\",'Diario contable'!F91,0)","v":0},null,null,null,{"$f":"+IF('Diario contable'!E91=\"Gastos operacionales\",'Diario contable'!F91,0)","v":0},{"$f":"IF('Diario contable'!C91=\"Gastos operacionales\",'Diario contable'!I91,IF('Diario contable'!E91=\"Gastos operacionales\",'Diario contable'!I91,0))","v":0},{"$f":"IF('Diario contable'!C91=\"Gastos operacionales\",'Diario contable'!H91,IF('Diario contable'!E91=\"Gastos operacionales\",'Diario contable'!H91,0))","v":"00:00:00"},null,null,{"$f":"+IF('Diario contable'!C91=\"Suministros de oficina\",'Diario contable'!F91,0)","v":0},null,null,null,{"$f":"+IF('Diario contable'!E91=\"Suministros de oficina\",'Diario contable'!F91,0)","v":0},{"$f":"IF('Diario contable'!C91=\"Suministros de oficina\",'Diario contable'!I91,IF('Diario contable'!E91=\"Suministros de oficina\",'Diario contable'!I91,0))","v":0},{"$f":"IF('Diario contable'!C91=\"Suministros de oficina\",'Diario contable'!H91,IF('Diario contable'!E91=\"Suministros de oficina\",'Diario contable'!H91,0))","v":"00:00:00"},null,null,{"$f":"+IF('Diario contable'!C91=\"Capital social\",'Diario contable'!F91,0)","v":0},null,null,null,{"$f":"+IF('Diario contable'!E91=\"Capital social\",'Diario contable'!F91,0)","v":0},{"$f":"IF('Diario contable'!C91=\"Capital social\",'Diario contable'!I91,IF('Diario contable'!E91=\"Capital social\",'Diario contable'!I91,0))","v":0},{"$f":"IF('Diario contable'!C91=\"Capital social\",'Diario contable'!H91,IF('Diario contable'!E91=\"Capital social\",'Diario contable'!H91,0))","v":"00:00:00"},null,null,{"$f":"+IF('Diario contable'!C91=\"Gastos de mercadeo\",'Diario contable'!F91,0)","v":0},null,null,null,{"$f":"+IF('Diario contable'!E91=\"Gastos de mercadeo\",'Diario contable'!F91,0)","v":0},{"$f":"IF('Diario contable'!C91=\"Gastos de mercadeo\",'Diario contable'!I91,IF('Diario contable'!E91=\"Gastos de mercadeo\",'Diario contable'!I91,0))","v":0},{"$f":"IF('Diario contable'!C91=\"Gastos de mercadeo\",'Diario contable'!H91,IF('Diario contable'!E91=\"Gastos de mercadeo\",'Diario contable'!H91,0))","v":"00:00:00"},null,null,{"$f":"+IF('Diario contable'!C91=\"Gastos de suministros de oficina\",'Diario contable'!F91,0)","v":0},null,null,null,{"$f":"+IF('Diario contable'!E91=\"Gastos de suministros de oficina\",'Diario contable'!F91,0)","v":0},{"$f":"IF('Diario contable'!C91=\"Gastos de suministros de oficina\",'Diario contable'!I91,IF('Diario contable'!E91=\"Gastos de suministros de oficina\",'Diario contable'!I91,0))","v":0},{"$f":"IF('Diario contable'!C91=\"Gastos de suministros de oficina\",'Diario contable'!H91,IF('Diario contable'!E91=\"Gastos de suministros de oficina\",'Diario contable'!H91,0))","v":"00:00:00"}]
[null,null,{"$f":"+IF('Diario contable'!C92=\"Caja\",'Diario contable'!F92,0)","v":0},null,null,null,{"$f":"+IF('Diario contable'!E92=\"Caja\",'Diario contable'!F92,0)","v":0},{"$f":"IF('Diario contable'!C92=\"Caja\",'Diario contable'!I92,IF('Diario contable'!E92=\"Caja\",'Diario contable'!I92,0))","v":0},{"$f":"IF('Diario contable'!C92=\"Caja\",'Diario contable'!H92,IF('Diario contable'!E92=\"Caja\",'Diario contable'!H92,0))","v":"00:00:00"},null,null,{"$f":"+IF('Diario contable'!C92=\"Maquinaria\",'Diario contable'!F92,0)","v":0},null,null,null,{"$f":"+IF('Diario contable'!E92=\"Maquinaria\",'Diario contable'!F92,0)","v":0},{"$f":"IF('Diario contable'!C92=\"Maquinaria\",'Diario contable'!I92,IF('Diario contable'!E92=\"Maquinaria\",'Diario contable'!I92,0))","v":0},{"$f":"IF('Diario contable'!C92=\"Maquinaria\",'Diario contable'!H92,IF('Diario contable'!E92=\"Maquinaria\",'Diario contable'!H92,0))","v":"00:00:00"},null,null,{"$f":"+IF('Diario contable'!C92=\"Herramientas\",'Diario contable'!F92,0)","v":0},null,null,null,{"$f":"+IF('Diario contable'!E92=\"Herramientas\",'Diario contable'!F92,0)","v":0},{"$f":"IF('Diario contable'!C92=\"Herramientas\",'Diario contable'!I92,IF('Diario contable'!E92=\"Herramientas\",'Diario contable'!I92,0))","v":0},{"$f":"IF('Diario contable'!C92=\"Herramientas\",'Diario contable'!H92,IF('Diario contable'!E92=\"Herramientas\",'Diario contable'!H92,0))","v":"00:00:00"},null,null,{"$f":"+IF('Diario contable'!C92=\"Donaciones\",'Diario contable'!F92,0)","v":0},null,null,null,{"$f":"+IF('Diario contable'!E92=\"Donaciones\",'Diario contable'!F92,0)","v":0},{"$f":"IF('Diario contable'!C92=\"Donaciones\",'Diario contable'!I92,IF('Diario contable'!E92=\"Donaciones\",'Diario contable'!I92,0))","v":0},{"$f":"IF('Diario contable'!C92=\"Donaciones\",'Diario contable'!H92,IF('Diario contable'!E92=\"Donaciones\",'Diario contable'!H92,0))","v":"00:00:00"},null,null,{"$f":"+IF('Diario contable'!C92=\"Inventario\",'Diario contable'!F92,0)","v":0},null,null,null,{"$f":"+IF('Diario contable'!E92=\"Inventario\",'Diario contable'!F92,0)","v":0},{"$f":"IF('Diario contable'!C92=\"Inventario\",'Diario contable'!I92,IF('Diario contable'!E92=\"Inventario\",'Diario contable'!I92,0))","v":0},{"$f":"IF('Diario contable'!C92=\"Inventario\",'Diario contable'!H92,IF('Diario contable'!E92=\"Inventario\",'Diario contable'!H92,0))","v":"00:00:00"},null,null,{"$f":"+IF('Diario contable'!C92=\"Costo de ventas\",'Diario contable'!F92,0)","v":0},null,null,null,{"$f":"+IF('Diario contable'!E92=\"Costo de ventas\",'Diario contable'!F92,0)","v":0},{"$f":"IF('Diario contable'!C92=\"Costo de ventas\",'Diario contable'!I92,IF('Diario contable'!E92=\"Costo de ventas\",'Diario contable'!I92,0))","v":0},{"$f":"IF('Diario contable'!C92=\"Costo de ventas\",'Diario contable'!H92,IF('Diario contable'!E92=\"Costo de ventas\",'Diario contable'!H92,0))","v":"00:00:00"},null,null,{"$f":"+IF('Diario contable'!C92=\"Ventas\",'Diario contable'!F92,0)","v":0},null,null,null,{"$f":"+IF('Diario contable'!E92=\"Ventas\",'Diario contable'!F92,0)","v":0},{"$f":"IF('Diario contable'!C92=\"Ventas\",'Diario contable'!I92,IF('Diario contable'!E92=\"Ventas\",'Diario contable'!I92,0))","v":0},{"$f":"IF('Diario contable'!C92=\"Ventas\",'Diario contable'!H92,IF('Diario contable'!E92=\"Ventas\",'Diario contable'!H92,0))","v":"00:00:00"},null,null,{"$f":"+IF('Diario contable'!C92=\"Gastos por salarios\",'Diario contable'!F92,0)","v":0},null,null,null,{"$f":"+IF('Diario contable'!E92=\"Gastos por salarios\",'Diario contable'!F92,0)","v":0},{"$f":"IF('Diario contable'!C92=\"Gastos por salarios\",'Diario contable'!I92,IF('Diario contable'!E92=\"Gastos por salarios\",'Diario contable'!I92,0))","v":0},{"$f":"IF('Diario contable'!C92=\"Gastos por salarios\",'Diario contable'!H92,IF('Diario contable'!E92=\"Gastos por salarios\",'Diario contable'!H92,0))","v":"00:00:00"},null,null,{"$f":"+IF('Diario contable'!C92=\"Gastos operacionales\",'Diario contable'!F92,0)","v":0},null,null,null,{"$f":"+IF('Diario contable'!E92=\"Gastos operacionales\",'Diario contable'!F92,0)","v":0},{"$f":"IF('Diario contable'!C92=\"Gastos operacionales\",'Diario contable'!I92,IF('Diario contable'!E92=\"Gastos operacionales\",'Diario contable'!I92,0))","v":0},{"$f":"IF('Diario contable'!C92=\"Gastos operacionales\",'Diario contable'!H92,IF('Diario contable'!E92=\"Gastos operacionales\",'Diario contable'!H92,0))","v":"00:00:00"},null,null,{"$f":"+IF('Diario contable'!C92=\"Suministros de oficina\",'Diario contable'!F92,0)","v":0},null,null,null,{"$f":"+IF('Diario contable'!E92=\"Suministros de oficina\",'Diario contable'!F92,0)","v":0},{"$f":"IF('Diario contable'!C92=\"Suministros de oficina\",'Diario contable'!I92,IF('Diario contable'!E92=\"Suministros de oficina\",'Diario contable'!I92,0))","v":0},{"$f":"IF('Diario contable'!C92=\"Suministros de oficina\",'Diario contable'!H92,IF('Diario contable'!E92=\"Suministros de oficina\",'Diario contable'!H92,0))","v":"00:00:00"},null,null,{"$f":"+IF('Diario contable'!C92=\"Capital social\",'Diario contable'!F92,0)","v":0},null,null,null,{"$f":"+IF('Diario contable'!E92=\"Capital social\",'Diario contable'!F92,0)","v":0},{"$f":"IF('Diario contable'!C92=\"Capital social\",'Diario contable'!I92,IF('Diario contable'!E92=\"Capital social\",'Diario contable'!I92,0))","v":0},{"$f":"IF('Diario contable'!C92=\"Capital social\",'Diario contable'!H92,IF('Diario contable'!E92=\"Capital social\",'Diario contable'!H92,0))","v":"00:00:00"},null,null,{"$f":"+IF('Diario contable'!C92=\"Gastos de mercadeo\",'Diario contable'!F92,0)","v":0},null,null,null,{"$f":"+IF('Diario contable'!E92=\"Gastos de mercadeo\",'Diario contable'!F92,0)","v":0},{"$f":"IF('Diario contable'!C92=\"Gastos de mercadeo\",'Diario contable'!I92,IF('Diario contable'!E92=\"Gastos de mercadeo\",'Diario contable'!I92,0))","v":0},{"$f":"IF('Diario contable'!C92=\"Gastos de mercadeo\",'Diario contable'!H92,IF('Diario contable'!E92=\"Gastos de mercadeo\",'Diario contable'!H92,0))","v":"00:00:00"},null,null,{"$f":"+IF('Diario contable'!C92=\"Gastos de suministros de oficina\",'Diario contable'!F92,0)","v":0},null,null,null,{"$f":"+IF('Diario contable'!E92=\"Gastos de suministros de oficina\",'Diario contable'!F92,0)","v":0},{"$f":"IF('Diario contable'!C92=\"Gastos de suministros de oficina\",'Diario contable'!I92,IF('Diario contable'!E92=\"Gastos de suministros de oficina\",'Diario contable'!I92,0))","v":0},{"$f":"IF('Diario contable'!C92=\"Gastos de suministros de oficina\",'Diario contable'!H92,IF('Diario contable'!E92=\"Gastos de suministros de oficina\",'Diario contable'!H92,0))","v":"00:00:00"}]
[null,null,{"$f":"+IF('Diario contable'!C93=\"Caja\",'Diario contable'!F93,0)","v":0},null,null,null,{"$f":"+IF('Diario contable'!E93=\"Caja\",'Diario contable'!F93,0)","v":0},{"$f":"IF('Diario contable'!C93=\"Caja\",'Diario contable'!I93,IF('Diario contable'!E93=\"Caja\",'Diario contable'!I93,0))","v":0},{"$f":"IF('Diario contable'!C93=\"Caja\",'Diario contable'!H93,IF('Diario contable'!E93=\"Caja\",'Diario contable'!H93,0))","v":"00:00:00"},null,null,{"$f":"+IF('Diario contable'!C93=\"Maquinaria\",'Diario contable'!F93,0)","v":0},null,null,null,{"$f":"+IF('Diario contable'!E93=\"Maquinaria\",'Diario contable'!F93,0)","v":0},{"$f":"IF('Diario contable'!C93=\"Maquinaria\",'Diario contable'!I93,IF('Diario contable'!E93=\"Maquinaria\",'Diario contable'!I93,0))","v":0},{"$f":"IF('Diario contable'!C93=\"Maquinaria\",'Diario contable'!H93,IF('Diario contable'!E93=\"Maquinaria\",'Diario contable'!H93,0))","v":"00:00:00"},null,null,{"$f":"+IF('Diario contable'!C93=\"Herramientas\",'Diario contable'!F93,0)","v":0},null,null,null,{"$f":"+IF('Diario contable'!E93=\"Herramientas\",'Diario contable'!F93,0)","v":0},{"$f":"IF('Diario contable'!C93=\"Herramientas\",'Diario contable'!I93,IF('Diario contable'!E93=\"Herramientas\",'Diario contable'!I93,0))","v":0},{"$f":"IF('Diario contable'!C93=\"Herramientas\",'Diario contable'!H93,IF('Diario contable'!E93=\"Herramientas\",'Diario contable'!H93,0))","v":"00:00:00"},null,null,{"$f":"+IF('Diario contable'!C93=\"Donaciones\",'Diario contable'!F93,0)","v":0},null,null,null,{"$f":"+IF('Diario contable'!E93=\"Donaciones\",'Diario contable'!F93,0)","v":0},{"$f":"IF('Diario contable'!C93=\"Donaciones\",'Diario contable'!I93,IF('Diario contable'!E93=\"Donaciones\",'Diario contable'!I93,0))","v":0},{"$f":"IF('Diario contable'!C93=\"Donaciones\",'Diario contable'!H93,IF('Diario contable'!E93=\"Donaciones\",'Diario contable'!H93,0))","v":"00:00:00"},null,null,{"$f":"+IF('Diario contable'!C93=\"Inventario\",'Diario contable'!F93,0)","v":0},null,null,null,{"$f":"+IF('Diario contable'!E93=\"Inventario\",'Diario contable'!F93,0)","v":0},{"$f":"IF('Diario contable'!C93=\"Inventario\",'Diario contable'!I93,IF('Diario contable'!E93=\"Inventario\",'Diario contable'!I93,0))","v":0},{"$f":"IF('Diario contable'!C93=\"Inventario\",'Diario contable'!H93,IF('Diario contable'!E93=\"Inventario\",'Diario contable'!H93,0))","v":"00:00:00"},null,null,{"$f":"+IF('Diario contable'!C93=\"Costo de ventas\",'Diario contable'!F93,0)","v":0},null,null,null,{"$f":"+IF('Diario contable'!E93=\"Costo de ventas\",'Diario contable'!F93,0)","v":0},{"$f":"IF('Diario contable'!C93=\"Costo de ventas\",'Diario contable'!I93,IF('Diario contable'!E93=\"Costo de ventas\",'Diario contable'!I93,0))","v":0},{"$f":"IF('Diario contable'!C93=\"Costo de ventas\",'Diario contable'!H93,IF('Diario contable'!E93=\"Costo de ventas\",'Diario contable'!H93,0))","v":"00:00:00"},null,null,{"$f":"+IF('Diario contable'!C93=\"Ventas\",'Diario contable'!F93,0)","v":0},null,null,null,{"$f":"+IF('Diario contable'!E93=\"Ventas\",'Diario contable'!F93,0)","v":0},{"$f":"IF('Diario contable'!C93=\"Ventas\",'Diario contable'!I93,IF('Diario contable'!E93=\"Ventas\",'Diario contable'!I93,0))","v":0},{"$f":"IF('Diario contable'!C93=\"Ventas\",'Diario contable'!H93,IF('Diario contable'!E93=\"Ventas\",'Diario contable'!H93,0))","v":"00:00:00"},null,null,{"$f":"+IF('Diario contable'!C93=\"Gastos por salarios\",'Diario contable'!F93,0)","v":0},null,null,null,{"$f":"+IF('Diario contable'!E93=\"Gastos por salarios\",'Diario contable'!F93,0)","v":0},{"$f":"IF('Diario contable'!C93=\"Gastos por salarios\",'Diario contable'!I93,IF('Diario contable'!E93=\"Gastos por salarios\",'Diario contable'!I93,0))","v":0},{"$f":"IF('Diario contable'!C93=\"Gastos por salarios\",'Diario contable'!H93,IF('Diario contable'!E93=\"Gastos por salarios\",'Diario contable'!H93,0))","v":"00:00:00"},null,null,{"$f":"+IF('Diario contable'!C93=\"Gastos operacionales\",'Diario contable'!F93,0)","v":0},null,null,null,{"$f":"+IF('Diario contable'!E93=\"Gastos operacionales\",'Diario contable'!F93,0)","v":0},{"$f":"IF('Diario contable'!C93=\"Gastos operacionales\",'Diario contable'!I93,IF('Diario contable'!E93=\"Gastos operacionales\",'Diario contable'!I93,0))","v":0},{"$f":"IF('Diario contable'!C93=\"Gastos operacionales\",'Diario contable'!H93,IF('Diario contable'!E93=\"Gastos operacionales\",'Diario contable'!H93,0))","v":"00:00:00"},null,null,{"$f":"+IF('Diario contable'!C93=\"Suministros de oficina\",'Diario contable'!F93,0)","v":0},null,null,null,{"$f":"+IF('Diario contable'!E93=\"Suministros de oficina\",'Diario contable'!F93,0)","v":0},{"$f":"IF('Diario contable'!C93=\"Suministros de oficina\",'Diario contable'!I93,IF('Diario contable'!E93=\"Suministros de oficina\",'Diario contable'!I93,0))","v":0},{"$f":"IF('Diario contable'!C93=\"Suministros de oficina\",'Diario contable'!H93,IF('Diario contable'!E93=\"Suministros de oficina\",'Diario contable'!H93,0))","v":"00:00:00"},null,null,{"$f":"+IF('Diario contable'!C93=\"Capital social\",'Diario contable'!F93,0)","v":0},null,null,null,{"$f":"+IF('Diario contable'!E93=\"Capital social\",'Diario contable'!F93,0)","v":0},{"$f":"IF('Diario contable'!C93=\"Capital social\",'Diario contable'!I93,IF('Diario contable'!E93=\"Capital social\",'Diario contable'!I93,0))","v":0},{"$f":"IF('Diario contable'!C93=\"Capital social\",'Diario contable'!H93,IF('Diario contable'!E93=\"Capital social\",'Diario contable'!H93,0))","v":"00:00:00"},null,null,{"$f":"+IF('Diario contable'!C93=\"Gastos de mercadeo\",'Diario contable'!F93,0)","v":0},null,null,null,{"$f":"+IF('Diario contable'!E93=\"Gastos de mercadeo\",'Diario contable'!F93,0)","v":0},{"$f":"IF('Diario contable'!C93=\"Gastos de mercadeo\",'Diario contable'!I93,IF('Diario contable'!E93=\"Gastos de mercadeo\",'Diario contable'!I93,0))","v":0},{"$f":"IF('Diario contable'!C93=\"Gastos de mercadeo\",'Diario contable'!H93,IF('Diario contable'!E93=\"Gastos de mercadeo\",'Diario contable'!H93,0))","v":"00:00:00"},null,null,{"$f":"+IF('Diario contable'!C93=\"Gastos de suministros de oficina\",'Diario contable'!F93,0)","v":0},null,null,null,{"$f":"+IF('Diario contable'!E93=\"Gastos de suministros de oficina\",'Diario contable'!F93,0)","v":0},{"$f":"IF('Diario contable'!C93=\"Gastos de suministros de oficina\",'Diario contable'!I93,IF('Diario contable'!E93=\"Gastos de suministros de oficina\",'Diario contable'!I93,0))","v":0},{"$f":"IF('Diario contable'!C93=\"Gastos de suministros de oficina\",'Diario contable'!H93,IF('Diario contable'!E93=\"Gastos de suministros de oficina\",'Diario contable'!H93,0))","v":"00:00:00"}]
[null,null,{"$f":"+IF('Diario contable'!C94=\"Caja\",'Diario contable'!F94,0)","v":0},null,null,null,{"$f":"+IF('Diario contable'!E94=\"Caja\",'Diario contable'!F94,0)","v":0},{"$f":"IF('Diario contable'!C94=\"Caja\",'Diario contable'!I94,IF('Diario contable'!E94=\"Caja\",'Diario contable'!I94,0))","v":0},{"$f":"IF('Diario contable'!C94=\"Caja\",'Diario contable'!H94,IF('Diario contable'!E94=\"Caja\",'Diario contable'!H94,0))","v":"00:00:00"},null,null,{"$f":"+IF('Diario contable'!C94=\"Maquinaria\",'Diario contable'!F94,0)","v":0},null,null,null,{"$f":"+IF('Diario contable'!E94=\"Maquinaria\",'Diario contable'!F94,0)","v":0},{"$f":"IF('Diario contable'!C94=\"Maquinaria\",'Diario contable'!I94,IF('Diario contable'!E94=\"Maquinaria\",'Diario contable'!I94,0))","v":0},{"$f":"IF('Diario contable'!C94=\"Maquinaria\",'Diario contable'!H94,IF('Diario contable'!E94=\"Maquinaria\",'Diario contable'!H94,0))","v":"00:00:00"},null,null,{"$f":"+IF('Diario contable'!C94=\"Herramientas\",'Diario contable'!F94,0)","v":0},null,null,null,{"$f":"+IF('Diario contable'!E94=\"Herramientas\",'Diario contable'!F94,0)","v":0},{"$f":"IF('Diario contable'!C94=\"Herramientas\",'Diario contable'!I94,IF('Diario contable'!E94=\"Herramientas\",'Diario contable'!I94,0))","v":0},{"$f":"IF('Diario contable'!C94=\"Herramientas\",'Diario contable'!H94,IF('Diario contable'!E94=\"Herramientas\",'Diario contable'!H94,0))","v":"00:00:00"},null,null,{"$f":"+IF('Diario contable'!C94=\"Donaciones\",'Diario contable'!F94,0)","v":0},null,null,null,{"$f":"+IF('Diario contable'!E94=\"Donaciones\",'Diario contable'!F94,0)","v":0},{"$f":"IF('Diario contable'!C94=\"Donaciones\",'Diario contable'!I94,IF('Diario contable'!E94=\"Donaciones\",'Diario contable'!I94,0))","v":0},{"$f":"IF('Diario contable'!C94=\"Donaciones\",'Diario contable'!H94,IF('Diario contable'!E94=\"Donaciones\",'Diario contable'!H94,0))","v":"00:00:00"},null,null,{"$f":"+IF('Diario contable'!C94=\"Inventario\",'Diario contable'!F94,0)","v":0},null,null,null,{"$f":"+IF('Diario contable'!E94=\"Inventario\",'Diario contable'!F94,0)","v":0},{"$f":"IF('Diario contable'!C94=\"Inventario\",'Diario contable'!I94,IF('Diario contable'!E94=\"Inventario\",'Diario contable'!I94,0))","v":0},{"$f":"IF('Diario contable'!C94=\"Inventario\",'Diario contable'!H94,IF('Diario contable'!E94=\"Inventario\",'Diario contable'!H94,0))","v":"00:00:00"},null,null,{"$f":"+IF('Diario contable'!C94=\"Costo de ventas\",'Diario contable'!F94,0)","v":0},null,null,null,{"$f":"+IF('Diario contable'!E94=\"Costo de ventas\",'Diario contable'!F94,0)","v":0},{"$f":"IF('Diario contable'!C94=\"Costo de ventas\",'Diario contable'!I94,IF('Diario contable'!E94=\"Costo de ventas\",'Diario contable'!I94,0))","v":0},{"$f":"IF('Diario contable'!C94=\"Costo de ventas\",'Diario contable'!H94,IF('Diario contable'!E94=\"Costo de ventas\",'Diario contable'!H94,0))","v":"00:00:00"},null,null,{"$f":"+IF('Diario contable'!C94=\"Ventas\",'Diario contable'!F94,0)","v":0},null,null,null,{"$f":"+IF('Diario contable'!E94=\"Ventas\",'Diario contable'!F94,0)","v":0},{"$f":"IF('Diario contable'!C94=\"Ventas\",'Diario contable'!I94,IF('Diario contable'!E94=\"Ventas\",'Diario contable'!I94,0))","v":0},{"$f":"IF('Diario contable'!C94=\"Ventas\",'Diario contable'!H94,IF('Diario contable'!E94=\"Ventas\",'Diario contable'!H94,0))","v":"00:00:00"},null,null,{"$f":"+IF('Diario contable'!C94=\"Gastos por salarios\",'Diario contable'!F94,0)","v":0},null,null,null,{"$f":"+IF('Diario contable'!E94=\"Gastos por salarios\",'Diario contable'!F94,0)","v":0},{"$f":"IF('Diario contable'!C94=\"Gastos por salarios\",'Diario contable'!I94,IF('Diario contable'!E94=\"Gastos por salarios\",'Diario contable'!I94,0))","v":0},{"$f":"IF('Diario contable'!C94=\"Gastos por salarios\",'Diario contable'!H94,IF('Diario contable'!E94=\"Gastos por salarios\",'Diario contable'!H94,0))","v":"00:00:00"},null,null,{"$f":"+IF('Diario contable'!C94=\"Gastos operacionales\",'Diario contable'!F94,0)","v":0},null,null,null,{"$f":"+IF('Diario contable'!E94=\"Gastos operacionales\",'Diario contable'!F94,0)","v":0},{"$f":"IF('Diario contable'!C94=\"Gastos operacionales\",'Diario contable'!I94,IF('Diario contable'!E94=\"Gastos operacionales\",'Diario contable'!I94,0))","v":0},{"$f":"IF('Diario contable'!C94=\"Gastos operacionales\",'Diario contable'!H94,IF('Diario contable'!E94=\"Gastos operacionales\",'Diario contable'!H94,0))","v":"00:00:00"},null,null,{"$f":"+IF('Diario contable'!C94=\"Suministros de oficina\",'Diario contable'!F94,0)","v":0},null,null,null,{"$f":"+IF('Diario contable'!E94=\"Suministros de oficina\",'Diario contable'!F94,0)","v":0},{"$f":"IF('Diario contable'!C94=\"Suministros de oficina\",'Diario contable'!I94,IF('Diario contable'!E94=\"Suministros de oficina\",'Diario contable'!I94,0))","v":0},{"$f":"IF('Diario contable'!C94=\"Suministros de oficina\",'Diario contable'!H94,IF('Diario contable'!E94=\"Suministros de oficina\",'Diario contable'!H94,0))","v":"00:00:00"},null,null,{"$f":"+IF('Diario contable'!C94=\"Capital social\",'Diario contable'!F94,0)","v":0},null,null,null,{"$f":"+IF('Diario contable'!E94=\"Capital social\",'Diario contable'!F94,0)","v":0},{"$f":"IF('Diario contable'!C94=\"Capital social\",'Diario contable'!I94,IF('Diario contable'!E94=\"Capital social\",'Diario contable'!I94,0))","v":0},{"$f":"IF('Diario contable'!C94=\"Capital social\",'Diario contable'!H94,IF('Diario contable'!E94=\"Capital social\",'Diario contable'!H94,0))","v":"00:00:00"},null,null,{"$f":"+IF('Diario contable'!C94=\"Gastos de mercadeo\",'Diario contable'!F94,0)","v":0},null,null,null,{"$f":"+IF('Diario contable'!E94=\"Gastos de mercadeo\",'Diario contable'!F94,0)","v":0},{"$f":"IF('Diario contable'!C94=\"Gastos de mercadeo\",'Diario contable'!I94,IF('Diario contable'!E94=\"Gastos de mercadeo\",'Diario contable'!I94,0))","v":0},{"$f":"IF('Diario contable'!C94=\"Gastos de mercadeo\",'Diario contable'!H94,IF('Diario contable'!E94=\"Gastos de mercadeo\",'Diario contable'!H94,0))","v":"00:00:00"},null,null,{"$f":"+IF('Diario contable'!C94=\"Gastos de suministros de oficina\",'Diario contable'!F94,0)","v":0},null,null,null,{"$f":"+IF('Diario contable'!E94=\"Gastos de suministros de oficina\",'Diario contable'!F94,0)","v":0},{"$f":"IF('Diario contable'!C94=\"Gastos de suministros de oficina\",'Diario contable'!I94,IF('Diario contable'!E94=\"Gastos de suministros de oficina\",'Diario contable'!I94,0))","v":0},{"$f":"IF('Diario contable'!C94=\"Gastos de suministros de oficina\",'Diario contable'!H94,IF('Diario contable'!E94=\"Gastos de suministros de oficina\",'Diario contable'!H94,0))","v":"00:00:00"}]
[null,null,{"$f":"+IF('Diario contable'!C95=\"Caja\",'Diario contable'!F95,0)","v":0},null,null,null,{"$f":"+IF('Diario contable'!E95=\"Caja\",'Diario contable'!F95,0)","v":0},{"$f":"IF('Diario contable'!C95=\"Caja\",'Diario contable'!I95,IF('Diario contable'!E95=\"Caja\",'Diario contable'!I95,0))","v":0},{"$f":"IF('Diario contable'!C95=\"Caja\",'Diario contable'!H95,IF('Diario contable'!E95=\"Caja\",'Diario contable'!H95,0))","v":"00:00:00"},null,null,{"$f":"+IF('Diario contable'!C95=\"Maquinaria\",'Diario contable'!F95,0)","v":0},null,null,null,{"$f":"+IF('Diario contable'!E95=\"Maquinaria\",'Diario contable'!F95,0)","v":0},{"$f":"IF('Diario contable'!C95=\"Maquinaria\",'Diario contable'!I95,IF('Diario contable'!E95=\"Maquinaria\",'Diario contable'!I95,0))","v":0},{"$f":"IF('Diario contable'!C95=\"Maquinaria\",'Diario contable'!H95,IF('Diario contable'!E95=\"Maquinaria\",'Diario contable'!H95,0))","v":"00:00:00"},null,null,{"$f":"+IF('Diario contable'!C95=\"Herramientas\",'Diario contable'!F95,0)","v":0},null,null,null,{"$f":"+IF('Diario contable'!E95=\"Herramientas\",'Diario contable'!F95,0)","v":0},{"$f":"IF('Diario contable'!C95=\"Herramientas\",'Diario contable'!I95,IF('Diario contable'!E95=\"Herramientas\",'Diario contable'!I95,0))","v":0},{"$f":"IF('Diario contable'!C95=\"Herramientas\",'Diario contable'!H95,IF('Diario contable'!E95=\"Herramientas\",'Diario contable'!H95,0))","v":"00:00:00"},null,null,{"$f":"+IF('Diario contable'!C95=\"Donaciones\",'Diario contable'!F95,0)","v":0},null,null,null,{"$f":"+IF('Diario contable'!E95=\"Donaciones\",'Diario contable'!F95,0)","v":0},{"$f":"IF('Diario contable'!C95=\"Donaciones\",'Diario contable'!I95,IF('Diario contable'!E95=\"Donaciones\",'Diario contable'!I95,0))","v":0},{"$f":"IF('Diario contable'!C95=\"Donaciones\",'Diario contable'!H95,IF('Diario contable'!E95=\"Donaciones\",'Diario contable'!H95,0))","v":"00:00:00"},null,null,{"$f":"+IF('Diario contable'!C95=\"Inventario\",'Diario contable'!F95,0)","v":0},null,null,null,{"$f":"+IF('Diario contable'!E95=\"Inventario\",'Diario contable'!F95,0)","v":0},{"$f":"IF('Diario contable'!C95=\"Inventario\",'Diario contable'!I95,IF('Diario contable'!E95=\"Inventario\",'Diario contable'!I95,0))","v":0},{"$f":"IF('Diario contable'!C95=\"Inventario\",'Diario contable'!H95,IF('Diario contable'!E95=\"Inventario\",'Diario contable'!H95,0))","v":"00:00:00"},null,null,{"$f":"+IF('Diario contable'!C95=\"Costo de ventas\",'Diario contable'!F95,0)","v":0},null,null,null,{"$f":"+IF('Diario contable'!E95=\"Costo de ventas\",'Diario contable'!F95,0)","v":0},{"$f":"IF('Diario contable'!C95=\"Costo de ventas\",'Diario contable'!I95,IF('Diario contable'!E95=\"Costo de ventas\",'Diario contable'!I95,0))","v":0},{"$f":"IF('Diario contable'!C95=\"Costo de ventas\",'Diario contable'!H95,IF('Diario contable'!E95=\"Costo de ventas\",'Diario contable'!H95,0))","v":"00:00:00"},null,null,{"$f":"+IF('Diario contable'!C95=\"Ventas\",'Diario contable'!F95,0)","v":0},null,null,null,{"$f":"+IF('Diario contable'!E95=\"Ventas\",'Diario contable'!F95,0)","v":0},{"$f":"IF('Diario contable'!C95=\"Ventas\",'Diario contable'!I95,IF('Diario contable'!E95=\"Ventas\",'Diario contable'!I95,0))","v":0},{"$f":"IF('Diario contable'!C95=\"Ventas\",'Diario contable'!H95,IF('Diario contable'!E95=\"Ventas\",'Diario contable'!H95,0))","v":"00:00:00"},null,null,{"$f":"+IF('Diario contable'!C95=\"Gastos por salarios\",'Diario contable'!F95,0)","v":0},null,null,null,{"$f":"+IF('Diario contable'!E95=\"Gastos por salarios\",'Diario contable'!F95,0)","v":0},{"$f":"IF('Diario contable'!C95=\"Gastos por salarios\",'Diario contable'!I95,IF('Diario contable'!E95=\"Gastos por salarios\",'Diario contable'!I95,0))","v":0},{"$f":"IF('Diario contable'!C95=\"Gastos por salarios\",'Diario contable'!H95,IF('Diario contable'!E95=\"Gastos por salarios\",'Diario contable'!H95,0))","v":"00:00:00"},null,null,{"$f":"+IF('Diario contable'!C95=\"Gastos operacionales\",'Diario contable'!F95,0)","v":0},null,null,null,{"$f":"+IF('Diario contable'!E95=\"Gastos operacionales\",'Diario contable'!F95,0)","v":0},{"$f":"IF('Diario contable'!C95=\"Gastos operacionales\",'Diario contable'!I95,IF('Diario contable'!E95=\"Gastos operacionales\",'Diario contable'!I95,0))","v":0},{"$f":"IF('Diario contable'!C95=\"Gastos operacionales\",'Diario contable'!H95,IF('Diario contable'!E95=\"Gastos operacionales\",'Diario contable'!H95,0))","v":"00:00:00"},null,null,{"$f":"+IF('Diario contable'!C95=\"Suministros de oficina\",'Diario contable'!F95,0)","v":0},null,null,null,{"$f":"+IF('Diario contable'!E95=\"Suministros de oficina\",'Diario contable'!F95,0)","v":0},{"$f":"IF('Diario contable'!C95=\"Suministros de oficina\",'Diario contable'!I95,IF('Diario contable'!E95=\"Suministros de oficina\",'Diario contable'!I95,0))","v":0},{"$f":"IF('Diario contable'!C95=\"Suministros de oficina\",'Diario contable'!H95,IF('Diario contable'!E95=\"Suministros de oficina\",'Diario contable'!H95,0))","v":"00:00:00"},null,null,{"$f":"+IF('Diario contable'!C95=\"Capital social\",'Diario contable'!F95,0)","v":0},null,null,null,{"$f":"+IF('Diario contable'!E95=\"Capital social\",'Diario contable'!F95,0)","v":0},{"$f":"IF('Diario contable'!C95=\"Capital social\",'Diario contable'!I95,IF('Diario contable'!E95=\"Capital social\",'Diario contable'!I95,0))","v":0},{"$f":"IF('Diario contable'!C95=\"Capital social\",'Diario contable'!H95,IF('Diario contable'!E95=\"Capital social\",'Diario contable'!H95,0))","v":"00:00:00"},null,null,{"$f":"+IF('Diario contable'!C95=\"Gastos de mercadeo\",'Diario contable'!F95,0)","v":0},null,null,null,{"$f":"+IF('Diario contable'!E95=\"Gastos de mercadeo\",'Diario contable'!F95,0)","v":0},{"$f":"IF('Diario contable'!C95=\"Gastos de mercadeo\",'Diario contable'!I95,IF('Diario contable'!E95=\"Gastos de mercadeo\",'Diario contable'!I95,0))","v":0},{"$f":"IF('Diario contable'!C95=\"Gastos de mercadeo\",'Diario contable'!H95,IF('Diario contable'!E95=\"Gastos de mercadeo\",'Diario contable'!H95,0))","v":"00:00:00"},null,null,{"$f":"+IF('Diario contable'!C95=\"Gastos de suministros de oficina\",'Diario contable'!F95,0)","v":0},null,null,null,{"$f":"+IF('Diario contable'!E95=\"Gastos de suministros de oficina\",'Diario contable'!F95,0)","v":0},{"$f":"IF('Diario contable'!C95=\"Gastos de suministros de oficina\",'Diario contable'!I95,IF('Diario contable'!E95=\"Gastos de suministros de oficina\",'Diario contable'!I95,0))","v":0},{"$f":"IF('Diario contable'!C95=\"Gastos de suministros de oficina\",'Diario contable'!H95,IF('Diario contable'!E95=\"Gastos de suministros de oficina\",'Diario contable'!H95,0))","v":"00:00:00"}]
[null,null,{"$f":"+IF('Diario contable'!C96=\"Caja\",'Diario contable'!F96,0)","v":0},null,null,null,{"$f":"+IF('Diario contable'!E96=\"Caja\",'Diario contable'!F96,0)","v":0},{"$f":"IF('Diario contable'!C96=\"Caja\",'Diario contable'!I96,IF('Diario contable'!E96=\"Caja\",'Diario contable'!I96,0))","v":0},{"$f":"IF('Diario contable'!C96=\"Caja\",'Diario contable'!H96,IF('Diario contable'!E96=\"Caja\",'Diario contable'!H96,0))","v":"00:00:00"},null,null,{"$f":"+IF('Diario contable'!C96=\"Maquinaria\",'Diario contable'!F96,0)","v":0},null,null,null,{"$f":"+IF('Diario contable'!E96=\"Maquinaria\",'Diario contable'!F96,0)","v":0},{"$f":"IF('Diario contable'!C96=\"Maquinaria\",'Diario contable'!I96,IF('Diario contable'!E96=\"Maquinaria\",'Diario contable'!I96,0))","v":0},{"$f":"IF('Diario contable'!C96=\"Maquinaria\",'Diario contable'!H96,IF('Diario contable'!E96=\"Maquinaria\",'Diario contable'!H96,0))","v":"00:00:00"},null,null,{"$f":"+IF('Diario contable'!C96=\"Herramientas\",'Diario contable'!F96,0)","v":0},null,null,null,{"$f":"+IF('Diario contable'!E96=\"Herramientas\",'Diario contable'!F96,0)","v":0},{"$f":"IF('Diario contable'!C96=\"Herramientas\",'Diario contable'!I96,IF('Diario contable'!E96=\"Herramientas\",'Diario contable'!I96,0))","v":0},{"$f":"IF('Diario contable'!C96=\"Herramientas\",'Diario contable'!H96,IF('Diario contable'!E96=\"Herramientas\",'Diario contable'!H96,0))","v":"00:00:00"},null,null,{"$f":"+IF('Diario contable'!C96=\"Donaciones\",'Diario contable'!F96,0)","v":0},null,null,null,{"$f":"+IF('Diario contable'!E96=\"Donaciones\",'Diario contable'!F96,0)","v":0},{"$f":"IF('Diario contable'!C96=\"Donaciones\",'Diario contable'!I96,IF('Diario contable'!E96=\"Donaciones\",'Diario contable'!I96,0))","v":0},{"$f":"IF('Diario contable'!C96=\"Donaciones\",'Diario contable'!H96,IF('Diario contable'!E96=\"Donaciones\",'Diario contable'!H96,0))","v":"00:00:00"},null,null,{"$f":"+IF('Diario contable'!C96=\"Inventario\",'Diario contable'!F96,0)","v":0},null,null,null,{"$f":"+IF('Diario contable'!E96=\"Inventario\",'Diario contable'!F96,0)","v":0},{"$f":"IF('Diario contable'!C96=\"Inventario\",'Diario contable'!I96,IF('Diario contable'!E96=\"Inventario\",'Diario contable'!I96,0))","v":0},{"$f":"IF('Diario contable'!C96=\"Inventario\",'Diario contable'!H96,IF('Diario contable'!E96=\"Inventario\",'Diario contable'!H96,0))","v":"00:00:00"},null,null,{"$f":"+IF('Diario contable'!C96=\"Costo de ventas\",'Diario contable'!F96,0)","v":0},null,null,null,{"$f":"+IF('Diario contable'!E96=\"Costo de ventas\",'Diario contable'!F96,0)","v":0},{"$f":"IF('Diario contable'!C96=\"Costo de ventas\",'Diario contable'!I96,IF('Diario contable'!E96=\"Costo de ventas\",'Diario contable'!I96,0))","v":0},{"$f":"IF('Diario contable'!C96=\"Costo de ventas\",'Diario contable'!H96,IF('Diario contable'!E96=\"Costo de ventas\",'Diario contable'!H96,0))","v":"00:00:00"},null,null,{"$f":"+IF('Diario contable'!C96=\"Ventas\",'Diario contable'!F96,0)","v":0},null,null,null,{"$f":"+IF('Diario contable'!E96=\"Ventas\",'Diario contable'!F96,0)","v":0},{"$f":"IF('Diario contable'!C96=\"Ventas\",'Diario contable'!I96,IF('Diario contable'!E96=\"Ventas\",'Diario contable'!I96,0))","v":0},{"$f":"IF('Diario contable'!C96=\"Ventas\",'Diario contable'!H96,IF('Diario contable'!E96=\"Ventas\",'Diario contable'!H96,0))","v":"00:00:00"},null,null,{"$f":"+IF('Diario contable'!C96=\"Gastos por salarios\",'Diario contable'!F96,0)","v":0},null,null,null,{"$f":"+IF('Diario contable'!E96=\"Gastos por salarios\",'Diario contable'!F96,0)","v":0},{"$f":"IF('Diario contable'!C96=\"Gastos por salarios\",'Diario contable'!I96,IF('Diario contable'!E96=\"Gastos por salarios\",'Diario contable'!I96,0))","v":0},{"$f":"IF('Diario contable'!C96=\"Gastos por salarios\",'Diario contable'!H96,IF('Diario contable'!E96=\"Gastos por salarios\",'Diario contable'!H96,0))","v":"00:00:00"},null,null,{"$f":"+IF('Diario contable'!C96=\"Gastos operacionales\",'Diario contable'!F96,0)","v":0},null,null,null,{"$f":"+IF('Diario contable'!E96=\"Gastos operacionales\",'Diario contable'!F96,0)","v":0},{"$f":"IF('Diario contable'!C96=\"Gastos operacionales\",'Diario contable'!I96,IF('Diario contable'!E96=\"Gastos operacionales\",'Diario contable'!I96,0))","v":0},{"$f":"IF('Diario contable'!C96=\"Gastos operacionales\",'Diario contable'!H96,IF('Diario contable'!E96=\"Gastos operacionales\",'Diario contable'!H96,0))","v":"00:00:00"},null,null,{"$f":"+IF('Diario contable'!C96=\"Suministros de oficina\",'Diario contable'!F96,0)","v":0},null,null,null,{"$f":"+IF('Diario contable'!E96=\"Suministros de oficina\",'Diario contable'!F96,0)","v":0},{"$f":"IF('Diario contable'!C96=\"Suministros de oficina\",'Diario contable'!I96,IF('Diario contable'!E96=\"Suministros de oficina\",'Diario contable'!I96,0))","v":0},{"$f":"IF('Diario contable'!C96=\"Suministros de oficina\",'Diario contable'!H96,IF('Diario contable'!E96=\"Suministros de oficina\",'Diario contable'!H96,0))","v":"00:00:00"},null,null,{"$f":"+IF('Diario contable'!C96=\"Capital social\",'Diario contable'!F96,0)","v":0},null,null,null,{"$f":"+IF('Diario contable'!E96=\"Capital social\",'Diario contable'!F96,0)","v":0},{"$f":"IF('Diario contable'!C96=\"Capital social\",'Diario contable'!I96,IF('Diario contable'!E96=\"Capital social\",'Diario contable'!I96,0))","v":0},{"$f":"IF('Diario contable'!C96=\"Capital social\",'Diario contable'!H96,IF('Diario contable'!E96=\"Capital social\",'Diario contable'!H96,0))","v":"00:00:00"},null,null,{"$f":"+IF('Diario contable'!C96=\"Gastos de mercadeo\",'Diario contable'!F96,0)","v":0},null,null,null,{"$f":"+IF('Diario contable'!E96=\"Gastos de mercadeo\",'Diario contable'!F96,0)","v":0},{"$f":"IF('Diario contable'!C96=\"Gastos de mercadeo\",'Diario contable'!I96,IF('Diario contable'!E96=\"Gastos de mercadeo\",'Diario contable'!I96,0))","v":0},{"$f":"IF('Diario contable'!C96=\"Gastos de mercadeo\",'Diario contable'!H96,IF('Diario contable'!E96=\"Gastos de mercadeo\",'Diario contable'!H96,0))","v":"00:00:00"},null,null,{"$f":"+IF('Diario contable'!C96=\"Gastos de suministros de oficina\",'Diario contable'!F96,0)","v":0},null,null,null,{"$f":"+IF('Diario contable'!E96=\"Gastos de suministros de oficina\",'Diario contable'!F96,0)","v":0},{"$f":"IF('Diario contable'!C96=\"Gastos de suministros de oficina\",'Diario contable'!I96,IF('Diario contable'!E96=\"Gastos de suministros de oficina\",'Diario contable'!I96,0))","v":0},{"$f":"IF('Diario contable'!C96=\"Gastos de suministros de oficina\",'Diario contable'!H96,IF('Diario contable'!E96=\"Gastos de suministros de oficina\",'Diario contable'!H96,0))","v":"00:00:00"}]
[null,null,{"$f":"+IF('Diario contable'!C97=\"Caja\",'Diario contable'!F97,0)","v":0},null,null,null,{"$f":"+IF('Diario contable'!E97=\"Caja\",'Diario contable'!F97,0)","v":0},{"$f":"IF('Diario contable'!C97=\"Caja\",'Diario contable'!I97,IF('Diario contable'!E97=\"Caja\",'Diario contable'!I97,0))","v":0},{"$f":"IF('Diario contable'!C97=\"Caja\",'Diario contable'!H97,IF('Diario contable'!E97=\"Caja\",'Diario contable'!H97,0))","v":"00:00:00"},null,null,{"$f":"+IF('Diario contable'!C97=\"Maquinaria\",'Diario contable'!F97,0)","v":0},null,null,null,{"$f":"+IF('Diario contable'!E97=\"Maquinaria\",'Diario contable'!F97,0)","v":0},{"$f":"IF('Diario contable'!C97=\"Maquinaria\",'Diario contable'!I97,IF('Diario contable'!E97=\"Maquinaria\",'Diario contable'!I97,0))","v":0},{"$f":"IF('Diario contable'!C97=\"Maquinaria\",'Diario contable'!H97,IF('Diario contable'!E97=\"Maquinaria\",'Diario contable'!H97,0))","v":"00:00:00"},null,null,{"$f":"+IF('Diario contable'!C97=\"Herramientas\",'Diario contable'!F97,0)","v":0},null,null,null,{"$f":"+IF('Diario contable'!E97=\"Herramientas\",'Diario contable'!F97,0)","v":0},{"$f":"IF('Diario contable'!C97=\"Herramientas\",'Diario contable'!I97,IF('Diario contable'!E97=\"Herramientas\",'Diario contable'!I97,0))","v":0},{"$f":"IF('Diario contable'!C97=\"Herramientas\",'Diario contable'!H97,IF('Diario contable'!E97=\"Herramientas\",'Diario contable'!H97,0))","v":"00:00:00"},null,null,{"$f":"+IF('Diario contable'!C97=\"Donaciones\",'Diario contable'!F97,0)","v":0},null,null,null,{"$f":"+IF('Diario contable'!E97=\"Donaciones\",'Diario contable'!F97,0)","v":0},{"$f":"IF('Diario contable'!C97=\"Donaciones\",'Diario contable'!I97,IF('Diario contable'!E97=\"Donaciones\",'Diario contable'!I97,0))","v":0},{"$f":"IF('Diario contable'!C97=\"Donaciones\",'Diario contable'!H97,IF('Diario contable'!E97=\"Donaciones\",'Diario contable'!H97,0))","v":"00:00:00"},null,null,{"$f":"+IF('Diario contable'!C97=\"Inventario\",'Diario contable'!F97,0)","v":0},null,null,null,{"$f":"+IF('Diario contable'!E97=\"Inventario\",'Diario contable'!F97,0)","v":0},{"$f":"IF('Diario contable'!C97=\"Inventario\",'Diario contable'!I97,IF('Diario contable'!E97=\"Inventario\",'Diario contable'!I97,0))","v":0},{"$f":"IF('Diario contable'!C97=\"Inventario\",'Diario contable'!H97,IF('Diario contable'!E97=\"Inventario\",'Diario contable'!H97,0))","v":"00:00:00"},null,null,{"$f":"+IF('Diario contable'!C97=\"Costo de ventas\",'Diario contable'!F97,0)","v":0},null,null,null,{"$f":"+IF('Diario contable'!E97=\"Costo de ventas\",'Diario contable'!F97,0)","v":0},{"$f":"IF('Diario contable'!C97=\"Costo de ventas\",'Diario contable'!I97,IF('Diario contable'!E97=\"Costo de ventas\",'Diario contable'!I97,0))","v":0},{"$f":"IF('Diario contable'!C97=\"Costo de ventas\",'Diario contable'!H97,IF('Diario contable'!E97=\"Costo de ventas\",'Diario contable'!H97,0))","v":"00:00:00"},null,null,{"$f":"+IF('Diario contable'!C97=\"Ventas\",'Diario contable'!F97,0)","v":0},null,null,null,{"$f":"+IF('Diario contable'!E97=\"Ventas\",'Diario contable'!F97,0)","v":0},{"$f":"IF('Diario contable'!C97=\"Ventas\",'Diario contable'!I97,IF('Diario contable'!E97=\"Ventas\",'Diario contable'!I97,0))","v":0},{"$f":"IF('Diario contable'!C97=\"Ventas\",'Diario contable'!H97,IF('Diario contable'!E97=\"Ventas\",'Diario contable'!H97,0))","v":"00:00:00"},null,null,{"$f":"+IF('Diario contable'!C97=\"Gastos por salarios\",'Diario contable'!F97,0)","v":0},null,null,null,{"$f":"+IF('Diario contable'!E97=\"Gastos por salarios\",'Diario contable'!F97,0)","v":0},{"$f":"IF('Diario contable'!C97=\"Gastos por salarios\",'Diario contable'!I97,IF('Diario contable'!E97=\"Gastos por salarios\",'Diario contable'!I97,0))","v":0},{"$f":"IF('Diario contable'!C97=\"Gastos por salarios\",'Diario contable'!H97,IF('Diario contable'!E97=\"Gastos por salarios\",'Diario contable'!H97,0))","v":"00:00:00"},null,null,{"$f":"+IF('Diario contable'!C97=\"Gastos operacionales\",'Diario contable'!F97,0)","v":0},null,null,null,{"$f":"+IF('Diario contable'!E97=\"Gastos operacionales\",'Diario contable'!F97,0)","v":0},{"$f":"IF('Diario contable'!C97=\"Gastos operacionales\",'Diario contable'!I97,IF('Diario contable'!E97=\"Gastos operacionales\",'Diario contable'!I97,0))","v":0},{"$f":"IF('Diario contable'!C97=\"Gastos operacionales\",'Diario contable'!H97,IF('Diario contable'!E97=\"Gastos operacionales\",'Diario contable'!H97,0))","v":"00:00:00"},null,null,{"$f":"+IF('Diario contable'!C97=\"Suministros de oficina\",'Diario contable'!F97,0)","v":0},null,null,null,{"$f":"+IF('Diario contable'!E97=\"Suministros de oficina\",'Diario contable'!F97,0)","v":0},{"$f":"IF('Diario contable'!C97=\"Suministros de oficina\",'Diario contable'!I97,IF('Diario contable'!E97=\"Suministros de oficina\",'Diario contable'!I97,0))","v":0},{"$f":"IF('Diario contable'!C97=\"Suministros de oficina\",'Diario contable'!H97,IF('Diario contable'!E97=\"Suministros de oficina\",'Diario contable'!H97,0))","v":"00:00:00"},null,null,{"$f":"+IF('Diario contable'!C97=\"Capital social\",'Diario contable'!F97,0)","v":0},null,null,null,{"$f":"+IF('Diario contable'!E97=\"Capital social\",'Diario contable'!F97,0)","v":0},{"$f":"IF('Diario contable'!C97=\"Capital social\",'Diario contable'!I97,IF('Diario contable'!E97=\"Capital social\",'Diario contable'!I97,0))","v":0},{"$f":"IF('Diario contable'!C97=\"Capital social\",'Diario contable'!H97,IF('Diario contable'!E97=\"Capital social\",'Diario contable'!H97,0))","v":"00:00:00"},null,null,{"$f":"+IF('Diario contable'!C97=\"Gastos de mercadeo\",'Diario contable'!F97,0)","v":0},null,null,null,{"$f":"+IF('Diario contable'!E97=\"Gastos de mercadeo\",'Diario contable'!F97,0)","v":0},{"$f":"IF('Diario contable'!C97=\"Gastos de mercadeo\",'Diario contable'!I97,IF('Diario contable'!E97=\"Gastos de mercadeo\",'Diario contable'!I97,0))","v":0},{"$f":"IF('Diario contable'!C97=\"Gastos de mercadeo\",'Diario contable'!H97,IF('Diario contable'!E97=\"Gastos de mercadeo\",'Diario contable'!H97,0))","v":"00:00:00"},null,null,{"$f":"+IF('Diario contable'!C97=\"Gastos de suministros de oficina\",'Diario contable'!F97,0)","v":0},null,null,null,{"$f":"+IF('Diario contable'!E97=\"Gastos de suministros de oficina\",'Diario contable'!F97,0)","v":0},{"$f":"IF('Diario contable'!C97=\"Gastos de suministros de oficina\",'Diario contable'!I97,IF('Diario contable'!E97=\"Gastos de suministros de oficina\",'Diario contable'!I97,0))","v":0},{"$f":"IF('Diario contable'!C97=\"Gastos de suministros de oficina\",'Diario contable'!H97,IF('Diario contable'!E97=\"Gastos de suministros de oficina\",'Diario contable'!H97,0))","v":"00:00:00"}]
[null,null,{"$f":"+IF('Diario contable'!C98=\"Caja\",'Diario contable'!F98,0)","v":0},null,null,null,{"$f":"+IF('Diario contable'!E98=\"Caja\",'Diario contable'!F98,0)","v":0},{"$f":"IF('Diario contable'!C98=\"Caja\",'Diario contable'!I98,IF('Diario contable'!E98=\"Caja\",'Diario contable'!I98,0))","v":0},{"$f":"IF('Diario contable'!C98=\"Caja\",'Diario contable'!H98,IF('Diario contable'!E98=\"Caja\",'Diario contable'!H98,0))","v":"00:00:00"},null,null,{"$f":"+IF('Diario contable'!C98=\"Maquinaria\",'Diario contable'!F98,0)","v":0},null,null,null,{"$f":"+IF('Diario contable'!E98=\"Maquinaria\",'Diario contable'!F98,0)","v":0},{"$f":"IF('Diario contable'!C98=\"Maquinaria\",'Diario contable'!I98,IF('Diario contable'!E98=\"Maquinaria\",'Diario contable'!I98,0))","v":0},{"$f":"IF('Diario contable'!C98=\"Maquinaria\",'Diario contable'!H98,IF('Diario contable'!E98=\"Maquinaria\",'Diario contable'!H98,0))","v":"00:00:00"},null,null,{"$f":"+IF('Diario contable'!C98=\"Herramientas\",'Diario contable'!F98,0)","v":0},null,null,null,{"$f":"+IF('Diario contable'!E98=\"Herramientas\",'Diario contable'!F98,0)","v":0},{"$f":"IF('Diario contable'!C98=\"Herramientas\",'Diario contable'!I98,IF('Diario contable'!E98=\"Herramientas\",'Diario contable'!I98,0))","v":0},{"$f":"IF('Diario contable'!C98=\"Herramientas\",'Diario contable'!H98,IF('Diario contable'!E98=\"Herramientas\",'Diario contable'!H98,0))","v":"00:00:00"},null,null,{"$f":"+IF('Diario contable'!C98=\"Donaciones\",'Diario contable'!F98,0)","v":0},null,null,null,{"$f":"+IF('Diario contable'!E98=\"Donaciones\",'Diario contable'!F98,0)","v":0},{"$f":"IF('Diario contable'!C98=\"Donaciones\",'Diario contable'!I98,IF('Diario contable'!E98=\"Donaciones\",'Diario contable'!I98,0))","v":0},{"$f":"IF('Diario contable'!C98=\"Donaciones\",'Diario contable'!H98,IF('Diario contable'!E98=\"Donaciones\",'Diario contable'!H98,0))","v":"00:00:00"},null,null,{"$f":"+IF('Diario contable'!C98=\"Inventario\",'Diario contable'!F98,0)","v":0},null,null,null,{"$f":"+IF('Diario contable'!E98=\"Inventario\",'Diario contable'!F98,0)","v":0},{"$f":"IF('Diario contable'!C98=\"Inventario\",'Diario contable'!I98,IF('Diario contable'!E98=\"Inventario\",'Diario contable'!I98,0))","v":0},{"$f":"IF('Diario contable'!C98=\"Inventario\",'Diario contable'!H98,IF('Diario contable'!E98=\"Inventario\",'Diario contable'!H98,0))","v":"00:00:00"},null,null,{"$f":"+IF('Diario contable'!C98=\"Costo de ventas\",'Diario contable'!F98,0)","v":0},null,null,null,{"$f":"+IF('Diario contable'!E98=\"Costo de ventas\",'Diario contable'!F98,0)","v":0},{"$f":"IF('Diario contable'!C98=\"Costo de ventas\",'Diario contable'!I98,IF('Diario contable'!E98=\"Costo de ventas\",'Diario contable'!I98,0))","v":0},{"$f":"IF('Diario contable'!C98=\"Costo de ventas\",'Diario contable'!H98,IF('Diario contable'!E98=\"Costo de ventas\",'Diario contable'!H98,0))","v":"00:00:00"},null,null,{"$f":"+IF('Diario contable'!C98=\"Ventas\",'Diario contable'!F98,0)","v":0},null,null,null,{"$f":"+IF('Diario contable'!E98=\"Ventas\",'Diario contable'!F98,0)","v":0},{"$f":"IF('Diario contable'!C98=\"Ventas\",'Diario contable'!I98,IF('Diario contable'!E98=\"Ventas\",'Diario contable'!I98,0))","v":0},{"$f":"IF('Diario contable'!C98=\"Ventas\",'Diario contable'!H98,IF('Diario contable'!E98=\"Ventas\",'Diario contable'!H98,0))","v":"00:00:00"},null,null,{"$f":"+IF('Diario contable'!C98=\"Gastos por salarios\",'Diario contable'!F98,0)","v":0},null,null,null,{"$f":"+IF('Diario contable'!E98=\"Gastos por salarios\",'Diario contable'!F98,0)","v":0},{"$f":"IF('Diario contable'!C98=\"Gastos por salarios\",'Diario contable'!I98,IF('Diario contable'!E98=\"Gastos por salarios\",'Diario contable'!I98,0))","v":0},{"$f":"IF('Diario contable'!C98=\"Gastos por salarios\",'Diario contable'!H98,IF('Diario contable'!E98=\"Gastos por salarios\",'Diario contable'!H98,0))","v":"00:00:00"},null,null,{"$f":"+IF('Diario contable'!C98=\"Gastos operacionales\",'Diario contable'!F98,0)","v":0},null,null,null,{"$f":"+IF('Diario contable'!E98=\"Gastos operacionales\",'Diario contable'!F98,0)","v":0},{"$f":"IF('Diario contable'!C98=\"Gastos operacionales\",'Diario contable'!I98,IF('Diario contable'!E98=\"Gastos operacionales\",'Diario contable'!I98,0))","v":0},{"$f":"IF('Diario contable'!C98=\"Gastos operacionales\",'Diario contable'!H98,IF('Diario contable'!E98=\"Gastos operacionales\",'Diario contable'!H98,0))","v":"00:00:00"},null,null,{"$f":"+IF('Diario contable'!C98=\"Suministros de oficina\",'Diario contable'!F98,0)","v":0},null,null,null,{"$f":"+IF('Diario contable'!E98=\"Suministros de oficina\",'Diario contable'!F98,0)","v":0},{"$f":"IF('Diario contable'!C98=\"Suministros de oficina\",'Diario contable'!I98,IF('Diario contable'!E98=\"Suministros de oficina\",'Diario contable'!I98,0))","v":0},{"$f":"IF('Diario contable'!C98=\"Suministros de oficina\",'Diario contable'!H98,IF('Diario contable'!E98=\"Suministros de oficina\",'Diario contable'!H98,0))","v":"00:00:00"},null,null,{"$f":"+IF('Diario contable'!C98=\"Capital social\",'Diario contable'!F98,0)","v":0},null,null,null,{"$f":"+IF('Diario contable'!E98=\"Capital social\",'Diario contable'!F98,0)","v":0},{"$f":"IF('Diario contable'!C98=\"Capital social\",'Diario contable'!I98,IF('Diario contable'!E98=\"Capital social\",'Diario contable'!I98,0))","v":0},{"$f":"IF('Diario contable'!C98=\"Capital social\",'Diario contable'!H98,IF('Diario contable'!E98=\"Capital social\",'Diario contable'!H98,0))","v":"00:00:00"},null,null,{"$f":"+IF('Diario contable'!C98=\"Gastos de mercadeo\",'Diario contable'!F98,0)","v":0},null,null,null,{"$f":"+IF('Diario contable'!E98=\"Gastos de mercadeo\",'Diario contable'!F98,0)","v":0},{"$f":"IF('Diario contable'!C98=\"Gastos de mercadeo\",'Diario contable'!I98,IF('Diario contable'!E98=\"Gastos de mercadeo\",'Diario contable'!I98,0))","v":0},{"$f":"IF('Diario contable'!C98=\"Gastos de mercadeo\",'Diario contable'!H98,IF('Diario contable'!E98=\"Gastos de mercadeo\",'Diario contable'!H98,0))","v":"00:00:00"},null,null,{"$f":"+IF('Diario contable'!C98=\"Gastos de suministros de oficina\",'Diario contable'!F98,0)","v":0},null,null,null,{"$f":"+IF('Diario contable'!E98=\"Gastos de suministros de oficina\",'Diario contable'!F98,0)","v":0},{"$f":"IF('Diario contable'!C98=\"Gastos de suministros de oficina\",'Diario contable'!I98,IF('Diario contable'!E98=\"Gastos de suministros de oficina\",'Diario contable'!I98,0))","v":0},{"$f":"IF('Diario contable'!C98=\"Gastos de suministros de oficina\",'Diario contable'!H98,IF('Diario contable'!E98=\"Gastos de suministros de oficina\",'Diario contable'!H98,0))","v":"00:00:00"}]
[null,null,{"$f":"+IF('Diario contable'!C99=\"Caja\",'Diario contable'!F99,0)","v":0},null,null,null,{"$f":"+IF('Diario contable'!E99=\"Caja\",'Diario contable'!F99,0)","v":0},{"$f":"IF('Diario contable'!C99=\"Caja\",'Diario contable'!I99,IF('Diario contable'!E99=\"Caja\",'Diario contable'!I99,0))","v":0},{"$f":"IF('Diario contable'!C99=\"Caja\",'Diario contable'!H99,IF('Diario contable'!E99=\"Caja\",'Diario contable'!H99,0))","v":"00:00:00"},null,null,{"$f":"+IF('Diario contable'!C99=\"Maquinaria\",'Diario contable'!F99,0)","v":0},null,null,null,{"$f":"+IF('Diario contable'!E99=\"Maquinaria\",'Diario contable'!F99,0)","v":0},{"$f":"IF('Diario contable'!C99=\"Maquinaria\",'Diario contable'!I99,IF('Diario contable'!E99=\"Maquinaria\",'Diario contable'!I99,0))","v":0},{"$f":"IF('Diario contable'!C99=\"Maquinaria\",'Diario contable'!H99,IF('Diario contable'!E99=\"Maquinaria\",'Diario contable'!H99,0))","v":"00:00:00"},null,null,{"$f":"+IF('Diario contable'!C99=\"Herramientas\",'Diario contable'!F99,0)","v":0},null,null,null,{"$f":"+IF('Diario contable'!E99=\"Herramientas\",'Diario contable'!F99,0)","v":0},{"$f":"IF('Diario contable'!C99=\"Herramientas\",'Diario contable'!I99,IF('Diario contable'!E99=\"Herramientas\",'Diario contable'!I99,0))","v":0},{"$f":"IF('Diario contable'!C99=\"Herramientas\",'Diario contable'!H99,IF('Diario contable'!E99=\"Herramientas\",'Diario contable'!H99,0))","v":"00:00:00"},null,null,{"$f":"+IF('Diario contable'!C99=\"Donaciones\",'Diario contable'!F99,0)","v":0},null,null,null,{"$f":"+IF('Diario contable'!E99=\"Donaciones\",'Diario contable'!F99,0)","v":0},{"$f":"IF('Diario contable'!C99=\"Donaciones\",'Diario contable'!I99,IF('Diario contable'!E99=\"Donaciones\",'Diario contable'!I99,0))","v":0},{"$f":"IF('Diario contable'!C99=\"Donaciones\",'Diario contable'!H99,IF('Diario contable'!E99=\"Donaciones\",'Diario contable'!H99,0))","v":"00:00:00"},null,null,{"$f":"+IF('Diario contable'!C99=\"Inventario\",'Diario contable'!F99,0)","v":0},null,null,null,{"$f":"+IF('Diario contable'!E99=\"Inventario\",'Diario contable'!F99,0)","v":0},{"$f":"IF('Diario contable'!C99=\"Inventario\",'Diario contable'!I99,IF('Diario contable'!E99=\"Inventario\",'Diario contable'!I99,0))","v":0},{"$f":"IF('Diario contable'!C99=\"Inventario\",'Diario contable'!H99,IF('Diario contable'!E99=\"Inventario\",'Diario contable'!H99,0))","v":"00:00:00"},null,null,{"$f":"+IF('Diario contable'!C99=\"Costo de ventas\",'Diario contable'!F99,0)","v":0},null,null,null,{"$f":"+IF('Diario contable'!E99=\"Costo de ventas\",'Diario contable'!F99,0)","v":0},{"$f":"IF('Diario contable'!C99=\"Costo de ventas\",'Diario contable'!I99,IF('Diario contable'!E99=\"Costo de ventas\",'Diario contable'!I99,0))","v":0},{"$f":"IF('Diario contable'!C99=\"Costo de ventas\",'Diario contable'!H99,IF('Diario contable'!E99=\"Costo de ventas\",'Diario contable'!H99,0))","v":"00:00:00"},null,null,{"$f":"+IF('Diario contable'!C99=\"Ventas\",'Diario contable'!F99,0)","v":0},null,null,null,{"$f":"+IF('Diario contable'!E99=\"Ventas\",'Diario contable'!F99,0)","v":0},{"$f":"IF('Diario contable'!C99=\"Ventas\",'Diario contable'!I99,IF('Diario contable'!E99=\"Ventas\",'Diario contable'!I99,0))","v":0},{"$f":"IF('Diario contable'!C99=\"Ventas\",'Diario contable'!H99,IF('Diario contable'!E99=\"Ventas\",'Diario contable'!H99,0))","v":"00:00:00"},null,null,{"$f":"+IF('Diario contable'!C99=\"Gastos por salarios\",'Diario contable'!F99,0)","v":0},null,null,null,{"$f":"+IF('Diario contable'!E99=\"Gastos por salarios\",'Diario contable'!F99,0)","v":0},{"$f":"IF('Diario contable'!C99=\"Gastos por salarios\",'Diario contable'!I99,IF('Diario contable'!E99=\"Gastos por salarios\",'Diario contable'!I99,0))","v":0},{"$f":"IF('Diario contable'!C99=\"Gastos por salarios\",'Diario contable'!H99,IF('Diario contable'!E99=\"Gastos por salarios\",'Diario contable'!H99,0))","v":"00:00:00"},null,null,{"$f":"+IF('Diario contable'!C99=\"Gastos operacionales\",'Diario contable'!F99,0)","v":0},null,null,null,{"$f":"+IF('Diario contable'!E99=\"Gastos operacionales\",'Diario contable'!F99,0)","v":0},{"$f":"IF('Diario contable'!C99=\"Gastos operacionales\",'Diario contable'!I99,IF('Diario contable'!E99=\"Gastos operacionales\",'Diario contable'!I99,0))","v":0},{"$f":"IF('Diario contable'!C99=\"Gastos operacionales\",'Diario contable'!H99,IF('Diario contable'!E99=\"Gastos operacionales\",'Diario contable'!H99,0))","v":"00:00:00"},null,null,{"$f":"+IF('Diario contable'!C99=\"Suministros de oficina\",'Diario contable'!F99,0)","v":0},null,null,null,{"$f":"+IF('Diario contable'!E99=\"Suministros de oficina\",'Diario contable'!F99,0)","v":0},{"$f":"IF('Diario contable'!C99=\"Suministros de oficina\",'Diario contable'!I99,IF('Diario contable'!E99=\"Suministros de oficina\",'Diario contable'!I99,0))","v":0},{"$f":"IF('Diario contable'!C99=\"Suministros de oficina\",'Diario contable'!H99,IF('Diario contable'!E99=\"Suministros de oficina\",'Diario contable'!H99,0))","v":"00:00:00"},null,null,{"$f":"+IF('Diario contable'!C99=\"Capital social\",'Diario contable'!F99,0)","v":0},null,null,null,{"$f":"+IF('Diario contable'!E99=\"Capital social\",'Diario contable'!F99,0)","v":0},{"$f":"IF('Diario contable'!C99=\"Capital social\",'Diario contable'!I99,IF('Diario contable'!E99=\"Capital social\",'Diario contable'!I99,0))","v":0},{"$f":"IF('Diario contable'!C99=\"Capital social\",'Diario contable'!H99,IF('Diario contable'!E99=\"Capital social\",'Diario contable'!H99,0))","v":"00:00:00"},null,null,{"$f":"+IF('Diario contable'!C99=\"Gastos de mercadeo\",'Diario contable'!F99,0)","v":0},null,null,null,{"$f":"+IF('Diario contable'!E99=\"Gastos de mercadeo\",'Diario contable'!F99,0)","v":0},{"$f":"IF('Diario contable'!C99=\"Gastos de mercadeo\",'Diario contable'!I99,IF('Diario contable'!E99=\"Gastos de mercadeo\",'Diario contable'!I99,0))","v":0},{"$f":"IF('Diario contable'!C99=\"Gastos de mercadeo\",'Diario contable'!H99,IF('Diario contable'!E99=\"Gastos de mercadeo\",'Diario contable'!H99,0))","v":"00:00:00"},null,null,{"$f":"+IF('Diario contable'!C99=\"Gastos de suministros de oficina\",'Diario contable'!F99,0)","v":0},null,null,null,{"$f":"+IF('Diario contable'!E99=\"Gastos de suministros de oficina\",'Diario contable'!F99,0)","v":0},{"$f":"IF('Diario contable'!C99=\"Gastos de suministros de oficina\",'Diario contable'!I99,IF('Diario contable'!E99=\"Gastos de suministros de oficina\",'Diario contable'!I99,0))","v":0},{"$f":"IF('Diario contable'!C99=\"Gastos de suministros de oficina\",'Diario contable'!H99,IF('Diario contable'!E99=\"Gastos de suministros de oficina\",'Diario contable'!H99,0))","v":"00:00:00"}]
[null,null,{"$f":"+IF('Diario contable'!C100=\"Caja\",'Diario contable'!F100,0)","v":0},null,null,null,{"$f":"+IF('Diario contable'!E100=\"Caja\",'Diario contable'!F100,0)","v":0},{"$f":"IF('Diario contable'!C100=\"Caja\",'Diario contable'!I100,IF('Diario contable'!E100=\"Caja\",'Diario contable'!I100,0))","v":0},{"$f":"IF('Diario contable'!C100=\"Caja\",'Diario contable'!H100,IF('Diario contable'!E100=\"Caja\",'Diario contable'!H100,0))","v":"00:00:00"},null,null,{"$f":"+IF('Diario contable'!C100=\"Maquinaria\",'Diario contable'!F100,0)","v":0},null,null,null,{"$f":"+IF('Diario contable'!E100=\"Maquinaria\",'Diario contable'!F100,0)","v":0},{"$f":"IF('Diario contable'!C100=\"Maquinaria\",'Diario contable'!I100,IF('Diario contable'!E100=\"Maquinaria\",'Diario contable'!I100,0))","v":0},{"$f":"IF('Diario contable'!C100=\"Maquinaria\",'Diario contable'!H100,IF('Diario contable'!E100=\"Maquinaria\",'Diario contable'!H100,0))","v":"00:00:00"},null,null,{"$f":"+IF('Diario contable'!C100=\"Herramientas\",'Diario contable'!F100,0)","v":0},null,null,null,{"$f":"+IF('Diario contable'!E100=\"Herramientas\",'Diario contable'!F100,0)","v":0},{"$f":"IF('Diario contable'!C100=\"Herramientas\",'Diario contable'!I100,IF('Diario contable'!E100=\"Herramientas\",'Diario contable'!I100,0))","v":0},{"$f":"IF('Diario contable'!C100=\"Herramientas\",'Diario contable'!H100,IF('Diario contable'!E100=\"Herramientas\",'Diario contable'!H100,0))","v":"00:00:00"},null,null,{"$f":"+IF('Diario contable'!C100=\"Donaciones\",'Diario contable'!F100,0)","v":0},null,null,null,{"$f":"+IF('Diario contable'!E100=\"Donaciones\",'Diario contable'!F100,0)","v":0},{"$f":"IF('Diario contable'!C100=\"Donaciones\",'Diario contable'!I100,IF('Diario contable'!E100=\"Donaciones\",'Diario contable'!I100,0))","v":0},{"$f":"IF('Diario contable'!C100=\"Donaciones\",'Diario contable'!H100,IF('Diario contable'!E100=\"Donaciones\",'Diario contable'!H100,0))","v":"00:00:00"},null,null,{"$f":"+IF('Diario contable'!C100=\"Inventario\",'Diario contable'!F100,0)","v":0},null,null,null,{"$f":"+IF('Diario contable'!E100=\"Inventario\",'Diario contable'!F100,0)","v":0},{"$f":"IF('Diario contable'!C100=\"Inventario\",'Diario contable'!I100,IF('Diario contable'!E100=\"Inventario\",'Diario contable'!I100,0))","v":0},{"$f":"IF('Diario contable'!C100=\"Inventario\",'Diario contable'!H100,IF('Diario contable'!E100=\"Inventario\",'Diario contable'!H100,0))","v":"00:00:00"},null,null,{"$f":"+IF('Diario contable'!C100=\"Costo de ventas\",'Diario contable'!F100,0)","v":0},null,null,null,{"$f":"+IF('Diario contable'!E100=\"Costo de ventas\",'Diario contable'!F100,0)","v":0},{"$f":"IF('Diario contable'!C100=\"Costo de ventas\",'Diario contable'!I100,IF('Diario contable'!E100=\"Costo de ventas\",'Diario contable'!I100,0))","v":0},{"$f":"IF('Diario contable'!C100=\"Costo de ventas\",'Diario contable'!H100,IF('Diario contable'!E100=\"Costo de ventas\",'Diario contable'!H100,0))","v":"00:00:00"},null,null,{"$f":"+IF('Diario contable'!C100=\"Ventas\",'Diario contable'!F100,0)","v":0},null,null,null,{"$f":"+IF('Diario contable'!E100=\"Ventas\",'Diario contable'!F100,0)","v":0},{"$f":"IF('Diario contable'!C100=\"Ventas\",'Diario contable'!I100,IF('Diario contable'!E100=\"Ventas\",'Diario contable'!I100,0))","v":0},{"$f":"IF('Diario contable'!C100=\"Ventas\",'Diario contable'!H100,IF('Diario contable'!E100=\"Ventas\",'Diario contable'!H100,0))","v":"00:00:00"},null,null,{"$f":"+IF('Diario contable'!C100=\"Gastos por salarios\",'Diario contable'!F100,0)","v":0},null,null,null,{"$f":"+IF('Diario contable'!E100=\"Gastos por salarios\",'Diario contable'!F100,0)","v":0},{"$f":"IF('Diario contable'!C100=\"Gastos por salarios\",'Diario contable'!I100,IF('Diario contable'!E100=\"Gastos por salarios\",'Diario contable'!I100,0))","v":0},{"$f":"IF('Diario contable'!C100=\"Gastos por salarios\",'Diario contable'!H100,IF('Diario contable'!E100=\"Gastos por salarios\",'Diario contable'!H100,0))","v":"00:00:00"},null,null,{"$f":"+IF('Diario contable'!C100=\"Gastos operacionales\",'Diario contable'!F100,0)","v":0},null,null,null,{"$f":"+IF('Diario contable'!E100=\"Gastos operacionales\",'Diario contable'!F100,0)","v":0},{"$f":"IF('Diario contable'!C100=\"Gastos operacionales\",'Diario contable'!I100,IF('Diario contable'!E100=\"Gastos operacionales\",'Diario contable'!I100,0))","v":0},{"$f":"IF('Diario contable'!C100=\"Gastos operacionales\",'Diario contable'!H100,IF('Diario contable'!E100=\"Gastos operacionales\",'Diario contable'!H100,0))","v":"00:00:00"},null,null,{"$f":"+IF('Diario contable'!C100=\"Suministros de oficina\",'Diario contable'!F100,0)","v":0},null,null,null,{"$f":"+IF('Diario contable'!E100=\"Suministros de oficina\",'Diario contable'!F100,0)","v":0},{"$f":"IF('Diario contable'!C100=\"Suministros de oficina\",'Diario contable'!I100,IF('Diario contable'!E100=\"Suministros de oficina\",'Diario contable'!I100,0))","v":0},{"$f":"IF('Diario contable'!C100=\"Suministros de oficina\",'Diario contable'!H100,IF('Diario contable'!E100=\"Suministros de oficina\",'Diario contable'!H100,0))","v":"00:00:00"},null,null,{"$f":"+IF('Diario contable'!C100=\"Capital social\",'Diario contable'!F100,0)","v":0},null,null,null,{"$f":"+IF('Diario contable'!E100=\"Capital social\",'Diario contable'!F100,0)","v":0},{"$f":"IF('Diario contable'!C100=\"Capital social\",'Diario contable'!I100,IF('Diario contable'!E100=\"Capital social\",'Diario contable'!I100,0))","v":0},{"$f":"IF('Diario contable'!C100=\"Capital social\",'Diario contable'!H100,IF('Diario contable'!E100=\"Capital social\",'Diario contable'!H100,0))","v":"00:00:00"},null,null,{"$f":"+IF('Diario contable'!C100=\"Gastos de mercadeo\",'Diario contable'!F100,0)","v":0},null,null,null,{"$f":"+IF('Diario contable'!E100=\"Gastos de mercadeo\",'Diario contable'!F100,0)","v":0},{"$f":"IF('Diario contable'!C100=\"Gastos de mercadeo\",'Diario contable'!I100,IF('Diario contable'!E100=\"Gastos de mercadeo\",'Diario contable'!I100,0))","v":0},{"$f":"IF('Diario contable'!C100=\"Gastos de mercadeo\",'Diario contable'!H100,IF('Diario contable'!E100=\"Gastos de mercadeo\",'Diario contable'!H100,0))","v":"00:00:00"},null,null,{"$f":"+IF('Diario contable'!C100=\"Gastos de suministros de oficina\",'Diario contable'!F100,0)","v":0},null,null,null,{"$f":"+IF('Diario contable'!E100=\"Gastos de suministros de oficina\",'Diario contable'!F100,0)","v":0},{"$f":"IF('Diario contable'!C100=\"Gastos de suministros de oficina\",'Diario contable'!I100,IF('Diario contable'!E100=\"Gastos de suministros de oficina\",'Diario contable'!I100,0))","v":0},{"$f":"IF('Diario contable'!C100=\"Gastos de suministros de oficina\",'Diario contable'!H100,IF('Diario contable'!E100=\"Gastos de suministros de oficina\",'Diario contable'!H100,0))","v":"00:00:00"}]
[null,null,{"$f":"+IF('Diario contable'!C101=\"Caja\",'Diario contable'!F101,0)","v":0},null,null,null,{"$f":"+IF('Diario contable'!E101=\"Caja\",'Diario contable'!F101,0)","v":0},{"$f":"IF('Diario contable'!C101=\"Caja\",'Diario contable'!I101,IF('Diario contable'!E101=\"Caja\",'Diario contable'!I101,0))","v":0},{"$f":"IF('Diario contable'!C101=\"Caja\",'Diario contable'!H101,IF('Diario contable'!E101=\"Caja\",'Diario contable'!H101,0))","v":"00:00:00"},null,null,{"$f":"+IF('Diario contable'!C101=\"Maquinaria\",'Diario contable'!F101,0)","v":0},null,null,null,{"$f":"+IF('Diario contable'!E101=\"Maquinaria\",'Diario contable'!F101,0)","v":0},{"$f":"IF('Diario contable'!C101=\"Maquinaria\",'Diario contable'!I101,IF('Diario contable'!E101=\"Maquinaria\",'Diario contable'!I101,0))","v":0},{"$f":"IF('Diario contable'!C101=\"Maquinaria\",'Diario contable'!H101,IF('Diario contable'!E101=\"Maquinaria\",'Diario contable'!H101,0))","v":"00:00:00"},null,null,{"$f":"+IF('Diario contable'!C101=\"Herramientas\",'Diario contable'!F101,0)","v":0},null,null,null,{"$f":"+IF('Diario contable'!E101=\"Herramientas\",'Diario contable'!F101,0)","v":0},{"$f":"IF('Diario contable'!C101=\"Herramientas\",'Diario contable'!I101,IF('Diario contable'!E101=\"Herramientas\",'Diario contable'!I101,0))","v":0},{"$f":"IF('Diario contable'!C101=\"Herramientas\",'Diario contable'!H101,IF('Diario contable'!E101=\"Herramientas\",'Diario contable'!H101,0))","v":"00:00:00"},null,null,{"$f":"+IF('Diario contable'!C101=\"Donaciones\",'Diario contable'!F101,0)","v":0},null,null,null,{"$f":"+IF('Diario contable'!E101=\"Donaciones\",'Diario contable'!F101,0)","v":0},{"$f":"IF('Diario contable'!C101=\"Donaciones\",'Diario contable'!I101,IF('Diario contable'!E101=\"Donaciones\",'Diario contable'!I101,0))","v":0},{"$f":"IF('Diario contable'!C101=\"Donaciones\",'Diario contable'!H101,IF('Diario contable'!E101=\"Donaciones\",'Diario contable'!H101,0))","v":"00:00:00"},null,null,{"$f":"+IF('Diario contable'!C101=\"Inventario\",'Diario contable'!F101,0)","v":0},null,null,null,{"$f":"+IF('Diario contable'!E101=\"Inventario\",'Diario contable'!F101,0)","v":0},{"$f":"IF('Diario contable'!C101=\"Inventario\",'Diario contable'!I101,IF('Diario contable'!E101=\"Inventario\",'Diario contable'!I101,0))","v":0},{"$f":"IF('Diario contable'!C101=\"Inventario\",'Diario contable'!H101,IF('Diario contable'!E101=\"Inventario\",'Diario contable'!H101,0))","v":"00:00:00"},null,null,{"$f":"+IF('Diario contable'!C101=\"Costo de ventas\",'Diario contable'!F101,0)","v":0},null,null,null,{"$f":"+IF('Diario contable'!E101=\"Costo de ventas\",'Diario contable'!F101,0)","v":0},{"$f":"IF('Diario contable'!C101=\"Costo de ventas\",'Diario contable'!I101,IF('Diario contable'!E101=\"Costo de ventas\",'Diario contable'!I101,0))","v":0},{"$f":"IF('Diario contable'!C101=\"Costo de ventas\",'Diario contable'!H101,IF('Diario contable'!E101=\"Costo de ventas\",'Diario contable'!H101,0))","v":"00:00:00"},null,null,{"$f":"+IF('Diario contable'!C101=\"Ventas\",'Diario contable'!F101,0)","v":0},null,null,null,{"$f":"+IF('Diario contable'!E101=\"Ventas\",'Diario contable'!F101,0)","v":0},{"$f":"IF('Diario contable'!C101=\"Ventas\",'Diario contable'!I101,IF('Diario contable'!E101=\"Ventas\",'Diario contable'!I101,0))","v":0},{"$f":"IF('Diario contable'!C101=\"Ventas\",'Diario contable'!H101,IF('Diario contable'!E101=\"Ventas\",'Diario contable'!H101,0))","v":"00:00:00"},null,null,{"$f":"+IF('Diario contable'!C101=\"Gastos por salarios\",'Diario contable'!F101,0)","v":0},null,null,null,{"$f":"+IF('Diario contable'!E101=\"Gastos por salarios\",'Diario contable'!F101,0)","v":0},{"$f":"IF('Diario contable'!C101=\"Gastos por salarios\",'Diario contable'!I101,IF('Diario contable'!E101=\"Gastos por salarios\",'Diario contable'!I101,0))","v":0},{"$f":"IF('Diario contable'!C101=\"Gastos por salarios\",'Diario contable'!H101,IF('Diario contable'!E101=\"Gastos por salarios\",'Diario contable'!H101,0))","v":"00:00:00"},null,null,{"$f":"+IF('Diario contable'!C101=\"Gastos operacionales\",'Diario contable'!F101,0)","v":0},null,null,null,{"$f":"+IF('Diario contable'!E101=\"Gastos operacionales\",'Diario contable'!F101,0)","v":0},{"$f":"IF('Diario contable'!C101=\"Gastos operacionales\",'Diario contable'!I101,IF('Diario contable'!E101=\"Gastos operacionales\",'Diario contable'!I101,0))","v":0},{"$f":"IF('Diario contable'!C101=\"Gastos operacionales\",'Diario contable'!H101,IF('Diario contable'!E101=\"Gastos operacionales\",'Diario contable'!H101,0))","v":"00:00:00"},null,null,{"$f":"+IF('Diario contable'!C101=\"Suministros de oficina\",'Diario contable'!F101,0)","v":0},null,null,null,{"$f":"+IF('Diario contable'!E101=\"Suministros de oficina\",'Diario contable'!F101,0)","v":0},{"$f":"IF('Diario contable'!C101=\"Suministros de oficina\",'Diario contable'!I101,IF('Diario contable'!E101=\"Suministros de oficina\",'Diario contable'!I101,0))","v":0},{"$f":"IF('Diario contable'!C101=\"Suministros de oficina\",'Diario contable'!H101,IF('Diario contable'!E101=\"Suministros de oficina\",'Diario contable'!H101,0))","v":"00:00:00"},null,null,{"$f":"+IF('Diario contable'!C101=\"Capital social\",'Diario contable'!F101,0)","v":0},null,null,null,{"$f":"+IF('Diario contable'!E101=\"Capital social\",'Diario contable'!F101,0)","v":0},{"$f":"IF('Diario contable'!C101=\"Capital social\",'Diario contable'!I101,IF('Diario contable'!E101=\"Capital social\",'Diario contable'!I101,0))","v":0},{"$f":"IF('Diario contable'!C101=\"Capital social\",'Diario contable'!H101,IF('Diario contable'!E101=\"Capital social\",'Diario contable'!H101,0))","v":"00:00:00"},null,null,{"$f":"+IF('Diario contable'!C101=\"Gastos de mercadeo\",'Diario contable'!F101,0)","v":0},null,null,null,{"$f":"+IF('Diario contable'!E101=\"Gastos de mercadeo\",'Diario contable'!F101,0)","v":0},{"$f":"IF('Diario contable'!C101=\"Gastos de mercadeo\",'Diario contable'!I101,IF('Diario contable'!E101=\"Gastos de mercadeo\",'Diario contable'!I101,0))","v":0},{"$f":"IF('Diario contable'!C101=\"Gastos de mercadeo\",'Diario contable'!H101,IF('Diario contable'!E101=\"Gastos de mercadeo\",'Diario contable'!H101,0))","v":"00:00:00"},null,null,{"$f":"+IF('Diario contable'!C101=\"Gastos de suministros de oficina\",'Diario contable'!F101,0)","v":0},null,null,null,{"$f":"+IF('Diario contable'!E101=\"Gastos de suministros de oficina\",'Diario contable'!F101,0)","v":0},{"$f":"IF('Diario contable'!C101=\"Gastos de suministros de oficina\",'Diario contable'!I101,IF('Diario contable'!E101=\"Gastos de suministros de oficina\",'Diario contable'!I101,0))","v":0},{"$f":"IF('Diario contable'!C101=\"Gastos de suministros de oficina\",'Diario contable'!H101,IF('Diario contable'!E101=\"Gastos de suministros de oficina\",'Diario contable'!H101,0))","v":"00:00:00"}]
[null,null,{"$f":"+IF('Diario contable'!C102=\"Caja\",'Diario contable'!F102,0)","v":0},null,null,null,{"$f":"+IF('Diario contable'!E102=\"Caja\",'Diario contable'!F102,0)","v":0},{"$f":"IF('Diario contable'!C102=\"Caja\",'Diario contable'!I102,IF('Diario contable'!E102=\"Caja\",'Diario contable'!I102,0))","v":0},{"$f":"IF('Diario contable'!C102=\"Caja\",'Diario contable'!H102,IF('Diario contable'!E102=\"Caja\",'Diario contable'!H102,0))","v":"00:00:00"},null,null,{"$f":"+IF('Diario contable'!C102=\"Maquinaria\",'Diario contable'!F102,0)","v":0},null,null,null,{"$f":"+IF('Diario contable'!E102=\"Maquinaria\",'Diario contable'!F102,0)","v":0},{"$f":"IF('Diario contable'!C102=\"Maquinaria\",'Diario contable'!I102,IF('Diario contable'!E102=\"Maquinaria\",'Diario contable'!I102,0))","v":0},{"$f":"IF('Diario contable'!C102=\"Maquinaria\",'Diario contable'!H102,IF('Diario contable'!E102=\"Maquinaria\",'Diario contable'!H102,0))","v":"00:00:00"},null,null,{"$f":"+IF('Diario contable'!C102=\"Herramientas\",'Diario contable'!F102,0)","v":0},null,null,null,{"$f":"+IF('Diario contable'!E102=\"Herramientas\",'Diario contable'!F102,0)","v":0},{"$f":"IF('Diario contable'!C102=\"Herramientas\",'Diario contable'!I102,IF('Diario contable'!E102=\"Herramientas\",'Diario contable'!I102,0))","v":0},{"$f":"IF('Diario contable'!C102=\"Herramientas\",'Diario contable'!H102,IF('Diario contable'!E102=\"Herramientas\",'Diario contable'!H102,0))","v":"00:00:00"},null,null,{"$f":"+IF('Diario contable'!C102=\"Donaciones\",'Diario contable'!F102,0)","v":0},null,null,null,{"$f":"+IF('Diario contable'!E102=\"Donaciones\",'Diario contable'!F102,0)","v":0},{"$f":"IF('Diario contable'!C102=\"Donaciones\",'Diario contable'!I102,IF('Diario contable'!E102=\"Donaciones\",'Diario contable'!I102,0))","v":0},{"$f":"IF('Diario contable'!C102=\"Donaciones\",'Diario contable'!H102,IF('Diario contable'!E102=\"Donaciones\",'Diario contable'!H102,0))","v":"00:00:00"},null,null,{"$f":"+IF('Diario contable'!C102=\"Inventario\",'Diario contable'!F102,0)","v":0},null,null,null,{"$f":"+IF('Diario contable'!E102=\"Inventario\",'Diario contable'!F102,0)","v":0},{"$f":"IF('Diario contable'!C102=\"Inventario\",'Diario contable'!I102,IF('Diario contable'!E102=\"Inventario\",'Diario contable'!I102,0))","v":0},{"$f":"IF('Diario contable'!C102=\"Inventario\",'Diario contable'!H102,IF('Diario contable'!E102=\"Inventario\",'Diario contable'!H102,0))","v":"00:00:00"},null,null,{"$f":"+IF('Diario contable'!C102=\"Costo de ventas\",'Diario contable'!F102,0)","v":0},null,null,null,{"$f":"+IF('Diario contable'!E102=\"Costo de ventas\",'Diario contable'!F102,0)","v":0},{"$f":"IF('Diario contable'!C102=\"Costo de ventas\",'Diario contable'!I102,IF('Diario contable'!E102=\"Costo de ventas\",'Diario contable'!I102,0))","v":0},{"$f":"IF('Diario contable'!C102=\"Costo de ventas\",'Diario contable'!H102,IF('Diario contable'!E102=\"Costo de ventas\",'Diario contable'!H102,0))","v":"00:00:00"},null,null,{"$f":"+IF('Diario contable'!C102=\"Ventas\",'Diario contable'!F102,0)","v":0},null,null,null,{"$f":"+IF('Diario contable'!E102=\"Ventas\",'Diario contable'!F102,0)","v":0},{"$f":"IF('Diario contable'!C102=\"Ventas\",'Diario contable'!I102,IF('Diario contable'!E102=\"Ventas\",'Diario contable'!I102,0))","v":0},{"$f":"IF('Diario contable'!C102=\"Ventas\",'Diario contable'!H102,IF('Diario contable'!E102=\"Ventas\",'Diario contable'!H102,0))","v":"00:00:00"},null,null,{"$f":"+IF('Diario contable'!C102=\"Gastos por salarios\",'Diario contable'!F102,0)","v":0},null,null,null,{"$f":"+IF('Diario contable'!E102=\"Gastos por salarios\",'Diario contable'!F102,0)","v":0},{"$f":"IF('Diario contable'!C102=\"Gastos por salarios\",'Diario contable'!I102,IF('Diario contable'!E102=\"Gastos por salarios\",'Diario contable'!I102,0))","v":0},{"$f":"IF('Diario contable'!C102=\"Gastos por salarios\",'Diario contable'!H102,IF('Diario contable'!E102=\"Gastos por salarios\",'Diario contable'!H102,0))","v":"00:00:00"},null,null,{"$f":"+IF('Diario contable'!C102=\"Gastos operacionales\",'Diario contable'!F102,0)","v":0},null,null,null,{"$f":"+IF('Diario contable'!E102=\"Gastos operacionales\",'Diario contable'!F102,0)","v":0},{"$f":"IF('Diario contable'!C102=\"Gastos operacionales\",'Diario contable'!I102,IF('Diario contable'!E102=\"Gastos operacionales\",'Diario contable'!I102,0))","v":0},{"$f":"IF('Diario contable'!C102=\"Gastos operacionales\",'Diario contable'!H102,IF('Diario contable'!E102=\"Gastos operacionales\",'Diario contable'!H102,0))","v":"00:00:00"},null,null,{"$f":"+IF('Diario contable'!C102=\"Suministros de oficina\",'Diario contable'!F102,0)","v":0},null,null,null,{"$f":"+IF('Diario contable'!E102=\"Suministros de oficina\",'Diario contable'!F102,0)","v":0},{"$f":"IF('Diario contable'!C102=\"Suministros de oficina\",'Diario contable'!I102,IF('Diario contable'!E102=\"Suministros de oficina\",'Diario contable'!I102,0))","v":0},{"$f":"IF('Diario contable'!C102=\"Suministros de oficina\",'Diario contable'!H102,IF('Diario contable'!E102=\"Suministros de oficina\",'Diario contable'!H102,0))","v":"00:00:00"},null,null,{"$f":"+IF('Diario contable'!C102=\"Capital social\",'Diario contable'!F102,0)","v":0},null,null,null,{"$f":"+IF('Diario contable'!E102=\"Capital social\",'Diario contable'!F102,0)","v":0},{"$f":"IF('Diario contable'!C102=\"Capital social\",'Diario contable'!I102,IF('Diario contable'!E102=\"Capital social\",'Diario contable'!I102,0))","v":0},{"$f":"IF('Diario contable'!C102=\"Capital social\",'Diario contable'!H102,IF('Diario contable'!E102=\"Capital social\",'Diario contable'!H102,0))","v":"00:00:00"},null,null,{"$f":"+IF('Diario contable'!C102=\"Gastos de mercadeo\",'Diario contable'!F102,0)","v":0},null,null,null,{"$f":"+IF('Diario contable'!E102=\"Gastos de mercadeo\",'Diario contable'!F102,0)","v":0},{"$f":"IF('Diario contable'!C102=\"Gastos de mercadeo\",'Diario contable'!I102,IF('Diario contable'!E102=\"Gastos de mercadeo\",'Diario contable'!I102,0))","v":0},{"$f":"IF('Diario contable'!C102=\"Gastos de mercadeo\",'Diario contable'!H102,IF('Diario contable'!E102=\"Gastos de mercadeo\",'Diario contable'!H102,0))","v":"00:00:00"},null,null,{"$f":"+IF('Diario contable'!C102=\"Gastos de suministros de oficina\",'Diario contable'!F102,0)","v":0},null,null,null,{"$f":"+IF('Diario contable'!E102=\"Gastos de suministros de oficina\",'Diario contable'!F102,0)","v":0},{"$f":"IF('Diario contable'!C102=\"Gastos de suministros de oficina\",'Diario contable'!I102,IF('Diario contable'!E102=\"Gastos de suministros de oficina\",'Diario contable'!I102,0))","v":0},{"$f":"IF('Diario contable'!C102=\"Gastos de suministros de oficina\",'Diario contable'!H102,IF('Diario contable'!E102=\"Gastos de suministros de oficina\",'Diario contable'!H102,0))","v":"00:00:00"}]
[null,null,{"$f":"+IF('Diario contable'!C103=\"Caja\",'Diario contable'!F103,0)","v":0},null,null,null,{"$f":"+IF('Diario contable'!E103=\"Caja\",'Diario contable'!F103,0)","v":0},{"$f":"IF('Diario contable'!C103=\"Caja\",'Diario contable'!I103,IF('Diario contable'!E103=\"Caja\",'Diario contable'!I103,0))","v":0},{"$f":"IF('Diario contable'!C103=\"Caja\",'Diario contable'!H103,IF('Diario contable'!E103=\"Caja\",'Diario contable'!H103,0))","v":"00:00:00"},null,null,{"$f":"+IF('Diario contable'!C103=\"Maquinaria\",'Diario contable'!F103,0)","v":0},null,null,null,{"$f":"+IF('Diario contable'!E103=\"Maquinaria\",'Diario contable'!F103,0)","v":0},{"$f":"IF('Diario contable'!C103=\"Maquinaria\",'Diario contable'!I103,IF('Diario contable'!E103=\"Maquinaria\",'Diario contable'!I103,0))","v":0},{"$f":"IF('Diario contable'!C103=\"Maquinaria\",'Diario contable'!H103,IF('Diario contable'!E103=\"Maquinaria\",'Diario contable'!H103,0))","v":"00:00:00"},null,null,{"$f":"+IF('Diario contable'!C103=\"Herramientas\",'Diario contable'!F103,0)","v":0},null,null,null,{"$f":"+IF('Diario contable'!E103=\"Herramientas\",'Diario contable'!F103,0)","v":0},{"$f":"IF('Diario contable'!C103=\"Herramientas\",'Diario contable'!I103,IF('Diario contable'!E103=\"Herramientas\",'Diario contable'!I103,0))","v":0},{"$f":"IF('Diario contable'!C103=\"Herramientas\",'Diario contable'!H103,IF('Diario contable'!E103=\"Herramientas\",'Diario contable'!H103,0))","v":"00:00:00"},null,null,{"$f":"+IF('Diario contable'!C103=\"Donaciones\",'Diario contable'!F103,0)","v":0},null,null,null,{"$f":"+IF('Diario contable'!E103=\"Donaciones\",'Diario contable'!F103,0)","v":0},{"$f":"IF('Diario contable'!C103=\"Donaciones\",'Diario contable'!I103,IF('Diario contable'!E103=\"Donaciones\",'Diario contable'!I103,0))","v":0},{"$f":"IF('Diario contable'!C103=\"Donaciones\",'Diario contable'!H103,IF('Diario contable'!E103=\"Donaciones\",'Diario contable'!H103,0))","v":"00:00:00"},null,null,{"$f":"+IF('Diario contable'!C103=\"Inventario\",'Diario contable'!F103,0)","v":0},null,null,null,{"$f":"+IF('Diario contable'!E103=\"Inventario\",'Diario contable'!F103,0)","v":0},{"$f":"IF('Diario contable'!C103=\"Inventario\",'Diario contable'!I103,IF('Diario contable'!E103=\"Inventario\",'Diario contable'!I103,0))","v":0},{"$f":"IF('Diario contable'!C103=\"Inventario\",'Diario contable'!H103,IF('Diario contable'!E103=\"Inventario\",'Diario contable'!H103,0))","v":"00:00:00"},null,null,{"$f":"+IF('Diario contable'!C103=\"Costo de ventas\",'Diario contable'!F103,0)","v":0},null,null,null,{"$f":"+IF('Diario contable'!E103=\"Costo de ventas\",'Diario contable'!F103,0)","v":0},{"$f":"IF('Diario contable'!C103=\"Costo de ventas\",'Diario contable'!I103,IF('Diario contable'!E103=\"Costo de ventas\",'Diario contable'!I103,0))","v":0},{"$f":"IF('Diario contable'!C103=\"Costo de ventas\",'Diario contable'!H103,IF('Diario contable'!E103=\"Costo de ventas\",'Diario contable'!H103,0))","v":"00:00:00"},null,null,{"$f":"+IF('Diario contable'!C103=\"Ventas\",'Diario contable'!F103,0)","v":0},null,null,null,{"$f":"+IF('Diario contable'!E103=\"Ventas\",'Diario contable'!F103,0)","v":0},{"$f":"IF('Diario contable'!C103=\"Ventas\",'Diario contable'!I103,IF('Diario contable'!E103=\"Ventas\",'Diario contable'!I103,0))","v":0},{"$f":"IF('Diario contable'!C103=\"Ventas\",'Diario contable'!H103,IF('Diario contable'!E103=\"Ventas\",'Diario contable'!H103,0))","v":"00:00:00"},null,null,{"$f":"+IF('Diario contable'!C103=\"Gastos por salarios\",'Diario contable'!F103,0)","v":0},null,null,null,{"$f":"+IF('Diario contable'!E103=\"Gastos por salarios\",'Diario contable'!F103,0)","v":0},{"$f":"IF('Diario contable'!C103=\"Gastos por salarios\",'Diario contable'!I103,IF('Diario contable'!E103=\"Gastos por salarios\",'Diario contable'!I103,0))","v":0},{"$f":"IF('Diario contable'!C103=\"Gastos por salarios\",'Diario contable'!H103,IF('Diario contable'!E103=\"Gastos por salarios\",'Diario contable'!H103,0))","v":"00:00:00"},null,null,{"$f":"+IF('Diario contable'!C103=\"Gastos operacionales\",'Diario contable'!F103,0)","v":0},null,null,null,{"$f":"+IF('Diario contable'!E103=\"Gastos operacionales\",'Diario contable'!F103,0)","v":0},{"$f":"IF('Diario contable'!C103=\"Gastos operacionales\",'Diario contable'!I103,IF('Diario contable'!E103=\"Gastos operacionales\",'Diario contable'!I103,0))","v":0},{"$f":"IF('Diario contable'!C103=\"Gastos operacionales\",'Diario contable'!H103,IF('Diario contable'!E103=\"Gastos operacionales\",'Diario contable'!H103,0))","v":"00:00:00"},null,null,{"$f":"+IF('Diario contable'!C103=\"Suministros de oficina\",'Diario contable'!F103,0)","v":0},null,null,null,{"$f":"+IF('Diario contable'!E103=\"Suministros de oficina\",'Diario contable'!F103,0)","v":0},{"$f":"IF('Diario contable'!C103=\"Suministros de oficina\",'Diario contable'!I103,IF('Diario contable'!E103=\"Suministros de oficina\",'Diario contable'!I103,0))","v":0},{"$f":"IF('Diario contable'!C103=\"Suministros de oficina\",'Diario contable'!H103,IF('Diario contable'!E103=\"Suministros de oficina\",'Diario contable'!H103,0))","v":"00:00:00"},null,null,{"$f":"+IF('Diario contable'!C103=\"Capital social\",'Diario contable'!F103,0)","v":0},null,null,null,{"$f":"+IF('Diario contable'!E103=\"Capital social\",'Diario contable'!F103,0)","v":0},{"$f":"IF('Diario contable'!C103=\"Capital social\",'Diario contable'!I103,IF('Diario contable'!E103=\"Capital social\",'Diario contable'!I103,0))","v":0},{"$f":"IF('Diario contable'!C103=\"Capital social\",'Diario contable'!H103,IF('Diario contable'!E103=\"Capital social\",'Diario contable'!H103,0))","v":"00:00:00"},null,null,{"$f":"+IF('Diario contable'!C103=\"Gastos de mercadeo\",'Diario contable'!F103,0)","v":0},null,null,null,{"$f":"+IF('Diario contable'!E103=\"Gastos de mercadeo\",'Diario contable'!F103,0)","v":0},{"$f":"IF('Diario contable'!C103=\"Gastos de mercadeo\",'Diario contable'!I103,IF('Diario contable'!E103=\"Gastos de mercadeo\",'Diario contable'!I103,0))","v":0},{"$f":"IF('Diario contable'!C103=\"Gastos de mercadeo\",'Diario contable'!H103,IF('Diario contable'!E103=\"Gastos de mercadeo\",'Diario contable'!H103,0))","v":"00:00:00"},null,null,{"$f":"+IF('Diario contable'!C103=\"Gastos de suministros de oficina\",'Diario contable'!F103,0)","v":0},null,null,null,{"$f":"+IF('Diario contable'!E103=\"Gastos de suministros de oficina\",'Diario contable'!F103,0)","v":0},{"$f":"IF('Diario contable'!C103=\"Gastos de suministros de oficina\",'Diario contable'!I103,IF('Diario contable'!E103=\"Gastos de suministros de oficina\",'Diario contable'!I103,0))","v":0},{"$f":"IF('Diario contable'!C103=\"Gastos de suministros de oficina\",'Diario contable'!H103,IF('Diario contable'!E103=\"Gastos de suministros de oficina\",'Diario contable'!H103,0))","v":"00:00:00"}]
[null,null,{"$f":"+IF('Diario contable'!C104=\"Caja\",'Diario contable'!F104,0)","v":0},null,null,null,{"$f":"+IF('Diario contable'!E104=\"Caja\",'Diario contable'!F104,0)","v":0},{"$f":"IF('Diario contable'!C104=\"Caja\",'Diario contable'!I104,IF('Diario contable'!E104=\"Caja\",'Diario contable'!I104,0))","v":0},{"$f":"IF('Diario contable'!C104=\"Caja\",'Diario contable'!H104,IF('Diario contable'!E104=\"Caja\",'Diario contable'!H104,0))","v":"00:00:00"},null,null,{"$f":"+IF('Diario contable'!C104=\"Maquinaria\",'Diario contable'!F104,0)","v":0},null,null,null,{"$f":"+IF('Diario contable'!E104=\"Maquinaria\",'Diario contable'!F104,0)","v":0},{"$f":"IF('Diario contable'!C104=\"Maquinaria\",'Diario contable'!I104,IF('Diario contable'!E104=\"Maquinaria\",'Diario contable'!I104,0))","v":0},{"$f":"IF('Diario contable'!C104=\"Maquinaria\",'Diario contable'!H104,IF('Diario contable'!E104=\"Maquinaria\",'Diario contable'!H104,0))","v":"00:00:00"},null,null,{"$f":"+IF('Diario contable'!C104=\"Herramientas\",'Diario contable'!F104,0)","v":0},null,null,null,{"$f":"+IF('Diario contable'!E104=\"Herramientas\",'Diario contable'!F104,0)","v":0},{"$f":"IF('Diario contable'!C104=\"Herramientas\",'Diario contable'!I104,IF('Diario contable'!E104=\"Herramientas\",'Diario contable'!I104,0))","v":0},{"$f":"IF('Diario contable'!C104=\"Herramientas\",'Diario contable'!H104,IF('Diario contable'!E104=\"Herramientas\",'Diario contable'!H104,0))","v":"00:00:00"},null,null,{"$f":"+IF('Diario contable'!C104=\"Donaciones\",'Diario contable'!F104,0)","v":0},null,null,null,{"$f":"+IF('Diario contable'!E104=\"Donaciones\",'Diario contable'!F104,0)","v":0},{"$f":"IF('Diario contable'!C104=\"Donaciones\",'Diario contable'!I104,IF('Diario contable'!E104=\"Donaciones\",'Diario contable'!I104,0))","v":0},{"$f":"IF('Diario contable'!C104=\"Donaciones\",'Diario contable'!H104,IF('Diario contable'!E104=\"Donaciones\",'Diario contable'!H104,0))","v":"00:00:00"},null,null,{"$f":"+IF('Diario contable'!C104=\"Inventario\",'Diario contable'!F104,0)","v":0},null,null,null,{"$f":"+IF('Diario contable'!E104=\"Inventario\",'Diario contable'!F104,0)","v":0},{"$f":"IF('Diario contable'!C104=\"Inventario\",'Diario contable'!I104,IF('Diario contable'!E104=\"Inventario\",'Diario contable'!I104,0))","v":0},{"$f":"IF('Diario contable'!C104=\"Inventario\",'Diario contable'!H104,IF('Diario contable'!E104=\"Inventario\",'Diario contable'!H104,0))","v":"00:00:00"},null,null,{"$f":"+IF('Diario contable'!C104=\"Costo de ventas\",'Diario contable'!F104,0)","v":0},null,null,null,{"$f":"+IF('Diario contable'!E104=\"Costo de ventas\",'Diario contable'!F104,0)","v":0},{"$f":"IF('Diario contable'!C104=\"Costo de ventas\",'Diario contable'!I104,IF('Diario contable'!E104=\"Costo de ventas\",'Diario contable'!I104,0))","v":0},{"$f":"IF('Diario contable'!C104=\"Costo de ventas\",'Diario contable'!H104,IF('Diario contable'!E104=\"Costo de ventas\",'Diario contable'!H104,0))","v":"00:00:00"},null,null,{"$f":"+IF('Diario contable'!C104=\"Ventas\",'Diario contable'!F104,0)","v":0},null,null,null,{"$f":"+IF('Diario contable'!E104=\"Ventas\",'Diario contable'!F104,0)","v":0},{"$f":"IF('Diario contable'!C104=\"Ventas\",'Diario contable'!I104,IF('Diario contable'!E104=\"Ventas\",'Diario contable'!I104,0))","v":0},{"$f":"IF('Diario contable'!C104=\"Ventas\",'Diario contable'!H104,IF('Diario contable'!E104=\"Ventas\",'Diario contable'!H104,0))","v":"00:00:00"},null,null,{"$f":"+IF('Diario contable'!C104=\"Gastos por salarios\",'Diario contable'!F104,0)","v":0},null,null,null,{"$f":"+IF('Diario contable'!E104=\"Gastos por salarios\",'Diario contable'!F104,0)","v":0},{"$f":"IF('Diario contable'!C104=\"Gastos por salarios\",'Diario contable'!I104,IF('Diario contable'!E104=\"Gastos por salarios\",'Diario contable'!I104,0))","v":0},{"$f":"IF('Diario contable'!C104=\"Gastos por salarios\",'Diario contable'!H104,IF('Diario contable'!E104=\"Gastos por salarios\",'Diario contable'!H104,0))","v":"00:00:00"},null,null,{"$f":"+IF('Diario contable'!C104=\"Gastos operacionales\",'Diario contable'!F104,0)","v":0},null,null,null,{"$f":"+IF('Diario contable'!E104=\"Gastos operacionales\",'Diario contable'!F104,0)","v":0},{"$f":"IF('Diario contable'!C104=\"Gastos operacionales\",'Diario contable'!I104,IF('Diario contable'!E104=\"Gastos operacionales\",'Diario contable'!I104,0))","v":0},{"$f":"IF('Diario contable'!C104=\"Gastos operacionales\",'Diario contable'!H104,IF('Diario contable'!E104=\"Gastos operacionales\",'Diario contable'!H104,0))","v":"00:00:00"},null,null,{"$f":"+IF('Diario contable'!C104=\"Suministros de oficina\",'Diario contable'!F104,0)","v":0},null,null,null,{"$f":"+IF('Diario contable'!E104=\"Suministros de oficina\",'Diario contable'!F104,0)","v":0},{"$f":"IF('Diario contable'!C104=\"Suministros de oficina\",'Diario contable'!I104,IF('Diario contable'!E104=\"Suministros de oficina\",'Diario contable'!I104,0))","v":0},{"$f":"IF('Diario contable'!C104=\"Suministros de oficina\",'Diario contable'!H104,IF('Diario contable'!E104=\"Suministros de oficina\",'Diario contable'!H104,0))","v":"00:00:00"},null,null,{"$f":"+IF('Diario contable'!C104=\"Capital social\",'Diario contable'!F104,0)","v":0},null,null,null,{"$f":"+IF('Diario contable'!E104=\"Capital social\",'Diario contable'!F104,0)","v":0},{"$f":"IF('Diario contable'!C104=\"Capital social\",'Diario contable'!I104,IF('Diario contable'!E104=\"Capital social\",'Diario contable'!I104,0))","v":0},{"$f":"IF('Diario contable'!C104=\"Capital social\",'Diario contable'!H104,IF('Diario contable'!E104=\"Capital social\",'Diario contable'!H104,0))","v":"00:00:00"},null,null,{"$f":"+IF('Diario contable'!C104=\"Gastos de mercadeo\",'Diario contable'!F104,0)","v":0},null,null,null,{"$f":"+IF('Diario contable'!E104=\"Gastos de mercadeo\",'Diario contable'!F104,0)","v":0},{"$f":"IF('Diario contable'!C104=\"Gastos de mercadeo\",'Diario contable'!I104,IF('Diario contable'!E104=\"Gastos de mercadeo\",'Diario contable'!I104,0))","v":0},{"$f":"IF('Diario contable'!C104=\"Gastos de mercadeo\",'Diario contable'!H104,IF('Diario contable'!E104=\"Gastos de mercadeo\",'Diario contable'!H104,0))","v":"00:00:00"},null,null,{"$f":"+IF('Diario contable'!C104=\"Gastos de suministros de oficina\",'Diario contable'!F104,0)","v":0},null,null,null,{"$f":"+IF('Diario contable'!E104=\"Gastos de suministros de oficina\",'Diario contable'!F104,0)","v":0},{"$f":"IF('Diario contable'!C104=\"Gastos de suministros de oficina\",'Diario contable'!I104,IF('Diario contable'!E104=\"Gastos de suministros de oficina\",'Diario contable'!I104,0))","v":0},{"$f":"IF('Diario contable'!C104=\"Gastos de suministros de oficina\",'Diario contable'!H104,IF('Diario contable'!E104=\"Gastos de suministros de oficina\",'Diario contable'!H104,0))","v":"00:00:00"}]
[null,null,{"$f":"+IF('Diario contable'!C105=\"Caja\",'Diario contable'!F105,0)","v":0},null,null,null,{"$f":"+IF('Diario contable'!E105=\"Caja\",'Diario contable'!F105,0)","v":0},{"$f":"IF('Diario contable'!C105=\"Caja\",'Diario contable'!I105,IF('Diario contable'!E105=\"Caja\",'Diario contable'!I105,0))","v":0},{"$f":"IF('Diario contable'!C105=\"Caja\",'Diario contable'!H105,IF('Diario contable'!E105=\"Caja\",'Diario contable'!H105,0))","v":"00:00:00"},null,null,{"$f":"+IF('Diario contable'!C105=\"Maquinaria\",'Diario contable'!F105,0)","v":0},null,null,null,{"$f":"+IF('Diario contable'!E105=\"Maquinaria\",'Diario contable'!F105,0)","v":0},{"$f":"IF('Diario contable'!C105=\"Maquinaria\",'Diario contable'!I105,IF('Diario contable'!E105=\"Maquinaria\",'Diario contable'!I105,0))","v":0},{"$f":"IF('Diario contable'!C105=\"Maquinaria\",'Diario contable'!H105,IF('Diario contable'!E105=\"Maquinaria\",'Diario contable'!H105,0))","v":"00:00:00"},null,null,{"$f":"+IF('Diario contable'!C105=\"Herramientas\",'Diario contable'!F105,0)","v":0},null,null,null,{"$f":"+IF('Diario contable'!E105=\"Herramientas\",'Diario contable'!F105,0)","v":0},{"$f":"IF('Diario contable'!C105=\"Herramientas\",'Diario contable'!I105,IF('Diario contable'!E105=\"Herramientas\",'Diario contable'!I105,0))","v":0},{"$f":"IF('Diario contable'!C105=\"Herramientas\",'Diario contable'!H105,IF('Diario contable'!E105=\"Herramientas\",'Diario contable'!H105,0))","v":"00:00:00"},null,null,{"$f":"+IF('Diario contable'!C105=\"Donaciones\",'Diario contable'!F105,0)","v":0},null,null,null,{"$f":"+IF('Diario contable'!E105=\"Donaciones\",'Diario contable'!F105,0)","v":0},{"$f":"IF('Diario contable'!C105=\"Donaciones\",'Diario contable'!I105,IF('Diario contable'!E105=\"Donaciones\",'Diario contable'!I105,0))","v":0},{"$f":"IF('Diario contable'!C105=\"Donaciones\",'Diario contable'!H105,IF('Diario contable'!E105=\"Donaciones\",'Diario contable'!H105,0))","v":"00:00:00"},null,null,{"$f":"+IF('Diario contable'!C105=\"Inventario\",'Diario contable'!F105,0)","v":0},null,null,null,{"$f":"+IF('Diario contable'!E105=\"Inventario\",'Diario contable'!F105,0)","v":0},{"$f":"IF('Diario contable'!C105=\"Inventario\",'Diario contable'!I105,IF('Diario contable'!E105=\"Inventario\",'Diario contable'!I105,0))","v":0},{"$f":"IF('Diario contable'!C105=\"Inventario\",'Diario contable'!H105,IF('Diario contable'!E105=\"Inventario\",'Diario contable'!H105,0))","v":"00:00:00"},null,null,{"$f":"+IF('Diario contable'!C105=\"Costo de ventas\",'Diario contable'!F105,0)","v":0},null,null,null,{"$f":"+IF('Diario contable'!E105=\"Costo de ventas\",'Diario contable'!F105,0)","v":0},{"$f":"IF('Diario contable'!C105=\"Costo de ventas\",'Diario contable'!I105,IF('Diario contable'!E105=\"Costo de ventas\",'Diario contable'!I105,0))","v":0},{"$f":"IF('Diario contable'!C105=\"Costo de ventas\",'Diario contable'!H105,IF('Diario contable'!E105=\"Costo de ventas\",'Diario contable'!H105,0))","v":"00:00:00"},null,null,{"$f":"+IF('Diario contable'!C105=\"Ventas\",'Diario contable'!F105,0)","v":0},null,null,null,{"$f":"+IF('Diario contable'!E105=\"Ventas\",'Diario contable'!F105,0)","v":0},{"$f":"IF('Diario contable'!C105=\"Ventas\",'Diario contable'!I105,IF('Diario contable'!E105=\"Ventas\",'Diario contable'!I105,0))","v":0},{"$f":"IF('Diario contable'!C105=\"Ventas\",'Diario contable'!H105,IF('Diario contable'!E105=\"Ventas\",'Diario contable'!H105,0))","v":"00:00:00"},null,null,{"$f":"+IF('Diario contable'!C105=\"Gastos por salarios\",'Diario contable'!F105,0)","v":0},null,null,null,{"$f":"+IF('Diario contable'!E105=\"Gastos por salarios\",'Diario contable'!F105,0)","v":0},{"$f":"IF('Diario contable'!C105=\"Gastos por salarios\",'Diario contable'!I105,IF('Diario contable'!E105=\"Gastos por salarios\",'Diario contable'!I105,0))","v":0},{"$f":"IF('Diario contable'!C105=\"Gastos por salarios\",'Diario contable'!H105,IF('Diario contable'!E105=\"Gastos por salarios\",'Diario contable'!H105,0))","v":"00:00:00"},null,null,{"$f":"+IF('Diario contable'!C105=\"Gastos operacionales\",'Diario contable'!F105,0)","v":0},null,null,null,{"$f":"+IF('Diario contable'!E105=\"Gastos operacionales\",'Diario contable'!F105,0)","v":0},{"$f":"IF('Diario contable'!C105=\"Gastos operacionales\",'Diario contable'!I105,IF('Diario contable'!E105=\"Gastos operacionales\",'Diario contable'!I105,0))","v":0},{"$f":"IF('Diario contable'!C105=\"Gastos operacionales\",'Diario contable'!H105,IF('Diario contable'!E105=\"Gastos operacionales\",'Diario contable'!H105,0))","v":"00:00:00"},null,null,{"$f":"+IF('Diario contable'!C105=\"Suministros de oficina\",'Diario contable'!F105,0)","v":0},null,null,null,{"$f":"+IF('Diario contable'!E105=\"Suministros de oficina\",'Diario contable'!F105,0)","v":0},{"$f":"IF('Diario contable'!C105=\"Suministros de oficina\",'Diario contable'!I105,IF('Diario contable'!E105=\"Suministros de oficina\",'Diario contable'!I105,0))","v":0},{"$f":"IF('Diario contable'!C105=\"Suministros de oficina\",'Diario contable'!H105,IF('Diario contable'!E105=\"Suministros de oficina\",'Diario contable'!H105,0))","v":"00:00:00"},null,null,{"$f":"+IF('Diario contable'!C105=\"Capital social\",'Diario contable'!F105,0)","v":0},null,null,null,{"$f":"+IF('Diario contable'!E105=\"Capital social\",'Diario contable'!F105,0)","v":0},{"$f":"IF('Diario contable'!C105=\"Capital social\",'Diario contable'!I105,IF('Diario contable'!E105=\"Capital social\",'Diario contable'!I105,0))","v":0},{"$f":"IF('Diario contable'!C105=\"Capital social\",'Diario contable'!H105,IF('Diario contable'!E105=\"Capital social\",'Diario contable'!H105,0))","v":"00:00:00"},null,null,{"$f":"+IF('Diario contable'!C105=\"Gastos de mercadeo\",'Diario contable'!F105,0)","v":0},null,null,null,{"$f":"+IF('Diario contable'!E105=\"Gastos de mercadeo\",'Diario contable'!F105,0)","v":0},{"$f":"IF('Diario contable'!C105=\"Gastos de mercadeo\",'Diario contable'!I105,IF('Diario contable'!E105=\"Gastos de mercadeo\",'Diario contable'!I105,0))","v":0},{"$f":"IF('Diario contable'!C105=\"Gastos de mercadeo\",'Diario contable'!H105,IF('Diario contable'!E105=\"Gastos de mercadeo\",'Diario contable'!H105,0))","v":"00:00:00"},null,null,{"$f":"+IF('Diario contable'!C105=\"Gastos de suministros de oficina\",'Diario contable'!F105,0)","v":0},null,null,null,{"$f":"+IF('Diario contable'!E105=\"Gastos de suministros de oficina\",'Diario contable'!F105,0)","v":0},{"$f":"IF('Diario contable'!C105=\"Gastos de suministros de oficina\",'Diario contable'!I105,IF('Diario contable'!E105=\"Gastos de suministros de oficina\",'Diario contable'!I105,0))","v":0},{"$f":"IF('Diario contable'!C105=\"Gastos de suministros de oficina\",'Diario contable'!H105,IF('Diario contable'!E105=\"Gastos de suministros de oficina\",'Diario contable'!H105,0))","v":"00:00:00"}]
[null,null,{"$f":"+IF('Diario contable'!C106=\"Caja\",'Diario contable'!F106,0)","v":0},null,null,null,{"$f":"+IF('Diario contable'!E106=\"Caja\",'Diario contable'!F106,0)","v":0},{"$f":"IF('Diario contable'!C106=\"Caja\",'Diario contable'!I106,IF('Diario contable'!E106=\"Caja\",'Diario contable'!I106,0))","v":0},{"$f":"IF('Diario contable'!C106=\"Caja\",'Diario contable'!H106,IF('Diario contable'!E106=\"Caja\",'Diario contable'!H106,0))","v":"00:00:00"},null,null,{"$f":"+IF('Diario contable'!C106=\"Maquinaria\",'Diario contable'!F106,0)","v":0},null,null,null,{"$f":"+IF('Diario contable'!E106=\"Maquinaria\",'Diario contable'!F106,0)","v":0},{"$f":"IF('Diario contable'!C106=\"Maquinaria\",'Diario contable'!I106,IF('Diario contable'!E106=\"Maquinaria\",'Diario contable'!I106,0))","v":0},{"$f":"IF('Diario contable'!C106=\"Maquinaria\",'Diario contable'!H106,IF('Diario contable'!E106=\"Maquinaria\",'Diario contable'!H106,0))","v":"00:00:00"},null,null,{"$f":"+IF('Diario contable'!C106=\"Herramientas\",'Diario contable'!F106,0)","v":0},null,null,null,{"$f":"+IF('Diario contable'!E106=\"Herramientas\",'Diario contable'!F106,0)","v":0},{"$f":"IF('Diario contable'!C106=\"Herramientas\",'Diario contable'!I106,IF('Diario contable'!E106=\"Herramientas\",'Diario contable'!I106,0))","v":0},{"$f":"IF('Diario contable'!C106=\"Herramientas\",'Diario contable'!H106,IF('Diario contable'!E106=\"Herramientas\",'Diario contable'!H106,0))","v":"00:00:00"},null,null,{"$f":"+IF('Diario contable'!C106=\"Donaciones\",'Diario contable'!F106,0)","v":0},null,null,null,{"$f":"+IF('Diario contable'!E106=\"Donaciones\",'Diario contable'!F106,0)","v":0},{"$f":"IF('Diario contable'!C106=\"Donaciones\",'Diario contable'!I106,IF('Diario contable'!E106=\"Donaciones\",'Diario contable'!I106,0))","v":0},{"$f":"IF('Diario contable'!C106=\"Donaciones\",'Diario contable'!H106,IF('Diario contable'!E106=\"Donaciones\",'Diario contable'!H106,0))","v":"00:00:00"},null,null,{"$f":"+IF('Diario contable'!C106=\"Inventario\",'Diario contable'!F106,0)","v":0},null,null,null,{"$f":"+IF('Diario contable'!E106=\"Inventario\",'Diario contable'!F106,0)","v":0},{"$f":"IF('Diario contable'!C106=\"Inventario\",'Diario contable'!I106,IF('Diario contable'!E106=\"Inventario\",'Diario contable'!I106,0))","v":0},{"$f":"IF('Diario contable'!C106=\"Inventario\",'Diario contable'!H106,IF('Diario contable'!E106=\"Inventario\",'Diario contable'!H106,0))","v":"00:00:00"},null,null,{"$f":"+IF('Diario contable'!C106=\"Costo de ventas\",'Diario contable'!F106,0)","v":0},null,null,null,{"$f":"+IF('Diario contable'!E106=\"Costo de ventas\",'Diario contable'!F106,0)","v":0},{"$f":"IF('Diario contable'!C106=\"Costo de ventas\",'Diario contable'!I106,IF('Diario contable'!E106=\"Costo de ventas\",'Diario contable'!I106,0))","v":0},{"$f":"IF('Diario contable'!C106=\"Costo de ventas\",'Diario contable'!H106,IF('Diario contable'!E106=\"Costo de ventas\",'Diario contable'!H106,0))","v":"00:00:00"},null,null,{"$f":"+IF('Diario contable'!C106=\"Ventas\",'Diario contable'!F106,0)","v":0},null,null,null,{"$f":"+IF('Diario contable'!E106=\"Ventas\",'Diario contable'!F106,0)","v":0},{"$f":"IF('Diario contable'!C106=\"Ventas\",'Diario contable'!I106,IF('Diario contable'!E106=\"Ventas\",'Diario contable'!I106,0))","v":0},{"$f":"IF('Diario contable'!C106=\"Ventas\",'Diario contable'!H106,IF('Diario contable'!E106=\"Ventas\",'Diario contable'!H106,0))","v":"00:00:00"},null,null,{"$f":"+IF('Diario contable'!C106=\"Gastos por salarios\",'Diario contable'!F106,0)","v":0},null,null,null,{"$f":"+IF('Diario contable'!E106=\"Gastos por salarios\",'Diario contable'!F106,0)","v":0},{"$f":"IF('Diario contable'!C106=\"Gastos por salarios\",'Diario contable'!I106,IF('Diario contable'!E106=\"Gastos por salarios\",'Diario contable'!I106,0))","v":0},{"$f":"IF('Diario contable'!C106=\"Gastos por salarios\",'Diario contable'!H106,IF('Diario contable'!E106=\"Gastos por salarios\",'Diario contable'!H106,0))","v":"00:00:00"},null,null,{"$f":"+IF('Diario contable'!C106=\"Gastos operacionales\",'Diario contable'!F106,0)","v":0},null,null,null,{"$f":"+IF('Diario contable'!E106=\"Gastos operacionales\",'Diario contable'!F106,0)","v":0},{"$f":"IF('Diario contable'!C106=\"Gastos operacionales\",'Diario contable'!I106,IF('Diario contable'!E106=\"Gastos operacionales\",'Diario contable'!I106,0))","v":0},{"$f":"IF('Diario contable'!C106=\"Gastos operacionales\",'Diario contable'!H106,IF('Diario contable'!E106=\"Gastos operacionales\",'Diario contable'!H106,0))","v":"00:00:00"},null,null,{"$f":"+IF('Diario contable'!C106=\"Suministros de oficina\",'Diario contable'!F106,0)","v":0},null,null,null,{"$f":"+IF('Diario contable'!E106=\"Suministros de oficina\",'Diario contable'!F106,0)","v":0},{"$f":"IF('Diario contable'!C106=\"Suministros de oficina\",'Diario contable'!I106,IF('Diario contable'!E106=\"Suministros de oficina\",'Diario contable'!I106,0))","v":0},{"$f":"IF('Diario contable'!C106=\"Suministros de oficina\",'Diario contable'!H106,IF('Diario contable'!E106=\"Suministros de oficina\",'Diario contable'!H106,0))","v":"00:00:00"},null,null,{"$f":"+IF('Diario contable'!C106=\"Capital social\",'Diario contable'!F106,0)","v":0},null,null,null,{"$f":"+IF('Diario contable'!E106=\"Capital social\",'Diario contable'!F106,0)","v":0},{"$f":"IF('Diario contable'!C106=\"Capital social\",'Diario contable'!I106,IF('Diario contable'!E106=\"Capital social\",'Diario contable'!I106,0))","v":0},{"$f":"IF('Diario contable'!C106=\"Capital social\",'Diario contable'!H106,IF('Diario contable'!E106=\"Capital social\",'Diario contable'!H106,0))","v":"00:00:00"},null,null,{"$f":"+IF('Diario contable'!C106=\"Gastos de mercadeo\",'Diario contable'!F106,0)","v":0},null,null,null,{"$f":"+IF('Diario contable'!E106=\"Gastos de mercadeo\",'Diario contable'!F106,0)","v":0},{"$f":"IF('Diario contable'!C106=\"Gastos de mercadeo\",'Diario contable'!I106,IF('Diario contable'!E106=\"Gastos de mercadeo\",'Diario contable'!I106,0))","v":0},{"$f":"IF('Diario contable'!C106=\"Gastos de mercadeo\",'Diario contable'!H106,IF('Diario contable'!E106=\"Gastos de mercadeo\",'Diario contable'!H106,0))","v":"00:00:00"},null,null,{"$f":"+IF('Diario contable'!C106=\"Gastos de suministros de oficina\",'Diario contable'!F106,0)","v":0},null,null,null,{"$f":"+IF('Diario contable'!E106=\"Gastos de suministros de oficina\",'Diario contable'!F106,0)","v":0},{"$f":"IF('Diario contable'!C106=\"Gastos de suministros de oficina\",'Diario contable'!I106,IF('Diario contable'!E106=\"Gastos de suministros de oficina\",'Diario contable'!I106,0))","v":0},{"$f":"IF('Diario contable'!C106=\"Gastos de suministros de oficina\",'Diario contable'!H106,IF('Diario contable'!E106=\"Gastos de suministros de oficina\",'Diario contable'!H106,0))","v":"00:00:00"}]
[null,null,{"$f":"+IF('Diario contable'!C107=\"Caja\",'Diario contable'!F107,0)","v":0},null,null,null,{"$f":"+IF('Diario contable'!E107=\"Caja\",'Diario contable'!F107,0)","v":0},{"$f":"IF('Diario contable'!C107=\"Caja\",'Diario contable'!I107,IF('Diario contable'!E107=\"Caja\",'Diario contable'!I107,0))","v":0},{"$f":"IF('Diario contable'!C107=\"Caja\",'Diario contable'!H107,IF('Diario contable'!E107=\"Caja\",'Diario contable'!H107,0))","v":"00:00:00"},null,null,{"$f":"+IF('Diario contable'!C107=\"Maquinaria\",'Diario contable'!F107,0)","v":0},null,null,null,{"$f":"+IF('Diario contable'!E107=\"Maquinaria\",'Diario contable'!F107,0)","v":0},{"$f":"IF('Diario contable'!C107=\"Maquinaria\",'Diario contable'!I107,IF('Diario contable'!E107=\"Maquinaria\",'Diario contable'!I107,0))","v":0},{"$f":"IF('Diario contable'!C107=\"Maquinaria\",'Diario contable'!H107,IF('Diario contable'!E107=\"Maquinaria\",'Diario contable'!H107,0))","v":"00:00:00"},null,null,{"$f":"+IF('Diario contable'!C107=\"Herramientas\",'Diario contable'!F107,0)","v":0},null,null,null,{"$f":"+IF('Diario contable'!E107=\"Herramientas\",'Diario contable'!F107,0)","v":0},{"$f":"IF('Diario contable'!C107=\"Herramientas\",'Diario contable'!I107,IF('Diario contable'!E107=\"Herramientas\",'Diario contable'!I107,0))","v":0},{"$f":"IF('Diario contable'!C107=\"Herramientas\",'Diario contable'!H107,IF('Diario contable'!E107=\"Herramientas\",'Diario contable'!H107,0))","v":"00:00:00"},null,null,{"$f":"+IF('Diario contable'!C107=\"Donaciones\",'Diario contable'!F107,0)","v":0},null,null,null,{"$f":"+IF('Diario contable'!E107=\"Donaciones\",'Diario contable'!F107,0)","v":0},{"$f":"IF('Diario contable'!C107=\"Donaciones\",'Diario contable'!I107,IF('Diario contable'!E107=\"Donaciones\",'Diario contable'!I107,0))","v":0},{"$f":"IF('Diario contable'!C107=\"Donaciones\",'Diario contable'!H107,IF('Diario contable'!E107=\"Donaciones\",'Diario contable'!H107,0))","v":"00:00:00"},null,null,{"$f":"+IF('Diario contable'!C107=\"Inventario\",'Diario contable'!F107,0)","v":0},null,null,null,{"$f":"+IF('Diario contable'!E107=\"Inventario\",'Diario contable'!F107,0)","v":0},{"$f":"IF('Diario contable'!C107=\"Inventario\",'Diario contable'!I107,IF('Diario contable'!E107=\"Inventario\",'Diario contable'!I107,0))","v":0},{"$f":"IF('Diario contable'!C107=\"Inventario\",'Diario contable'!H107,IF('Diario contable'!E107=\"Inventario\",'Diario contable'!H107,0))","v":"00:00:00"},null,null,{"$f":"+IF('Diario contable'!C107=\"Costo de ventas\",'Diario contable'!F107,0)","v":0},null,null,null,{"$f":"+IF('Diario contable'!E107=\"Costo de ventas\",'Diario contable'!F107,0)","v":0},{"$f":"IF('Diario contable'!C107=\"Costo de ventas\",'Diario contable'!I107,IF('Diario contable'!E107=\"Costo de ventas\",'Diario contable'!I107,0))","v":0},{"$f":"IF('Diario contable'!C107=\"Costo de ventas\",'Diario contable'!H107,IF('Diario contable'!E107=\"Costo de ventas\",'Diario contable'!H107,0))","v":"00:00:00"},null,null,{"$f":"+IF('Diario contable'!C107=\"Ventas\",'Diario contable'!F107,0)","v":0},null,null,null,{"$f":"+IF('Diario contable'!E107=\"Ventas\",'Diario contable'!F107,0)","v":0},{"$f":"IF('Diario contable'!C107=\"Ventas\",'Diario contable'!I107,IF('Diario contable'!E107=\"Ventas\",'Diario contable'!I107,0))","v":0},{"$f":"IF('Diario contable'!C107=\"Ventas\",'Diario contable'!H107,IF('Diario contable'!E107=\"Ventas\",'Diario contable'!H107,0))","v":"00:00:00"},null,null,{"$f":"+IF('Diario contable'!C107=\"Gastos por salarios\",'Diario contable'!F107,0)","v":0},null,null,null,{"$f":"+IF('Diario contable'!E107=\"Gastos por salarios\",'Diario contable'!F107,0)","v":0},{"$f":"IF('Diario contable'!C107=\"Gastos por salarios\",'Diario contable'!I107,IF('Diario contable'!E107=\"Gastos por salarios\",'Diario contable'!I107,0))","v":0},{"$f":"IF('Diario contable'!C107=\"Gastos por salarios\",'Diario contable'!H107,IF('Diario contable'!E107=\"Gastos por salarios\",'Diario contable'!H107,0))","v":"00:00:00"},null,null,{"$f":"+IF('Diario contable'!C107=\"Gastos operacionales\",'Diario contable'!F107,0)","v":0},null,null,null,{"$f":"+IF('Diario contable'!E107=\"Gastos operacionales\",'Diario contable'!F107,0)","v":0},{"$f":"IF('Diario contable'!C107=\"Gastos operacionales\",'Diario contable'!I107,IF('Diario contable'!E107=\"Gastos operacionales\",'Diario contable'!I107,0))","v":0},{"$f":"IF('Diario contable'!C107=\"Gastos operacionales\",'Diario contable'!H107,IF('Diario contable'!E107=\"Gastos operacionales\",'Diario contable'!H107,0))","v":"00:00:00"},null,null,{"$f":"+IF('Diario contable'!C107=\"Suministros de oficina\",'Diario contable'!F107,0)","v":0},null,null,null,{"$f":"+IF('Diario contable'!E107=\"Suministros de oficina\",'Diario contable'!F107,0)","v":0},{"$f":"IF('Diario contable'!C107=\"Suministros de oficina\",'Diario contable'!I107,IF('Diario contable'!E107=\"Suministros de oficina\",'Diario contable'!I107,0))","v":0},{"$f":"IF('Diario contable'!C107=\"Suministros de oficina\",'Diario contable'!H107,IF('Diario contable'!E107=\"Suministros de oficina\",'Diario contable'!H107,0))","v":"00:00:00"},null,null,{"$f":"+IF('Diario contable'!C107=\"Capital social\",'Diario contable'!F107,0)","v":0},null,null,null,{"$f":"+IF('Diario contable'!E107=\"Capital social\",'Diario contable'!F107,0)","v":0},{"$f":"IF('Diario contable'!C107=\"Capital social\",'Diario contable'!I107,IF('Diario contable'!E107=\"Capital social\",'Diario contable'!I107,0))","v":0},{"$f":"IF('Diario contable'!C107=\"Capital social\",'Diario contable'!H107,IF('Diario contable'!E107=\"Capital social\",'Diario contable'!H107,0))","v":"00:00:00"},null,null,{"$f":"+IF('Diario contable'!C107=\"Gastos de mercadeo\",'Diario contable'!F107,0)","v":0},null,null,null,{"$f":"+IF('Diario contable'!E107=\"Gastos de mercadeo\",'Diario contable'!F107,0)","v":0},{"$f":"IF('Diario contable'!C107=\"Gastos de mercadeo\",'Diario contable'!I107,IF('Diario contable'!E107=\"Gastos de mercadeo\",'Diario contable'!I107,0))","v":0},{"$f":"IF('Diario contable'!C107=\"Gastos de mercadeo\",'Diario contable'!H107,IF('Diario contable'!E107=\"Gastos de mercadeo\",'Diario contable'!H107,0))","v":"00:00:00"},null,null,{"$f":"+IF('Diario contable'!C107=\"Gastos de suministros de oficina\",'Diario contable'!F107,0)","v":0},null,null,null,{"$f":"+IF('Diario contable'!E107=\"Gastos de suministros de oficina\",'Diario contable'!F107,0)","v":0},{"$f":"IF('Diario contable'!C107=\"Gastos de suministros de oficina\",'Diario contable'!I107,IF('Diario contable'!E107=\"Gastos de suministros de oficina\",'Diario contable'!I107,0))","v":0},{"$f":"IF('Diario contable'!C107=\"Gastos de suministros de oficina\",'Diario contable'!H107,IF('Diario contable'!E107=\"Gastos de suministros de oficina\",'Diario contable'!H107,0))","v":"00:00:00"}]
[null,null,{"$f":"+IF('Diario contable'!C108=\"Caja\",'Diario contable'!F108,0)","v":0},null,null,null,{"$f":"+IF('Diario contable'!E108=\"Caja\",'Diario contable'!F108,0)","v":0},{"$f":"IF('Diario contable'!C108=\"Caja\",'Diario contable'!I108,IF('Diario contable'!E108=\"Caja\",'Diario contable'!I108,0))","v":0},{"$f":"IF('Diario contable'!C108=\"Caja\",'Diario contable'!H108,IF('Diario contable'!E108=\"Caja\",'Diario contable'!H108,0))","v":"00:00:00"},null,null,{"$f":"+IF('Diario contable'!C108=\"Maquinaria\",'Diario contable'!F108,0)","v":0},null,null,null,{"$f":"+IF('Diario contable'!E108=\"Maquinaria\",'Diario contable'!F108,0)","v":0},{"$f":"IF('Diario contable'!C108=\"Maquinaria\",'Diario contable'!I108,IF('Diario contable'!E108=\"Maquinaria\",'Diario contable'!I108,0))","v":0},{"$f":"IF('Diario contable'!C108=\"Maquinaria\",'Diario contable'!H108,IF('Diario contable'!E108=\"Maquinaria\",'Diario contable'!H108,0))","v":"00:00:00"},null,null,{"$f":"+IF('Diario contable'!C108=\"Herramientas\",'Diario contable'!F108,0)","v":0},null,null,null,{"$f":"+IF('Diario contable'!E108=\"Herramientas\",'Diario contable'!F108,0)","v":0},{"$f":"IF('Diario contable'!C108=\"Herramientas\",'Diario contable'!I108,IF('Diario contable'!E108=\"Herramientas\",'Diario contable'!I108,0))","v":0},{"$f":"IF('Diario contable'!C108=\"Herramientas\",'Diario contable'!H108,IF('Diario contable'!E108=\"Herramientas\",'Diario contable'!H108,0))","v":"00:00:00"},null,null,{"$f":"+IF('Diario contable'!C108=\"Donaciones\",'Diario contable'!F108,0)","v":0},null,null,null,{"$f":"+IF('Diario contable'!E108=\"Donaciones\",'Diario contable'!F108,0)","v":0},{"$f":"IF('Diario contable'!C108=\"Donaciones\",'Diario contable'!I108,IF('Diario contable'!E108=\"Donaciones\",'Diario contable'!I108,0))","v":0},{"$f":"IF('Diario contable'!C108=\"Donaciones\",'Diario contable'!H108,IF('Diario contable'!E108=\"Donaciones\",'Diario contable'!H108,0))","v":"00:00:00"},null,null,{"$f":"+IF('Diario contable'!C108=\"Inventario\",'Diario contable'!F108,0)","v":0},null,null,null,{"$f":"+IF('Diario contable'!E108=\"Inventario\",'Diario contable'!F108,0)","v":0},{"$f":"IF('Diario contable'!C108=\"Inventario\",'Diario contable'!I108,IF('Diario contable'!E108=\"Inventario\",'Diario contable'!I108,0))","v":0},{"$f":"IF('Diario contable'!C108=\"Inventario\",'Diario contable'!H108,IF('Diario contable'!E108=\"Inventario\",'Diario contable'!H108,0))","v":"00:00:00"},null,null,{"$f":"+IF('Diario contable'!C108=\"Costo de ventas\",'Diario contable'!F108,0)","v":0},null,null,null,{"$f":"+IF('Diario contable'!E108=\"Costo de ventas\",'Diario contable'!F108,0)","v":0},{"$f":"IF('Diario contable'!C108=\"Costo de ventas\",'Diario contable'!I108,IF('Diario contable'!E108=\"Costo de ventas\",'Diario contable'!I108,0))","v":0},{"$f":"IF('Diario contable'!C108=\"Costo de ventas\",'Diario contable'!H108,IF('Diario contable'!E108=\"Costo de ventas\",'Diario contable'!H108,0))","v":"00:00:00"},null,null,{"$f":"+IF('Diario contable'!C108=\"Ventas\",'Diario contable'!F108,0)","v":0},null,null,null,{"$f":"+IF('Diario contable'!E108=\"Ventas\",'Diario contable'!F108,0)","v":0},{"$f":"IF('Diario contable'!C108=\"Ventas\",'Diario contable'!I108,IF('Diario contable'!E108=\"Ventas\",'Diario contable'!I108,0))","v":0},{"$f":"IF('Diario contable'!C108=\"Ventas\",'Diario contable'!H108,IF('Diario contable'!E108=\"Ventas\",'Diario contable'!H108,0))","v":"00:00:00"},null,null,{"$f":"+IF('Diario contable'!C108=\"Gastos por salarios\",'Diario contable'!F108,0)","v":0},null,null,null,{"$f":"+IF('Diario contable'!E108=\"Gastos por salarios\",'Diario contable'!F108,0)","v":0},{"$f":"IF('Diario contable'!C108=\"Gastos por salarios\",'Diario contable'!I108,IF('Diario contable'!E108=\"Gastos por salarios\",'Diario contable'!I108,0))","v":0},{"$f":"IF('Diario contable'!C108=\"Gastos por salarios\",'Diario contable'!H108,IF('Diario contable'!E108=\"Gastos por salarios\",'Diario contable'!H108,0))","v":"00:00:00"},null,null,{"$f":"+IF('Diario contable'!C108=\"Gastos operacionales\",'Diario contable'!F108,0)","v":0},null,null,null,{"$f":"+IF('Diario contable'!E108=\"Gastos operacionales\",'Diario contable'!F108,0)","v":0},{"$f":"IF('Diario contable'!C108=\"Gastos operacionales\",'Diario contable'!I108,IF('Diario contable'!E108=\"Gastos operacionales\",'Diario contable'!I108,0))","v":0},{"$f":"IF('Diario contable'!C108=\"Gastos operacionales\",'Diario contable'!H108,IF('Diario contable'!E108=\"Gastos operacionales\",'Diario contable'!H108,0))","v":"00:00:00"},null,null,{"$f":"+IF('Diario contable'!C108=\"Suministros de oficina\",'Diario contable'!F108,0)","v":0},null,null,null,{"$f":"+IF('Diario contable'!E108=\"Suministros de oficina\",'Diario contable'!F108,0)","v":0},{"$f":"IF('Diario contable'!C108=\"Suministros de oficina\",'Diario contable'!I108,IF('Diario contable'!E108=\"Suministros de oficina\",'Diario contable'!I108,0))","v":0},{"$f":"IF('Diario contable'!C108=\"Suministros de oficina\",'Diario contable'!H108,IF('Diario contable'!E108=\"Suministros de oficina\",'Diario contable'!H108,0))","v":"00:00:00"},null,null,{"$f":"+IF('Diario contable'!C108=\"Capital social\",'Diario contable'!F108,0)","v":0},null,null,null,{"$f":"+IF('Diario contable'!E108=\"Capital social\",'Diario contable'!F108,0)","v":0},{"$f":"IF('Diario contable'!C108=\"Capital social\",'Diario contable'!I108,IF('Diario contable'!E108=\"Capital social\",'Diario contable'!I108,0))","v":0},{"$f":"IF('Diario contable'!C108=\"Capital social\",'Diario contable'!H108,IF('Diario contable'!E108=\"Capital social\",'Diario contable'!H108,0))","v":"00:00:00"},null,null,{"$f":"+IF('Diario contable'!C108=\"Gastos de mercadeo\",'Diario contable'!F108,0)","v":0},null,null,null,{"$f":"+IF('Diario contable'!E108=\"Gastos de mercadeo\",'Diario contable'!F108,0)","v":0},{"$f":"IF('Diario contable'!C108=\"Gastos de mercadeo\",'Diario contable'!I108,IF('Diario contable'!E108=\"Gastos de mercadeo\",'Diario contable'!I108,0))","v":0},{"$f":"IF('Diario contable'!C108=\"Gastos de mercadeo\",'Diario contable'!H108,IF('Diario contable'!E108=\"Gastos de mercadeo\",'Diario contable'!H108,0))","v":"00:00:00"},null,null,{"$f":"+IF('Diario contable'!C108=\"Gastos de suministros de oficina\",'Diario contable'!F108,0)","v":0},null,null,null,{"$f":"+IF('Diario contable'!E108=\"Gastos de suministros de oficina\",'Diario contable'!F108,0)","v":0},{"$f":"IF('Diario contable'!C108=\"Gastos de suministros de oficina\",'Diario contable'!I108,IF('Diario contable'!E108=\"Gastos de suministros de oficina\",'Diario contable'!I108,0))","v":0},{"$f":"IF('Diario contable'!C108=\"Gastos de suministros de oficina\",'Diario contable'!H108,IF('Diario contable'!E108=\"Gastos de suministros de oficina\",'Diario contable'!H108,0))","v":"00:00:00"}]
[null,null,{"$f":"+IF('Diario contable'!C109=\"Caja\",'Diario contable'!F109,0)","v":0},null,null,null,{"$f":"+IF('Diario contable'!E109=\"Caja\",'Diario contable'!F109,0)","v":0},{"$f":"IF('Diario contable'!C109=\"Caja\",'Diario contable'!I109,IF('Diario contable'!E109=\"Caja\",'Diario contable'!I109,0))","v":0},{"$f":"IF('Diario contable'!C109=\"Caja\",'Diario contable'!H109,IF('Diario contable'!E109=\"Caja\",'Diario contable'!H109,0))","v":"00:00:00"},null,null,{"$f":"+IF('Diario contable'!C109=\"Maquinaria\",'Diario contable'!F109,0)","v":0},null,null,null,{"$f":"+IF('Diario contable'!E109=\"Maquinaria\",'Diario contable'!F109,0)","v":0},{"$f":"IF('Diario contable'!C109=\"Maquinaria\",'Diario contable'!I109,IF('Diario contable'!E109=\"Maquinaria\",'Diario contable'!I109,0))","v":0},{"$f":"IF('Diario contable'!C109=\"Maquinaria\",'Diario contable'!H109,IF('Diario contable'!E109=\"Maquinaria\",'Diario contable'!H109,0))","v":"00:00:00"},null,null,{"$f":"+IF('Diario contable'!C109=\"Herramientas\",'Diario contable'!F109,0)","v":0},null,null,null,{"$f":"+IF('Diario contable'!E109=\"Herramientas\",'Diario contable'!F109,0)","v":0},{"$f":"IF('Diario contable'!C109=\"Herramientas\",'Diario contable'!I109,IF('Diario contable'!E109=\"Herramientas\",'Diario contable'!I109,0))","v":0},{"$f":"IF('Diario contable'!C109=\"Herramientas\",'Diario contable'!H109,IF('Diario contable'!E109=\"Herramientas\",'Diario contable'!H109,0))","v":"00:00:00"},null,null,{"$f":"+IF('Diario contable'!C109=\"Donaciones\",'Diario contable'!F109,0)","v":0},null,null,null,{"$f":"+IF('Diario contable'!E109=\"Donaciones\",'Diario contable'!F109,0)","v":0},{"$f":"IF('Diario contable'!C109=\"Donaciones\",'Diario contable'!I109,IF('Diario contable'!E109=\"Donaciones\",'Diario contable'!I109,0))","v":0},{"$f":"IF('Diario contable'!C109=\"Donaciones\",'Diario contable'!H109,IF('Diario contable'!E109=\"Donaciones\",'Diario contable'!H109,0))","v":"00:00:00"},null,null,{"$f":"+IF('Diario contable'!C109=\"Inventario\",'Diario contable'!F109,0)","v":0},null,null,null,{"$f":"+IF('Diario contable'!E109=\"Inventario\",'Diario contable'!F109,0)","v":0},{"$f":"IF('Diario contable'!C109=\"Inventario\",'Diario contable'!I109,IF('Diario contable'!E109=\"Inventario\",'Diario contable'!I109,0))","v":0},{"$f":"IF('Diario contable'!C109=\"Inventario\",'Diario contable'!H109,IF('Diario contable'!E109=\"Inventario\",'Diario contable'!H109,0))","v":"00:00:00"},null,null,{"$f":"+IF('Diario contable'!C109=\"Costo de ventas\",'Diario contable'!F109,0)","v":0},null,null,null,{"$f":"+IF('Diario contable'!E109=\"Costo de ventas\",'Diario contable'!F109,0)","v":0},{"$f":"IF('Diario contable'!C109=\"Costo de ventas\",'Diario contable'!I109,IF('Diario contable'!E109=\"Costo de ventas\",'Diario contable'!I109,0))","v":0},{"$f":"IF('Diario contable'!C109=\"Costo de ventas\",'Diario contable'!H109,IF('Diario contable'!E109=\"Costo de ventas\",'Diario contable'!H109,0))","v":"00:00:00"},null,null,{"$f":"+IF('Diario contable'!C109=\"Ventas\",'Diario contable'!F109,0)","v":0},null,null,null,{"$f":"+IF('Diario contable'!E109=\"Ventas\",'Diario contable'!F109,0)","v":0},{"$f":"IF('Diario contable'!C109=\"Ventas\",'Diario contable'!I109,IF('Diario contable'!E109=\"Ventas\",'Diario contable'!I109,0))","v":0},{"$f":"IF('Diario contable'!C109=\"Ventas\",'Diario contable'!H109,IF('Diario contable'!E109=\"Ventas\",'Diario contable'!H109,0))","v":"00:00:00"},null,null,{"$f":"+IF('Diario contable'!C109=\"Gastos por salarios\",'Diario contable'!F109,0)","v":0},null,null,null,{"$f":"+IF('Diario contable'!E109=\"Gastos por salarios\",'Diario contable'!F109,0)","v":0},{"$f":"IF('Diario contable'!C109=\"Gastos por salarios\",'Diario contable'!I109,IF('Diario contable'!E109=\"Gastos por salarios\",'Diario contable'!I109,0))","v":0},{"$f":"IF('Diario contable'!C109=\"Gastos por salarios\",'Diario contable'!H109,IF('Diario contable'!E109=\"Gastos por salarios\",'Diario contable'!H109,0))","v":"00:00:00"},null,null,{"$f":"+IF('Diario contable'!C109=\"Gastos operacionales\",'Diario contable'!F109,0)","v":0},null,null,null,{"$f":"+IF('Diario contable'!E109=\"Gastos operacionales\",'Diario contable'!F109,0)","v":0},{"$f":"IF('Diario contable'!C109=\"Gastos operacionales\",'Diario contable'!I109,IF('Diario contable'!E109=\"Gastos operacionales\",'Diario contable'!I109,0))","v":0},{"$f":"IF('Diario contable'!C109=\"Gastos operacionales\",'Diario contable'!H109,IF('Diario contable'!E109=\"Gastos operacionales\",'Diario contable'!H109,0))","v":"00:00:00"},null,null,{"$f":"+IF('Diario contable'!C109=\"Suministros de oficina\",'Diario contable'!F109,0)","v":0},null,null,null,{"$f":"+IF('Diario contable'!E109=\"Suministros de oficina\",'Diario contable'!F109,0)","v":0},{"$f":"IF('Diario contable'!C109=\"Suministros de oficina\",'Diario contable'!I109,IF('Diario contable'!E109=\"Suministros de oficina\",'Diario contable'!I109,0))","v":0},{"$f":"IF('Diario contable'!C109=\"Suministros de oficina\",'Diario contable'!H109,IF('Diario contable'!E109=\"Suministros de oficina\",'Diario contable'!H109,0))","v":"00:00:00"},null,null,{"$f":"+IF('Diario contable'!C109=\"Capital social\",'Diario contable'!F109,0)","v":0},null,null,null,{"$f":"+IF('Diario contable'!E109=\"Capital social\",'Diario contable'!F109,0)","v":0},{"$f":"IF('Diario contable'!C109=\"Capital social\",'Diario contable'!I109,IF('Diario contable'!E109=\"Capital social\",'Diario contable'!I109,0))","v":0},{"$f":"IF('Diario contable'!C109=\"Capital social\",'Diario contable'!H109,IF('Diario contable'!E109=\"Capital social\",'Diario contable'!H109,0))","v":"00:00:00"},null,null,{"$f":"+IF('Diario contable'!C109=\"Gastos de mercadeo\",'Diario contable'!F109,0)","v":0},null,null,null,{"$f":"+IF('Diario contable'!E109=\"Gastos de mercadeo\",'Diario contable'!F109,0)","v":0},{"$f":"IF('Diario contable'!C109=\"Gastos de mercadeo\",'Diario contable'!I109,IF('Diario contable'!E109=\"Gastos de mercadeo\",'Diario contable'!I109,0))","v":0},{"$f":"IF('Diario contable'!C109=\"Gastos de mercadeo\",'Diario contable'!H109,IF('Diario contable'!E109=\"Gastos de mercadeo\",'Diario contable'!H109,0))","v":"00:00:00"},null,null,{"$f":"+IF('Diario contable'!C109=\"Gastos de suministros de oficina\",'Diario contable'!F109,0)","v":0},null,null,null,{"$f":"+IF('Diario contable'!E109=\"Gastos de suministros de oficina\",'Diario contable'!F109,0)","v":0},{"$f":"IF('Diario contable'!C109=\"Gastos de suministros de oficina\",'Diario contable'!I109,IF('Diario contable'!E109=\"Gastos de suministros de oficina\",'Diario contable'!I109,0))","v":0},{"$f":"IF('Diario contable'!C109=\"Gastos de suministros de oficina\",'Diario contable'!H109,IF('Diario contable'!E109=\"Gastos de suministros de oficina\",'Diario contable'!H109,0))","v":"00:00:00"}]
[null,null,{"$f":"+IF('Diario contable'!C110=\"Caja\",'Diario contable'!F110,0)","v":0},null,null,null,{"$f":"+IF('Diario contable'!E110=\"Caja\",'Diario contable'!F110,0)","v":0},{"$f":"IF('Diario contable'!C110=\"Caja\",'Diario contable'!I110,IF('Diario contable'!E110=\"Caja\",'Diario contable'!I110,0))","v":0},{"$f":"IF('Diario contable'!C110=\"Caja\",'Diario contable'!H110,IF('Diario contable'!E110=\"Caja\",'Diario contable'!H110,0))","v":"00:00:00"},null,null,{"$f":"+IF('Diario contable'!C110=\"Maquinaria\",'Diario contable'!F110,0)","v":0},null,null,null,{"$f":"+IF('Diario contable'!E110=\"Maquinaria\",'Diario contable'!F110,0)","v":0},{"$f":"IF('Diario contable'!C110=\"Maquinaria\",'Diario contable'!I110,IF('Diario contable'!E110=\"Maquinaria\",'Diario contable'!I110,0))","v":0},{"$f":"IF('Diario contable'!C110=\"Maquinaria\",'Diario contable'!H110,IF('Diario contable'!E110=\"Maquinaria\",'Diario contable'!H110,0))","v":"00:00:00"},null,null,{"$f":"+IF('Diario contable'!C110=\"Herramientas\",'Diario contable'!F110,0)","v":0},null,null,null,{"$f":"+IF('Diario contable'!E110=\"Herramientas\",'Diario contable'!F110,0)","v":0},{"$f":"IF('Diario contable'!C110=\"Herramientas\",'Diario contable'!I110,IF('Diario contable'!E110=\"Herramientas\",'Diario contable'!I110,0))","v":0},{"$f":"IF('Diario contable'!C110=\"Herramientas\",'Diario contable'!H110,IF('Diario contable'!E110=\"Herramientas\",'Diario contable'!H110,0))","v":"00:00:00"},null,null,{"$f":"+IF('Diario contable'!C110=\"Donaciones\",'Diario contable'!F110,0)","v":0},null,null,null,{"$f":"+IF('Diario contable'!E110=\"Donaciones\",'Diario contable'!F110,0)","v":0},{"$f":"IF('Diario contable'!C110=\"Donaciones\",'Diario contable'!I110,IF('Diario contable'!E110=\"Donaciones\",'Diario contable'!I110,0))","v":0},{"$f":"IF('Diario contable'!C110=\"Donaciones\",'Diario contable'!H110,IF('Diario contable'!E110=\"Donaciones\",'Diario contable'!H110,0))","v":"00:00:00"},null,null,{"$f":"+IF('Diario contable'!C110=\"Inventario\",'Diario contable'!F110,0)","v":0},null,null,null,{"$f":"+IF('Diario contable'!E110=\"Inventario\",'Diario contable'!F110,0)","v":0},{"$f":"IF('Diario contable'!C110=\"Inventario\",'Diario contable'!I110,IF('Diario contable'!E110=\"Inventario\",'Diario contable'!I110,0))","v":0},{"$f":"IF('Diario contable'!C110=\"Inventario\",'Diario contable'!H110,IF('Diario contable'!E110=\"Inventario\",'Diario contable'!H110,0))","v":"00:00:00"},null,null,{"$f":"+IF('Diario contable'!C110=\"Costo de ventas\",'Diario contable'!F110,0)","v":0},null,null,null,{"$f":"+IF('Diario contable'!E110=\"Costo de ventas\",'Diario contable'!F110,0)","v":0},{"$f":"IF('Diario contable'!C110=\"Costo de ventas\",'Diario contable'!I110,IF('Diario contable'!E110=\"Costo de ventas\",'Diario contable'!I110,0))","v":0},{"$f":"IF('Diario contable'!C110=\"Costo de ventas\",'Diario contable'!H110,IF('Diario contable'!E110=\"Costo de ventas\",'Diario contable'!H110,0))","v":"00:00:00"},null,null,{"$f":"+IF('Diario contable'!C110=\"Ventas\",'Diario contable'!F110,0)","v":0},null,null,null,{"$f":"+IF('Diario contable'!E110=\"Ventas\",'Diario contable'!F110,0)","v":0},{"$f":"IF('Diario contable'!C110=\"Ventas\",'Diario contable'!I110,IF('Diario contable'!E110=\"Ventas\",'Diario contable'!I110,0))","v":0},{"$f":"IF('Diario contable'!C110=\"Ventas\",'Diario contable'!H110,IF('Diario contable'!E110=\"Ventas\",'Diario contable'!H110,0))","v":"00:00:00"},null,null,{"$f":"+IF('Diario contable'!C110=\"Gastos por salarios\",'Diario contable'!F110,0)","v":0},null,null,null,{"$f":"+IF('Diario contable'!E110=\"Gastos por salarios\",'Diario contable'!F110,0)","v":0},{"$f":"IF('Diario contable'!C110=\"Gastos por salarios\",'Diario contable'!I110,IF('Diario contable'!E110=\"Gastos por salarios\",'Diario contable'!I110,0))","v":0},{"$f":"IF('Diario contable'!C110=\"Gastos por salarios\",'Diario contable'!H110,IF('Diario contable'!E110=\"Gastos por salarios\",'Diario contable'!H110,0))","v":"00:00:00"},null,null,{"$f":"+IF('Diario contable'!C110=\"Gastos operacionales\",'Diario contable'!F110,0)","v":0},null,null,null,{"$f":"+IF('Diario contable'!E110=\"Gastos operacionales\",'Diario contable'!F110,0)","v":0},{"$f":"IF('Diario contable'!C110=\"Gastos operacionales\",'Diario contable'!I110,IF('Diario contable'!E110=\"Gastos operacionales\",'Diario contable'!I110,0))","v":0},{"$f":"IF('Diario contable'!C110=\"Gastos operacionales\",'Diario contable'!H110,IF('Diario contable'!E110=\"Gastos operacionales\",'Diario contable'!H110,0))","v":"00:00:00"},null,null,{"$f":"+IF('Diario contable'!C110=\"Suministros de oficina\",'Diario contable'!F110,0)","v":0},null,null,null,{"$f":"+IF('Diario contable'!E110=\"Suministros de oficina\",'Diario contable'!F110,0)","v":0},{"$f":"IF('Diario contable'!C110=\"Suministros de oficina\",'Diario contable'!I110,IF('Diario contable'!E110=\"Suministros de oficina\",'Diario contable'!I110,0))","v":0},{"$f":"IF('Diario contable'!C110=\"Suministros de oficina\",'Diario contable'!H110,IF('Diario contable'!E110=\"Suministros de oficina\",'Diario contable'!H110,0))","v":"00:00:00"},null,null,{"$f":"+IF('Diario contable'!C110=\"Capital social\",'Diario contable'!F110,0)","v":0},null,null,null,{"$f":"+IF('Diario contable'!E110=\"Capital social\",'Diario contable'!F110,0)","v":0},{"$f":"IF('Diario contable'!C110=\"Capital social\",'Diario contable'!I110,IF('Diario contable'!E110=\"Capital social\",'Diario contable'!I110,0))","v":0},{"$f":"IF('Diario contable'!C110=\"Capital social\",'Diario contable'!H110,IF('Diario contable'!E110=\"Capital social\",'Diario contable'!H110,0))","v":"00:00:00"},null,null,{"$f":"+IF('Diario contable'!C110=\"Gastos de mercadeo\",'Diario contable'!F110,0)","v":0},null,null,null,{"$f":"+IF('Diario contable'!E110=\"Gastos de mercadeo\",'Diario contable'!F110,0)","v":0},{"$f":"IF('Diario contable'!C110=\"Gastos de mercadeo\",'Diario contable'!I110,IF('Diario contable'!E110=\"Gastos de mercadeo\",'Diario contable'!I110,0))","v":0},{"$f":"IF('Diario contable'!C110=\"Gastos de mercadeo\",'Diario contable'!H110,IF('Diario contable'!E110=\"Gastos de mercadeo\",'Diario contable'!H110,0))","v":"00:00:00"},null,null,{"$f":"+IF('Diario contable'!C110=\"Gastos de suministros de oficina\",'Diario contable'!F110,0)","v":0},null,null,null,{"$f":"+IF('Diario contable'!E110=\"Gastos de suministros de oficina\",'Diario contable'!F110,0)","v":0},{"$f":"IF('Diario contable'!C110=\"Gastos de suministros de oficina\",'Diario contable'!I110,IF('Diario contable'!E110=\"Gastos de suministros de oficina\",'Diario contable'!I110,0))","v":0},{"$f":"IF('Diario contable'!C110=\"Gastos de suministros de oficina\",'Diario contable'!H110,IF('Diario contable'!E110=\"Gastos de suministros de oficina\",'Diario contable'!H110,0))","v":"00:00:00"}]
[null,null,{"$f":"+IF('Diario contable'!C111=\"Caja\",'Diario contable'!F111,0)","v":0},null,null,null,{"$f":"+IF('Diario contable'!E111=\"Caja\",'Diario contable'!F111,0)","v":0},{"$f":"IF('Diario contable'!C111=\"Caja\",'Diario contable'!I111,IF('Diario contable'!E111=\"Caja\",'Diario contable'!I111,0))","v":0},{"$f":"IF('Diario contable'!C111=\"Caja\",'Diario contable'!H111,IF('Diario contable'!E111=\"Caja\",'Diario contable'!H111,0))","v":"00:00:00"},null,null,{"$f":"+IF('Diario contable'!C111=\"Maquinaria\",'Diario contable'!F111,0)","v":0},null,null,null,{"$f":"+IF('Diario contable'!E111=\"Maquinaria\",'Diario contable'!F111,0)","v":0},{"$f":"IF('Diario contable'!C111=\"Maquinaria\",'Diario contable'!I111,IF('Diario contable'!E111=\"Maquinaria\",'Diario contable'!I111,0))","v":0},{"$f":"IF('Diario contable'!C111=\"Maquinaria\",'Diario contable'!H111,IF('Diario contable'!E111=\"Maquinaria\",'Diario contable'!H111,0))","v":"00:00:00"},null,null,{"$f":"+IF('Diario contable'!C111=\"Herramientas\",'Diario contable'!F111,0)","v":0},null,null,null,{"$f":"+IF('Diario contable'!E111=\"Herramientas\",'Diario contable'!F111,0)","v":0},{"$f":"IF('Diario contable'!C111=\"Herramientas\",'Diario contable'!I111,IF('Diario contable'!E111=\"Herramientas\",'Diario contable'!I111,0))","v":0},{"$f":"IF('Diario contable'!C111=\"Herramientas\",'Diario contable'!H111,IF('Diario contable'!E111=\"Herramientas\",'Diario contable'!H111,0))","v":"00:00:00"},null,null,{"$f":"+IF('Diario contable'!C111=\"Donaciones\",'Diario contable'!F111,0)","v":0},null,null,null,{"$f":"+IF('Diario contable'!E111=\"Donaciones\",'Diario contable'!F111,0)","v":0},{"$f":"IF('Diario contable'!C111=\"Donaciones\",'Diario contable'!I111,IF('Diario contable'!E111=\"Donaciones\",'Diario contable'!I111,0))","v":0},{"$f":"IF('Diario contable'!C111=\"Donaciones\",'Diario contable'!H111,IF('Diario contable'!E111=\"Donaciones\",'Diario contable'!H111,0))","v":"00:00:00"},null,null,{"$f":"+IF('Diario contable'!C111=\"Inventario\",'Diario contable'!F111,0)","v":0},null,null,null,{"$f":"+IF('Diario contable'!E111=\"Inventario\",'Diario contable'!F111,0)","v":0},{"$f":"IF('Diario contable'!C111=\"Inventario\",'Diario contable'!I111,IF('Diario contable'!E111=\"Inventario\",'Diario contable'!I111,0))","v":0},{"$f":"IF('Diario contable'!C111=\"Inventario\",'Diario contable'!H111,IF('Diario contable'!E111=\"Inventario\",'Diario contable'!H111,0))","v":"00:00:00"},null,null,{"$f":"+IF('Diario contable'!C111=\"Costo de ventas\",'Diario contable'!F111,0)","v":0},null,null,null,{"$f":"+IF('Diario contable'!E111=\"Costo de ventas\",'Diario contable'!F111,0)","v":0},{"$f":"IF('Diario contable'!C111=\"Costo de ventas\",'Diario contable'!I111,IF('Diario contable'!E111=\"Costo de ventas\",'Diario contable'!I111,0))","v":0},{"$f":"IF('Diario contable'!C111=\"Costo de ventas\",'Diario contable'!H111,IF('Diario contable'!E111=\"Costo de ventas\",'Diario contable'!H111,0))","v":"00:00:00"},null,null,{"$f":"+IF('Diario contable'!C111=\"Ventas\",'Diario contable'!F111,0)","v":0},null,null,null,{"$f":"+IF('Diario contable'!E111=\"Ventas\",'Diario contable'!F111,0)","v":0},{"$f":"IF('Diario contable'!C111=\"Ventas\",'Diario contable'!I111,IF('Diario contable'!E111=\"Ventas\",'Diario contable'!I111,0))","v":0},{"$f":"IF('Diario contable'!C111=\"Ventas\",'Diario contable'!H111,IF('Diario contable'!E111=\"Ventas\",'Diario contable'!H111,0))","v":"00:00:00"},null,null,{"$f":"+IF('Diario contable'!C111=\"Gastos por salarios\",'Diario contable'!F111,0)","v":0},null,null,null,{"$f":"+IF('Diario contable'!E111=\"Gastos por salarios\",'Diario contable'!F111,0)","v":0},{"$f":"IF('Diario contable'!C111=\"Gastos por salarios\",'Diario contable'!I111,IF('Diario contable'!E111=\"Gastos por salarios\",'Diario contable'!I111,0))","v":0},{"$f":"IF('Diario contable'!C111=\"Gastos por salarios\",'Diario contable'!H111,IF('Diario contable'!E111=\"Gastos por salarios\",'Diario contable'!H111,0))","v":"00:00:00"},null,null,{"$f":"+IF('Diario contable'!C111=\"Gastos operacionales\",'Diario contable'!F111,0)","v":0},null,null,null,{"$f":"+IF('Diario contable'!E111=\"Gastos operacionales\",'Diario contable'!F111,0)","v":0},{"$f":"IF('Diario contable'!C111=\"Gastos operacionales\",'Diario contable'!I111,IF('Diario contable'!E111=\"Gastos operacionales\",'Diario contable'!I111,0))","v":0},{"$f":"IF('Diario contable'!C111=\"Gastos operacionales\",'Diario contable'!H111,IF('Diario contable'!E111=\"Gastos operacionales\",'Diario contable'!H111,0))","v":"00:00:00"},null,null,{"$f":"+IF('Diario contable'!C111=\"Suministros de oficina\",'Diario contable'!F111,0)","v":0},null,null,null,{"$f":"+IF('Diario contable'!E111=\"Suministros de oficina\",'Diario contable'!F111,0)","v":0},{"$f":"IF('Diario contable'!C111=\"Suministros de oficina\",'Diario contable'!I111,IF('Diario contable'!E111=\"Suministros de oficina\",'Diario contable'!I111,0))","v":0},{"$f":"IF('Diario contable'!C111=\"Suministros de oficina\",'Diario contable'!H111,IF('Diario contable'!E111=\"Suministros de oficina\",'Diario contable'!H111,0))","v":"00:00:00"},null,null,{"$f":"+IF('Diario contable'!C111=\"Capital social\",'Diario contable'!F111,0)","v":0},null,null,null,{"$f":"+IF('Diario contable'!E111=\"Capital social\",'Diario contable'!F111,0)","v":0},{"$f":"IF('Diario contable'!C111=\"Capital social\",'Diario contable'!I111,IF('Diario contable'!E111=\"Capital social\",'Diario contable'!I111,0))","v":0},{"$f":"IF('Diario contable'!C111=\"Capital social\",'Diario contable'!H111,IF('Diario contable'!E111=\"Capital social\",'Diario contable'!H111,0))","v":"00:00:00"},null,null,{"$f":"+IF('Diario contable'!C111=\"Gastos de mercadeo\",'Diario contable'!F111,0)","v":0},null,null,null,{"$f":"+IF('Diario contable'!E111=\"Gastos de mercadeo\",'Diario contable'!F111,0)","v":0},{"$f":"IF('Diario contable'!C111=\"Gastos de mercadeo\",'Diario contable'!I111,IF('Diario contable'!E111=\"Gastos de mercadeo\",'Diario contable'!I111,0))","v":0},{"$f":"IF('Diario contable'!C111=\"Gastos de mercadeo\",'Diario contable'!H111,IF('Diario contable'!E111=\"Gastos de mercadeo\",'Diario contable'!H111,0))","v":"00:00:00"},null,null,{"$f":"+IF('Diario contable'!C111=\"Gastos de suministros de oficina\",'Diario contable'!F111,0)","v":0},null,null,null,{"$f":"+IF('Diario contable'!E111=\"Gastos de suministros de oficina\",'Diario contable'!F111,0)","v":0},{"$f":"IF('Diario contable'!C111=\"Gastos de suministros de oficina\",'Diario contable'!I111,IF('Diario contable'!E111=\"Gastos de suministros de oficina\",'Diario contable'!I111,0))","v":0},{"$f":"IF('Diario contable'!C111=\"Gastos de suministros de oficina\",'Diario contable'!H111,IF('Diario contable'!E111=\"Gastos de suministros de oficina\",'Diario contable'!H111,0))","v":"00:00:00"}]
[null,null,{"$f":"+IF('Diario contable'!C112=\"Caja\",'Diario contable'!F112,0)","v":0},null,null,null,{"$f":"+IF('Diario contable'!E112=\"Caja\",'Diario contable'!F112,0)","v":0},{"$f":"IF('Diario contable'!C112=\"Caja\",'Diario contable'!I112,IF('Diario contable'!E112=\"Caja\",'Diario contable'!I112,0))","v":0},{"$f":"IF('Diario contable'!C112=\"Caja\",'Diario contable'!H112,IF('Diario contable'!E112=\"Caja\",'Diario contable'!H112,0))","v":"00:00:00"},null,null,{"$f":"+IF('Diario contable'!C112=\"Maquinaria\",'Diario contable'!F112,0)","v":0},null,null,null,{"$f":"+IF('Diario contable'!E112=\"Maquinaria\",'Diario contable'!F112,0)","v":0},{"$f":"IF('Diario contable'!C112=\"Maquinaria\",'Diario contable'!I112,IF('Diario contable'!E112=\"Maquinaria\",'Diario contable'!I112,0))","v":0},{"$f":"IF('Diario contable'!C112=\"Maquinaria\",'Diario contable'!H112,IF('Diario contable'!E112=\"Maquinaria\",'Diario contable'!H112,0))","v":"00:00:00"},null,null,{"$f":"+IF('Diario contable'!C112=\"Herramientas\",'Diario contable'!F112,0)","v":0},null,null,null,{"$f":"+IF('Diario contable'!E112=\"Herramientas\",'Diario contable'!F112,0)","v":0},{"$f":"IF('Diario contable'!C112=\"Herramientas\",'Diario contable'!I112,IF('Diario contable'!E112=\"Herramientas\",'Diario contable'!I112,0))","v":0},{"$f":"IF('Diario contable'!C112=\"Herramientas\",'Diario contable'!H112,IF('Diario contable'!E112=\"Herramientas\",'Diario contable'!H112,0))","v":"00:00:00"},null,null,{"$f":"+IF('Diario contable'!C112=\"Donaciones\",'Diario contable'!F112,0)","v":0},null,null,null,{"$f":"+IF('Diario contable'!E112=\"Donaciones\",'Diario contable'!F112,0)","v":0},{"$f":"IF('Diario contable'!C112=\"Donaciones\",'Diario contable'!I112,IF('Diario contable'!E112=\"Donaciones\",'Diario contable'!I112,0))","v":0},{"$f":"IF('Diario contable'!C112=\"Donaciones\",'Diario contable'!H112,IF('Diario contable'!E112=\"Donaciones\",'Diario contable'!H112,0))","v":"00:00:00"},null,null,{"$f":"+IF('Diario contable'!C112=\"Inventario\",'Diario contable'!F112,0)","v":0},null,null,null,{"$f":"+IF('Diario contable'!E112=\"Inventario\",'Diario contable'!F112,0)","v":0},{"$f":"IF('Diario contable'!C112=\"Inventario\",'Diario contable'!I112,IF('Diario contable'!E112=\"Inventario\",'Diario contable'!I112,0))","v":0},{"$f":"IF('Diario contable'!C112=\"Inventario\",'Diario contable'!H112,IF('Diario contable'!E112=\"Inventario\",'Diario contable'!H112,0))","v":"00:00:00"},null,null,{"$f":"+IF('Diario contable'!C112=\"Costo de ventas\",'Diario contable'!F112,0)","v":0},null,null,null,{"$f":"+IF('Diario contable'!E112=\"Costo de ventas\",'Diario contable'!F112,0)","v":0},{"$f":"IF('Diario contable'!C112=\"Costo de ventas\",'Diario contable'!I112,IF('Diario contable'!E112=\"Costo de ventas\",'Diario contable'!I112,0))","v":0},{"$f":"IF('Diario contable'!C112=\"Costo de ventas\",'Diario contable'!H112,IF('Diario contable'!E112=\"Costo de ventas\",'Diario contable'!H112,0))","v":"00:00:00"},null,null,{"$f":"+IF('Diario contable'!C112=\"Ventas\",'Diario contable'!F112,0)","v":0},null,null,null,{"$f":"+IF('Diario contable'!E112=\"Ventas\",'Diario contable'!F112,0)","v":0},{"$f":"IF('Diario contable'!C112=\"Ventas\",'Diario contable'!I112,IF('Diario contable'!E112=\"Ventas\",'Diario contable'!I112,0))","v":0},{"$f":"IF('Diario contable'!C112=\"Ventas\",'Diario contable'!H112,IF('Diario contable'!E112=\"Ventas\",'Diario contable'!H112,0))","v":"00:00:00"},null,null,{"$f":"+IF('Diario contable'!C112=\"Gastos por salarios\",'Diario contable'!F112,0)","v":0},null,null,null,{"$f":"+IF('Diario contable'!E112=\"Gastos por salarios\",'Diario contable'!F112,0)","v":0},{"$f":"IF('Diario contable'!C112=\"Gastos por salarios\",'Diario contable'!I112,IF('Diario contable'!E112=\"Gastos por salarios\",'Diario contable'!I112,0))","v":0},{"$f":"IF('Diario contable'!C112=\"Gastos por salarios\",'Diario contable'!H112,IF('Diario contable'!E112=\"Gastos por salarios\",'Diario contable'!H112,0))","v":"00:00:00"},null,null,{"$f":"+IF('Diario contable'!C112=\"Gastos operacionales\",'Diario contable'!F112,0)","v":0},null,null,null,{"$f":"+IF('Diario contable'!E112=\"Gastos operacionales\",'Diario contable'!F112,0)","v":0},{"$f":"IF('Diario contable'!C112=\"Gastos operacionales\",'Diario contable'!I112,IF('Diario contable'!E112=\"Gastos operacionales\",'Diario contable'!I112,0))","v":0},{"$f":"IF('Diario contable'!C112=\"Gastos operacionales\",'Diario contable'!H112,IF('Diario contable'!E112=\"Gastos operacionales\",'Diario contable'!H112,0))","v":"00:00:00"},null,null,{"$f":"+IF('Diario contable'!C112=\"Suministros de oficina\",'Diario contable'!F112,0)","v":0},null,null,null,{"$f":"+IF('Diario contable'!E112=\"Suministros de oficina\",'Diario contable'!F112,0)","v":0},{"$f":"IF('Diario contable'!C112=\"Suministros de oficina\",'Diario contable'!I112,IF('Diario contable'!E112=\"Suministros de oficina\",'Diario contable'!I112,0))","v":0},{"$f":"IF('Diario contable'!C112=\"Suministros de oficina\",'Diario contable'!H112,IF('Diario contable'!E112=\"Suministros de oficina\",'Diario contable'!H112,0))","v":"00:00:00"},null,null,{"$f":"+IF('Diario contable'!C112=\"Capital social\",'Diario contable'!F112,0)","v":0},null,null,null,{"$f":"+IF('Diario contable'!E112=\"Capital social\",'Diario contable'!F112,0)","v":0},{"$f":"IF('Diario contable'!C112=\"Capital social\",'Diario contable'!I112,IF('Diario contable'!E112=\"Capital social\",'Diario contable'!I112,0))","v":0},{"$f":"IF('Diario contable'!C112=\"Capital social\",'Diario contable'!H112,IF('Diario contable'!E112=\"Capital social\",'Diario contable'!H112,0))","v":"00:00:00"},null,null,{"$f":"+IF('Diario contable'!C112=\"Gastos de mercadeo\",'Diario contable'!F112,0)","v":0},null,null,null,{"$f":"+IF('Diario contable'!E112=\"Gastos de mercadeo\",'Diario contable'!F112,0)","v":0},{"$f":"IF('Diario contable'!C112=\"Gastos de mercadeo\",'Diario contable'!I112,IF('Diario contable'!E112=\"Gastos de mercadeo\",'Diario contable'!I112,0))","v":0},{"$f":"IF('Diario contable'!C112=\"Gastos de mercadeo\",'Diario contable'!H112,IF('Diario contable'!E112=\"Gastos de mercadeo\",'Diario contable'!H112,0))","v":"00:00:00"},null,null,{"$f":"+IF('Diario contable'!C112=\"Gastos de suministros de oficina\",'Diario contable'!F112,0)","v":0},null,null,null,{"$f":"+IF('Diario contable'!E112=\"Gastos de suministros de oficina\",'Diario contable'!F112,0)","v":0},{"$f":"IF('Diario contable'!C112=\"Gastos de suministros de oficina\",'Diario contable'!I112,IF('Diario contable'!E112=\"Gastos de suministros de oficina\",'Diario contable'!I112,0))","v":0},{"$f":"IF('Diario contable'!C112=\"Gastos de suministros de oficina\",'Diario contable'!H112,IF('Diario contable'!E112=\"Gastos de suministros de oficina\",'Diario contable'!H112,0))","v":"00:00:00"}]
[null,null,{"$f":"+IF('Diario contable'!C113=\"Caja\",'Diario contable'!F113,0)","v":0},null,null,null,{"$f":"+IF('Diario contable'!E113=\"Caja\",'Diario contable'!F113,0)","v":0},{"$f":"IF('Diario contable'!C113=\"Caja\",'Diario contable'!I113,IF('Diario contable'!E113=\"Caja\",'Diario contable'!I113,0))","v":0},{"$f":"IF('Diario contable'!C113=\"Caja\",'Diario contable'!H113,IF('Diario contable'!E113=\"Caja\",'Diario contable'!H113,0))","v":"00:00:00"},null,null,{"$f":"+IF('Diario contable'!C113=\"Maquinaria\",'Diario contable'!F113,0)","v":0},null,null,null,{"$f":"+IF('Diario contable'!E113=\"Maquinaria\",'Diario contable'!F113,0)","v":0},{"$f":"IF('Diario contable'!C113=\"Maquinaria\",'Diario contable'!I113,IF('Diario contable'!E113=\"Maquinaria\",'Diario contable'!I113,0))","v":0},{"$f":"IF('Diario contable'!C113=\"Maquinaria\",'Diario contable'!H113,IF('Diario contable'!E113=\"Maquinaria\",'Diario contable'!H113,0))","v":"00:00:00"},null,null,{"$f":"+IF('Diario contable'!C113=\"Herramientas\",'Diario contable'!F113,0)","v":0},null,null,null,{"$f":"+IF('Diario contable'!E113=\"Herramientas\",'Diario contable'!F113,0)","v":0},{"$f":"IF('Diario contable'!C113=\"Herramientas\",'Diario contable'!I113,IF('Diario contable'!E113=\"Herramientas\",'Diario contable'!I113,0))","v":0},{"$f":"IF('Diario contable'!C113=\"Herramientas\",'Diario contable'!H113,IF('Diario contable'!E113=\"Herramientas\",'Diario contable'!H113,0))","v":"00:00:00"},null,null,{"$f":"+IF('Diario contable'!C113=\"Donaciones\",'Diario contable'!F113,0)","v":0},null,null,null,{"$f":"+IF('Diario contable'!E113=\"Donaciones\",'Diario contable'!F113,0)","v":0},{"$f":"IF('Diario contable'!C113=\"Donaciones\",'Diario contable'!I113,IF('Diario contable'!E113=\"Donaciones\",'Diario contable'!I113,0))","v":0},{"$f":"IF('Diario contable'!C113=\"Donaciones\",'Diario contable'!H113,IF('Diario contable'!E113=\"Donaciones\",'Diario contable'!H113,0))","v":"00:00:00"},null,null,{"$f":"+IF('Diario contable'!C113=\"Inventario\",'Diario contable'!F113,0)","v":0},null,null,null,{"$f":"+IF('Diario contable'!E113=\"Inventario\",'Diario contable'!F113,0)","v":0},{"$f":"IF('Diario contable'!C113=\"Inventario\",'Diario contable'!I113,IF('Diario contable'!E113=\"Inventario\",'Diario contable'!I113,0))","v":0},{"$f":"IF('Diario contable'!C113=\"Inventario\",'Diario contable'!H113,IF('Diario contable'!E113=\"Inventario\",'Diario contable'!H113,0))","v":"00:00:00"},null,null,{"$f":"+IF('Diario contable'!C113=\"Costo de ventas\",'Diario contable'!F113,0)","v":0},null,null,null,{"$f":"+IF('Diario contable'!E113=\"Costo de ventas\",'Diario contable'!F113,0)","v":0},{"$f":"IF('Diario contable'!C113=\"Costo de ventas\",'Diario contable'!I113,IF('Diario contable'!E113=\"Costo de ventas\",'Diario contable'!I113,0))","v":0},{"$f":"IF('Diario contable'!C113=\"Costo de ventas\",'Diario contable'!H113,IF('Diario contable'!E113=\"Costo de ventas\",'Diario contable'!H113,0))","v":"00:00:00"},null,null,{"$f":"+IF('Diario contable'!C113=\"Ventas\",'Diario contable'!F113,0)","v":0},null,null,null,{"$f":"+IF('Diario contable'!E113=\"Ventas\",'Diario contable'!F113,0)","v":0},{"$f":"IF('Diario contable'!C113=\"Ventas\",'Diario contable'!I113,IF('Diario contable'!E113=\"Ventas\",'Diario contable'!I113,0))","v":0},{"$f":"IF('Diario contable'!C113=\"Ventas\",'Diario contable'!H113,IF('Diario contable'!E113=\"Ventas\",'Diario contable'!H113,0))","v":"00:00:00"},null,null,{"$f":"+IF('Diario contable'!C113=\"Gastos por salarios\",'Diario contable'!F113,0)","v":0},null,null,null,{"$f":"+IF('Diario contable'!E113=\"Gastos por salarios\",'Diario contable'!F113,0)","v":0},{"$f":"IF('Diario contable'!C113=\"Gastos por salarios\",'Diario contable'!I113,IF('Diario contable'!E113=\"Gastos por salarios\",'Diario contable'!I113,0))","v":0},{"$f":"IF('Diario contable'!C113=\"Gastos por salarios\",'Diario contable'!H113,IF('Diario contable'!E113=\"Gastos por salarios\",'Diario contable'!H113,0))","v":"00:00:00"},null,null,{"$f":"+IF('Diario contable'!C113=\"Gastos operacionales\",'Diario contable'!F113,0)","v":0},null,null,null,{"$f":"+IF('Diario contable'!E113=\"Gastos operacionales\",'Diario contable'!F113,0)","v":0},{"$f":"IF('Diario contable'!C113=\"Gastos operacionales\",'Diario contable'!I113,IF('Diario contable'!E113=\"Gastos operacionales\",'Diario contable'!I113,0))","v":0},{"$f":"IF('Diario contable'!C113=\"Gastos operacionales\",'Diario contable'!H113,IF('Diario contable'!E113=\"Gastos operacionales\",'Diario contable'!H113,0))","v":"00:00:00"},null,null,{"$f":"+IF('Diario contable'!C113=\"Suministros de oficina\",'Diario contable'!F113,0)","v":0},null,null,null,{"$f":"+IF('Diario contable'!E113=\"Suministros de oficina\",'Diario contable'!F113,0)","v":0},{"$f":"IF('Diario contable'!C113=\"Suministros de oficina\",'Diario contable'!I113,IF('Diario contable'!E113=\"Suministros de oficina\",'Diario contable'!I113,0))","v":0},{"$f":"IF('Diario contable'!C113=\"Suministros de oficina\",'Diario contable'!H113,IF('Diario contable'!E113=\"Suministros de oficina\",'Diario contable'!H113,0))","v":"00:00:00"},null,null,{"$f":"+IF('Diario contable'!C113=\"Capital social\",'Diario contable'!F113,0)","v":0},null,null,null,{"$f":"+IF('Diario contable'!E113=\"Capital social\",'Diario contable'!F113,0)","v":0},{"$f":"IF('Diario contable'!C113=\"Capital social\",'Diario contable'!I113,IF('Diario contable'!E113=\"Capital social\",'Diario contable'!I113,0))","v":0},{"$f":"IF('Diario contable'!C113=\"Capital social\",'Diario contable'!H113,IF('Diario contable'!E113=\"Capital social\",'Diario contable'!H113,0))","v":"00:00:00"},null,null,{"$f":"+IF('Diario contable'!C113=\"Gastos de mercadeo\",'Diario contable'!F113,0)","v":0},null,null,null,{"$f":"+IF('Diario contable'!E113=\"Gastos de mercadeo\",'Diario contable'!F113,0)","v":0},{"$f":"IF('Diario contable'!C113=\"Gastos de mercadeo\",'Diario contable'!I113,IF('Diario contable'!E113=\"Gastos de mercadeo\",'Diario contable'!I113,0))","v":0},{"$f":"IF('Diario contable'!C113=\"Gastos de mercadeo\",'Diario contable'!H113,IF('Diario contable'!E113=\"Gastos de mercadeo\",'Diario contable'!H113,0))","v":"00:00:00"},null,null,{"$f":"+IF('Diario contable'!C113=\"Gastos de suministros de oficina\",'Diario contable'!F113,0)","v":0},null,null,null,{"$f":"+IF('Diario contable'!E113=\"Gastos de suministros de oficina\",'Diario contable'!F113,0)","v":0},{"$f":"IF('Diario contable'!C113=\"Gastos de suministros de oficina\",'Diario contable'!I113,IF('Diario contable'!E113=\"Gastos de suministros de oficina\",'Diario contable'!I113,0))","v":0},{"$f":"IF('Diario contable'!C113=\"Gastos de suministros de oficina\",'Diario contable'!H113,IF('Diario contable'!E113=\"Gastos de suministros de oficina\",'Diario contable'!H113,0))","v":"00:00:00"}]
[null,null,{"$f":"+IF('Diario contable'!C114=\"Caja\",'Diario contable'!F114,0)","v":0},null,null,null,{"$f":"+IF('Diario contable'!E114=\"Caja\",'Diario contable'!F114,0)","v":0},{"$f":"IF('Diario contable'!C114=\"Caja\",'Diario contable'!I114,IF('Diario contable'!E114=\"Caja\",'Diario contable'!I114,0))","v":0},{"$f":"IF('Diario contable'!C114=\"Caja\",'Diario contable'!H114,IF('Diario contable'!E114=\"Caja\",'Diario contable'!H114,0))","v":"00:00:00"},null,null,{"$f":"+IF('Diario contable'!C114=\"Maquinaria\",'Diario contable'!F114,0)","v":0},null,null,null,{"$f":"+IF('Diario contable'!E114=\"Maquinaria\",'Diario contable'!F114,0)","v":0},{"$f":"IF('Diario contable'!C114=\"Maquinaria\",'Diario contable'!I114,IF('Diario contable'!E114=\"Maquinaria\",'Diario contable'!I114,0))","v":0},{"$f":"IF('Diario contable'!C114=\"Maquinaria\",'Diario contable'!H114,IF('Diario contable'!E114=\"Maquinaria\",'Diario contable'!H114,0))","v":"00:00:00"},null,null,{"$f":"+IF('Diario contable'!C114=\"Herramientas\",'Diario contable'!F114,0)","v":0},null,null,null,{"$f":"+IF('Diario contable'!E114=\"Herramientas\",'Diario contable'!F114,0)","v":0},{"$f":"IF('Diario contable'!C114=\"Herramientas\",'Diario contable'!I114,IF('Diario contable'!E114=\"Herramientas\",'Diario contable'!I114,0))","v":0},{"$f":"IF('Diario contable'!C114=\"Herramientas\",'Diario contable'!H114,IF('Diario contable'!E114=\"Herramientas\",'Diario contable'!H114,0))","v":"00:00:00"},null,null,{"$f":"+IF('Diario contable'!C114=\"Donaciones\",'Diario contable'!F114,0)","v":0},null,null,null,{"$f":"+IF('Diario contable'!E114=\"Donaciones\",'Diario contable'!F114,0)","v":0},{"$f":"IF('Diario contable'!C114=\"Donaciones\",'Diario contable'!I114,IF('Diario contable'!E114=\"Donaciones\",'Diario contable'!I114,0))","v":0},{"$f":"IF('Diario contable'!C114=\"Donaciones\",'Diario contable'!H114,IF('Diario contable'!E114=\"Donaciones\",'Diario contable'!H114,0))","v":"00:00:00"},null,null,{"$f":"+IF('Diario contable'!C114=\"Inventario\",'Diario contable'!F114,0)","v":0},null,null,null,{"$f":"+IF('Diario contable'!E114=\"Inventario\",'Diario contable'!F114,0)","v":0},{"$f":"IF('Diario contable'!C114=\"Inventario\",'Diario contable'!I114,IF('Diario contable'!E114=\"Inventario\",'Diario contable'!I114,0))","v":0},{"$f":"IF('Diario contable'!C114=\"Inventario\",'Diario contable'!H114,IF('Diario contable'!E114=\"Inventario\",'Diario contable'!H114,0))","v":"00:00:00"},null,null,{"$f":"+IF('Diario contable'!C114=\"Costo de ventas\",'Diario contable'!F114,0)","v":0},null,null,null,{"$f":"+IF('Diario contable'!E114=\"Costo de ventas\",'Diario contable'!F114,0)","v":0},{"$f":"IF('Diario contable'!C114=\"Costo de ventas\",'Diario contable'!I114,IF('Diario contable'!E114=\"Costo de ventas\",'Diario contable'!I114,0))","v":0},{"$f":"IF('Diario contable'!C114=\"Costo de ventas\",'Diario contable'!H114,IF('Diario contable'!E114=\"Costo de ventas\",'Diario contable'!H114,0))","v":"00:00:00"},null,null,{"$f":"+IF('Diario contable'!C114=\"Ventas\",'Diario contable'!F114,0)","v":0},null,null,null,{"$f":"+IF('Diario contable'!E114=\"Ventas\",'Diario contable'!F114,0)","v":0},{"$f":"IF('Diario contable'!C114=\"Ventas\",'Diario contable'!I114,IF('Diario contable'!E114=\"Ventas\",'Diario contable'!I114,0))","v":0},{"$f":"IF('Diario contable'!C114=\"Ventas\",'Diario contable'!H114,IF('Diario contable'!E114=\"Ventas\",'Diario contable'!H114,0))","v":"00:00:00"},null,null,{"$f":"+IF('Diario contable'!C114=\"Gastos por salarios\",'Diario contable'!F114,0)","v":0},null,null,null,{"$f":"+IF('Diario contable'!E114=\"Gastos por salarios\",'Diario contable'!F114,0)","v":0},{"$f":"IF('Diario contable'!C114=\"Gastos por salarios\",'Diario contable'!I114,IF('Diario contable'!E114=\"Gastos por salarios\",'Diario contable'!I114,0))","v":0},{"$f":"IF('Diario contable'!C114=\"Gastos por salarios\",'Diario contable'!H114,IF('Diario contable'!E114=\"Gastos por salarios\",'Diario contable'!H114,0))","v":"00:00:00"},null,null,{"$f":"+IF('Diario contable'!C114=\"Gastos operacionales\",'Diario contable'!F114,0)","v":0},null,null,null,{"$f":"+IF('Diario contable'!E114=\"Gastos operacionales\",'Diario contable'!F114,0)","v":0},{"$f":"IF('Diario contable'!C114=\"Gastos operacionales\",'Diario contable'!I114,IF('Diario contable'!E114=\"Gastos operacionales\",'Diario contable'!I114,0))","v":0},{"$f":"IF('Diario contable'!C114=\"Gastos operacionales\",'Diario contable'!H114,IF('Diario contable'!E114=\"Gastos operacionales\",'Diario contable'!H114,0))","v":"00:00:00"},null,null,{"$f":"+IF('Diario contable'!C114=\"Suministros de oficina\",'Diario contable'!F114,0)","v":0},null,null,null,{"$f":"+IF('Diario contable'!E114=\"Suministros de oficina\",'Diario contable'!F114,0)","v":0},{"$f":"IF('Diario contable'!C114=\"Suministros de oficina\",'Diario contable'!I114,IF('Diario contable'!E114=\"Suministros de oficina\",'Diario contable'!I114,0))","v":0},{"$f":"IF('Diario contable'!C114=\"Suministros de oficina\",'Diario contable'!H114,IF('Diario contable'!E114=\"Suministros de oficina\",'Diario contable'!H114,0))","v":"00:00:00"},null,null,{"$f":"+IF('Diario contable'!C114=\"Capital social\",'Diario contable'!F114,0)","v":0},null,null,null,{"$f":"+IF('Diario contable'!E114=\"Capital social\",'Diario contable'!F114,0)","v":0},{"$f":"IF('Diario contable'!C114=\"Capital social\",'Diario contable'!I114,IF('Diario contable'!E114=\"Capital social\",'Diario contable'!I114,0))","v":0},{"$f":"IF('Diario contable'!C114=\"Capital social\",'Diario contable'!H114,IF('Diario contable'!E114=\"Capital social\",'Diario contable'!H114,0))","v":"00:00:00"},null,null,{"$f":"+IF('Diario contable'!C114=\"Gastos de mercadeo\",'Diario contable'!F114,0)","v":0},null,null,null,{"$f":"+IF('Diario contable'!E114=\"Gastos de mercadeo\",'Diario contable'!F114,0)","v":0},{"$f":"IF('Diario contable'!C114=\"Gastos de mercadeo\",'Diario contable'!I114,IF('Diario contable'!E114=\"Gastos de mercadeo\",'Diario contable'!I114,0))","v":0},{"$f":"IF('Diario contable'!C114=\"Gastos de mercadeo\",'Diario contable'!H114,IF('Diario contable'!E114=\"Gastos de mercadeo\",'Diario contable'!H114,0))","v":"00:00:00"},null,null,{"$f":"+IF('Diario contable'!C114=\"Gastos de suministros de oficina\",'Diario contable'!F114,0)","v":0},null,null,null,{"$f":"+IF('Diario contable'!E114=\"Gastos de suministros de oficina\",'Diario contable'!F114,0)","v":0},{"$f":"IF('Diario contable'!C114=\"Gastos de suministros de oficina\",'Diario contable'!I114,IF('Diario contable'!E114=\"Gastos de suministros de oficina\",'Diario contable'!I114,0))","v":0},{"$f":"IF('Diario contable'!C114=\"Gastos de suministros de oficina\",'Diario contable'!H114,IF('Diario contable'!E114=\"Gastos de suministros de oficina\",'Diario contable'!H114,0))","v":"00:00:00"}]
[null,null,{"$f":"+IF('Diario contable'!C115=\"Caja\",'Diario contable'!F115,0)","v":0},null,null,null,{"$f":"+IF('Diario contable'!E115=\"Caja\",'Diario contable'!F115,0)","v":0},{"$f":"IF('Diario contable'!C115=\"Caja\",'Diario contable'!I115,IF('Diario contable'!E115=\"Caja\",'Diario contable'!I115,0))","v":0},{"$f":"IF('Diario contable'!C115=\"Caja\",'Diario contable'!H115,IF('Diario contable'!E115=\"Caja\",'Diario contable'!H115,0))","v":"00:00:00"},null,null,{"$f":"+IF('Diario contable'!C115=\"Maquinaria\",'Diario contable'!F115,0)","v":0},null,null,null,{"$f":"+IF('Diario contable'!E115=\"Maquinaria\",'Diario contable'!F115,0)","v":0},{"$f":"IF('Diario contable'!C115=\"Maquinaria\",'Diario contable'!I115,IF('Diario contable'!E115=\"Maquinaria\",'Diario contable'!I115,0))","v":0},{"$f":"IF('Diario contable'!C115=\"Maquinaria\",'Diario contable'!H115,IF('Diario contable'!E115=\"Maquinaria\",'Diario contable'!H115,0))","v":"00:00:00"},null,null,{"$f":"+IF('Diario contable'!C115=\"Herramientas\",'Diario contable'!F115,0)","v":0},null,null,null,{"$f":"+IF('Diario contable'!E115=\"Herramientas\",'Diario contable'!F115,0)","v":0},{"$f":"IF('Diario contable'!C115=\"Herramientas\",'Diario contable'!I115,IF('Diario contable'!E115=\"Herramientas\",'Diario contable'!I115,0))","v":0},{"$f":"IF('Diario contable'!C115=\"Herramientas\",'Diario contable'!H115,IF('Diario contable'!E115=\"Herramientas\",'Diario contable'!H115,0))","v":"00:00:00"},null,null,{"$f":"+IF('Diario contable'!C115=\"Donaciones\",'Diario contable'!F115,0)","v":0},null,null,null,{"$f":"+IF('Diario contable'!E115=\"Donaciones\",'Diario contable'!F115,0)","v":0},{"$f":"IF('Diario contable'!C115=\"Donaciones\",'Diario contable'!I115,IF('Diario contable'!E115=\"Donaciones\",'Diario contable'!I115,0))","v":0},{"$f":"IF('Diario contable'!C115=\"Donaciones\",'Diario contable'!H115,IF('Diario contable'!E115=\"Donaciones\",'Diario contable'!H115,0))","v":"00:00:00"},null,null,{"$f":"+IF('Diario contable'!C115=\"Inventario\",'Diario contable'!F115,0)","v":0},null,null,null,{"$f":"+IF('Diario contable'!E115=\"Inventario\",'Diario contable'!F115,0)","v":0},{"$f":"IF('Diario contable'!C115=\"Inventario\",'Diario contable'!I115,IF('Diario contable'!E115=\"Inventario\",'Diario contable'!I115,0))","v":0},{"$f":"IF('Diario contable'!C115=\"Inventario\",'Diario contable'!H115,IF('Diario contable'!E115=\"Inventario\",'Diario contable'!H115,0))","v":"00:00:00"},null,null,{"$f":"+IF('Diario contable'!C115=\"Costo de ventas\",'Diario contable'!F115,0)","v":0},null,null,null,{"$f":"+IF('Diario contable'!E115=\"Costo de ventas\",'Diario contable'!F115,0)","v":0},{"$f":"IF('Diario contable'!C115=\"Costo de ventas\",'Diario contable'!I115,IF('Diario contable'!E115=\"Costo de ventas\",'Diario contable'!I115,0))","v":0},{"$f":"IF('Diario contable'!C115=\"Costo de ventas\",'Diario contable'!H115,IF('Diario contable'!E115=\"Costo de ventas\",'Diario contable'!H115,0))","v":"00:00:00"},null,null,{"$f":"+IF('Diario contable'!C115=\"Ventas\",'Diario contable'!F115,0)","v":0},null,null,null,{"$f":"+IF('Diario contable'!E115=\"Ventas\",'Diario contable'!F115,0)","v":0},{"$f":"IF('Diario contable'!C115=\"Ventas\",'Diario contable'!I115,IF('Diario contable'!E115=\"Ventas\",'Diario contable'!I115,0))","v":0},{"$f":"IF('Diario contable'!C115=\"Ventas\",'Diario contable'!H115,IF('Diario contable'!E115=\"Ventas\",'Diario contable'!H115,0))","v":"00:00:00"},null,null,{"$f":"+IF('Diario contable'!C115=\"Gastos por salarios\",'Diario contable'!F115,0)","v":0},null,null,null,{"$f":"+IF('Diario contable'!E115=\"Gastos por salarios\",'Diario contable'!F115,0)","v":0},{"$f":"IF('Diario contable'!C115=\"Gastos por salarios\",'Diario contable'!I115,IF('Diario contable'!E115=\"Gastos por salarios\",'Diario contable'!I115,0))","v":0},{"$f":"IF('Diario contable'!C115=\"Gastos por salarios\",'Diario contable'!H115,IF('Diario contable'!E115=\"Gastos por salarios\",'Diario contable'!H115,0))","v":"00:00:00"},null,null,{"$f":"+IF('Diario contable'!C115=\"Gastos operacionales\",'Diario contable'!F115,0)","v":0},null,null,null,{"$f":"+IF('Diario contable'!E115=\"Gastos operacionales\",'Diario contable'!F115,0)","v":0},{"$f":"IF('Diario contable'!C115=\"Gastos operacionales\",'Diario contable'!I115,IF('Diario contable'!E115=\"Gastos operacionales\",'Diario contable'!I115,0))","v":0},{"$f":"IF('Diario contable'!C115=\"Gastos operacionales\",'Diario contable'!H115,IF('Diario contable'!E115=\"Gastos operacionales\",'Diario contable'!H115,0))","v":"00:00:00"},null,null,{"$f":"+IF('Diario contable'!C115=\"Suministros de oficina\",'Diario contable'!F115,0)","v":0},null,null,null,{"$f":"+IF('Diario contable'!E115=\"Suministros de oficina\",'Diario contable'!F115,0)","v":0},{"$f":"IF('Diario contable'!C115=\"Suministros de oficina\",'Diario contable'!I115,IF('Diario contable'!E115=\"Suministros de oficina\",'Diario contable'!I115,0))","v":0},{"$f":"IF('Diario contable'!C115=\"Suministros de oficina\",'Diario contable'!H115,IF('Diario contable'!E115=\"Suministros de oficina\",'Diario contable'!H115,0))","v":"00:00:00"},null,null,{"$f":"+IF('Diario contable'!C115=\"Capital social\",'Diario contable'!F115,0)","v":0},null,null,null,{"$f":"+IF('Diario contable'!E115=\"Capital social\",'Diario contable'!F115,0)","v":0},{"$f":"IF('Diario contable'!C115=\"Capital social\",'Diario contable'!I115,IF('Diario contable'!E115=\"Capital social\",'Diario contable'!I115,0))","v":0},{"$f":"IF('Diario contable'!C115=\"Capital social\",'Diario contable'!H115,IF('Diario contable'!E115=\"Capital social\",'Diario contable'!H115,0))","v":"00:00:00"},null,null,{"$f":"+IF('Diario contable'!C115=\"Gastos de mercadeo\",'Diario contable'!F115,0)","v":0},null,null,null,{"$f":"+IF('Diario contable'!E115=\"Gastos de mercadeo\",'Diario contable'!F115,0)","v":0},{"$f":"IF('Diario contable'!C115=\"Gastos de mercadeo\",'Diario contable'!I115,IF('Diario contable'!E115=\"Gastos de mercadeo\",'Diario contable'!I115,0))","v":0},{"$f":"IF('Diario contable'!C115=\"Gastos de mercadeo\",'Diario contable'!H115,IF('Diario contable'!E115=\"Gastos de mercadeo\",'Diario contable'!H115,0))","v":"00:00:00"},null,null,{"$f":"+IF('Diario contable'!C115=\"Gastos de suministros de oficina\",'Diario contable'!F115,0)","v":0},null,null,null,{"$f":"+IF('Diario contable'!E115=\"Gastos de suministros de oficina\",'Diario contable'!F115,0)","v":0},{"$f":"IF('Diario contable'!C115=\"Gastos de suministros de oficina\",'Diario contable'!I115,IF('Diario contable'!E115=\"Gastos de suministros de oficina\",'Diario contable'!I115,0))","v":0},{"$f":"IF('Diario contable'!C115=\"Gastos de suministros de oficina\",'Diario contable'!H115,IF('Diario contable'!E115=\"Gastos de suministros de oficina\",'Diario contable'!H115,0))","v":"00:00:00"}]
[null,null,{"$f":"+IF('Diario contable'!C116=\"Caja\",'Diario contable'!F116,0)","v":0},null,null,null,{"$f":"+IF('Diario contable'!E116=\"Caja\",'Diario contable'!F116,0)","v":0},{"$f":"IF('Diario contable'!C116=\"Caja\",'Diario contable'!I116,IF('Diario contable'!E116=\"Caja\",'Diario contable'!I116,0))","v":0},{"$f":"IF('Diario contable'!C116=\"Caja\",'Diario contable'!H116,IF('Diario contable'!E116=\"Caja\",'Diario contable'!H116,0))","v":"00:00:00"},null,null,{"$f":"+IF('Diario contable'!C116=\"Maquinaria\",'Diario contable'!F116,0)","v":0},null,null,null,{"$f":"+IF('Diario contable'!E116=\"Maquinaria\",'Diario contable'!F116,0)","v":0},{"$f":"IF('Diario contable'!C116=\"Maquinaria\",'Diario contable'!I116,IF('Diario contable'!E116=\"Maquinaria\",'Diario contable'!I116,0))","v":0},{"$f":"IF('Diario contable'!C116=\"Maquinaria\",'Diario contable'!H116,IF('Diario contable'!E116=\"Maquinaria\",'Diario contable'!H116,0))","v":"00:00:00"},null,null,{"$f":"+IF('Diario contable'!C116=\"Herramientas\",'Diario contable'!F116,0)","v":0},null,null,null,{"$f":"+IF('Diario contable'!E116=\"Herramientas\",'Diario contable'!F116,0)","v":0},{"$f":"IF('Diario contable'!C116=\"Herramientas\",'Diario contable'!I116,IF('Diario contable'!E116=\"Herramientas\",'Diario contable'!I116,0))","v":0},{"$f":"IF('Diario contable'!C116=\"Herramientas\",'Diario contable'!H116,IF('Diario contable'!E116=\"Herramientas\",'Diario contable'!H116,0))","v":"00:00:00"},null,null,{"$f":"+IF('Diario contable'!C116=\"Donaciones\",'Diario contable'!F116,0)","v":0},null,null,null,{"$f":"+IF('Diario contable'!E116=\"Donaciones\",'Diario contable'!F116,0)","v":0},{"$f":"IF('Diario contable'!C116=\"Donaciones\",'Diario contable'!I116,IF('Diario contable'!E116=\"Donaciones\",'Diario contable'!I116,0))","v":0},{"$f":"IF('Diario contable'!C116=\"Donaciones\",'Diario contable'!H116,IF('Diario contable'!E116=\"Donaciones\",'Diario contable'!H116,0))","v":"00:00:00"},null,null,{"$f":"+IF('Diario contable'!C116=\"Inventario\",'Diario contable'!F116,0)","v":0},null,null,null,{"$f":"+IF('Diario contable'!E116=\"Inventario\",'Diario contable'!F116,0)","v":0},{"$f":"IF('Diario contable'!C116=\"Inventario\",'Diario contable'!I116,IF('Diario contable'!E116=\"Inventario\",'Diario contable'!I116,0))","v":0},{"$f":"IF('Diario contable'!C116=\"Inventario\",'Diario contable'!H116,IF('Diario contable'!E116=\"Inventario\",'Diario contable'!H116,0))","v":"00:00:00"},null,null,{"$f":"+IF('Diario contable'!C116=\"Costo de ventas\",'Diario contable'!F116,0)","v":0},null,null,null,{"$f":"+IF('Diario contable'!E116=\"Costo de ventas\",'Diario contable'!F116,0)","v":0},{"$f":"IF('Diario contable'!C116=\"Costo de ventas\",'Diario contable'!I116,IF('Diario contable'!E116=\"Costo de ventas\",'Diario contable'!I116,0))","v":0},{"$f":"IF('Diario contable'!C116=\"Costo de ventas\",'Diario contable'!H116,IF('Diario contable'!E116=\"Costo de ventas\",'Diario contable'!H116,0))","v":"00:00:00"},null,null,{"$f":"+IF('Diario contable'!C116=\"Ventas\",'Diario contable'!F116,0)","v":0},null,null,null,{"$f":"+IF('Diario contable'!E116=\"Ventas\",'Diario contable'!F116,0)","v":0},{"$f":"IF('Diario contable'!C116=\"Ventas\",'Diario contable'!I116,IF('Diario contable'!E116=\"Ventas\",'Diario contable'!I116,0))","v":0},{"$f":"IF('Diario contable'!C116=\"Ventas\",'Diario contable'!H116,IF('Diario contable'!E116=\"Ventas\",'Diario contable'!H116,0))","v":"00:00:00"},null,null,{"$f":"+IF('Diario contable'!C116=\"Gastos por salarios\",'Diario contable'!F116,0)","v":0},null,null,null,{"$f":"+IF('Diario contable'!E116=\"Gastos por salarios\",'Diario contable'!F116,0)","v":0},{"$f":"IF('Diario contable'!C116=\"Gastos por salarios\",'Diario contable'!I116,IF('Diario contable'!E116=\"Gastos por salarios\",'Diario contable'!I116,0))","v":0},{"$f":"IF('Diario contable'!C116=\"Gastos por salarios\",'Diario contable'!H116,IF('Diario contable'!E116=\"Gastos por salarios\",'Diario contable'!H116,0))","v":"00:00:00"},null,null,{"$f":"+IF('Diario contable'!C116=\"Gastos operacionales\",'Diario contable'!F116,0)","v":0},null,null,null,{"$f":"+IF('Diario contable'!E116=\"Gastos operacionales\",'Diario contable'!F116,0)","v":0},{"$f":"IF('Diario contable'!C116=\"Gastos operacionales\",'Diario contable'!I116,IF('Diario contable'!E116=\"Gastos operacionales\",'Diario contable'!I116,0))","v":0},{"$f":"IF('Diario contable'!C116=\"Gastos operacionales\",'Diario contable'!H116,IF('Diario contable'!E116=\"Gastos operacionales\",'Diario contable'!H116,0))","v":"00:00:00"},null,null,{"$f":"+IF('Diario contable'!C116=\"Suministros de oficina\",'Diario contable'!F116,0)","v":0},null,null,null,{"$f":"+IF('Diario contable'!E116=\"Suministros de oficina\",'Diario contable'!F116,0)","v":0},{"$f":"IF('Diario contable'!C116=\"Suministros de oficina\",'Diario contable'!I116,IF('Diario contable'!E116=\"Suministros de oficina\",'Diario contable'!I116,0))","v":0},{"$f":"IF('Diario contable'!C116=\"Suministros de oficina\",'Diario contable'!H116,IF('Diario contable'!E116=\"Suministros de oficina\",'Diario contable'!H116,0))","v":"00:00:00"},null,null,{"$f":"+IF('Diario contable'!C116=\"Capital social\",'Diario contable'!F116,0)","v":0},null,null,null,{"$f":"+IF('Diario contable'!E116=\"Capital social\",'Diario contable'!F116,0)","v":0},{"$f":"IF('Diario contable'!C116=\"Capital social\",'Diario contable'!I116,IF('Diario contable'!E116=\"Capital social\",'Diario contable'!I116,0))","v":0},{"$f":"IF('Diario contable'!C116=\"Capital social\",'Diario contable'!H116,IF('Diario contable'!E116=\"Capital social\",'Diario contable'!H116,0))","v":"00:00:00"},null,null,{"$f":"+IF('Diario contable'!C116=\"Gastos de mercadeo\",'Diario contable'!F116,0)","v":0},null,null,null,{"$f":"+IF('Diario contable'!E116=\"Gastos de mercadeo\",'Diario contable'!F116,0)","v":0},{"$f":"IF('Diario contable'!C116=\"Gastos de mercadeo\",'Diario contable'!I116,IF('Diario contable'!E116=\"Gastos de mercadeo\",'Diario contable'!I116,0))","v":0},{"$f":"IF('Diario contable'!C116=\"Gastos de mercadeo\",'Diario contable'!H116,IF('Diario contable'!E116=\"Gastos de mercadeo\",'Diario contable'!H116,0))","v":"00:00:00"},null,null,{"$f":"+IF('Diario contable'!C116=\"Gastos de suministros de oficina\",'Diario contable'!F116,0)","v":0},null,null,null,{"$f":"+IF('Diario contable'!E116=\"Gastos de suministros de oficina\",'Diario contable'!F116,0)","v":0},{"$f":"IF('Diario contable'!C116=\"Gastos de suministros de oficina\",'Diario contable'!I116,IF('Diario contable'!E116=\"Gastos de suministros de oficina\",'Diario contable'!I116,0))","v":0},{"$f":"IF('Diario contable'!C116=\"Gastos de suministros de oficina\",'Diario contable'!H116,IF('Diario contable'!E116=\"Gastos de suministros de oficina\",'Diario contable'!H116,0))","v":"00:00:00"}]
[null,null,{"$f":"+IF('Diario contable'!C117=\"Caja\",'Diario contable'!F117,0)","v":0},null,null,null,{"$f":"+IF('Diario contable'!E117=\"Caja\",'Diario contable'!F117,0)","v":0},{"$f":"IF('Diario contable'!C117=\"Caja\",'Diario contable'!I117,IF('Diario contable'!E117=\"Caja\",'Diario contable'!I117,0))","v":0},{"$f":"IF('Diario contable'!C117=\"Caja\",'Diario contable'!H117,IF('Diario contable'!E117=\"Caja\",'Diario contable'!H117,0))","v":"00:00:00"},null,null,{"$f":"+IF('Diario contable'!C117=\"Maquinaria\",'Diario contable'!F117,0)","v":0},null,null,null,{"$f":"+IF('Diario contable'!E117=\"Maquinaria\",'Diario contable'!F117,0)","v":0},{"$f":"IF('Diario contable'!C117=\"Maquinaria\",'Diario contable'!I117,IF('Diario contable'!E117=\"Maquinaria\",'Diario contable'!I117,0))","v":0},{"$f":"IF('Diario contable'!C117=\"Maquinaria\",'Diario contable'!H117,IF('Diario contable'!E117=\"Maquinaria\",'Diario contable'!H117,0))","v":"00:00:00"},null,null,{"$f":"+IF('Diario contable'!C117=\"Herramientas\",'Diario contable'!F117,0)","v":0},null,null,null,{"$f":"+IF('Diario contable'!E117=\"Herramientas\",'Diario contable'!F117,0)","v":0},{"$f":"IF('Diario contable'!C117=\"Herramientas\",'Diario contable'!I117,IF('Diario contable'!E117=\"Herramientas\",'Diario contable'!I117,0))","v":0},{"$f":"IF('Diario contable'!C117=\"Herramientas\",'Diario contable'!H117,IF('Diario contable'!E117=\"Herramientas\",'Diario contable'!H117,0))","v":"00:00:00"},null,null,{"$f":"+IF('Diario contable'!C117=\"Donaciones\",'Diario contable'!F117,0)","v":0},null,null,null,{"$f":"+IF('Diario contable'!E117=\"Donaciones\",'Diario contable'!F117,0)","v":0},{"$f":"IF('Diario contable'!C117=\"Donaciones\",'Diario contable'!I117,IF('Diario contable'!E117=\"Donaciones\",'Diario contable'!I117,0))","v":0},{"$f":"IF('Diario contable'!C117=\"Donaciones\",'Diario contable'!H117,IF('Diario contable'!E117=\"Donaciones\",'Diario contable'!H117,0))","v":"00:00:00"},null,null,{"$f":"+IF('Diario contable'!C117=\"Inventario\",'Diario contable'!F117,0)","v":0},null,null,null,{"$f":"+IF('Diario contable'!E117=\"Inventario\",'Diario contable'!F117,0)","v":0},{"$f":"IF('Diario contable'!C117=\"Inventario\",'Diario contable'!I117,IF('Diario contable'!E117=\"Inventario\",'Diario contable'!I117,0))","v":0},{"$f":"IF('Diario contable'!C117=\"Inventario\",'Diario contable'!H117,IF('Diario contable'!E117=\"Inventario\",'Diario contable'!H117,0))","v":"00:00:00"},null,null,{"$f":"+IF('Diario contable'!C117=\"Costo de ventas\",'Diario contable'!F117,0)","v":0},null,null,null,{"$f":"+IF('Diario contable'!E117=\"Costo de ventas\",'Diario contable'!F117,0)","v":0},{"$f":"IF('Diario contable'!C117=\"Costo de ventas\",'Diario contable'!I117,IF('Diario contable'!E117=\"Costo de ventas\",'Diario contable'!I117,0))","v":0},{"$f":"IF('Diario contable'!C117=\"Costo de ventas\",'Diario contable'!H117,IF('Diario contable'!E117=\"Costo de ventas\",'Diario contable'!H117,0))","v":"00:00:00"},null,null,{"$f":"+IF('Diario contable'!C117=\"Ventas\",'Diario contable'!F117,0)","v":0},null,null,null,{"$f":"+IF('Diario contable'!E117=\"Ventas\",'Diario contable'!F117,0)","v":0},{"$f":"IF('Diario contable'!C117=\"Ventas\",'Diario contable'!I117,IF('Diario contable'!E117=\"Ventas\",'Diario contable'!I117,0))","v":0},{"$f":"IF('Diario contable'!C117=\"Ventas\",'Diario contable'!H117,IF('Diario contable'!E117=\"Ventas\",'Diario contable'!H117,0))","v":"00:00:00"},null,null,{"$f":"+IF('Diario contable'!C117=\"Gastos por salarios\",'Diario contable'!F117,0)","v":0},null,null,null,{"$f":"+IF('Diario contable'!E117=\"Gastos por salarios\",'Diario contable'!F117,0)","v":0},{"$f":"IF('Diario contable'!C117=\"Gastos por salarios\",'Diario contable'!I117,IF('Diario contable'!E117=\"Gastos por salarios\",'Diario contable'!I117,0))","v":0},{"$f":"IF('Diario contable'!C117=\"Gastos por salarios\",'Diario contable'!H117,IF('Diario contable'!E117=\"Gastos por salarios\",'Diario contable'!H117,0))","v":"00:00:00"},null,null,{"$f":"+IF('Diario contable'!C117=\"Gastos operacionales\",'Diario contable'!F117,0)","v":0},null,null,null,{"$f":"+IF('Diario contable'!E117=\"Gastos operacionales\",'Diario contable'!F117,0)","v":0},{"$f":"IF('Diario contable'!C117=\"Gastos operacionales\",'Diario contable'!I117,IF('Diario contable'!E117=\"Gastos operacionales\",'Diario contable'!I117,0))","v":0},{"$f":"IF('Diario contable'!C117=\"Gastos operacionales\",'Diario contable'!H117,IF('Diario contable'!E117=\"Gastos operacionales\",'Diario contable'!H117,0))","v":"00:00:00"},null,null,{"$f":"+IF('Diario contable'!C117=\"Suministros de oficina\",'Diario contable'!F117,0)","v":0},null,null,null,{"$f":"+IF('Diario contable'!E117=\"Suministros de oficina\",'Diario contable'!F117,0)","v":0},{"$f":"IF('Diario contable'!C117=\"Suministros de oficina\",'Diario contable'!I117,IF('Diario contable'!E117=\"Suministros de oficina\",'Diario contable'!I117,0))","v":0},{"$f":"IF('Diario contable'!C117=\"Suministros de oficina\",'Diario contable'!H117,IF('Diario contable'!E117=\"Suministros de oficina\",'Diario contable'!H117,0))","v":"00:00:00"},null,null,{"$f":"+IF('Diario contable'!C117=\"Capital social\",'Diario contable'!F117,0)","v":0},null,null,null,{"$f":"+IF('Diario contable'!E117=\"Capital social\",'Diario contable'!F117,0)","v":0},{"$f":"IF('Diario contable'!C117=\"Capital social\",'Diario contable'!I117,IF('Diario contable'!E117=\"Capital social\",'Diario contable'!I117,0))","v":0},{"$f":"IF('Diario contable'!C117=\"Capital social\",'Diario contable'!H117,IF('Diario contable'!E117=\"Capital social\",'Diario contable'!H117,0))","v":"00:00:00"},null,null,{"$f":"+IF('Diario contable'!C117=\"Gastos de mercadeo\",'Diario contable'!F117,0)","v":0},null,null,null,{"$f":"+IF('Diario contable'!E117=\"Gastos de mercadeo\",'Diario contable'!F117,0)","v":0},{"$f":"IF('Diario contable'!C117=\"Gastos de mercadeo\",'Diario contable'!I117,IF('Diario contable'!E117=\"Gastos de mercadeo\",'Diario contable'!I117,0))","v":0},{"$f":"IF('Diario contable'!C117=\"Gastos de mercadeo\",'Diario contable'!H117,IF('Diario contable'!E117=\"Gastos de mercadeo\",'Diario contable'!H117,0))","v":"00:00:00"},null,null,{"$f":"+IF('Diario contable'!C117=\"Gastos de suministros de oficina\",'Diario contable'!F117,0)","v":0},null,null,null,{"$f":"+IF('Diario contable'!E117=\"Gastos de suministros de oficina\",'Diario contable'!F117,0)","v":0},{"$f":"IF('Diario contable'!C117=\"Gastos de suministros de oficina\",'Diario contable'!I117,IF('Diario contable'!E117=\"Gastos de suministros de oficina\",'Diario contable'!I117,0))","v":0},{"$f":"IF('Diario contable'!C117=\"Gastos de suministros de oficina\",'Diario contable'!H117,IF('Diario contable'!E117=\"Gastos de suministros de oficina\",'Diario contable'!H117,0))","v":"00:00:00"}]
[null,null,{"$f":"+IF('Diario contable'!C118=\"Caja\",'Diario contable'!F118,0)","v":0},null,null,null,{"$f":"+IF('Diario contable'!E118=\"Caja\",'Diario contable'!F118,0)","v":0},{"$f":"IF('Diario contable'!C118=\"Caja\",'Diario contable'!I118,IF('Diario contable'!E118=\"Caja\",'Diario contable'!I118,0))","v":0},{"$f":"IF('Diario contable'!C118=\"Caja\",'Diario contable'!H118,IF('Diario contable'!E118=\"Caja\",'Diario contable'!H118,0))","v":"00:00:00"},null,null,{"$f":"+IF('Diario contable'!C118=\"Maquinaria\",'Diario contable'!F118,0)","v":0},null,null,null,{"$f":"+IF('Diario contable'!E118=\"Maquinaria\",'Diario contable'!F118,0)","v":0},{"$f":"IF('Diario contable'!C118=\"Maquinaria\",'Diario contable'!I118,IF('Diario contable'!E118=\"Maquinaria\",'Diario contable'!I118,0))","v":0},{"$f":"IF('Diario contable'!C118=\"Maquinaria\",'Diario contable'!H118,IF('Diario contable'!E118=\"Maquinaria\",'Diario contable'!H118,0))","v":"00:00:00"},null,null,{"$f":"+IF('Diario contable'!C118=\"Herramientas\",'Diario contable'!F118,0)","v":0},null,null,null,{"$f":"+IF('Diario contable'!E118=\"Herramientas\",'Diario contable'!F118,0)","v":0},{"$f":"IF('Diario contable'!C118=\"Herramientas\",'Diario contable'!I118,IF('Diario contable'!E118=\"Herramientas\",'Diario contable'!I118,0))","v":0},{"$f":"IF('Diario contable'!C118=\"Herramientas\",'Diario contable'!H118,IF('Diario contable'!E118=\"Herramientas\",'Diario contable'!H118,0))","v":"00:00:00"},null,null,{"$f":"+IF('Diario contable'!C118=\"Donaciones\",'Diario contable'!F118,0)","v":0},null,null,null,{"$f":"+IF('Diario contable'!E118=\"Donaciones\",'Diario contable'!F118,0)","v":0},{"$f":"IF('Diario contable'!C118=\"Donaciones\",'Diario contable'!I118,IF('Diario contable'!E118=\"Donaciones\",'Diario contable'!I118,0))","v":0},{"$f":"IF('Diario contable'!C118=\"Donaciones\",'Diario contable'!H118,IF('Diario contable'!E118=\"Donaciones\",'Diario contable'!H118,0))","v":"00:00:00"},null,null,{"$f":"+IF('Diario contable'!C118=\"Inventario\",'Diario contable'!F118,0)","v":0},null,null,null,{"$f":"+IF('Diario contable'!E118=\"Inventario\",'Diario contable'!F118,0)","v":0},{"$f":"IF('Diario contable'!C118=\"Inventario\",'Diario contable'!I118,IF('Diario contable'!E118=\"Inventario\",'Diario contable'!I118,0))","v":0},{"$f":"IF('Diario contable'!C118=\"Inventario\",'Diario contable'!H118,IF('Diario contable'!E118=\"Inventario\",'Diario contable'!H118,0))","v":"00:00:00"},null,null,{"$f":"+IF('Diario contable'!C118=\"Costo de ventas\",'Diario contable'!F118,0)","v":0},null,null,null,{"$f":"+IF('Diario contable'!E118=\"Costo de ventas\",'Diario contable'!F118,0)","v":0},{"$f":"IF('Diario contable'!C118=\"Costo de ventas\",'Diario contable'!I118,IF('Diario contable'!E118=\"Costo de ventas\",'Diario contable'!I118,0))","v":0},{"$f":"IF('Diario contable'!C118=\"Costo de ventas\",'Diario contable'!H118,IF('Diario contable'!E118=\"Costo de ventas\",'Diario contable'!H118,0))","v":"00:00:00"},null,null,{"$f":"+IF('Diario contable'!C118=\"Ventas\",'Diario contable'!F118,0)","v":0},null,null,null,{"$f":"+IF('Diario contable'!E118=\"Ventas\",'Diario contable'!F118,0)","v":0},{"$f":"IF('Diario contable'!C118=\"Ventas\",'Diario contable'!I118,IF('Diario contable'!E118=\"Ventas\",'Diario contable'!I118,0))","v":0},{"$f":"IF('Diario contable'!C118=\"Ventas\",'Diario contable'!H118,IF('Diario contable'!E118=\"Ventas\",'Diario contable'!H118,0))","v":"00:00:00"},null,null,{"$f":"+IF('Diario contable'!C118=\"Gastos por salarios\",'Diario contable'!F118,0)","v":0},null,null,null,{"$f":"+IF('Diario contable'!E118=\"Gastos por salarios\",'Diario contable'!F118,0)","v":0},{"$f":"IF('Diario contable'!C118=\"Gastos por salarios\",'Diario contable'!I118,IF('Diario contable'!E118=\"Gastos por salarios\",'Diario contable'!I118,0))","v":0},{"$f":"IF('Diario contable'!C118=\"Gastos por salarios\",'Diario contable'!H118,IF('Diario contable'!E118=\"Gastos por salarios\",'Diario contable'!H118,0))","v":"00:00:00"},null,null,{"$f":"+IF('Diario contable'!C118=\"Gastos operacionales\",'Diario contable'!F118,0)","v":0},null,null,null,{"$f":"+IF('Diario contable'!E118=\"Gastos operacionales\",'Diario contable'!F118,0)","v":0},{"$f":"IF('Diario contable'!C118=\"Gastos operacionales\",'Diario contable'!I118,IF('Diario contable'!E118=\"Gastos operacionales\",'Diario contable'!I118,0))","v":0},{"$f":"IF('Diario contable'!C118=\"Gastos operacionales\",'Diario contable'!H118,IF('Diario contable'!E118=\"Gastos operacionales\",'Diario contable'!H118,0))","v":"00:00:00"},null,null,{"$f":"+IF('Diario contable'!C118=\"Suministros de oficina\",'Diario contable'!F118,0)","v":0},null,null,null,{"$f":"+IF('Diario contable'!E118=\"Suministros de oficina\",'Diario contable'!F118,0)","v":0},{"$f":"IF('Diario contable'!C118=\"Suministros de oficina\",'Diario contable'!I118,IF('Diario contable'!E118=\"Suministros de oficina\",'Diario contable'!I118,0))","v":0},{"$f":"IF('Diario contable'!C118=\"Suministros de oficina\",'Diario contable'!H118,IF('Diario contable'!E118=\"Suministros de oficina\",'Diario contable'!H118,0))","v":"00:00:00"},null,null,{"$f":"+IF('Diario contable'!C118=\"Capital social\",'Diario contable'!F118,0)","v":0},null,null,null,{"$f":"+IF('Diario contable'!E118=\"Capital social\",'Diario contable'!F118,0)","v":0},{"$f":"IF('Diario contable'!C118=\"Capital social\",'Diario contable'!I118,IF('Diario contable'!E118=\"Capital social\",'Diario contable'!I118,0))","v":0},{"$f":"IF('Diario contable'!C118=\"Capital social\",'Diario contable'!H118,IF('Diario contable'!E118=\"Capital social\",'Diario contable'!H118,0))","v":"00:00:00"},null,null,{"$f":"+IF('Diario contable'!C118=\"Gastos de mercadeo\",'Diario contable'!F118,0)","v":0},null,null,null,{"$f":"+IF('Diario contable'!E118=\"Gastos de mercadeo\",'Diario contable'!F118,0)","v":0},{"$f":"IF('Diario contable'!C118=\"Gastos de mercadeo\",'Diario contable'!I118,IF('Diario contable'!E118=\"Gastos de mercadeo\",'Diario contable'!I118,0))","v":0},{"$f":"IF('Diario contable'!C118=\"Gastos de mercadeo\",'Diario contable'!H118,IF('Diario contable'!E118=\"Gastos de mercadeo\",'Diario contable'!H118,0))","v":"00:00:00"},null,null,{"$f":"+IF('Diario contable'!C118=\"Gastos de suministros de oficina\",'Diario contable'!F118,0)","v":0},null,null,null,{"$f":"+IF('Diario contable'!E118=\"Gastos de suministros de oficina\",'Diario contable'!F118,0)","v":0},{"$f":"IF('Diario contable'!C118=\"Gastos de suministros de oficina\",'Diario contable'!I118,IF('Diario contable'!E118=\"Gastos de suministros de oficina\",'Diario contable'!I118,0))","v":0},{"$f":"IF('Diario contable'!C118=\"Gastos de suministros de oficina\",'Diario contable'!H118,IF('Diario contable'!E118=\"Gastos de suministros de oficina\",'Diario contable'!H118,0))","v":"00:00:00"}]
[null,null,{"$f":"+IF('Diario contable'!C119=\"Caja\",'Diario contable'!F119,0)","v":0},null,null,null,{"$f":"+IF('Diario contable'!E119=\"Caja\",'Diario contable'!F119,0)","v":0},{"$f":"IF('Diario contable'!C119=\"Caja\",'Diario contable'!I119,IF('Diario contable'!E119=\"Caja\",'Diario contable'!I119,0))","v":0},{"$f":"IF('Diario contable'!C119=\"Caja\",'Diario contable'!H119,IF('Diario contable'!E119=\"Caja\",'Diario contable'!H119,0))","v":"00:00:00"},null,null,{"$f":"+IF('Diario contable'!C119=\"Maquinaria\",'Diario contable'!F119,0)","v":0},null,null,null,{"$f":"+IF('Diario contable'!E119=\"Maquinaria\",'Diario contable'!F119,0)","v":0},{"$f":"IF('Diario contable'!C119=\"Maquinaria\",'Diario contable'!I119,IF('Diario contable'!E119=\"Maquinaria\",'Diario contable'!I119,0))","v":0},{"$f":"IF('Diario contable'!C119=\"Maquinaria\",'Diario contable'!H119,IF('Diario contable'!E119=\"Maquinaria\",'Diario contable'!H119,0))","v":"00:00:00"},null,null,{"$f":"+IF('Diario contable'!C119=\"Herramientas\",'Diario contable'!F119,0)","v":0},null,null,null,{"$f":"+IF('Diario contable'!E119=\"Herramientas\",'Diario contable'!F119,0)","v":0},{"$f":"IF('Diario contable'!C119=\"Herramientas\",'Diario contable'!I119,IF('Diario contable'!E119=\"Herramientas\",'Diario contable'!I119,0))","v":0},{"$f":"IF('Diario contable'!C119=\"Herramientas\",'Diario contable'!H119,IF('Diario contable'!E119=\"Herramientas\",'Diario contable'!H119,0))","v":"00:00:00"},null,null,{"$f":"+IF('Diario contable'!C119=\"Donaciones\",'Diario contable'!F119,0)","v":0},null,null,null,{"$f":"+IF('Diario contable'!E119=\"Donaciones\",'Diario contable'!F119,0)","v":0},{"$f":"IF('Diario contable'!C119=\"Donaciones\",'Diario contable'!I119,IF('Diario contable'!E119=\"Donaciones\",'Diario contable'!I119,0))","v":0},{"$f":"IF('Diario contable'!C119=\"Donaciones\",'Diario contable'!H119,IF('Diario contable'!E119=\"Donaciones\",'Diario contable'!H119,0))","v":"00:00:00"},null,null,{"$f":"+IF('Diario contable'!C119=\"Inventario\",'Diario contable'!F119,0)","v":0},null,null,null,{"$f":"+IF('Diario contable'!E119=\"Inventario\",'Diario contable'!F119,0)","v":0},{"$f":"IF('Diario contable'!C119=\"Inventario\",'Diario contable'!I119,IF('Diario contable'!E119=\"Inventario\",'Diario contable'!I119,0))","v":0},{"$f":"IF('Diario contable'!C119=\"Inventario\",'Diario contable'!H119,IF('Diario contable'!E119=\"Inventario\",'Diario contable'!H119,0))","v":"00:00:00"},null,null,{"$f":"+IF('Diario contable'!C119=\"Costo de ventas\",'Diario contable'!F119,0)","v":0},null,null,null,{"$f":"+IF('Diario contable'!E119=\"Costo de ventas\",'Diario contable'!F119,0)","v":0},{"$f":"IF('Diario contable'!C119=\"Costo de ventas\",'Diario contable'!I119,IF('Diario contable'!E119=\"Costo de ventas\",'Diario contable'!I119,0))","v":0},{"$f":"IF('Diario contable'!C119=\"Costo de ventas\",'Diario contable'!H119,IF('Diario contable'!E119=\"Costo de ventas\",'Diario contable'!H119,0))","v":"00:00:00"},null,null,{"$f":"+IF('Diario contable'!C119=\"Ventas\",'Diario contable'!F119,0)","v":0},null,null,null,{"$f":"+IF('Diario contable'!E119=\"Ventas\",'Diario contable'!F119,0)","v":0},{"$f":"IF('Diario contable'!C119=\"Ventas\",'Diario contable'!I119,IF('Diario contable'!E119=\"Ventas\",'Diario contable'!I119,0))","v":0},{"$f":"IF('Diario contable'!C119=\"Ventas\",'Diario contable'!H119,IF('Diario contable'!E119=\"Ventas\",'Diario contable'!H119,0))","v":"00:00:00"},null,null,{"$f":"+IF('Diario contable'!C119=\"Gastos por salarios\",'Diario contable'!F119,0)","v":0},null,null,null,{"$f":"+IF('Diario contable'!E119=\"Gastos por salarios\",'Diario contable'!F119,0)","v":0},{"$f":"IF('Diario contable'!C119=\"Gastos por salarios\",'Diario contable'!I119,IF('Diario contable'!E119=\"Gastos por salarios\",'Diario contable'!I119,0))","v":0},{"$f":"IF('Diario contable'!C119=\"Gastos por salarios\",'Diario contable'!H119,IF('Diario contable'!E119=\"Gastos por salarios\",'Diario contable'!H119,0))","v":"00:00:00"},null,null,{"$f":"+IF('Diario contable'!C119=\"Gastos operacionales\",'Diario contable'!F119,0)","v":0},null,null,null,{"$f":"+IF('Diario contable'!E119=\"Gastos operacionales\",'Diario contable'!F119,0)","v":0},{"$f":"IF('Diario contable'!C119=\"Gastos operacionales\",'Diario contable'!I119,IF('Diario contable'!E119=\"Gastos operacionales\",'Diario contable'!I119,0))","v":0},{"$f":"IF('Diario contable'!C119=\"Gastos operacionales\",'Diario contable'!H119,IF('Diario contable'!E119=\"Gastos operacionales\",'Diario contable'!H119,0))","v":"00:00:00"},null,null,{"$f":"+IF('Diario contable'!C119=\"Suministros de oficina\",'Diario contable'!F119,0)","v":0},null,null,null,{"$f":"+IF('Diario contable'!E119=\"Suministros de oficina\",'Diario contable'!F119,0)","v":0},{"$f":"IF('Diario contable'!C119=\"Suministros de oficina\",'Diario contable'!I119,IF('Diario contable'!E119=\"Suministros de oficina\",'Diario contable'!I119,0))","v":0},{"$f":"IF('Diario contable'!C119=\"Suministros de oficina\",'Diario contable'!H119,IF('Diario contable'!E119=\"Suministros de oficina\",'Diario contable'!H119,0))","v":"00:00:00"},null,null,{"$f":"+IF('Diario contable'!C119=\"Capital social\",'Diario contable'!F119,0)","v":0},null,null,null,{"$f":"+IF('Diario contable'!E119=\"Capital social\",'Diario contable'!F119,0)","v":0},{"$f":"IF('Diario contable'!C119=\"Capital social\",'Diario contable'!I119,IF('Diario contable'!E119=\"Capital social\",'Diario contable'!I119,0))","v":0},{"$f":"IF('Diario contable'!C119=\"Capital social\",'Diario contable'!H119,IF('Diario contable'!E119=\"Capital social\",'Diario contable'!H119,0))","v":"00:00:00"},null,null,{"$f":"+IF('Diario contable'!C119=\"Gastos de mercadeo\",'Diario contable'!F119,0)","v":0},null,null,null,{"$f":"+IF('Diario contable'!E119=\"Gastos de mercadeo\",'Diario contable'!F119,0)","v":0},{"$f":"IF('Diario contable'!C119=\"Gastos de mercadeo\",'Diario contable'!I119,IF('Diario contable'!E119=\"Gastos de mercadeo\",'Diario contable'!I119,0))","v":0},{"$f":"IF('Diario contable'!C119=\"Gastos de mercadeo\",'Diario contable'!H119,IF('Diario contable'!E119=\"Gastos de mercadeo\",'Diario contable'!H119,0))","v":"00:00:00"},null,null,{"$f":"+IF('Diario contable'!C119=\"Gastos de suministros de oficina\",'Diario contable'!F119,0)","v":0},null,null,null,{"$f":"+IF('Diario contable'!E119=\"Gastos de suministros de oficina\",'Diario contable'!F119,0)","v":0},{"$f":"IF('Diario contable'!C119=\"Gastos de suministros de oficina\",'Diario contable'!I119,IF('Diario contable'!E119=\"Gastos de suministros de oficina\",'Diario contable'!I119,0))","v":0},{"$f":"IF('Diario contable'!C119=\"Gastos de suministros de oficina\",'Diario contable'!H119,IF('Diario contable'!E119=\"Gastos de suministros de oficina\",'Diario contable'!H119,0))","v":"00:00:00"}]
[null,null,{"$f":"+IF('Diario contable'!C120=\"Caja\",'Diario contable'!F120,0)","v":0},null,null,null,{"$f":"+IF('Diario contable'!E120=\"Caja\",'Diario contable'!F120,0)","v":0},{"$f":"IF('Diario contable'!C120=\"Caja\",'Diario contable'!I120,IF('Diario contable'!E120=\"Caja\",'Diario contable'!I120,0))","v":0},{"$f":"IF('Diario contable'!C120=\"Caja\",'Diario contable'!H120,IF('Diario contable'!E120=\"Caja\",'Diario contable'!H120,0))","v":"00:00:00"},null,null,{"$f":"+IF('Diario contable'!C120=\"Maquinaria\",'Diario contable'!F120,0)","v":0},null,null,null,{"$f":"+IF('Diario contable'!E120=\"Maquinaria\",'Diario contable'!F120,0)","v":0},{"$f":"IF('Diario contable'!C120=\"Maquinaria\",'Diario contable'!I120,IF('Diario contable'!E120=\"Maquinaria\",'Diario contable'!I120,0))","v":0},{"$f":"IF('Diario contable'!C120=\"Maquinaria\",'Diario contable'!H120,IF('Diario contable'!E120=\"Maquinaria\",'Diario contable'!H120,0))","v":"00:00:00"},null,null,{"$f":"+IF('Diario contable'!C120=\"Herramientas\",'Diario contable'!F120,0)","v":0},null,null,null,{"$f":"+IF('Diario contable'!E120=\"Herramientas\",'Diario contable'!F120,0)","v":0},{"$f":"IF('Diario contable'!C120=\"Herramientas\",'Diario contable'!I120,IF('Diario contable'!E120=\"Herramientas\",'Diario contable'!I120,0))","v":0},{"$f":"IF('Diario contable'!C120=\"Herramientas\",'Diario contable'!H120,IF('Diario contable'!E120=\"Herramientas\",'Diario contable'!H120,0))","v":"00:00:00"},null,null,{"$f":"+IF('Diario contable'!C120=\"Donaciones\",'Diario contable'!F120,0)","v":0},null,null,null,{"$f":"+IF('Diario contable'!E120=\"Donaciones\",'Diario contable'!F120,0)","v":0},{"$f":"IF('Diario contable'!C120=\"Donaciones\",'Diario contable'!I120,IF('Diario contable'!E120=\"Donaciones\",'Diario contable'!I120,0))","v":0},{"$f":"IF('Diario contable'!C120=\"Donaciones\",'Diario contable'!H120,IF('Diario contable'!E120=\"Donaciones\",'Diario contable'!H120,0))","v":"00:00:00"},null,null,{"$f":"+IF('Diario contable'!C120=\"Inventario\",'Diario contable'!F120,0)","v":0},null,null,null,{"$f":"+IF('Diario contable'!E120=\"Inventario\",'Diario contable'!F120,0)","v":0},{"$f":"IF('Diario contable'!C120=\"Inventario\",'Diario contable'!I120,IF('Diario contable'!E120=\"Inventario\",'Diario contable'!I120,0))","v":0},{"$f":"IF('Diario contable'!C120=\"Inventario\",'Diario contable'!H120,IF('Diario contable'!E120=\"Inventario\",'Diario contable'!H120,0))","v":"00:00:00"},null,null,{"$f":"+IF('Diario contable'!C120=\"Costo de ventas\",'Diario contable'!F120,0)","v":0},null,null,null,{"$f":"+IF('Diario contable'!E120=\"Costo de ventas\",'Diario contable'!F120,0)","v":0},{"$f":"IF('Diario contable'!C120=\"Costo de ventas\",'Diario contable'!I120,IF('Diario contable'!E120=\"Costo de ventas\",'Diario contable'!I120,0))","v":0},{"$f":"IF('Diario contable'!C120=\"Costo de ventas\",'Diario contable'!H120,IF('Diario contable'!E120=\"Costo de ventas\",'Diario contable'!H120,0))","v":"00:00:00"},null,null,{"$f":"+IF('Diario contable'!C120=\"Ventas\",'Diario contable'!F120,0)","v":0},null,null,null,{"$f":"+IF('Diario contable'!E120=\"Ventas\",'Diario contable'!F120,0)","v":0},{"$f":"IF('Diario contable'!C120=\"Ventas\",'Diario contable'!I120,IF('Diario contable'!E120=\"Ventas\",'Diario contable'!I120,0))","v":0},{"$f":"IF('Diario contable'!C120=\"Ventas\",'Diario contable'!H120,IF('Diario contable'!E120=\"Ventas\",'Diario contable'!H120,0))","v":"00:00:00"},null,null,{"$f":"+IF('Diario contable'!C120=\"Gastos por salarios\",'Diario contable'!F120,0)","v":0},null,null,null,{"$f":"+IF('Diario contable'!E120=\"Gastos por salarios\",'Diario contable'!F120,0)","v":0},{"$f":"IF('Diario contable'!C120=\"Gastos por salarios\",'Diario contable'!I120,IF('Diario contable'!E120=\"Gastos por salarios\",'Diario contable'!I120,0))","v":0},{"$f":"IF('Diario contable'!C120=\"Gastos por salarios\",'Diario contable'!H120,IF('Diario contable'!E120=\"Gastos por salarios\",'Diario contable'!H120,0))","v":"00:00:00"},null,null,{"$f":"+IF('Diario contable'!C120=\"Gastos operacionales\",'Diario contable'!F120,0)","v":0},null,null,null,{"$f":"+IF('Diario contable'!E120=\"Gastos operacionales\",'Diario contable'!F120,0)","v":0},{"$f":"IF('Diario contable'!C120=\"Gastos operacionales\",'Diario contable'!I120,IF('Diario contable'!E120=\"Gastos operacionales\",'Diario contable'!I120,0))","v":0},{"$f":"IF('Diario contable'!C120=\"Gastos operacionales\",'Diario contable'!H120,IF('Diario contable'!E120=\"Gastos operacionales\",'Diario contable'!H120,0))","v":"00:00:00"},null,null,{"$f":"+IF('Diario contable'!C120=\"Suministros de oficina\",'Diario contable'!F120,0)","v":0},null,null,null,{"$f":"+IF('Diario contable'!E120=\"Suministros de oficina\",'Diario contable'!F120,0)","v":0},{"$f":"IF('Diario contable'!C120=\"Suministros de oficina\",'Diario contable'!I120,IF('Diario contable'!E120=\"Suministros de oficina\",'Diario contable'!I120,0))","v":0},{"$f":"IF('Diario contable'!C120=\"Suministros de oficina\",'Diario contable'!H120,IF('Diario contable'!E120=\"Suministros de oficina\",'Diario contable'!H120,0))","v":"00:00:00"},null,null,{"$f":"+IF('Diario contable'!C120=\"Capital social\",'Diario contable'!F120,0)","v":0},null,null,null,{"$f":"+IF('Diario contable'!E120=\"Capital social\",'Diario contable'!F120,0)","v":0},{"$f":"IF('Diario contable'!C120=\"Capital social\",'Diario contable'!I120,IF('Diario contable'!E120=\"Capital social\",'Diario contable'!I120,0))","v":0},{"$f":"IF('Diario contable'!C120=\"Capital social\",'Diario contable'!H120,IF('Diario contable'!E120=\"Capital social\",'Diario contable'!H120,0))","v":"00:00:00"},null,null,{"$f":"+IF('Diario contable'!C120=\"Gastos de mercadeo\",'Diario contable'!F120,0)","v":0},null,null,null,{"$f":"+IF('Diario contable'!E120=\"Gastos de mercadeo\",'Diario contable'!F120,0)","v":0},{"$f":"IF('Diario contable'!C120=\"Gastos de mercadeo\",'Diario contable'!I120,IF('Diario contable'!E120=\"Gastos de mercadeo\",'Diario contable'!I120,0))","v":0},{"$f":"IF('Diario contable'!C120=\"Gastos de mercadeo\",'Diario contable'!H120,IF('Diario contable'!E120=\"Gastos de mercadeo\",'Diario contable'!H120,0))","v":"00:00:00"},null,null,{"$f":"+IF('Diario contable'!C120=\"Gastos de suministros de oficina\",'Diario contable'!F120,0)","v":0},null,null,null,{"$f":"+IF('Diario contable'!E120=\"Gastos de suministros de oficina\",'Diario contable'!F120,0)","v":0},{"$f":"IF('Diario contable'!C120=\"Gastos de suministros de oficina\",'Diario contable'!I120,IF('Diario contable'!E120=\"Gastos de suministros de oficina\",'Diario contable'!I120,0))","v":0},{"$f":"IF('Diario contable'!C120=\"Gastos de suministros de oficina\",'Diario contable'!H120,IF('Diario contable'!E120=\"Gastos de suministros de oficina\",'Diario contable'!H120,0))","v":"00:00:00"}]
[null,null,{"$f":"+IF('Diario contable'!C121=\"Caja\",'Diario contable'!F121,0)","v":0},null,null,null,{"$f":"+IF('Diario contable'!E121=\"Caja\",'Diario contable'!F121,0)","v":0},{"$f":"IF('Diario contable'!C121=\"Caja\",'Diario contable'!I121,IF('Diario contable'!E121=\"Caja\",'Diario contable'!I121,0))","v":0},{"$f":"IF('Diario contable'!C121=\"Caja\",'Diario contable'!H121,IF('Diario contable'!E121=\"Caja\",'Diario contable'!H121,0))","v":"00:00:00"},null,null,{"$f":"+IF('Diario contable'!C121=\"Maquinaria\",'Diario contable'!F121,0)","v":0},null,null,null,{"$f":"+IF('Diario contable'!E121=\"Maquinaria\",'Diario contable'!F121,0)","v":0},{"$f":"IF('Diario contable'!C121=\"Maquinaria\",'Diario contable'!I121,IF('Diario contable'!E121=\"Maquinaria\",'Diario contable'!I121,0))","v":0},{"$f":"IF('Diario contable'!C121=\"Maquinaria\",'Diario contable'!H121,IF('Diario contable'!E121=\"Maquinaria\",'Diario contable'!H121,0))","v":"00:00:00"},null,null,{"$f":"+IF('Diario contable'!C121=\"Herramientas\",'Diario contable'!F121,0)","v":0},null,null,null,{"$f":"+IF('Diario contable'!E121=\"Herramientas\",'Diario contable'!F121,0)","v":0},{"$f":"IF('Diario contable'!C121=\"Herramientas\",'Diario contable'!I121,IF('Diario contable'!E121=\"Herramientas\",'Diario contable'!I121,0))","v":0},{"$f":"IF('Diario contable'!C121=\"Herramientas\",'Diario contable'!H121,IF('Diario contable'!E121=\"Herramientas\",'Diario contable'!H121,0))","v":"00:00:00"},null,null,{"$f":"+IF('Diario contable'!C121=\"Donaciones\",'Diario contable'!F121,0)","v":0},null,null,null,{"$f":"+IF('Diario contable'!E121=\"Donaciones\",'Diario contable'!F121,0)","v":0},{"$f":"IF('Diario contable'!C121=\"Donaciones\",'Diario contable'!I121,IF('Diario contable'!E121=\"Donaciones\",'Diario contable'!I121,0))","v":0},{"$f":"IF('Diario contable'!C121=\"Donaciones\",'Diario contable'!H121,IF('Diario contable'!E121=\"Donaciones\",'Diario contable'!H121,0))","v":"00:00:00"},null,null,{"$f":"+IF('Diario contable'!C121=\"Inventario\",'Diario contable'!F121,0)","v":0},null,null,null,{"$f":"+IF('Diario contable'!E121=\"Inventario\",'Diario contable'!F121,0)","v":0},{"$f":"IF('Diario contable'!C121=\"Inventario\",'Diario contable'!I121,IF('Diario contable'!E121=\"Inventario\",'Diario contable'!I121,0))","v":0},{"$f":"IF('Diario contable'!C121=\"Inventario\",'Diario contable'!H121,IF('Diario contable'!E121=\"Inventario\",'Diario contable'!H121,0))","v":"00:00:00"},null,null,{"$f":"+IF('Diario contable'!C121=\"Costo de ventas\",'Diario contable'!F121,0)","v":0},null,null,null,{"$f":"+IF('Diario contable'!E121=\"Costo de ventas\",'Diario contable'!F121,0)","v":0},{"$f":"IF('Diario contable'!C121=\"Costo de ventas\",'Diario contable'!I121,IF('Diario contable'!E121=\"Costo de ventas\",'Diario contable'!I121,0))","v":0},{"$f":"IF('Diario contable'!C121=\"Costo de ventas\",'Diario contable'!H121,IF('Diario contable'!E121=\"Costo de ventas\",'Diario contable'!H121,0))","v":"00:00:00"},null,null,{"$f":"+IF('Diario contable'!C121=\"Ventas\",'Diario contable'!F121,0)","v":0},null,null,null,{"$f":"+IF('Diario contable'!E121=\"Ventas\",'Diario contable'!F121,0)","v":0},{"$f":"IF('Diario contable'!C121=\"Ventas\",'Diario contable'!I121,IF('Diario contable'!E121=\"Ventas\",'Diario contable'!I121,0))","v":0},{"$f":"IF('Diario contable'!C121=\"Ventas\",'Diario contable'!H121,IF('Diario contable'!E121=\"Ventas\",'Diario contable'!H121,0))","v":"00:00:00"},null,null,{"$f":"+IF('Diario contable'!C121=\"Gastos por salarios\",'Diario contable'!F121,0)","v":0},null,null,null,{"$f":"+IF('Diario contable'!E121=\"Gastos por salarios\",'Diario contable'!F121,0)","v":0},{"$f":"IF('Diario contable'!C121=\"Gastos por salarios\",'Diario contable'!I121,IF('Diario contable'!E121=\"Gastos por salarios\",'Diario contable'!I121,0))","v":0},{"$f":"IF('Diario contable'!C121=\"Gastos por salarios\",'Diario contable'!H121,IF('Diario contable'!E121=\"Gastos por salarios\",'Diario contable'!H121,0))","v":"00:00:00"},null,null,{"$f":"+IF('Diario contable'!C121=\"Gastos operacionales\",'Diario contable'!F121,0)","v":0},null,null,null,{"$f":"+IF('Diario contable'!E121=\"Gastos operacionales\",'Diario contable'!F121,0)","v":0},{"$f":"IF('Diario contable'!C121=\"Gastos operacionales\",'Diario contable'!I121,IF('Diario contable'!E121=\"Gastos operacionales\",'Diario contable'!I121,0))","v":0},{"$f":"IF('Diario contable'!C121=\"Gastos operacionales\",'Diario contable'!H121,IF('Diario contable'!E121=\"Gastos operacionales\",'Diario contable'!H121,0))","v":"00:00:00"},null,null,{"$f":"+IF('Diario contable'!C121=\"Suministros de oficina\",'Diario contable'!F121,0)","v":0},null,null,null,{"$f":"+IF('Diario contable'!E121=\"Suministros de oficina\",'Diario contable'!F121,0)","v":0},{"$f":"IF('Diario contable'!C121=\"Suministros de oficina\",'Diario contable'!I121,IF('Diario contable'!E121=\"Suministros de oficina\",'Diario contable'!I121,0))","v":0},{"$f":"IF('Diario contable'!C121=\"Suministros de oficina\",'Diario contable'!H121,IF('Diario contable'!E121=\"Suministros de oficina\",'Diario contable'!H121,0))","v":"00:00:00"},null,null,{"$f":"+IF('Diario contable'!C121=\"Capital social\",'Diario contable'!F121,0)","v":0},null,null,null,{"$f":"+IF('Diario contable'!E121=\"Capital social\",'Diario contable'!F121,0)","v":0},{"$f":"IF('Diario contable'!C121=\"Capital social\",'Diario contable'!I121,IF('Diario contable'!E121=\"Capital social\",'Diario contable'!I121,0))","v":0},{"$f":"IF('Diario contable'!C121=\"Capital social\",'Diario contable'!H121,IF('Diario contable'!E121=\"Capital social\",'Diario contable'!H121,0))","v":"00:00:00"},null,null,{"$f":"+IF('Diario contable'!C121=\"Gastos de mercadeo\",'Diario contable'!F121,0)","v":0},null,null,null,{"$f":"+IF('Diario contable'!E121=\"Gastos de mercadeo\",'Diario contable'!F121,0)","v":0},{"$f":"IF('Diario contable'!C121=\"Gastos de mercadeo\",'Diario contable'!I121,IF('Diario contable'!E121=\"Gastos de mercadeo\",'Diario contable'!I121,0))","v":0},{"$f":"IF('Diario contable'!C121=\"Gastos de mercadeo\",'Diario contable'!H121,IF('Diario contable'!E121=\"Gastos de mercadeo\",'Diario contable'!H121,0))","v":"00:00:00"},null,null,{"$f":"+IF('Diario contable'!C121=\"Gastos de suministros de oficina\",'Diario contable'!F121,0)","v":0},null,null,null,{"$f":"+IF('Diario contable'!E121=\"Gastos de suministros de oficina\",'Diario contable'!F121,0)","v":0},{"$f":"IF('Diario contable'!C121=\"Gastos de suministros de oficina\",'Diario contable'!I121,IF('Diario contable'!E121=\"Gastos de suministros de oficina\",'Diario contable'!I121,0))","v":0},{"$f":"IF('Diario contable'!C121=\"Gastos de suministros de oficina\",'Diario contable'!H121,IF('Diario contable'!E121=\"Gastos de suministros de oficina\",'Diario contable'!H121,0))","v":"00:00:00"}]
[null,null,{"$f":"+IF('Diario contable'!C122=\"Caja\",'Diario contable'!F122,0)","v":0},null,null,null,{"$f":"+IF('Diario contable'!E122=\"Caja\",'Diario contable'!F122,0)","v":0},{"$f":"IF('Diario contable'!C122=\"Caja\",'Diario contable'!I122,IF('Diario contable'!E122=\"Caja\",'Diario contable'!I122,0))","v":0},{"$f":"IF('Diario contable'!C122=\"Caja\",'Diario contable'!H122,IF('Diario contable'!E122=\"Caja\",'Diario contable'!H122,0))","v":"00:00:00"},null,null,{"$f":"+IF('Diario contable'!C122=\"Maquinaria\",'Diario contable'!F122,0)","v":0},null,null,null,{"$f":"+IF('Diario contable'!E122=\"Maquinaria\",'Diario contable'!F122,0)","v":0},{"$f":"IF('Diario contable'!C122=\"Maquinaria\",'Diario contable'!I122,IF('Diario contable'!E122=\"Maquinaria\",'Diario contable'!I122,0))","v":0},{"$f":"IF('Diario contable'!C122=\"Maquinaria\",'Diario contable'!H122,IF('Diario contable'!E122=\"Maquinaria\",'Diario contable'!H122,0))","v":"00:00:00"},null,null,{"$f":"+IF('Diario contable'!C122=\"Herramientas\",'Diario contable'!F122,0)","v":0},null,null,null,{"$f":"+IF('Diario contable'!E122=\"Herramientas\",'Diario contable'!F122,0)","v":0},{"$f":"IF('Diario contable'!C122=\"Herramientas\",'Diario contable'!I122,IF('Diario contable'!E122=\"Herramientas\",'Diario contable'!I122,0))","v":0},{"$f":"IF('Diario contable'!C122=\"Herramientas\",'Diario contable'!H122,IF('Diario contable'!E122=\"Herramientas\",'Diario contable'!H122,0))","v":"00:00:00"},null,null,{"$f":"+IF('Diario contable'!C122=\"Donaciones\",'Diario contable'!F122,0)","v":0},null,null,null,{"$f":"+IF('Diario contable'!E122=\"Donaciones\",'Diario contable'!F122,0)","v":0},{"$f":"IF('Diario contable'!C122=\"Donaciones\",'Diario contable'!I122,IF('Diario contable'!E122=\"Donaciones\",'Diario contable'!I122,0))","v":0},{"$f":"IF('Diario contable'!C122=\"Donaciones\",'Diario contable'!H122,IF('Diario contable'!E122=\"Donaciones\",'Diario contable'!H122,0))","v":"00:00:00"},null,null,{"$f":"+IF('Diario contable'!C122=\"Inventario\",'Diario contable'!F122,0)","v":0},null,null,null,{"$f":"+IF('Diario contable'!E122=\"Inventario\",'Diario contable'!F122,0)","v":0},{"$f":"IF('Diario contable'!C122=\"Inventario\",'Diario contable'!I122,IF('Diario contable'!E122=\"Inventario\",'Diario contable'!I122,0))","v":0},{"$f":"IF('Diario contable'!C122=\"Inventario\",'Diario contable'!H122,IF('Diario contable'!E122=\"Inventario\",'Diario contable'!H122,0))","v":"00:00:00"},null,null,{"$f":"+IF('Diario contable'!C122=\"Costo de ventas\",'Diario contable'!F122,0)","v":0},null,null,null,{"$f":"+IF('Diario contable'!E122=\"Costo de ventas\",'Diario contable'!F122,0)","v":0},{"$f":"IF('Diario contable'!C122=\"Costo de ventas\",'Diario contable'!I122,IF('Diario contable'!E122=\"Costo de ventas\",'Diario contable'!I122,0))","v":0},{"$f":"IF('Diario contable'!C122=\"Costo de ventas\",'Diario contable'!H122,IF('Diario contable'!E122=\"Costo de ventas\",'Diario contable'!H122,0))","v":"00:00:00"},null,null,{"$f":"+IF('Diario contable'!C122=\"Ventas\",'Diario contable'!F122,0)","v":0},null,null,null,{"$f":"+IF('Diario contable'!E122=\"Ventas\",'Diario contable'!F122,0)","v":0},{"$f":"IF('Diario contable'!C122=\"Ventas\",'Diario contable'!I122,IF('Diario contable'!E122=\"Ventas\",'Diario contable'!I122,0))","v":0},{"$f":"IF('Diario contable'!C122=\"Ventas\",'Diario contable'!H122,IF('Diario contable'!E122=\"Ventas\",'Diario contable'!H122,0))","v":"00:00:00"},null,null,{"$f":"+IF('Diario contable'!C122=\"Gastos por salarios\",'Diario contable'!F122,0)","v":0},null,null,null,{"$f":"+IF('Diario contable'!E122=\"Gastos por salarios\",'Diario contable'!F122,0)","v":0},{"$f":"IF('Diario contable'!C122=\"Gastos por salarios\",'Diario contable'!I122,IF('Diario contable'!E122=\"Gastos por salarios\",'Diario contable'!I122,0))","v":0},{"$f":"IF('Diario contable'!C122=\"Gastos por salarios\",'Diario contable'!H122,IF('Diario contable'!E122=\"Gastos por salarios\",'Diario contable'!H122,0))","v":"00:00:00"},null,null,{"$f":"+IF('Diario contable'!C122=\"Gastos operacionales\",'Diario contable'!F122,0)","v":0},null,null,null,{"$f":"+IF('Diario contable'!E122=\"Gastos operacionales\",'Diario contable'!F122,0)","v":0},{"$f":"IF('Diario contable'!C122=\"Gastos operacionales\",'Diario contable'!I122,IF('Diario contable'!E122=\"Gastos operacionales\",'Diario contable'!I122,0))","v":0},{"$f":"IF('Diario contable'!C122=\"Gastos operacionales\",'Diario contable'!H122,IF('Diario contable'!E122=\"Gastos operacionales\",'Diario contable'!H122,0))","v":"00:00:00"},null,null,{"$f":"+IF('Diario contable'!C122=\"Suministros de oficina\",'Diario contable'!F122,0)","v":0},null,null,null,{"$f":"+IF('Diario contable'!E122=\"Suministros de oficina\",'Diario contable'!F122,0)","v":0},{"$f":"IF('Diario contable'!C122=\"Suministros de oficina\",'Diario contable'!I122,IF('Diario contable'!E122=\"Suministros de oficina\",'Diario contable'!I122,0))","v":0},{"$f":"IF('Diario contable'!C122=\"Suministros de oficina\",'Diario contable'!H122,IF('Diario contable'!E122=\"Suministros de oficina\",'Diario contable'!H122,0))","v":"00:00:00"},null,null,{"$f":"+IF('Diario contable'!C122=\"Capital social\",'Diario contable'!F122,0)","v":0},null,null,null,{"$f":"+IF('Diario contable'!E122=\"Capital social\",'Diario contable'!F122,0)","v":0},{"$f":"IF('Diario contable'!C122=\"Capital social\",'Diario contable'!I122,IF('Diario contable'!E122=\"Capital social\",'Diario contable'!I122,0))","v":0},{"$f":"IF('Diario contable'!C122=\"Capital social\",'Diario contable'!H122,IF('Diario contable'!E122=\"Capital social\",'Diario contable'!H122,0))","v":"00:00:00"},null,null,{"$f":"+IF('Diario contable'!C122=\"Gastos de mercadeo\",'Diario contable'!F122,0)","v":0},null,null,null,{"$f":"+IF('Diario contable'!E122=\"Gastos de mercadeo\",'Diario contable'!F122,0)","v":0},{"$f":"IF('Diario contable'!C122=\"Gastos de mercadeo\",'Diario contable'!I122,IF('Diario contable'!E122=\"Gastos de mercadeo\",'Diario contable'!I122,0))","v":0},{"$f":"IF('Diario contable'!C122=\"Gastos de mercadeo\",'Diario contable'!H122,IF('Diario contable'!E122=\"Gastos de mercadeo\",'Diario contable'!H122,0))","v":"00:00:00"},null,null,{"$f":"+IF('Diario contable'!C122=\"Gastos de suministros de oficina\",'Diario contable'!F122,0)","v":0},null,null,null,{"$f":"+IF('Diario contable'!E122=\"Gastos de suministros de oficina\",'Diario contable'!F122,0)","v":0},{"$f":"IF('Diario contable'!C122=\"Gastos de suministros de oficina\",'Diario contable'!I122,IF('Diario contable'!E122=\"Gastos de suministros de oficina\",'Diario contable'!I122,0))","v":0},{"$f":"IF('Diario contable'!C122=\"Gastos de suministros de oficina\",'Diario contable'!H122,IF('Diario contable'!E122=\"Gastos de suministros de oficina\",'Diario contable'!H122,0))","v":"00:00:00"}]
[null,null,{"$f":"+IF('Diario contable'!C123=\"Caja\",'Diario contable'!F123,0)","v":0},null,null,null,{"$f":"+IF('Diario contable'!E123=\"Caja\",'Diario contable'!F123,0)","v":0},{"$f":"IF('Diario contable'!C123=\"Caja\",'Diario contable'!I123,IF('Diario contable'!E123=\"Caja\",'Diario contable'!I123,0))","v":0},{"$f":"IF('Diario contable'!C123=\"Caja\",'Diario contable'!H123,IF('Diario contable'!E123=\"Caja\",'Diario contable'!H123,0))","v":"00:00:00"},null,null,{"$f":"+IF('Diario contable'!C123=\"Maquinaria\",'Diario contable'!F123,0)","v":0},null,null,null,{"$f":"+IF('Diario contable'!E123=\"Maquinaria\",'Diario contable'!F123,0)","v":0},{"$f":"IF('Diario contable'!C123=\"Maquinaria\",'Diario contable'!I123,IF('Diario contable'!E123=\"Maquinaria\",'Diario contable'!I123,0))","v":0},{"$f":"IF('Diario contable'!C123=\"Maquinaria\",'Diario contable'!H123,IF('Diario contable'!E123=\"Maquinaria\",'Diario contable'!H123,0))","v":"00:00:00"},null,null,{"$f":"+IF('Diario contable'!C123=\"Herramientas\",'Diario contable'!F123,0)","v":0},null,null,null,{"$f":"+IF('Diario contable'!E123=\"Herramientas\",'Diario contable'!F123,0)","v":0},{"$f":"IF('Diario contable'!C123=\"Herramientas\",'Diario contable'!I123,IF('Diario contable'!E123=\"Herramientas\",'Diario contable'!I123,0))","v":0},{"$f":"IF('Diario contable'!C123=\"Herramientas\",'Diario contable'!H123,IF('Diario contable'!E123=\"Herramientas\",'Diario contable'!H123,0))","v":"00:00:00"},null,null,{"$f":"+IF('Diario contable'!C123=\"Donaciones\",'Diario contable'!F123,0)","v":0},null,null,null,{"$f":"+IF('Diario contable'!E123=\"Donaciones\",'Diario contable'!F123,0)","v":0},{"$f":"IF('Diario contable'!C123=\"Donaciones\",'Diario contable'!I123,IF('Diario contable'!E123=\"Donaciones\",'Diario contable'!I123,0))","v":0},{"$f":"IF('Diario contable'!C123=\"Donaciones\",'Diario contable'!H123,IF('Diario contable'!E123=\"Donaciones\",'Diario contable'!H123,0))","v":"00:00:00"},null,null,{"$f":"+IF('Diario contable'!C123=\"Inventario\",'Diario contable'!F123,0)","v":0},null,null,null,{"$f":"+IF('Diario contable'!E123=\"Inventario\",'Diario contable'!F123,0)","v":0},{"$f":"IF('Diario contable'!C123=\"Inventario\",'Diario contable'!I123,IF('Diario contable'!E123=\"Inventario\",'Diario contable'!I123,0))","v":0},{"$f":"IF('Diario contable'!C123=\"Inventario\",'Diario contable'!H123,IF('Diario contable'!E123=\"Inventario\",'Diario contable'!H123,0))","v":"00:00:00"},null,null,{"$f":"+IF('Diario contable'!C123=\"Costo de ventas\",'Diario contable'!F123,0)","v":0},null,null,null,{"$f":"+IF('Diario contable'!E123=\"Costo de ventas\",'Diario contable'!F123,0)","v":0},{"$f":"IF('Diario contable'!C123=\"Costo de ventas\",'Diario contable'!I123,IF('Diario contable'!E123=\"Costo de ventas\",'Diario contable'!I123,0))","v":0},{"$f":"IF('Diario contable'!C123=\"Costo de ventas\",'Diario contable'!H123,IF('Diario contable'!E123=\"Costo de ventas\",'Diario contable'!H123,0))","v":"00:00:00"},null,null,{"$f":"+IF('Diario contable'!C123=\"Ventas\",'Diario contable'!F123,0)","v":0},null,null,null,{"$f":"+IF('Diario contable'!E123=\"Ventas\",'Diario contable'!F123,0)","v":0},{"$f":"IF('Diario contable'!C123=\"Ventas\",'Diario contable'!I123,IF('Diario contable'!E123=\"Ventas\",'Diario contable'!I123,0))","v":0},{"$f":"IF('Diario contable'!C123=\"Ventas\",'Diario contable'!H123,IF('Diario contable'!E123=\"Ventas\",'Diario contable'!H123,0))","v":"00:00:00"},null,null,{"$f":"+IF('Diario contable'!C123=\"Gastos por salarios\",'Diario contable'!F123,0)","v":0},null,null,null,{"$f":"+IF('Diario contable'!E123=\"Gastos por salarios\",'Diario contable'!F123,0)","v":0},{"$f":"IF('Diario contable'!C123=\"Gastos por salarios\",'Diario contable'!I123,IF('Diario contable'!E123=\"Gastos por salarios\",'Diario contable'!I123,0))","v":0},{"$f":"IF('Diario contable'!C123=\"Gastos por salarios\",'Diario contable'!H123,IF('Diario contable'!E123=\"Gastos por salarios\",'Diario contable'!H123,0))","v":"00:00:00"},null,null,{"$f":"+IF('Diario contable'!C123=\"Gastos operacionales\",'Diario contable'!F123,0)","v":0},null,null,null,{"$f":"+IF('Diario contable'!E123=\"Gastos operacionales\",'Diario contable'!F123,0)","v":0},{"$f":"IF('Diario contable'!C123=\"Gastos operacionales\",'Diario contable'!I123,IF('Diario contable'!E123=\"Gastos operacionales\",'Diario contable'!I123,0))","v":0},{"$f":"IF('Diario contable'!C123=\"Gastos operacionales\",'Diario contable'!H123,IF('Diario contable'!E123=\"Gastos operacionales\",'Diario contable'!H123,0))","v":"00:00:00"},null,null,{"$f":"+IF('Diario contable'!C123=\"Suministros de oficina\",'Diario contable'!F123,0)","v":0},null,null,null,{"$f":"+IF('Diario contable'!E123=\"Suministros de oficina\",'Diario contable'!F123,0)","v":0},{"$f":"IF('Diario contable'!C123=\"Suministros de oficina\",'Diario contable'!I123,IF('Diario contable'!E123=\"Suministros de oficina\",'Diario contable'!I123,0))","v":0},{"$f":"IF('Diario contable'!C123=\"Suministros de oficina\",'Diario contable'!H123,IF('Diario contable'!E123=\"Suministros de oficina\",'Diario contable'!H123,0))","v":"00:00:00"},null,null,{"$f":"+IF('Diario contable'!C123=\"Capital social\",'Diario contable'!F123,0)","v":0},null,null,null,{"$f":"+IF('Diario contable'!E123=\"Capital social\",'Diario contable'!F123,0)","v":0},{"$f":"IF('Diario contable'!C123=\"Capital social\",'Diario contable'!I123,IF('Diario contable'!E123=\"Capital social\",'Diario contable'!I123,0))","v":0},{"$f":"IF('Diario contable'!C123=\"Capital social\",'Diario contable'!H123,IF('Diario contable'!E123=\"Capital social\",'Diario contable'!H123,0))","v":"00:00:00"},null,null,{"$f":"+IF('Diario contable'!C123=\"Gastos de mercadeo\",'Diario contable'!F123,0)","v":0},null,null,null,{"$f":"+IF('Diario contable'!E123=\"Gastos de mercadeo\",'Diario contable'!F123,0)","v":0},{"$f":"IF('Diario contable'!C123=\"Gastos de mercadeo\",'Diario contable'!I123,IF('Diario contable'!E123=\"Gastos de mercadeo\",'Diario contable'!I123,0))","v":0},{"$f":"IF('Diario contable'!C123=\"Gastos de mercadeo\",'Diario contable'!H123,IF('Diario contable'!E123=\"Gastos de mercadeo\",'Diario contable'!H123,0))","v":"00:00:00"},null,null,{"$f":"+IF('Diario contable'!C123=\"Gastos de suministros de oficina\",'Diario contable'!F123,0)","v":0},null,null,null,{"$f":"+IF('Diario contable'!E123=\"Gastos de suministros de oficina\",'Diario contable'!F123,0)","v":0},{"$f":"IF('Diario contable'!C123=\"Gastos de suministros de oficina\",'Diario contable'!I123,IF('Diario contable'!E123=\"Gastos de suministros de oficina\",'Diario contable'!I123,0))","v":0},{"$f":"IF('Diario contable'!C123=\"Gastos de suministros de oficina\",'Diario contable'!H123,IF('Diario contable'!E123=\"Gastos de suministros de oficina\",'Diario contable'!H123,0))","v":"00:00:00"}]
[null,null,{"$f":"+IF('Diario contable'!C124=\"Caja\",'Diario contable'!F124,0)","v":0},null,null,null,{"$f":"+IF('Diario contable'!E124=\"Caja\",'Diario contable'!F124,0)","v":0},{"$f":"IF('Diario contable'!C124=\"Caja\",'Diario contable'!I124,IF('Diario contable'!E124=\"Caja\",'Diario contable'!I124,0))","v":0},{"$f":"IF('Diario contable'!C124=\"Caja\",'Diario contable'!H124,IF('Diario contable'!E124=\"Caja\",'Diario contable'!H124,0))","v":"00:00:00"},null,null,{"$f":"+IF('Diario contable'!C124=\"Maquinaria\",'Diario contable'!F124,0)","v":0},null,null,null,{"$f":"+IF('Diario contable'!E124=\"Maquinaria\",'Diario contable'!F124,0)","v":0},{"$f":"IF('Diario contable'!C124=\"Maquinaria\",'Diario contable'!I124,IF('Diario contable'!E124=\"Maquinaria\",'Diario contable'!I124,0))","v":0},{"$f":"IF('Diario contable'!C124=\"Maquinaria\",'Diario contable'!H124,IF('Diario contable'!E124=\"Maquinaria\",'Diario contable'!H124,0))","v":"00:00:00"},null,null,{"$f":"+IF('Diario contable'!C124=\"Herramientas\",'Diario contable'!F124,0)","v":0},null,null,null,{"$f":"+IF('Diario contable'!E124=\"Herramientas\",'Diario contable'!F124,0)","v":0},{"$f":"IF('Diario contable'!C124=\"Herramientas\",'Diario contable'!I124,IF('Diario contable'!E124=\"Herramientas\",'Diario contable'!I124,0))","v":0},{"$f":"IF('Diario contable'!C124=\"Herramientas\",'Diario contable'!H124,IF('Diario contable'!E124=\"Herramientas\",'Diario contable'!H124,0))","v":"00:00:00"},null,null,{"$f":"+IF('Diario contable'!C124=\"Donaciones\",'Diario contable'!F124,0)","v":0},null,null,null,{"$f":"+IF('Diario contable'!E124=\"Donaciones\",'Diario contable'!F124,0)","v":0},{"$f":"IF('Diario contable'!C124=\"Donaciones\",'Diario contable'!I124,IF('Diario contable'!E124=\"Donaciones\",'Diario contable'!I124,0))","v":0},{"$f":"IF('Diario contable'!C124=\"Donaciones\",'Diario contable'!H124,IF('Diario contable'!E124=\"Donaciones\",'Diario contable'!H124,0))","v":"00:00:00"},null,null,{"$f":"+IF('Diario contable'!C124=\"Inventario\",'Diario contable'!F124,0)","v":0},null,null,null,{"$f":"+IF('Diario contable'!E124=\"Inventario\",'Diario contable'!F124,0)","v":0},{"$f":"IF('Diario contable'!C124=\"Inventario\",'Diario contable'!I124,IF('Diario contable'!E124=\"Inventario\",'Diario contable'!I124,0))","v":0},{"$f":"IF('Diario contable'!C124=\"Inventario\",'Diario contable'!H124,IF('Diario contable'!E124=\"Inventario\",'Diario contable'!H124,0))","v":"00:00:00"},null,null,{"$f":"+IF('Diario contable'!C124=\"Costo de ventas\",'Diario contable'!F124,0)","v":0},null,null,null,{"$f":"+IF('Diario contable'!E124=\"Costo de ventas\",'Diario contable'!F124,0)","v":0},{"$f":"IF('Diario contable'!C124=\"Costo de ventas\",'Diario contable'!I124,IF('Diario contable'!E124=\"Costo de ventas\",'Diario contable'!I124,0))","v":0},{"$f":"IF('Diario contable'!C124=\"Costo de ventas\",'Diario contable'!H124,IF('Diario contable'!E124=\"Costo de ventas\",'Diario contable'!H124,0))","v":"00:00:00"},null,null,{"$f":"+IF('Diario contable'!C124=\"Ventas\",'Diario contable'!F124,0)","v":0},null,null,null,{"$f":"+IF('Diario contable'!E124=\"Ventas\",'Diario contable'!F124,0)","v":0},{"$f":"IF('Diario contable'!C124=\"Ventas\",'Diario contable'!I124,IF('Diario contable'!E124=\"Ventas\",'Diario contable'!I124,0))","v":0},{"$f":"IF('Diario contable'!C124=\"Ventas\",'Diario contable'!H124,IF('Diario contable'!E124=\"Ventas\",'Diario contable'!H124,0))","v":"00:00:00"},null,null,{"$f":"+IF('Diario contable'!C124=\"Gastos por salarios\",'Diario contable'!F124,0)","v":0},null,null,null,{"$f":"+IF('Diario contable'!E124=\"Gastos por salarios\",'Diario contable'!F124,0)","v":0},{"$f":"IF('Diario contable'!C124=\"Gastos por salarios\",'Diario contable'!I124,IF('Diario contable'!E124=\"Gastos por salarios\",'Diario contable'!I124,0))","v":0},{"$f":"IF('Diario contable'!C124=\"Gastos por salarios\",'Diario contable'!H124,IF('Diario contable'!E124=\"Gastos por salarios\",'Diario contable'!H124,0))","v":"00:00:00"},null,null,{"$f":"+IF('Diario contable'!C124=\"Gastos operacionales\",'Diario contable'!F124,0)","v":0},null,null,null,{"$f":"+IF('Diario contable'!E124=\"Gastos operacionales\",'Diario contable'!F124,0)","v":0},{"$f":"IF('Diario contable'!C124=\"Gastos operacionales\",'Diario contable'!I124,IF('Diario contable'!E124=\"Gastos operacionales\",'Diario contable'!I124,0))","v":0},{"$f":"IF('Diario contable'!C124=\"Gastos operacionales\",'Diario contable'!H124,IF('Diario contable'!E124=\"Gastos operacionales\",'Diario contable'!H124,0))","v":"00:00:00"},null,null,{"$f":"+IF('Diario contable'!C124=\"Suministros de oficina\",'Diario contable'!F124,0)","v":0},null,null,null,{"$f":"+IF('Diario contable'!E124=\"Suministros de oficina\",'Diario contable'!F124,0)","v":0},{"$f":"IF('Diario contable'!C124=\"Suministros de oficina\",'Diario contable'!I124,IF('Diario contable'!E124=\"Suministros de oficina\",'Diario contable'!I124,0))","v":0},{"$f":"IF('Diario contable'!C124=\"Suministros de oficina\",'Diario contable'!H124,IF('Diario contable'!E124=\"Suministros de oficina\",'Diario contable'!H124,0))","v":"00:00:00"},null,null,{"$f":"+IF('Diario contable'!C124=\"Capital social\",'Diario contable'!F124,0)","v":0},null,null,null,{"$f":"+IF('Diario contable'!E124=\"Capital social\",'Diario contable'!F124,0)","v":0},{"$f":"IF('Diario contable'!C124=\"Capital social\",'Diario contable'!I124,IF('Diario contable'!E124=\"Capital social\",'Diario contable'!I124,0))","v":0},{"$f":"IF('Diario contable'!C124=\"Capital social\",'Diario contable'!H124,IF('Diario contable'!E124=\"Capital social\",'Diario contable'!H124,0))","v":"00:00:00"},null,null,{"$f":"+IF('Diario contable'!C124=\"Gastos de mercadeo\",'Diario contable'!F124,0)","v":0},null,null,null,{"$f":"+IF('Diario contable'!E124=\"Gastos de mercadeo\",'Diario contable'!F124,0)","v":0},{"$f":"IF('Diario contable'!C124=\"Gastos de mercadeo\",'Diario contable'!I124,IF('Diario contable'!E124=\"Gastos de mercadeo\",'Diario contable'!I124,0))","v":0},{"$f":"IF('Diario contable'!C124=\"Gastos de mercadeo\",'Diario contable'!H124,IF('Diario contable'!E124=\"Gastos de mercadeo\",'Diario contable'!H124,0))","v":"00:00:00"},null,null,{"$f":"+IF('Diario contable'!C124=\"Gastos de suministros de oficina\",'Diario contable'!F124,0)","v":0},null,null,null,{"$f":"+IF('Diario contable'!E124=\"Gastos de suministros de oficina\",'Diario contable'!F124,0)","v":0},{"$f":"IF('Diario contable'!C124=\"Gastos de suministros de oficina\",'Diario contable'!I124,IF('Diario contable'!E124=\"Gastos de suministros de oficina\",'Diario contable'!I124,0))","v":0},{"$f":"IF('Diario contable'!C124=\"Gastos de suministros de oficina\",'Diario contable'!H124,IF('Diario contable'!E124=\"Gastos de suministros de oficina\",'Diario contable'!H124,0))","v":"00:00:00"}]
[null,null,{"$f":"+IF('Diario contable'!C125=\"Caja\",'Diario contable'!F125,0)","v":0},null,null,null,{"$f":"+IF('Diario contable'!E125=\"Caja\",'Diario contable'!F125,0)","v":0},{"$f":"IF('Diario contable'!C125=\"Caja\",'Diario contable'!I125,IF('Diario contable'!E125=\"Caja\",'Diario contable'!I125,0))","v":0},{"$f":"IF('Diario contable'!C125=\"Caja\",'Diario contable'!H125,IF('Diario contable'!E125=\"Caja\",'Diario contable'!H125,0))","v":"00:00:00"},null,null,{"$f":"+IF('Diario contable'!C125=\"Maquinaria\",'Diario contable'!F125,0)","v":0},null,null,null,{"$f":"+IF('Diario contable'!E125=\"Maquinaria\",'Diario contable'!F125,0)","v":0},{"$f":"IF('Diario contable'!C125=\"Maquinaria\",'Diario contable'!I125,IF('Diario contable'!E125=\"Maquinaria\",'Diario contable'!I125,0))","v":0},{"$f":"IF('Diario contable'!C125=\"Maquinaria\",'Diario contable'!H125,IF('Diario contable'!E125=\"Maquinaria\",'Diario contable'!H125,0))","v":"00:00:00"},null,null,{"$f":"+IF('Diario contable'!C125=\"Herramientas\",'Diario contable'!F125,0)","v":0},null,null,null,{"$f":"+IF('Diario contable'!E125=\"Herramientas\",'Diario contable'!F125,0)","v":0},{"$f":"IF('Diario contable'!C125=\"Herramientas\",'Diario contable'!I125,IF('Diario contable'!E125=\"Herramientas\",'Diario contable'!I125,0))","v":0},{"$f":"IF('Diario contable'!C125=\"Herramientas\",'Diario contable'!H125,IF('Diario contable'!E125=\"Herramientas\",'Diario contable'!H125,0))","v":"00:00:00"},null,null,{"$f":"+IF('Diario contable'!C125=\"Donaciones\",'Diario contable'!F125,0)","v":0},null,null,null,{"$f":"+IF('Diario contable'!E125=\"Donaciones\",'Diario contable'!F125,0)","v":0},{"$f":"IF('Diario contable'!C125=\"Donaciones\",'Diario contable'!I125,IF('Diario contable'!E125=\"Donaciones\",'Diario contable'!I125,0))","v":0},{"$f":"IF('Diario contable'!C125=\"Donaciones\",'Diario contable'!H125,IF('Diario contable'!E125=\"Donaciones\",'Diario contable'!H125,0))","v":"00:00:00"},null,null,{"$f":"+IF('Diario contable'!C125=\"Inventario\",'Diario contable'!F125,0)","v":0},null,null,null,{"$f":"+IF('Diario contable'!E125=\"Inventario\",'Diario contable'!F125,0)","v":0},{"$f":"IF('Diario contable'!C125=\"Inventario\",'Diario contable'!I125,IF('Diario contable'!E125=\"Inventario\",'Diario contable'!I125,0))","v":0},{"$f":"IF('Diario contable'!C125=\"Inventario\",'Diario contable'!H125,IF('Diario contable'!E125=\"Inventario\",'Diario contable'!H125,0))","v":"00:00:00"},null,null,{"$f":"+IF('Diario contable'!C125=\"Costo de ventas\",'Diario contable'!F125,0)","v":0},null,null,null,{"$f":"+IF('Diario contable'!E125=\"Costo de ventas\",'Diario contable'!F125,0)","v":0},{"$f":"IF('Diario contable'!C125=\"Costo de ventas\",'Diario contable'!I125,IF('Diario contable'!E125=\"Costo de ventas\",'Diario contable'!I125,0))","v":0},{"$f":"IF('Diario contable'!C125=\"Costo de ventas\",'Diario contable'!H125,IF('Diario contable'!E125=\"Costo de ventas\",'Diario contable'!H125,0))","v":"00:00:00"},null,null,{"$f":"+IF('Diario contable'!C125=\"Ventas\",'Diario contable'!F125,0)","v":0},null,null,null,{"$f":"+IF('Diario contable'!E125=\"Ventas\",'Diario contable'!F125,0)","v":0},{"$f":"IF('Diario contable'!C125=\"Ventas\",'Diario contable'!I125,IF('Diario contable'!E125=\"Ventas\",'Diario contable'!I125,0))","v":0},{"$f":"IF('Diario contable'!C125=\"Ventas\",'Diario contable'!H125,IF('Diario contable'!E125=\"Ventas\",'Diario contable'!H125,0))","v":"00:00:00"},null,null,{"$f":"+IF('Diario contable'!C125=\"Gastos por salarios\",'Diario contable'!F125,0)","v":0},null,null,null,{"$f":"+IF('Diario contable'!E125=\"Gastos por salarios\",'Diario contable'!F125,0)","v":0},{"$f":"IF('Diario contable'!C125=\"Gastos por salarios\",'Diario contable'!I125,IF('Diario contable'!E125=\"Gastos por salarios\",'Diario contable'!I125,0))","v":0},{"$f":"IF('Diario contable'!C125=\"Gastos por salarios\",'Diario contable'!H125,IF('Diario contable'!E125=\"Gastos por salarios\",'Diario contable'!H125,0))","v":"00:00:00"},null,null,{"$f":"+IF('Diario contable'!C125=\"Gastos operacionales\",'Diario contable'!F125,0)","v":0},null,null,null,{"$f":"+IF('Diario contable'!E125=\"Gastos operacionales\",'Diario contable'!F125,0)","v":0},{"$f":"IF('Diario contable'!C125=\"Gastos operacionales\",'Diario contable'!I125,IF('Diario contable'!E125=\"Gastos operacionales\",'Diario contable'!I125,0))","v":0},{"$f":"IF('Diario contable'!C125=\"Gastos operacionales\",'Diario contable'!H125,IF('Diario contable'!E125=\"Gastos operacionales\",'Diario contable'!H125,0))","v":"00:00:00"},null,null,{"$f":"+IF('Diario contable'!C125=\"Suministros de oficina\",'Diario contable'!F125,0)","v":0},null,null,null,{"$f":"+IF('Diario contable'!E125=\"Suministros de oficina\",'Diario contable'!F125,0)","v":0},{"$f":"IF('Diario contable'!C125=\"Suministros de oficina\",'Diario contable'!I125,IF('Diario contable'!E125=\"Suministros de oficina\",'Diario contable'!I125,0))","v":0},{"$f":"IF('Diario contable'!C125=\"Suministros de oficina\",'Diario contable'!H125,IF('Diario contable'!E125=\"Suministros de oficina\",'Diario contable'!H125,0))","v":"00:00:00"},null,null,{"$f":"+IF('Diario contable'!C125=\"Capital social\",'Diario contable'!F125,0)","v":0},null,null,null,{"$f":"+IF('Diario contable'!E125=\"Capital social\",'Diario contable'!F125,0)","v":0},{"$f":"IF('Diario contable'!C125=\"Capital social\",'Diario contable'!I125,IF('Diario contable'!E125=\"Capital social\",'Diario contable'!I125,0))","v":0},{"$f":"IF('Diario contable'!C125=\"Capital social\",'Diario contable'!H125,IF('Diario contable'!E125=\"Capital social\",'Diario contable'!H125,0))","v":"00:00:00"},null,null,{"$f":"+IF('Diario contable'!C125=\"Gastos de mercadeo\",'Diario contable'!F125,0)","v":0},null,null,null,{"$f":"+IF('Diario contable'!E125=\"Gastos de mercadeo\",'Diario contable'!F125,0)","v":0},{"$f":"IF('Diario contable'!C125=\"Gastos de mercadeo\",'Diario contable'!I125,IF('Diario contable'!E125=\"Gastos de mercadeo\",'Diario contable'!I125,0))","v":0},{"$f":"IF('Diario contable'!C125=\"Gastos de mercadeo\",'Diario contable'!H125,IF('Diario contable'!E125=\"Gastos de mercadeo\",'Diario contable'!H125,0))","v":"00:00:00"},null,null,{"$f":"+IF('Diario contable'!C125=\"Gastos de suministros de oficina\",'Diario contable'!F125,0)","v":0},null,null,null,{"$f":"+IF('Diario contable'!E125=\"Gastos de suministros de oficina\",'Diario contable'!F125,0)","v":0},{"$f":"IF('Diario contable'!C125=\"Gastos de suministros de oficina\",'Diario contable'!I125,IF('Diario contable'!E125=\"Gastos de suministros de oficina\",'Diario contable'!I125,0))","v":0},{"$f":"IF('Diario contable'!C125=\"Gastos de suministros de oficina\",'Diario contable'!H125,IF('Diario contable'!E125=\"Gastos de suministros de oficina\",'Diario contable'!H125,0))","v":"00:00:00"}]
[null,null,{"$f":"+IF('Diario contable'!C126=\"Caja\",'Diario contable'!F126,0)","v":0},null,null,null,{"$f":"+IF('Diario contable'!E126=\"Caja\",'Diario contable'!F126,0)","v":0},{"$f":"IF('Diario contable'!C126=\"Caja\",'Diario contable'!I126,IF('Diario contable'!E126=\"Caja\",'Diario contable'!I126,0))","v":0},{"$f":"IF('Diario contable'!C126=\"Caja\",'Diario contable'!H126,IF('Diario contable'!E126=\"Caja\",'Diario contable'!H126,0))","v":"00:00:00"},null,null,{"$f":"+IF('Diario contable'!C126=\"Maquinaria\",'Diario contable'!F126,0)","v":0},null,null,null,{"$f":"+IF('Diario contable'!E126=\"Maquinaria\",'Diario contable'!F126,0)","v":0},{"$f":"IF('Diario contable'!C126=\"Maquinaria\",'Diario contable'!I126,IF('Diario contable'!E126=\"Maquinaria\",'Diario contable'!I126,0))","v":0},{"$f":"IF('Diario contable'!C126=\"Maquinaria\",'Diario contable'!H126,IF('Diario contable'!E126=\"Maquinaria\",'Diario contable'!H126,0))","v":"00:00:00"},null,null,{"$f":"+IF('Diario contable'!C126=\"Herramientas\",'Diario contable'!F126,0)","v":0},null,null,null,{"$f":"+IF('Diario contable'!E126=\"Herramientas\",'Diario contable'!F126,0)","v":0},{"$f":"IF('Diario contable'!C126=\"Herramientas\",'Diario contable'!I126,IF('Diario contable'!E126=\"Herramientas\",'Diario contable'!I126,0))","v":0},{"$f":"IF('Diario contable'!C126=\"Herramientas\",'Diario contable'!H126,IF('Diario contable'!E126=\"Herramientas\",'Diario contable'!H126,0))","v":"00:00:00"},null,null,{"$f":"+IF('Diario contable'!C126=\"Donaciones\",'Diario contable'!F126,0)","v":0},null,null,null,{"$f":"+IF('Diario contable'!E126=\"Donaciones\",'Diario contable'!F126,0)","v":0},{"$f":"IF('Diario contable'!C126=\"Donaciones\",'Diario contable'!I126,IF('Diario contable'!E126=\"Donaciones\",'Diario contable'!I126,0))","v":0},{"$f":"IF('Diario contable'!C126=\"Donaciones\",'Diario contable'!H126,IF('Diario contable'!E126=\"Donaciones\",'Diario contable'!H126,0))","v":"00:00:00"},null,null,{"$f":"+IF('Diario contable'!C126=\"Inventario\",'Diario contable'!F126,0)","v":0},null,null,null,{"$f":"+IF('Diario contable'!E126=\"Inventario\",'Diario contable'!F126,0)","v":0},{"$f":"IF('Diario contable'!C126=\"Inventario\",'Diario contable'!I126,IF('Diario contable'!E126=\"Inventario\",'Diario contable'!I126,0))","v":0},{"$f":"IF('Diario contable'!C126=\"Inventario\",'Diario contable'!H126,IF('Diario contable'!E126=\"Inventario\",'Diario contable'!H126,0))","v":"00:00:00"},null,null,{"$f":"+IF('Diario contable'!C126=\"Costo de ventas\",'Diario contable'!F126,0)","v":0},null,null,null,{"$f":"+IF('Diario contable'!E126=\"Costo de ventas\",'Diario contable'!F126,0)","v":0},{"$f":"IF('Diario contable'!C126=\"Costo de ventas\",'Diario contable'!I126,IF('Diario contable'!E126=\"Costo de ventas\",'Diario contable'!I126,0))","v":0},{"$f":"IF('Diario contable'!C126=\"Costo de ventas\",'Diario contable'!H126,IF('Diario contable'!E126=\"Costo de ventas\",'Diario contable'!H126,0))","v":"00:00:00"},null,null,{"$f":"+IF('Diario contable'!C126=\"Ventas\",'Diario contable'!F126,0)","v":0},null,null,null,{"$f":"+IF('Diario contable'!E126=\"Ventas\",'Diario contable'!F126,0)","v":0},{"$f":"IF('Diario contable'!C126=\"Ventas\",'Diario contable'!I126,IF('Diario contable'!E126=\"Ventas\",'Diario contable'!I126,0))","v":0},{"$f":"IF('Diario contable'!C126=\"Ventas\",'Diario contable'!H126,IF('Diario contable'!E126=\"Ventas\",'Diario contable'!H126,0))","v":"00:00:00"},null,null,{"$f":"+IF('Diario contable'!C126=\"Gastos por salarios\",'Diario contable'!F126,0)","v":0},null,null,null,{"$f":"+IF('Diario contable'!E126=\"Gastos por salarios\",'Diario contable'!F126,0)","v":0},{"$f":"IF('Diario contable'!C126=\"Gastos por salarios\",'Diario contable'!I126,IF('Diario contable'!E126=\"Gastos por salarios\",'Diario contable'!I126,0))","v":0},{"$f":"IF('Diario contable'!C126=\"Gastos por salarios\",'Diario contable'!H126,IF('Diario contable'!E126=\"Gastos por salarios\",'Diario contable'!H126,0))","v":"00:00:00"},null,null,{"$f":"+IF('Diario contable'!C126=\"Gastos operacionales\",'Diario contable'!F126,0)","v":0},null,null,null,{"$f":"+IF('Diario contable'!E126=\"Gastos operacionales\",'Diario contable'!F126,0)","v":0},{"$f":"IF('Diario contable'!C126=\"Gastos operacionales\",'Diario contable'!I126,IF('Diario contable'!E126=\"Gastos operacionales\",'Diario contable'!I126,0))","v":0},{"$f":"IF('Diario contable'!C126=\"Gastos operacionales\",'Diario contable'!H126,IF('Diario contable'!E126=\"Gastos operacionales\",'Diario contable'!H126,0))","v":"00:00:00"},null,null,{"$f":"+IF('Diario contable'!C126=\"Suministros de oficina\",'Diario contable'!F126,0)","v":0},null,null,null,{"$f":"+IF('Diario contable'!E126=\"Suministros de oficina\",'Diario contable'!F126,0)","v":0},{"$f":"IF('Diario contable'!C126=\"Suministros de oficina\",'Diario contable'!I126,IF('Diario contable'!E126=\"Suministros de oficina\",'Diario contable'!I126,0))","v":0},{"$f":"IF('Diario contable'!C126=\"Suministros de oficina\",'Diario contable'!H126,IF('Diario contable'!E126=\"Suministros de oficina\",'Diario contable'!H126,0))","v":"00:00:00"},null,null,{"$f":"+IF('Diario contable'!C126=\"Capital social\",'Diario contable'!F126,0)","v":0},null,null,null,{"$f":"+IF('Diario contable'!E126=\"Capital social\",'Diario contable'!F126,0)","v":0},{"$f":"IF('Diario contable'!C126=\"Capital social\",'Diario contable'!I126,IF('Diario contable'!E126=\"Capital social\",'Diario contable'!I126,0))","v":0},{"$f":"IF('Diario contable'!C126=\"Capital social\",'Diario contable'!H126,IF('Diario contable'!E126=\"Capital social\",'Diario contable'!H126,0))","v":"00:00:00"},null,null,{"$f":"+IF('Diario contable'!C126=\"Gastos de mercadeo\",'Diario contable'!F126,0)","v":0},null,null,null,{"$f":"+IF('Diario contable'!E126=\"Gastos de mercadeo\",'Diario contable'!F126,0)","v":0},{"$f":"IF('Diario contable'!C126=\"Gastos de mercadeo\",'Diario contable'!I126,IF('Diario contable'!E126=\"Gastos de mercadeo\",'Diario contable'!I126,0))","v":0},{"$f":"IF('Diario contable'!C126=\"Gastos de mercadeo\",'Diario contable'!H126,IF('Diario contable'!E126=\"Gastos de mercadeo\",'Diario contable'!H126,0))","v":"00:00:00"},null,null,{"$f":"+IF('Diario contable'!C126=\"Gastos de suministros de oficina\",'Diario contable'!F126,0)","v":0},null,null,null,{"$f":"+IF('Diario contable'!E126=\"Gastos de suministros de oficina\",'Diario contable'!F126,0)","v":0},{"$f":"IF('Diario contable'!C126=\"Gastos de suministros de oficina\",'Diario contable'!I126,IF('Diario contable'!E126=\"Gastos de suministros de oficina\",'Diario contable'!I126,0))","v":0},{"$f":"IF('Diario contable'!C126=\"Gastos de suministros de oficina\",'Diario contable'!H126,IF('Diario contable'!E126=\"Gastos de suministros de oficina\",'Diario contable'!H126,0))","v":"00:00:00"}]
[null,null,{"$f":"+IF('Diario contable'!C127=\"Caja\",'Diario contable'!F127,0)","v":0},null,null,null,{"$f":"+IF('Diario contable'!E127=\"Caja\",'Diario contable'!F127,0)","v":0},{"$f":"IF('Diario contable'!C127=\"Caja\",'Diario contable'!I127,IF('Diario contable'!E127=\"Caja\",'Diario contable'!I127,0))","v":0},{"$f":"IF('Diario contable'!C127=\"Caja\",'Diario contable'!H127,IF('Diario contable'!E127=\"Caja\",'Diario contable'!H127,0))","v":"00:00:00"},null,null,{"$f":"+IF('Diario contable'!C127=\"Maquinaria\",'Diario contable'!F127,0)","v":0},null,null,null,{"$f":"+IF('Diario contable'!E127=\"Maquinaria\",'Diario contable'!F127,0)","v":0},{"$f":"IF('Diario contable'!C127=\"Maquinaria\",'Diario contable'!I127,IF('Diario contable'!E127=\"Maquinaria\",'Diario contable'!I127,0))","v":0},{"$f":"IF('Diario contable'!C127=\"Maquinaria\",'Diario contable'!H127,IF('Diario contable'!E127=\"Maquinaria\",'Diario contable'!H127,0))","v":"00:00:00"},null,null,{"$f":"+IF('Diario contable'!C127=\"Herramientas\",'Diario contable'!F127,0)","v":0},null,null,null,{"$f":"+IF('Diario contable'!E127=\"Herramientas\",'Diario contable'!F127,0)","v":0},{"$f":"IF('Diario contable'!C127=\"Herramientas\",'Diario contable'!I127,IF('Diario contable'!E127=\"Herramientas\",'Diario contable'!I127,0))","v":0},{"$f":"IF('Diario contable'!C127=\"Herramientas\",'Diario contable'!H127,IF('Diario contable'!E127=\"Herramientas\",'Diario contable'!H127,0))","v":"00:00:00"},null,null,{"$f":"+IF('Diario contable'!C127=\"Donaciones\",'Diario contable'!F127,0)","v":0},null,null,null,{"$f":"+IF('Diario contable'!E127=\"Donaciones\",'Diario contable'!F127,0)","v":0},{"$f":"IF('Diario contable'!C127=\"Donaciones\",'Diario contable'!I127,IF('Diario contable'!E127=\"Donaciones\",'Diario contable'!I127,0))","v":0},{"$f":"IF('Diario contable'!C127=\"Donaciones\",'Diario contable'!H127,IF('Diario contable'!E127=\"Donaciones\",'Diario contable'!H127,0))","v":"00:00:00"},null,null,{"$f":"+IF('Diario contable'!C127=\"Inventario\",'Diario contable'!F127,0)","v":0},null,null,null,{"$f":"+IF('Diario contable'!E127=\"Inventario\",'Diario contable'!F127,0)","v":0},{"$f":"IF('Diario contable'!C127=\"Inventario\",'Diario contable'!I127,IF('Diario contable'!E127=\"Inventario\",'Diario contable'!I127,0))","v":0},{"$f":"IF('Diario contable'!C127=\"Inventario\",'Diario contable'!H127,IF('Diario contable'!E127=\"Inventario\",'Diario contable'!H127,0))","v":"00:00:00"},null,null,{"$f":"+IF('Diario contable'!C127=\"Costo de ventas\",'Diario contable'!F127,0)","v":0},null,null,null,{"$f":"+IF('Diario contable'!E127=\"Costo de ventas\",'Diario contable'!F127,0)","v":0},{"$f":"IF('Diario contable'!C127=\"Costo de ventas\",'Diario contable'!I127,IF('Diario contable'!E127=\"Costo de ventas\",'Diario contable'!I127,0))","v":0},{"$f":"IF('Diario contable'!C127=\"Costo de ventas\",'Diario contable'!H127,IF('Diario contable'!E127=\"Costo de ventas\",'Diario contable'!H127,0))","v":"00:00:00"},null,null,{"$f":"+IF('Diario contable'!C127=\"Ventas\",'Diario contable'!F127,0)","v":0},null,null,null,{"$f":"+IF('Diario contable'!E127=\"Ventas\",'Diario contable'!F127,0)","v":0},{"$f":"IF('Diario contable'!C127=\"Ventas\",'Diario contable'!I127,IF('Diario contable'!E127=\"Ventas\",'Diario contable'!I127,0))","v":0},{"$f":"IF('Diario contable'!C127=\"Ventas\",'Diario contable'!H127,IF('Diario contable'!E127=\"Ventas\",'Diario contable'!H127,0))","v":"00:00:00"},null,null,{"$f":"+IF('Diario contable'!C127=\"Gastos por salarios\",'Diario contable'!F127,0)","v":0},null,null,null,{"$f":"+IF('Diario contable'!E127=\"Gastos por salarios\",'Diario contable'!F127,0)","v":0},{"$f":"IF('Diario contable'!C127=\"Gastos por salarios\",'Diario contable'!I127,IF('Diario contable'!E127=\"Gastos por salarios\",'Diario contable'!I127,0))","v":0},{"$f":"IF('Diario contable'!C127=\"Gastos por salarios\",'Diario contable'!H127,IF('Diario contable'!E127=\"Gastos por salarios\",'Diario contable'!H127,0))","v":"00:00:00"},null,null,{"$f":"+IF('Diario contable'!C127=\"Gastos operacionales\",'Diario contable'!F127,0)","v":0},null,null,null,{"$f":"+IF('Diario contable'!E127=\"Gastos operacionales\",'Diario contable'!F127,0)","v":0},{"$f":"IF('Diario contable'!C127=\"Gastos operacionales\",'Diario contable'!I127,IF('Diario contable'!E127=\"Gastos operacionales\",'Diario contable'!I127,0))","v":0},{"$f":"IF('Diario contable'!C127=\"Gastos operacionales\",'Diario contable'!H127,IF('Diario contable'!E127=\"Gastos operacionales\",'Diario contable'!H127,0))","v":"00:00:00"},null,null,{"$f":"+IF('Diario contable'!C127=\"Suministros de oficina\",'Diario contable'!F127,0)","v":0},null,null,null,{"$f":"+IF('Diario contable'!E127=\"Suministros de oficina\",'Diario contable'!F127,0)","v":0},{"$f":"IF('Diario contable'!C127=\"Suministros de oficina\",'Diario contable'!I127,IF('Diario contable'!E127=\"Suministros de oficina\",'Diario contable'!I127,0))","v":0},{"$f":"IF('Diario contable'!C127=\"Suministros de oficina\",'Diario contable'!H127,IF('Diario contable'!E127=\"Suministros de oficina\",'Diario contable'!H127,0))","v":"00:00:00"},null,null,{"$f":"+IF('Diario contable'!C127=\"Capital social\",'Diario contable'!F127,0)","v":0},null,null,null,{"$f":"+IF('Diario contable'!E127=\"Capital social\",'Diario contable'!F127,0)","v":0},{"$f":"IF('Diario contable'!C127=\"Capital social\",'Diario contable'!I127,IF('Diario contable'!E127=\"Capital social\",'Diario contable'!I127,0))","v":0},{"$f":"IF('Diario contable'!C127=\"Capital social\",'Diario contable'!H127,IF('Diario contable'!E127=\"Capital social\",'Diario contable'!H127,0))","v":"00:00:00"},null,null,{"$f":"+IF('Diario contable'!C127=\"Gastos de mercadeo\",'Diario contable'!F127,0)","v":0},null,null,null,{"$f":"+IF('Diario contable'!E127=\"Gastos de mercadeo\",'Diario contable'!F127,0)","v":0},{"$f":"IF('Diario contable'!C127=\"Gastos de mercadeo\",'Diario contable'!I127,IF('Diario contable'!E127=\"Gastos de mercadeo\",'Diario contable'!I127,0))","v":0},{"$f":"IF('Diario contable'!C127=\"Gastos de mercadeo\",'Diario contable'!H127,IF('Diario contable'!E127=\"Gastos de mercadeo\",'Diario contable'!H127,0))","v":"00:00:00"},null,null,{"$f":"+IF('Diario contable'!C127=\"Gastos de suministros de oficina\",'Diario contable'!F127,0)","v":0},null,null,null,{"$f":"+IF('Diario contable'!E127=\"Gastos de suministros de oficina\",'Diario contable'!F127,0)","v":0},{"$f":"IF('Diario contable'!C127=\"Gastos de suministros de oficina\",'Diario contable'!I127,IF('Diario contable'!E127=\"Gastos de suministros de oficina\",'Diario contable'!I127,0))","v":0},{"$f":"IF('Diario contable'!C127=\"Gastos de suministros de oficina\",'Diario contable'!H127,IF('Diario contable'!E127=\"Gastos de suministros de oficina\",'Diario contable'!H127,0))","v":"00:00:00"}]
[null,null,{"$f":"+IF('Diario contable'!C128=\"Caja\",'Diario contable'!F128,0)","v":0},null,null,null,{"$f":"+IF('Diario contable'!E128=\"Caja\",'Diario contable'!F128,0)","v":0},{"$f":"IF('Diario contable'!C128=\"Caja\",'Diario contable'!I128,IF('Diario contable'!E128=\"Caja\",'Diario contable'!I128,0))","v":0},{"$f":"IF('Diario contable'!C128=\"Caja\",'Diario contable'!H128,IF('Diario contable'!E128=\"Caja\",'Diario contable'!H128,0))","v":"00:00:00"},null,null,{"$f":"+IF('Diario contable'!C128=\"Maquinaria\",'Diario contable'!F128,0)","v":0},null,null,null,{"$f":"+IF('Diario contable'!E128=\"Maquinaria\",'Diario contable'!F128,0)","v":0},{"$f":"IF('Diario contable'!C128=\"Maquinaria\",'Diario contable'!I128,IF('Diario contable'!E128=\"Maquinaria\",'Diario contable'!I128,0))","v":0},{"$f":"IF('Diario contable'!C128=\"Maquinaria\",'Diario contable'!H128,IF('Diario contable'!E128=\"Maquinaria\",'Diario contable'!H128,0))","v":"00:00:00"},null,null,{"$f":"+IF('Diario contable'!C128=\"Herramientas\",'Diario contable'!F128,0)","v":0},null,null,null,{"$f":"+IF('Diario contable'!E128=\"Herramientas\",'Diario contable'!F128,0)","v":0},{"$f":"IF('Diario contable'!C128=\"Herramientas\",'Diario contable'!I128,IF('Diario contable'!E128=\"Herramientas\",'Diario contable'!I128,0))","v":0},{"$f":"IF('Diario contable'!C128=\"Herramientas\",'Diario contable'!H128,IF('Diario contable'!E128=\"Herramientas\",'Diario contable'!H128,0))","v":"00:00:00"},null,null,{"$f":"+IF('Diario contable'!C128=\"Donaciones\",'Diario contable'!F128,0)","v":0},null,null,null,{"$f":"+IF('Diario contable'!E128=\"Donaciones\",'Diario contable'!F128,0)","v":0},{"$f":"IF('Diario contable'!C128=\"Donaciones\",'Diario contable'!I128,IF('Diario contable'!E128=\"Donaciones\",'Diario contable'!I128,0))","v":0},{"$f":"IF('Diario contable'!C128=\"Donaciones\",'Diario contable'!H128,IF('Diario contable'!E128=\"Donaciones\",'Diario contable'!H128,0))","v":"00:00:00"},null,null,{"$f":"+IF('Diario contable'!C128=\"Inventario\",'Diario contable'!F128,0)","v":0},null,null,null,{"$f":"+IF('Diario contable'!E128=\"Inventario\",'Diario contable'!F128,0)","v":0},{"$f":"IF('Diario contable'!C128=\"Inventario\",'Diario contable'!I128,IF('Diario contable'!E128=\"Inventario\",'Diario contable'!I128,0))","v":0},{"$f":"IF('Diario contable'!C128=\"Inventario\",'Diario contable'!H128,IF('Diario contable'!E128=\"Inventario\",'Diario contable'!H128,0))","v":"00:00:00"},null,null,{"$f":"+IF('Diario contable'!C128=\"Costo de ventas\",'Diario contable'!F128,0)","v":0},null,null,null,{"$f":"+IF('Diario contable'!E128=\"Costo de ventas\",'Diario contable'!F128,0)","v":0},{"$f":"IF('Diario contable'!C128=\"Costo de ventas\",'Diario contable'!I128,IF('Diario contable'!E128=\"Costo de ventas\",'Diario contable'!I128,0))","v":0},{"$f":"IF('Diario contable'!C128=\"Costo de ventas\",'Diario contable'!H128,IF('Diario contable'!E128=\"Costo de ventas\",'Diario contable'!H128,0))","v":"00:00:00"},null,null,{"$f":"+IF('Diario contable'!C128=\"Ventas\",'Diario contable'!F128,0)","v":0},null,null,null,{"$f":"+IF('Diario contable'!E128=\"Ventas\",'Diario contable'!F128,0)","v":0},{"$f":"IF('Diario contable'!C128=\"Ventas\",'Diario contable'!I128,IF('Diario contable'!E128=\"Ventas\",'Diario contable'!I128,0))","v":0},{"$f":"IF('Diario contable'!C128=\"Ventas\",'Diario contable'!H128,IF('Diario contable'!E128=\"Ventas\",'Diario contable'!H128,0))","v":"00:00:00"},null,null,{"$f":"+IF('Diario contable'!C128=\"Gastos por salarios\",'Diario contable'!F128,0)","v":0},null,null,null,{"$f":"+IF('Diario contable'!E128=\"Gastos por salarios\",'Diario contable'!F128,0)","v":0},{"$f":"IF('Diario contable'!C128=\"Gastos por salarios\",'Diario contable'!I128,IF('Diario contable'!E128=\"Gastos por salarios\",'Diario contable'!I128,0))","v":0},{"$f":"IF('Diario contable'!C128=\"Gastos por salarios\",'Diario contable'!H128,IF('Diario contable'!E128=\"Gastos por salarios\",'Diario contable'!H128,0))","v":"00:00:00"},null,null,{"$f":"+IF('Diario contable'!C128=\"Gastos operacionales\",'Diario contable'!F128,0)","v":0},null,null,null,{"$f":"+IF('Diario contable'!E128=\"Gastos operacionales\",'Diario contable'!F128,0)","v":0},{"$f":"IF('Diario contable'!C128=\"Gastos operacionales\",'Diario contable'!I128,IF('Diario contable'!E128=\"Gastos operacionales\",'Diario contable'!I128,0))","v":0},{"$f":"IF('Diario contable'!C128=\"Gastos operacionales\",'Diario contable'!H128,IF('Diario contable'!E128=\"Gastos operacionales\",'Diario contable'!H128,0))","v":"00:00:00"},null,null,{"$f":"+IF('Diario contable'!C128=\"Suministros de oficina\",'Diario contable'!F128,0)","v":0},null,null,null,{"$f":"+IF('Diario contable'!E128=\"Suministros de oficina\",'Diario contable'!F128,0)","v":0},{"$f":"IF('Diario contable'!C128=\"Suministros de oficina\",'Diario contable'!I128,IF('Diario contable'!E128=\"Suministros de oficina\",'Diario contable'!I128,0))","v":0},{"$f":"IF('Diario contable'!C128=\"Suministros de oficina\",'Diario contable'!H128,IF('Diario contable'!E128=\"Suministros de oficina\",'Diario contable'!H128,0))","v":"00:00:00"},null,null,{"$f":"+IF('Diario contable'!C128=\"Capital social\",'Diario contable'!F128,0)","v":0},null,null,null,{"$f":"+IF('Diario contable'!E128=\"Capital social\",'Diario contable'!F128,0)","v":0},{"$f":"IF('Diario contable'!C128=\"Capital social\",'Diario contable'!I128,IF('Diario contable'!E128=\"Capital social\",'Diario contable'!I128,0))","v":0},{"$f":"IF('Diario contable'!C128=\"Capital social\",'Diario contable'!H128,IF('Diario contable'!E128=\"Capital social\",'Diario contable'!H128,0))","v":"00:00:00"},null,null,{"$f":"+IF('Diario contable'!C128=\"Gastos de mercadeo\",'Diario contable'!F128,0)","v":0},null,null,null,{"$f":"+IF('Diario contable'!E128=\"Gastos de mercadeo\",'Diario contable'!F128,0)","v":0},{"$f":"IF('Diario contable'!C128=\"Gastos de mercadeo\",'Diario contable'!I128,IF('Diario contable'!E128=\"Gastos de mercadeo\",'Diario contable'!I128,0))","v":0},{"$f":"IF('Diario contable'!C128=\"Gastos de mercadeo\",'Diario contable'!H128,IF('Diario contable'!E128=\"Gastos de mercadeo\",'Diario contable'!H128,0))","v":"00:00:00"},null,null,{"$f":"+IF('Diario contable'!C128=\"Gastos de suministros de oficina\",'Diario contable'!F128,0)","v":0},null,null,null,{"$f":"+IF('Diario contable'!E128=\"Gastos de suministros de oficina\",'Diario contable'!F128,0)","v":0},{"$f":"IF('Diario contable'!C128=\"Gastos de suministros de oficina\",'Diario contable'!I128,IF('Diario contable'!E128=\"Gastos de suministros de oficina\",'Diario contable'!I128,0))","v":0},{"$f":"IF('Diario contable'!C128=\"Gastos de suministros de oficina\",'Diario contable'!H128,IF('Diario contable'!E128=\"Gastos de suministros de oficina\",'Diario contable'!H128,0))","v":"00:00:00"}]
[null,null,{"$f":"+IF('Diario contable'!C129=\"Caja\",'Diario contable'!F129,0)","v":0},null,null,null,{"$f":"+IF('Diario contable'!E129=\"Caja\",'Diario contable'!F129,0)","v":0},{"$f":"IF('Diario contable'!C129=\"Caja\",'Diario contable'!I129,IF('Diario contable'!E129=\"Caja\",'Diario contable'!I129,0))","v":0},{"$f":"IF('Diario contable'!C129=\"Caja\",'Diario contable'!H129,IF('Diario contable'!E129=\"Caja\",'Diario contable'!H129,0))","v":"00:00:00"},null,null,{"$f":"+IF('Diario contable'!C129=\"Maquinaria\",'Diario contable'!F129,0)","v":0},null,null,null,{"$f":"+IF('Diario contable'!E129=\"Maquinaria\",'Diario contable'!F129,0)","v":0},{"$f":"IF('Diario contable'!C129=\"Maquinaria\",'Diario contable'!I129,IF('Diario contable'!E129=\"Maquinaria\",'Diario contable'!I129,0))","v":0},{"$f":"IF('Diario contable'!C129=\"Maquinaria\",'Diario contable'!H129,IF('Diario contable'!E129=\"Maquinaria\",'Diario contable'!H129,0))","v":"00:00:00"},null,null,{"$f":"+IF('Diario contable'!C129=\"Herramientas\",'Diario contable'!F129,0)","v":0},null,null,null,{"$f":"+IF('Diario contable'!E129=\"Herramientas\",'Diario contable'!F129,0)","v":0},{"$f":"IF('Diario contable'!C129=\"Herramientas\",'Diario contable'!I129,IF('Diario contable'!E129=\"Herramientas\",'Diario contable'!I129,0))","v":0},{"$f":"IF('Diario contable'!C129=\"Herramientas\",'Diario contable'!H129,IF('Diario contable'!E129=\"Herramientas\",'Diario contable'!H129,0))","v":"00:00:00"},null,null,{"$f":"+IF('Diario contable'!C129=\"Donaciones\",'Diario contable'!F129,0)","v":0},null,null,null,{"$f":"+IF('Diario contable'!E129=\"Donaciones\",'Diario contable'!F129,0)","v":0},{"$f":"IF('Diario contable'!C129=\"Donaciones\",'Diario contable'!I129,IF('Diario contable'!E129=\"Donaciones\",'Diario contable'!I129,0))","v":0},{"$f":"IF('Diario contable'!C129=\"Donaciones\",'Diario contable'!H129,IF('Diario contable'!E129=\"Donaciones\",'Diario contable'!H129,0))","v":"00:00:00"},null,null,{"$f":"+IF('Diario contable'!C129=\"Inventario\",'Diario contable'!F129,0)","v":0},null,null,null,{"$f":"+IF('Diario contable'!E129=\"Inventario\",'Diario contable'!F129,0)","v":0},{"$f":"IF('Diario contable'!C129=\"Inventario\",'Diario contable'!I129,IF('Diario contable'!E129=\"Inventario\",'Diario contable'!I129,0))","v":0},{"$f":"IF('Diario contable'!C129=\"Inventario\",'Diario contable'!H129,IF('Diario contable'!E129=\"Inventario\",'Diario contable'!H129,0))","v":"00:00:00"},null,null,{"$f":"+IF('Diario contable'!C129=\"Costo de ventas\",'Diario contable'!F129,0)","v":0},null,null,null,{"$f":"+IF('Diario contable'!E129=\"Costo de ventas\",'Diario contable'!F129,0)","v":0},{"$f":"IF('Diario contable'!C129=\"Costo de ventas\",'Diario contable'!I129,IF('Diario contable'!E129=\"Costo de ventas\",'Diario contable'!I129,0))","v":0},{"$f":"IF('Diario contable'!C129=\"Costo de ventas\",'Diario contable'!H129,IF('Diario contable'!E129=\"Costo de ventas\",'Diario contable'!H129,0))","v":"00:00:00"},null,null,{"$f":"+IF('Diario contable'!C129=\"Ventas\",'Diario contable'!F129,0)","v":0},null,null,null,{"$f":"+IF('Diario contable'!E129=\"Ventas\",'Diario contable'!F129,0)","v":0},{"$f":"IF('Diario contable'!C129=\"Ventas\",'Diario contable'!I129,IF('Diario contable'!E129=\"Ventas\",'Diario contable'!I129,0))","v":0},{"$f":"IF('Diario contable'!C129=\"Ventas\",'Diario contable'!H129,IF('Diario contable'!E129=\"Ventas\",'Diario contable'!H129,0))","v":"00:00:00"},null,null,{"$f":"+IF('Diario contable'!C129=\"Gastos por salarios\",'Diario contable'!F129,0)","v":0},null,null,null,{"$f":"+IF('Diario contable'!E129=\"Gastos por salarios\",'Diario contable'!F129,0)","v":0},{"$f":"IF('Diario contable'!C129=\"Gastos por salarios\",'Diario contable'!I129,IF('Diario contable'!E129=\"Gastos por salarios\",'Diario contable'!I129,0))","v":0},{"$f":"IF('Diario contable'!C129=\"Gastos por salarios\",'Diario contable'!H129,IF('Diario contable'!E129=\"Gastos por salarios\",'Diario contable'!H129,0))","v":"00:00:00"},null,null,{"$f":"+IF('Diario contable'!C129=\"Gastos operacionales\",'Diario contable'!F129,0)","v":0},null,null,null,{"$f":"+IF('Diario contable'!E129=\"Gastos operacionales\",'Diario contable'!F129,0)","v":0},{"$f":"IF('Diario contable'!C129=\"Gastos operacionales\",'Diario contable'!I129,IF('Diario contable'!E129=\"Gastos operacionales\",'Diario contable'!I129,0))","v":0},{"$f":"IF('Diario contable'!C129=\"Gastos operacionales\",'Diario contable'!H129,IF('Diario contable'!E129=\"Gastos operacionales\",'Diario contable'!H129,0))","v":"00:00:00"},null,null,{"$f":"+IF('Diario contable'!C129=\"Suministros de oficina\",'Diario contable'!F129,0)","v":0},null,null,null,{"$f":"+IF('Diario contable'!E129=\"Suministros de oficina\",'Diario contable'!F129,0)","v":0},{"$f":"IF('Diario contable'!C129=\"Suministros de oficina\",'Diario contable'!I129,IF('Diario contable'!E129=\"Suministros de oficina\",'Diario contable'!I129,0))","v":0},{"$f":"IF('Diario contable'!C129=\"Suministros de oficina\",'Diario contable'!H129,IF('Diario contable'!E129=\"Suministros de oficina\",'Diario contable'!H129,0))","v":"00:00:00"},null,null,{"$f":"+IF('Diario contable'!C129=\"Capital social\",'Diario contable'!F129,0)","v":0},null,null,null,{"$f":"+IF('Diario contable'!E129=\"Capital social\",'Diario contable'!F129,0)","v":0},{"$f":"IF('Diario contable'!C129=\"Capital social\",'Diario contable'!I129,IF('Diario contable'!E129=\"Capital social\",'Diario contable'!I129,0))","v":0},{"$f":"IF('Diario contable'!C129=\"Capital social\",'Diario contable'!H129,IF('Diario contable'!E129=\"Capital social\",'Diario contable'!H129,0))","v":"00:00:00"},null,null,{"$f":"+IF('Diario contable'!C129=\"Gastos de mercadeo\",'Diario contable'!F129,0)","v":0},null,null,null,{"$f":"+IF('Diario contable'!E129=\"Gastos de mercadeo\",'Diario contable'!F129,0)","v":0},{"$f":"IF('Diario contable'!C129=\"Gastos de mercadeo\",'Diario contable'!I129,IF('Diario contable'!E129=\"Gastos de mercadeo\",'Diario contable'!I129,0))","v":0},{"$f":"IF('Diario contable'!C129=\"Gastos de mercadeo\",'Diario contable'!H129,IF('Diario contable'!E129=\"Gastos de mercadeo\",'Diario contable'!H129,0))","v":"00:00:00"},null,null,{"$f":"+IF('Diario contable'!C129=\"Gastos de suministros de oficina\",'Diario contable'!F129,0)","v":0},null,null,null,{"$f":"+IF('Diario contable'!E129=\"Gastos de suministros de oficina\",'Diario contable'!F129,0)","v":0},{"$f":"IF('Diario contable'!C129=\"Gastos de suministros de oficina\",'Diario contable'!I129,IF('Diario contable'!E129=\"Gastos de suministros de oficina\",'Diario contable'!I129,0))","v":0},{"$f":"IF('Diario contable'!C129=\"Gastos de suministros de oficina\",'Diario contable'!H129,IF('Diario contable'!E129=\"Gastos de suministros de oficina\",'Diario contable'!H129,0))","v":"00:00:00"}]
[null,null,{"$f":"+IF('Diario contable'!C130=\"Caja\",'Diario contable'!F130,0)","v":0},null,null,null,{"$f":"+IF('Diario contable'!E130=\"Caja\",'Diario contable'!F130,0)","v":0},{"$f":"IF('Diario contable'!C130=\"Caja\",'Diario contable'!I130,IF('Diario contable'!E130=\"Caja\",'Diario contable'!I130,0))","v":0},{"$f":"IF('Diario contable'!C130=\"Caja\",'Diario contable'!H130,IF('Diario contable'!E130=\"Caja\",'Diario contable'!H130,0))","v":"00:00:00"},null,null,{"$f":"+IF('Diario contable'!C130=\"Maquinaria\",'Diario contable'!F130,0)","v":0},null,null,null,{"$f":"+IF('Diario contable'!E130=\"Maquinaria\",'Diario contable'!F130,0)","v":0},{"$f":"IF('Diario contable'!C130=\"Maquinaria\",'Diario contable'!I130,IF('Diario contable'!E130=\"Maquinaria\",'Diario contable'!I130,0))","v":0},{"$f":"IF('Diario contable'!C130=\"Maquinaria\",'Diario contable'!H130,IF('Diario contable'!E130=\"Maquinaria\",'Diario contable'!H130,0))","v":"00:00:00"},null,null,{"$f":"+IF('Diario contable'!C130=\"Herramientas\",'Diario contable'!F130,0)","v":0},null,null,null,{"$f":"+IF('Diario contable'!E130=\"Herramientas\",'Diario contable'!F130,0)","v":0},{"$f":"IF('Diario contable'!C130=\"Herramientas\",'Diario contable'!I130,IF('Diario contable'!E130=\"Herramientas\",'Diario contable'!I130,0))","v":0},{"$f":"IF('Diario contable'!C130=\"Herramientas\",'Diario contable'!H130,IF('Diario contable'!E130=\"Herramientas\",'Diario contable'!H130,0))","v":"00:00:00"},null,null,{"$f":"+IF('Diario contable'!C130=\"Donaciones\",'Diario contable'!F130,0)","v":0},null,null,null,{"$f":"+IF('Diario contable'!E130=\"Donaciones\",'Diario contable'!F130,0)","v":0},{"$f":"IF('Diario contable'!C130=\"Donaciones\",'Diario contable'!I130,IF('Diario contable'!E130=\"Donaciones\",'Diario contable'!I130,0))","v":0},{"$f":"IF('Diario contable'!C130=\"Donaciones\",'Diario contable'!H130,IF('Diario contable'!E130=\"Donaciones\",'Diario contable'!H130,0))","v":"00:00:00"},null,null,{"$f":"+IF('Diario contable'!C130=\"Inventario\",'Diario contable'!F130,0)","v":0},null,null,null,{"$f":"+IF('Diario contable'!E130=\"Inventario\",'Diario contable'!F130,0)","v":0},{"$f":"IF('Diario contable'!C130=\"Inventario\",'Diario contable'!I130,IF('Diario contable'!E130=\"Inventario\",'Diario contable'!I130,0))","v":0},{"$f":"IF('Diario contable'!C130=\"Inventario\",'Diario contable'!H130,IF('Diario contable'!E130=\"Inventario\",'Diario contable'!H130,0))","v":"00:00:00"},null,null,{"$f":"+IF('Diario contable'!C130=\"Costo de ventas\",'Diario contable'!F130,0)","v":0},null,null,null,{"$f":"+IF('Diario contable'!E130=\"Costo de ventas\",'Diario contable'!F130,0)","v":0},{"$f":"IF('Diario contable'!C130=\"Costo de ventas\",'Diario contable'!I130,IF('Diario contable'!E130=\"Costo de ventas\",'Diario contable'!I130,0))","v":0},{"$f":"IF('Diario contable'!C130=\"Costo de ventas\",'Diario contable'!H130,IF('Diario contable'!E130=\"Costo de ventas\",'Diario contable'!H130,0))","v":"00:00:00"},null,null,{"$f":"+IF('Diario contable'!C130=\"Ventas\",'Diario contable'!F130,0)","v":0},null,null,null,{"$f":"+IF('Diario contable'!E130=\"Ventas\",'Diario contable'!F130,0)","v":0},{"$f":"IF('Diario contable'!C130=\"Ventas\",'Diario contable'!I130,IF('Diario contable'!E130=\"Ventas\",'Diario contable'!I130,0))","v":0},{"$f":"IF('Diario contable'!C130=\"Ventas\",'Diario contable'!H130,IF('Diario contable'!E130=\"Ventas\",'Diario contable'!H130,0))","v":"00:00:00"},null,null,{"$f":"+IF('Diario contable'!C130=\"Gastos por salarios\",'Diario contable'!F130,0)","v":0},null,null,null,{"$f":"+IF('Diario contable'!E130=\"Gastos por salarios\",'Diario contable'!F130,0)","v":0},{"$f":"IF('Diario contable'!C130=\"Gastos por salarios\",'Diario contable'!I130,IF('Diario contable'!E130=\"Gastos por salarios\",'Diario contable'!I130,0))","v":0},{"$f":"IF('Diario contable'!C130=\"Gastos por salarios\",'Diario contable'!H130,IF('Diario contable'!E130=\"Gastos por salarios\",'Diario contable'!H130,0))","v":"00:00:00"},null,null,{"$f":"+IF('Diario contable'!C130=\"Gastos operacionales\",'Diario contable'!F130,0)","v":0},null,null,null,{"$f":"+IF('Diario contable'!E130=\"Gastos operacionales\",'Diario contable'!F130,0)","v":0},{"$f":"IF('Diario contable'!C130=\"Gastos operacionales\",'Diario contable'!I130,IF('Diario contable'!E130=\"Gastos operacionales\",'Diario contable'!I130,0))","v":0},{"$f":"IF('Diario contable'!C130=\"Gastos operacionales\",'Diario contable'!H130,IF('Diario contable'!E130=\"Gastos operacionales\",'Diario contable'!H130,0))","v":"00:00:00"},null,null,{"$f":"+IF('Diario contable'!C130=\"Suministros de oficina\",'Diario contable'!F130,0)","v":0},null,null,null,{"$f":"+IF('Diario contable'!E130=\"Suministros de oficina\",'Diario contable'!F130,0)","v":0},{"$f":"IF('Diario contable'!C130=\"Suministros de oficina\",'Diario contable'!I130,IF('Diario contable'!E130=\"Suministros de oficina\",'Diario contable'!I130,0))","v":0},{"$f":"IF('Diario contable'!C130=\"Suministros de oficina\",'Diario contable'!H130,IF('Diario contable'!E130=\"Suministros de oficina\",'Diario contable'!H130,0))","v":"00:00:00"},null,null,{"$f":"+IF('Diario contable'!C130=\"Capital social\",'Diario contable'!F130,0)","v":0},null,null,null,{"$f":"+IF('Diario contable'!E130=\"Capital social\",'Diario contable'!F130,0)","v":0},{"$f":"IF('Diario contable'!C130=\"Capital social\",'Diario contable'!I130,IF('Diario contable'!E130=\"Capital social\",'Diario contable'!I130,0))","v":0},{"$f":"IF('Diario contable'!C130=\"Capital social\",'Diario contable'!H130,IF('Diario contable'!E130=\"Capital social\",'Diario contable'!H130,0))","v":"00:00:00"},null,null,{"$f":"+IF('Diario contable'!C130=\"Gastos de mercadeo\",'Diario contable'!F130,0)","v":0},null,null,null,{"$f":"+IF('Diario contable'!E130=\"Gastos de mercadeo\",'Diario contable'!F130,0)","v":0},{"$f":"IF('Diario contable'!C130=\"Gastos de mercadeo\",'Diario contable'!I130,IF('Diario contable'!E130=\"Gastos de mercadeo\",'Diario contable'!I130,0))","v":0},{"$f":"IF('Diario contable'!C130=\"Gastos de mercadeo\",'Diario contable'!H130,IF('Diario contable'!E130=\"Gastos de mercadeo\",'Diario contable'!H130,0))","v":"00:00:00"},null,null,{"$f":"+IF('Diario contable'!C130=\"Gastos de suministros de oficina\",'Diario contable'!F130,0)","v":0},null,null,null,{"$f":"+IF('Diario contable'!E130=\"Gastos de suministros de oficina\",'Diario contable'!F130,0)","v":0},{"$f":"IF('Diario contable'!C130=\"Gastos de suministros de oficina\",'Diario contable'!I130,IF('Diario contable'!E130=\"Gastos de suministros de oficina\",'Diario contable'!I130,0))","v":0},{"$f":"IF('Diario contable'!C130=\"Gastos de suministros de oficina\",'Diario contable'!H130,IF('Diario contable'!E130=\"Gastos de suministros de oficina\",'Diario contable'!H130,0))","v":"00:00:00"}]
[null,null,{"$f":"+IF('Diario contable'!C131=\"Caja\",'Diario contable'!F131,0)","v":0},null,null,null,{"$f":"+IF('Diario contable'!E131=\"Caja\",'Diario contable'!F131,0)","v":0},{"$f":"IF('Diario contable'!C131=\"Caja\",'Diario contable'!I131,IF('Diario contable'!E131=\"Caja\",'Diario contable'!I131,0))","v":0},{"$f":"IF('Diario contable'!C131=\"Caja\",'Diario contable'!H131,IF('Diario contable'!E131=\"Caja\",'Diario contable'!H131,0))","v":"00:00:00"},null,null,{"$f":"+IF('Diario contable'!C131=\"Maquinaria\",'Diario contable'!F131,0)","v":0},null,null,null,{"$f":"+IF('Diario contable'!E131=\"Maquinaria\",'Diario contable'!F131,0)","v":0},{"$f":"IF('Diario contable'!C131=\"Maquinaria\",'Diario contable'!I131,IF('Diario contable'!E131=\"Maquinaria\",'Diario contable'!I131,0))","v":0},{"$f":"IF('Diario contable'!C131=\"Maquinaria\",'Diario contable'!H131,IF('Diario contable'!E131=\"Maquinaria\",'Diario contable'!H131,0))","v":"00:00:00"},null,null,{"$f":"+IF('Diario contable'!C131=\"Herramientas\",'Diario contable'!F131,0)","v":0},null,null,null,{"$f":"+IF('Diario contable'!E131=\"Herramientas\",'Diario contable'!F131,0)","v":0},{"$f":"IF('Diario contable'!C131=\"Herramientas\",'Diario contable'!I131,IF('Diario contable'!E131=\"Herramientas\",'Diario contable'!I131,0))","v":0},{"$f":"IF('Diario contable'!C131=\"Herramientas\",'Diario contable'!H131,IF('Diario contable'!E131=\"Herramientas\",'Diario contable'!H131,0))","v":"00:00:00"},null,null,{"$f":"+IF('Diario contable'!C131=\"Donaciones\",'Diario contable'!F131,0)","v":0},null,null,null,{"$f":"+IF('Diario contable'!E131=\"Donaciones\",'Diario contable'!F131,0)","v":0},{"$f":"IF('Diario contable'!C131=\"Donaciones\",'Diario contable'!I131,IF('Diario contable'!E131=\"Donaciones\",'Diario contable'!I131,0))","v":0},{"$f":"IF('Diario contable'!C131=\"Donaciones\",'Diario contable'!H131,IF('Diario contable'!E131=\"Donaciones\",'Diario contable'!H131,0))","v":"00:00:00"},null,null,{"$f":"+IF('Diario contable'!C131=\"Inventario\",'Diario contable'!F131,0)","v":0},null,null,null,{"$f":"+IF('Diario contable'!E131=\"Inventario\",'Diario contable'!F131,0)","v":0},{"$f":"IF('Diario contable'!C131=\"Inventario\",'Diario contable'!I131,IF('Diario contable'!E131=\"Inventario\",'Diario contable'!I131,0))","v":0},{"$f":"IF('Diario contable'!C131=\"Inventario\",'Diario contable'!H131,IF('Diario contable'!E131=\"Inventario\",'Diario contable'!H131,0))","v":"00:00:00"},null,null,{"$f":"+IF('Diario contable'!C131=\"Costo de ventas\",'Diario contable'!F131,0)","v":0},null,null,null,{"$f":"+IF('Diario contable'!E131=\"Costo de ventas\",'Diario contable'!F131,0)","v":0},{"$f":"IF('Diario contable'!C131=\"Costo de ventas\",'Diario contable'!I131,IF('Diario contable'!E131=\"Costo de ventas\",'Diario contable'!I131,0))","v":0},{"$f":"IF('Diario contable'!C131=\"Costo de ventas\",'Diario contable'!H131,IF('Diario contable'!E131=\"Costo de ventas\",'Diario contable'!H131,0))","v":"00:00:00"},null,null,{"$f":"+IF('Diario contable'!C131=\"Ventas\",'Diario contable'!F131,0)","v":0},null,null,null,{"$f":"+IF('Diario contable'!E131=\"Ventas\",'Diario contable'!F131,0)","v":0},{"$f":"IF('Diario contable'!C131=\"Ventas\",'Diario contable'!I131,IF('Diario contable'!E131=\"Ventas\",'Diario contable'!I131,0))","v":0},{"$f":"IF('Diario contable'!C131=\"Ventas\",'Diario contable'!H131,IF('Diario contable'!E131=\"Ventas\",'Diario contable'!H131,0))","v":"00:00:00"},null,null,{"$f":"+IF('Diario contable'!C131=\"Gastos por salarios\",'Diario contable'!F131,0)","v":0},null,null,null,{"$f":"+IF('Diario contable'!E131=\"Gastos por salarios\",'Diario contable'!F131,0)","v":0},{"$f":"IF('Diario contable'!C131=\"Gastos por salarios\",'Diario contable'!I131,IF('Diario contable'!E131=\"Gastos por salarios\",'Diario contable'!I131,0))","v":0},{"$f":"IF('Diario contable'!C131=\"Gastos por salarios\",'Diario contable'!H131,IF('Diario contable'!E131=\"Gastos por salarios\",'Diario contable'!H131,0))","v":"00:00:00"},null,null,{"$f":"+IF('Diario contable'!C131=\"Gastos operacionales\",'Diario contable'!F131,0)","v":0},null,null,null,{"$f":"+IF('Diario contable'!E131=\"Gastos operacionales\",'Diario contable'!F131,0)","v":0},{"$f":"IF('Diario contable'!C131=\"Gastos operacionales\",'Diario contable'!I131,IF('Diario contable'!E131=\"Gastos operacionales\",'Diario contable'!I131,0))","v":0},{"$f":"IF('Diario contable'!C131=\"Gastos operacionales\",'Diario contable'!H131,IF('Diario contable'!E131=\"Gastos operacionales\",'Diario contable'!H131,0))","v":"00:00:00"},null,null,{"$f":"+IF('Diario contable'!C131=\"Suministros de oficina\",'Diario contable'!F131,0)","v":0},null,null,null,{"$f":"+IF('Diario contable'!E131=\"Suministros de oficina\",'Diario contable'!F131,0)","v":0},{"$f":"IF('Diario contable'!C131=\"Suministros de oficina\",'Diario contable'!I131,IF('Diario contable'!E131=\"Suministros de oficina\",'Diario contable'!I131,0))","v":0},{"$f":"IF('Diario contable'!C131=\"Suministros de oficina\",'Diario contable'!H131,IF('Diario contable'!E131=\"Suministros de oficina\",'Diario contable'!H131,0))","v":"00:00:00"},null,null,{"$f":"+IF('Diario contable'!C131=\"Capital social\",'Diario contable'!F131,0)","v":0},null,null,null,{"$f":"+IF('Diario contable'!E131=\"Capital social\",'Diario contable'!F131,0)","v":0},{"$f":"IF('Diario contable'!C131=\"Capital social\",'Diario contable'!I131,IF('Diario contable'!E131=\"Capital social\",'Diario contable'!I131,0))","v":0},{"$f":"IF('Diario contable'!C131=\"Capital social\",'Diario contable'!H131,IF('Diario contable'!E131=\"Capital social\",'Diario contable'!H131,0))","v":"00:00:00"},null,null,{"$f":"+IF('Diario contable'!C131=\"Gastos de mercadeo\",'Diario contable'!F131,0)","v":0},null,null,null,{"$f":"+IF('Diario contable'!E131=\"Gastos de mercadeo\",'Diario contable'!F131,0)","v":0},{"$f":"IF('Diario contable'!C131=\"Gastos de mercadeo\",'Diario contable'!I131,IF('Diario contable'!E131=\"Gastos de mercadeo\",'Diario contable'!I131,0))","v":0},{"$f":"IF('Diario contable'!C131=\"Gastos de mercadeo\",'Diario contable'!H131,IF('Diario contable'!E131=\"Gastos de mercadeo\",'Diario contable'!H131,0))","v":"00:00:00"},null,null,{"$f":"+IF('Diario contable'!C131=\"Gastos de suministros de oficina\",'Diario contable'!F131,0)","v":0},null,null,null,{"$f":"+IF('Diario contable'!E131=\"Gastos de suministros de oficina\",'Diario contable'!F131,0)","v":0},{"$f":"IF('Diario contable'!C131=\"Gastos de suministros de oficina\",'Diario contable'!I131,IF('Diario contable'!E131=\"Gastos de suministros de oficina\",'Diario contable'!I131,0))","v":0},{"$f":"IF('Diario contable'!C131=\"Gastos de suministros de oficina\",'Diario contable'!H131,IF('Diario contable'!E131=\"Gastos de suministros de oficina\",'Diario contable'!H131,0))","v":"00:00:00"}]
[null,null,{"$f":"+IF('Diario contable'!C132=\"Caja\",'Diario contable'!F132,0)","v":0},null,null,null,{"$f":"+IF('Diario contable'!E132=\"Caja\",'Diario contable'!F132,0)","v":0},{"$f":"IF('Diario contable'!C132=\"Caja\",'Diario contable'!I132,IF('Diario contable'!E132=\"Caja\",'Diario contable'!I132,0))","v":0},{"$f":"IF('Diario contable'!C132=\"Caja\",'Diario contable'!H132,IF('Diario contable'!E132=\"Caja\",'Diario contable'!H132,0))","v":"00:00:00"},null,null,{"$f":"+IF('Diario contable'!C132=\"Maquinaria\",'Diario contable'!F132,0)","v":0},null,null,null,{"$f":"+IF('Diario contable'!E132=\"Maquinaria\",'Diario contable'!F132,0)","v":0},{"$f":"IF('Diario contable'!C132=\"Maquinaria\",'Diario contable'!I132,IF('Diario contable'!E132=\"Maquinaria\",'Diario contable'!I132,0))","v":0},{"$f":"IF('Diario contable'!C132=\"Maquinaria\",'Diario contable'!H132,IF('Diario contable'!E132=\"Maquinaria\",'Diario contable'!H132,0))","v":"00:00:00"},null,null,{"$f":"+IF('Diario contable'!C132=\"Herramientas\",'Diario contable'!F132,0)","v":0},null,null,null,{"$f":"+IF('Diario contable'!E132=\"Herramientas\",'Diario contable'!F132,0)","v":0},{"$f":"IF('Diario contable'!C132=\"Herramientas\",'Diario contable'!I132,IF('Diario contable'!E132=\"Herramientas\",'Diario contable'!I132,0))","v":0},{"$f":"IF('Diario contable'!C132=\"Herramientas\",'Diario contable'!H132,IF('Diario contable'!E132=\"Herramientas\",'Diario contable'!H132,0))","v":"00:00:00"},null,null,{"$f":"+IF('Diario contable'!C132=\"Donaciones\",'Diario contable'!F132,0)","v":0},null,null,null,{"$f":"+IF('Diario contable'!E132=\"Donaciones\",'Diario contable'!F132,0)","v":0},{"$f":"IF('Diario contable'!C132=\"Donaciones\",'Diario contable'!I132,IF('Diario contable'!E132=\"Donaciones\",'Diario contable'!I132,0))","v":0},{"$f":"IF('Diario contable'!C132=\"Donaciones\",'Diario contable'!H132,IF('Diario contable'!E132=\"Donaciones\",'Diario contable'!H132,0))","v":"00:00:00"},null,null,{"$f":"+IF('Diario contable'!C132=\"Inventario\",'Diario contable'!F132,0)","v":0},null,null,null,{"$f":"+IF('Diario contable'!E132=\"Inventario\",'Diario contable'!F132,0)","v":0},{"$f":"IF('Diario contable'!C132=\"Inventario\",'Diario contable'!I132,IF('Diario contable'!E132=\"Inventario\",'Diario contable'!I132,0))","v":0},{"$f":"IF('Diario contable'!C132=\"Inventario\",'Diario contable'!H132,IF('Diario contable'!E132=\"Inventario\",'Diario contable'!H132,0))","v":"00:00:00"},null,null,{"$f":"+IF('Diario contable'!C132=\"Costo de ventas\",'Diario contable'!F132,0)","v":0},null,null,null,{"$f":"+IF('Diario contable'!E132=\"Costo de ventas\",'Diario contable'!F132,0)","v":0},{"$f":"IF('Diario contable'!C132=\"Costo de ventas\",'Diario contable'!I132,IF('Diario contable'!E132=\"Costo de ventas\",'Diario contable'!I132,0))","v":0},{"$f":"IF('Diario contable'!C132=\"Costo de ventas\",'Diario contable'!H132,IF('Diario contable'!E132=\"Costo de ventas\",'Diario contable'!H132,0))","v":"00:00:00"},null,null,{"$f":"+IF('Diario contable'!C132=\"Ventas\",'Diario contable'!F132,0)","v":0},null,null,null,{"$f":"+IF('Diario contable'!E132=\"Ventas\",'Diario contable'!F132,0)","v":0},{"$f":"IF('Diario contable'!C132=\"Ventas\",'Diario contable'!I132,IF('Diario contable'!E132=\"Ventas\",'Diario contable'!I132,0))","v":0},{"$f":"IF('Diario contable'!C132=\"Ventas\",'Diario contable'!H132,IF('Diario contable'!E132=\"Ventas\",'Diario contable'!H132,0))","v":"00:00:00"},null,null,{"$f":"+IF('Diario contable'!C132=\"Gastos por salarios\",'Diario contable'!F132,0)","v":0},null,null,null,{"$f":"+IF('Diario contable'!E132=\"Gastos por salarios\",'Diario contable'!F132,0)","v":0},{"$f":"IF('Diario contable'!C132=\"Gastos por salarios\",'Diario contable'!I132,IF('Diario contable'!E132=\"Gastos por salarios\",'Diario contable'!I132,0))","v":0},{"$f":"IF('Diario contable'!C132=\"Gastos por salarios\",'Diario contable'!H132,IF('Diario contable'!E132=\"Gastos por salarios\",'Diario contable'!H132,0))","v":"00:00:00"},null,null,{"$f":"+IF('Diario contable'!C132=\"Gastos operacionales\",'Diario contable'!F132,0)","v":0},null,null,null,{"$f":"+IF('Diario contable'!E132=\"Gastos operacionales\",'Diario contable'!F132,0)","v":0},{"$f":"IF('Diario contable'!C132=\"Gastos operacionales\",'Diario contable'!I132,IF('Diario contable'!E132=\"Gastos operacionales\",'Diario contable'!I132,0))","v":0},{"$f":"IF('Diario contable'!C132=\"Gastos operacionales\",'Diario contable'!H132,IF('Diario contable'!E132=\"Gastos operacionales\",'Diario contable'!H132,0))","v":"00:00:00"},null,null,{"$f":"+IF('Diario contable'!C132=\"Suministros de oficina\",'Diario contable'!F132,0)","v":0},null,null,null,{"$f":"+IF('Diario contable'!E132=\"Suministros de oficina\",'Diario contable'!F132,0)","v":0},{"$f":"IF('Diario contable'!C132=\"Suministros de oficina\",'Diario contable'!I132,IF('Diario contable'!E132=\"Suministros de oficina\",'Diario contable'!I132,0))","v":0},{"$f":"IF('Diario contable'!C132=\"Suministros de oficina\",'Diario contable'!H132,IF('Diario contable'!E132=\"Suministros de oficina\",'Diario contable'!H132,0))","v":"00:00:00"},null,null,{"$f":"+IF('Diario contable'!C132=\"Capital social\",'Diario contable'!F132,0)","v":0},null,null,null,{"$f":"+IF('Diario contable'!E132=\"Capital social\",'Diario contable'!F132,0)","v":0},{"$f":"IF('Diario contable'!C132=\"Capital social\",'Diario contable'!I132,IF('Diario contable'!E132=\"Capital social\",'Diario contable'!I132,0))","v":0},{"$f":"IF('Diario contable'!C132=\"Capital social\",'Diario contable'!H132,IF('Diario contable'!E132=\"Capital social\",'Diario contable'!H132,0))","v":"00:00:00"},null,null,{"$f":"+IF('Diario contable'!C132=\"Gastos de mercadeo\",'Diario contable'!F132,0)","v":0},null,null,null,{"$f":"+IF('Diario contable'!E132=\"Gastos de mercadeo\",'Diario contable'!F132,0)","v":0},{"$f":"IF('Diario contable'!C132=\"Gastos de mercadeo\",'Diario contable'!I132,IF('Diario contable'!E132=\"Gastos de mercadeo\",'Diario contable'!I132,0))","v":0},{"$f":"IF('Diario contable'!C132=\"Gastos de mercadeo\",'Diario contable'!H132,IF('Diario contable'!E132=\"Gastos de mercadeo\",'Diario contable'!H132,0))","v":"00:00:00"},null,null,{"$f":"+IF('Diario contable'!C132=\"Gastos de suministros de oficina\",'Diario contable'!F132,0)","v":0},null,null,null,{"$f":"+IF('Diario contable'!E132=\"Gastos de suministros de oficina\",'Diario contable'!F132,0)","v":0},{"$f":"IF('Diario contable'!C132=\"Gastos de suministros de oficina\",'Diario contable'!I132,IF('Diario contable'!E132=\"Gastos de suministros de oficina\",'Diario contable'!I132,0))","v":0},{"$f":"IF('Diario contable'!C132=\"Gastos de suministros de oficina\",'Diario contable'!H132,IF('Diario contable'!E132=\"Gastos de suministros de oficina\",'Diario contable'!H132,0))","v":"00:00:00"}]
[null,null,{"$f":"+IF('Diario contable'!C133=\"Caja\",'Diario contable'!F133,0)","v":0},null,null,null,{"$f":"+IF('Diario contable'!E133=\"Caja\",'Diario contable'!F133,0)","v":0},{"$f":"IF('Diario contable'!C133=\"Caja\",'Diario contable'!I133,IF('Diario contable'!E133=\"Caja\",'Diario contable'!I133,0))","v":0},{"$f":"IF('Diario contable'!C133=\"Caja\",'Diario contable'!H133,IF('Diario contable'!E133=\"Caja\",'Diario contable'!H133,0))","v":"00:00:00"},null,null,{"$f":"+IF('Diario contable'!C133=\"Maquinaria\",'Diario contable'!F133,0)","v":0},null,null,null,{"$f":"+IF('Diario contable'!E133=\"Maquinaria\",'Diario contable'!F133,0)","v":0},{"$f":"IF('Diario contable'!C133=\"Maquinaria\",'Diario contable'!I133,IF('Diario contable'!E133=\"Maquinaria\",'Diario contable'!I133,0))","v":0},{"$f":"IF('Diario contable'!C133=\"Maquinaria\",'Diario contable'!H133,IF('Diario contable'!E133=\"Maquinaria\",'Diario contable'!H133,0))","v":"00:00:00"},null,null,{"$f":"+IF('Diario contable'!C133=\"Herramientas\",'Diario contable'!F133,0)","v":0},null,null,null,{"$f":"+IF('Diario contable'!E133=\"Herramientas\",'Diario contable'!F133,0)","v":0},{"$f":"IF('Diario contable'!C133=\"Herramientas\",'Diario contable'!I133,IF('Diario contable'!E133=\"Herramientas\",'Diario contable'!I133,0))","v":0},{"$f":"IF('Diario contable'!C133=\"Herramientas\",'Diario contable'!H133,IF('Diario contable'!E133=\"Herramientas\",'Diario contable'!H133,0))","v":"00:00:00"},null,null,{"$f":"+IF('Diario contable'!C133=\"Donaciones\",'Diario contable'!F133,0)","v":0},null,null,null,{"$f":"+IF('Diario contable'!E133=\"Donaciones\",'Diario contable'!F133,0)","v":0},{"$f":"IF('Diario contable'!C133=\"Donaciones\",'Diario contable'!I133,IF('Diario contable'!E133=\"Donaciones\",'Diario contable'!I133,0))","v":0},{"$f":"IF('Diario contable'!C133=\"Donaciones\",'Diario contable'!H133,IF('Diario contable'!E133=\"Donaciones\",'Diario contable'!H133,0))","v":"00:00:00"},null,null,{"$f":"+IF('Diario contable'!C133=\"Inventario\",'Diario contable'!F133,0)","v":0},null,null,null,{"$f":"+IF('Diario contable'!E133=\"Inventario\",'Diario contable'!F133,0)","v":0},{"$f":"IF('Diario contable'!C133=\"Inventario\",'Diario contable'!I133,IF('Diario contable'!E133=\"Inventario\",'Diario contable'!I133,0))","v":0},{"$f":"IF('Diario contable'!C133=\"Inventario\",'Diario contable'!H133,IF('Diario contable'!E133=\"Inventario\",'Diario contable'!H133,0))","v":"00:00:00"},null,null,{"$f":"+IF('Diario contable'!C133=\"Costo de ventas\",'Diario contable'!F133,0)","v":0},null,null,null,{"$f":"+IF('Diario contable'!E133=\"Costo de ventas\",'Diario contable'!F133,0)","v":0},{"$f":"IF('Diario contable'!C133=\"Costo de ventas\",'Diario contable'!I133,IF('Diario contable'!E133=\"Costo de ventas\",'Diario contable'!I133,0))","v":0},{"$f":"IF('Diario contable'!C133=\"Costo de ventas\",'Diario contable'!H133,IF('Diario contable'!E133=\"Costo de ventas\",'Diario contable'!H133,0))","v":"00:00:00"},null,null,{"$f":"+IF('Diario contable'!C133=\"Ventas\",'Diario contable'!F133,0)","v":0},null,null,null,{"$f":"+IF('Diario contable'!E133=\"Ventas\",'Diario contable'!F133,0)","v":0},{"$f":"IF('Diario contable'!C133=\"Ventas\",'Diario contable'!I133,IF('Diario contable'!E133=\"Ventas\",'Diario contable'!I133,0))","v":0},{"$f":"IF('Diario contable'!C133=\"Ventas\",'Diario contable'!H133,IF('Diario contable'!E133=\"Ventas\",'Diario contable'!H133,0))","v":"00:00:00"},null,null,{"$f":"+IF('Diario contable'!C133=\"Gastos por salarios\",'Diario contable'!F133,0)","v":0},null,null,null,{"$f":"+IF('Diario contable'!E133=\"Gastos por salarios\",'Diario contable'!F133,0)","v":0},{"$f":"IF('Diario contable'!C133=\"Gastos por salarios\",'Diario contable'!I133,IF('Diario contable'!E133=\"Gastos por salarios\",'Diario contable'!I133,0))","v":0},{"$f":"IF('Diario contable'!C133=\"Gastos por salarios\",'Diario contable'!H133,IF('Diario contable'!E133=\"Gastos por salarios\",'Diario contable'!H133,0))","v":"00:00:00"},null,null,{"$f":"+IF('Diario contable'!C133=\"Gastos operacionales\",'Diario contable'!F133,0)","v":0},null,null,null,{"$f":"+IF('Diario contable'!E133=\"Gastos operacionales\",'Diario contable'!F133,0)","v":0},{"$f":"IF('Diario contable'!C133=\"Gastos operacionales\",'Diario contable'!I133,IF('Diario contable'!E133=\"Gastos operacionales\",'Diario contable'!I133,0))","v":0},{"$f":"IF('Diario contable'!C133=\"Gastos operacionales\",'Diario contable'!H133,IF('Diario contable'!E133=\"Gastos operacionales\",'Diario contable'!H133,0))","v":"00:00:00"},null,null,{"$f":"+IF('Diario contable'!C133=\"Suministros de oficina\",'Diario contable'!F133,0)","v":0},null,null,null,{"$f":"+IF('Diario contable'!E133=\"Suministros de oficina\",'Diario contable'!F133,0)","v":0},{"$f":"IF('Diario contable'!C133=\"Suministros de oficina\",'Diario contable'!I133,IF('Diario contable'!E133=\"Suministros de oficina\",'Diario contable'!I133,0))","v":0},{"$f":"IF('Diario contable'!C133=\"Suministros de oficina\",'Diario contable'!H133,IF('Diario contable'!E133=\"Suministros de oficina\",'Diario contable'!H133,0))","v":"00:00:00"},null,null,{"$f":"+IF('Diario contable'!C133=\"Capital social\",'Diario contable'!F133,0)","v":0},null,null,null,{"$f":"+IF('Diario contable'!E133=\"Capital social\",'Diario contable'!F133,0)","v":0},{"$f":"IF('Diario contable'!C133=\"Capital social\",'Diario contable'!I133,IF('Diario contable'!E133=\"Capital social\",'Diario contable'!I133,0))","v":0},{"$f":"IF('Diario contable'!C133=\"Capital social\",'Diario contable'!H133,IF('Diario contable'!E133=\"Capital social\",'Diario contable'!H133,0))","v":"00:00:00"},null,null,{"$f":"+IF('Diario contable'!C133=\"Gastos de mercadeo\",'Diario contable'!F133,0)","v":0},null,null,null,{"$f":"+IF('Diario contable'!E133=\"Gastos de mercadeo\",'Diario contable'!F133,0)","v":0},{"$f":"IF('Diario contable'!C133=\"Gastos de mercadeo\",'Diario contable'!I133,IF('Diario contable'!E133=\"Gastos de mercadeo\",'Diario contable'!I133,0))","v":0},{"$f":"IF('Diario contable'!C133=\"Gastos de mercadeo\",'Diario contable'!H133,IF('Diario contable'!E133=\"Gastos de mercadeo\",'Diario contable'!H133,0))","v":"00:00:00"},null,null,{"$f":"+IF('Diario contable'!C133=\"Gastos de suministros de oficina\",'Diario contable'!F133,0)","v":0},null,null,null,{"$f":"+IF('Diario contable'!E133=\"Gastos de suministros de oficina\",'Diario contable'!F133,0)","v":0},{"$f":"IF('Diario contable'!C133=\"Gastos de suministros de oficina\",'Diario contable'!I133,IF('Diario contable'!E133=\"Gastos de suministros de oficina\",'Diario contable'!I133,0))","v":0},{"$f":"IF('Diario contable'!C133=\"Gastos de suministros de oficina\",'Diario contable'!H133,IF('Diario contable'!E133=\"Gastos de suministros de oficina\",'Diario contable'!H133,0))","v":"00:00:00"}]
[null,null,{"$f":"+IF('Diario contable'!C134=\"Caja\",'Diario contable'!F134,0)","v":0},null,null,null,{"$f":"+IF('Diario contable'!E134=\"Caja\",'Diario contable'!F134,0)","v":0},{"$f":"IF('Diario contable'!C134=\"Caja\",'Diario contable'!I134,IF('Diario contable'!E134=\"Caja\",'Diario contable'!I134,0))","v":0},{"$f":"IF('Diario contable'!C134=\"Caja\",'Diario contable'!H134,IF('Diario contable'!E134=\"Caja\",'Diario contable'!H134,0))","v":"00:00:00"},null,null,{"$f":"+IF('Diario contable'!C134=\"Maquinaria\",'Diario contable'!F134,0)","v":0},null,null,null,{"$f":"+IF('Diario contable'!E134=\"Maquinaria\",'Diario contable'!F134,0)","v":0},{"$f":"IF('Diario contable'!C134=\"Maquinaria\",'Diario contable'!I134,IF('Diario contable'!E134=\"Maquinaria\",'Diario contable'!I134,0))","v":0},{"$f":"IF('Diario contable'!C134=\"Maquinaria\",'Diario contable'!H134,IF('Diario contable'!E134=\"Maquinaria\",'Diario contable'!H134,0))","v":"00:00:00"},null,null,{"$f":"+IF('Diario contable'!C134=\"Herramientas\",'Diario contable'!F134,0)","v":0},null,null,null,{"$f":"+IF('Diario contable'!E134=\"Herramientas\",'Diario contable'!F134,0)","v":0},{"$f":"IF('Diario contable'!C134=\"Herramientas\",'Diario contable'!I134,IF('Diario contable'!E134=\"Herramientas\",'Diario contable'!I134,0))","v":0},{"$f":"IF('Diario contable'!C134=\"Herramientas\",'Diario contable'!H134,IF('Diario contable'!E134=\"Herramientas\",'Diario contable'!H134,0))","v":"00:00:00"},null,null,{"$f":"+IF('Diario contable'!C134=\"Donaciones\",'Diario contable'!F134,0)","v":0},null,null,null,{"$f":"+IF('Diario contable'!E134=\"Donaciones\",'Diario contable'!F134,0)","v":0},{"$f":"IF('Diario contable'!C134=\"Donaciones\",'Diario contable'!I134,IF('Diario contable'!E134=\"Donaciones\",'Diario contable'!I134,0))","v":0},{"$f":"IF('Diario contable'!C134=\"Donaciones\",'Diario contable'!H134,IF('Diario contable'!E134=\"Donaciones\",'Diario contable'!H134,0))","v":"00:00:00"},null,null,{"$f":"+IF('Diario contable'!C134=\"Inventario\",'Diario contable'!F134,0)","v":0},null,null,null,{"$f":"+IF('Diario contable'!E134=\"Inventario\",'Diario contable'!F134,0)","v":0},{"$f":"IF('Diario contable'!C134=\"Inventario\",'Diario contable'!I134,IF('Diario contable'!E134=\"Inventario\",'Diario contable'!I134,0))","v":0},{"$f":"IF('Diario contable'!C134=\"Inventario\",'Diario contable'!H134,IF('Diario contable'!E134=\"Inventario\",'Diario contable'!H134,0))","v":"00:00:00"},null,null,{"$f":"+IF('Diario contable'!C134=\"Costo de ventas\",'Diario contable'!F134,0)","v":0},null,null,null,{"$f":"+IF('Diario contable'!E134=\"Costo de ventas\",'Diario contable'!F134,0)","v":0},{"$f":"IF('Diario contable'!C134=\"Costo de ventas\",'Diario contable'!I134,IF('Diario contable'!E134=\"Costo de ventas\",'Diario contable'!I134,0))","v":0},{"$f":"IF('Diario contable'!C134=\"Costo de ventas\",'Diario contable'!H134,IF('Diario contable'!E134=\"Costo de ventas\",'Diario contable'!H134,0))","v":"00:00:00"},null,null,{"$f":"+IF('Diario contable'!C134=\"Ventas\",'Diario contable'!F134,0)","v":0},null,null,null,{"$f":"+IF('Diario contable'!E134=\"Ventas\",'Diario contable'!F134,0)","v":0},{"$f":"IF('Diario contable'!C134=\"Ventas\",'Diario contable'!I134,IF('Diario contable'!E134=\"Ventas\",'Diario contable'!I134,0))","v":0},{"$f":"IF('Diario contable'!C134=\"Ventas\",'Diario contable'!H134,IF('Diario contable'!E134=\"Ventas\",'Diario contable'!H134,0))","v":"00:00:00"},null,null,{"$f":"+IF('Diario contable'!C134=\"Gastos por salarios\",'Diario contable'!F134,0)","v":0},null,null,null,{"$f":"+IF('Diario contable'!E134=\"Gastos por salarios\",'Diario contable'!F134,0)","v":0},{"$f":"IF('Diario contable'!C134=\"Gastos por salarios\",'Diario contable'!I134,IF('Diario contable'!E134=\"Gastos por salarios\",'Diario contable'!I134,0))","v":0},{"$f":"IF('Diario contable'!C134=\"Gastos por salarios\",'Diario contable'!H134,IF('Diario contable'!E134=\"Gastos por salarios\",'Diario contable'!H134,0))","v":"00:00:00"},null,null,{"$f":"+IF('Diario contable'!C134=\"Gastos operacionales\",'Diario contable'!F134,0)","v":0},null,null,null,{"$f":"+IF('Diario contable'!E134=\"Gastos operacionales\",'Diario contable'!F134,0)","v":0},{"$f":"IF('Diario contable'!C134=\"Gastos operacionales\",'Diario contable'!I134,IF('Diario contable'!E134=\"Gastos operacionales\",'Diario contable'!I134,0))","v":0},{"$f":"IF('Diario contable'!C134=\"Gastos operacionales\",'Diario contable'!H134,IF('Diario contable'!E134=\"Gastos operacionales\",'Diario contable'!H134,0))","v":"00:00:00"},null,null,{"$f":"+IF('Diario contable'!C134=\"Suministros de oficina\",'Diario contable'!F134,0)","v":0},null,null,null,{"$f":"+IF('Diario contable'!E134=\"Suministros de oficina\",'Diario contable'!F134,0)","v":0},{"$f":"IF('Diario contable'!C134=\"Suministros de oficina\",'Diario contable'!I134,IF('Diario contable'!E134=\"Suministros de oficina\",'Diario contable'!I134,0))","v":0},{"$f":"IF('Diario contable'!C134=\"Suministros de oficina\",'Diario contable'!H134,IF('Diario contable'!E134=\"Suministros de oficina\",'Diario contable'!H134,0))","v":"00:00:00"},null,null,{"$f":"+IF('Diario contable'!C134=\"Capital social\",'Diario contable'!F134,0)","v":0},null,null,null,{"$f":"+IF('Diario contable'!E134=\"Capital social\",'Diario contable'!F134,0)","v":0},{"$f":"IF('Diario contable'!C134=\"Capital social\",'Diario contable'!I134,IF('Diario contable'!E134=\"Capital social\",'Diario contable'!I134,0))","v":0},{"$f":"IF('Diario contable'!C134=\"Capital social\",'Diario contable'!H134,IF('Diario contable'!E134=\"Capital social\",'Diario contable'!H134,0))","v":"00:00:00"},null,null,{"$f":"+IF('Diario contable'!C134=\"Gastos de mercadeo\",'Diario contable'!F134,0)","v":0},null,null,null,{"$f":"+IF('Diario contable'!E134=\"Gastos de mercadeo\",'Diario contable'!F134,0)","v":0},{"$f":"IF('Diario contable'!C134=\"Gastos de mercadeo\",'Diario contable'!I134,IF('Diario contable'!E134=\"Gastos de mercadeo\",'Diario contable'!I134,0))","v":0},{"$f":"IF('Diario contable'!C134=\"Gastos de mercadeo\",'Diario contable'!H134,IF('Diario contable'!E134=\"Gastos de mercadeo\",'Diario contable'!H134,0))","v":"00:00:00"},null,null,{"$f":"+IF('Diario contable'!C134=\"Gastos de suministros de oficina\",'Diario contable'!F134,0)","v":0},null,null,null,{"$f":"+IF('Diario contable'!E134=\"Gastos de suministros de oficina\",'Diario contable'!F134,0)","v":0},{"$f":"IF('Diario contable'!C134=\"Gastos de suministros de oficina\",'Diario contable'!I134,IF('Diario contable'!E134=\"Gastos de suministros de oficina\",'Diario contable'!I134,0))","v":0},{"$f":"IF('Diario contable'!C134=\"Gastos de suministros de oficina\",'Diario contable'!H134,IF('Diario contable'!E134=\"Gastos de suministros de oficina\",'Diario contable'!H134,0))","v":"00:00:00"}]
[null,null,{"$f":"+IF('Diario contable'!C135=\"Caja\",'Diario contable'!F135,0)","v":0},null,null,null,{"$f":"+IF('Diario contable'!E135=\"Caja\",'Diario contable'!F135,0)","v":0},{"$f":"IF('Diario contable'!C135=\"Caja\",'Diario contable'!I135,IF('Diario contable'!E135=\"Caja\",'Diario contable'!I135,0))","v":0},{"$f":"IF('Diario contable'!C135=\"Caja\",'Diario contable'!H135,IF('Diario contable'!E135=\"Caja\",'Diario contable'!H135,0))","v":"00:00:00"},null,null,{"$f":"+IF('Diario contable'!C135=\"Maquinaria\",'Diario contable'!F135,0)","v":0},null,null,null,{"$f":"+IF('Diario contable'!E135=\"Maquinaria\",'Diario contable'!F135,0)","v":0},{"$f":"IF('Diario contable'!C135=\"Maquinaria\",'Diario contable'!I135,IF('Diario contable'!E135=\"Maquinaria\",'Diario contable'!I135,0))","v":0},{"$f":"IF('Diario contable'!C135=\"Maquinaria\",'Diario contable'!H135,IF('Diario contable'!E135=\"Maquinaria\",'Diario contable'!H135,0))","v":"00:00:00"},null,null,{"$f":"+IF('Diario contable'!C135=\"Herramientas\",'Diario contable'!F135,0)","v":0},null,null,null,{"$f":"+IF('Diario contable'!E135=\"Herramientas\",'Diario contable'!F135,0)","v":0},{"$f":"IF('Diario contable'!C135=\"Herramientas\",'Diario contable'!I135,IF('Diario contable'!E135=\"Herramientas\",'Diario contable'!I135,0))","v":0},{"$f":"IF('Diario contable'!C135=\"Herramientas\",'Diario contable'!H135,IF('Diario contable'!E135=\"Herramientas\",'Diario contable'!H135,0))","v":"00:00:00"},null,null,{"$f":"+IF('Diario contable'!C135=\"Donaciones\",'Diario contable'!F135,0)","v":0},null,null,null,{"$f":"+IF('Diario contable'!E135=\"Donaciones\",'Diario contable'!F135,0)","v":0},{"$f":"IF('Diario contable'!C135=\"Donaciones\",'Diario contable'!I135,IF('Diario contable'!E135=\"Donaciones\",'Diario contable'!I135,0))","v":0},{"$f":"IF('Diario contable'!C135=\"Donaciones\",'Diario contable'!H135,IF('Diario contable'!E135=\"Donaciones\",'Diario contable'!H135,0))","v":"00:00:00"},null,null,{"$f":"+IF('Diario contable'!C135=\"Inventario\",'Diario contable'!F135,0)","v":0},null,null,null,{"$f":"+IF('Diario contable'!E135=\"Inventario\",'Diario contable'!F135,0)","v":0},{"$f":"IF('Diario contable'!C135=\"Inventario\",'Diario contable'!I135,IF('Diario contable'!E135=\"Inventario\",'Diario contable'!I135,0))","v":0},{"$f":"IF('Diario contable'!C135=\"Inventario\",'Diario contable'!H135,IF('Diario contable'!E135=\"Inventario\",'Diario contable'!H135,0))","v":"00:00:00"},null,null,{"$f":"+IF('Diario contable'!C135=\"Costo de ventas\",'Diario contable'!F135,0)","v":0},null,null,null,{"$f":"+IF('Diario contable'!E135=\"Costo de ventas\",'Diario contable'!F135,0)","v":0},{"$f":"IF('Diario contable'!C135=\"Costo de ventas\",'Diario contable'!I135,IF('Diario contable'!E135=\"Costo de ventas\",'Diario contable'!I135,0))","v":0},{"$f":"IF('Diario contable'!C135=\"Costo de ventas\",'Diario contable'!H135,IF('Diario contable'!E135=\"Costo de ventas\",'Diario contable'!H135,0))","v":"00:00:00"},null,null,{"$f":"+IF('Diario contable'!C135=\"Ventas\",'Diario contable'!F135,0)","v":0},null,null,null,{"$f":"+IF('Diario contable'!E135=\"Ventas\",'Diario contable'!F135,0)","v":0},{"$f":"IF('Diario contable'!C135=\"Ventas\",'Diario contable'!I135,IF('Diario contable'!E135=\"Ventas\",'Diario contable'!I135,0))","v":0},{"$f":"IF('Diario contable'!C135=\"Ventas\",'Diario contable'!H135,IF('Diario contable'!E135=\"Ventas\",'Diario contable'!H135,0))","v":"00:00:00"},null,null,{"$f":"+IF('Diario contable'!C135=\"Gastos por salarios\",'Diario contable'!F135,0)","v":0},null,null,null,{"$f":"+IF('Diario contable'!E135=\"Gastos por salarios\",'Diario contable'!F135,0)","v":0},{"$f":"IF('Diario contable'!C135=\"Gastos por salarios\",'Diario contable'!I135,IF('Diario contable'!E135=\"Gastos por salarios\",'Diario contable'!I135,0))","v":0},{"$f":"IF('Diario contable'!C135=\"Gastos por salarios\",'Diario contable'!H135,IF('Diario contable'!E135=\"Gastos por salarios\",'Diario contable'!H135,0))","v":"00:00:00"},null,null,{"$f":"+IF('Diario contable'!C135=\"Gastos operacionales\",'Diario contable'!F135,0)","v":0},null,null,null,{"$f":"+IF('Diario contable'!E135=\"Gastos operacionales\",'Diario contable'!F135,0)","v":0},{"$f":"IF('Diario contable'!C135=\"Gastos operacionales\",'Diario contable'!I135,IF('Diario contable'!E135=\"Gastos operacionales\",'Diario contable'!I135,0))","v":0},{"$f":"IF('Diario contable'!C135=\"Gastos operacionales\",'Diario contable'!H135,IF('Diario contable'!E135=\"Gastos operacionales\",'Diario contable'!H135,0))","v":"00:00:00"},null,null,{"$f":"+IF('Diario contable'!C135=\"Suministros de oficina\",'Diario contable'!F135,0)","v":0},null,null,null,{"$f":"+IF('Diario contable'!E135=\"Suministros de oficina\",'Diario contable'!F135,0)","v":0},{"$f":"IF('Diario contable'!C135=\"Suministros de oficina\",'Diario contable'!I135,IF('Diario contable'!E135=\"Suministros de oficina\",'Diario contable'!I135,0))","v":0},{"$f":"IF('Diario contable'!C135=\"Suministros de oficina\",'Diario contable'!H135,IF('Diario contable'!E135=\"Suministros de oficina\",'Diario contable'!H135,0))","v":"00:00:00"},null,null,{"$f":"+IF('Diario contable'!C135=\"Capital social\",'Diario contable'!F135,0)","v":0},null,null,null,{"$f":"+IF('Diario contable'!E135=\"Capital social\",'Diario contable'!F135,0)","v":0},{"$f":"IF('Diario contable'!C135=\"Capital social\",'Diario contable'!I135,IF('Diario contable'!E135=\"Capital social\",'Diario contable'!I135,0))","v":0},{"$f":"IF('Diario contable'!C135=\"Capital social\",'Diario contable'!H135,IF('Diario contable'!E135=\"Capital social\",'Diario contable'!H135,0))","v":"00:00:00"},null,null,{"$f":"+IF('Diario contable'!C135=\"Gastos de mercadeo\",'Diario contable'!F135,0)","v":0},null,null,null,{"$f":"+IF('Diario contable'!E135=\"Gastos de mercadeo\",'Diario contable'!F135,0)","v":0},{"$f":"IF('Diario contable'!C135=\"Gastos de mercadeo\",'Diario contable'!I135,IF('Diario contable'!E135=\"Gastos de mercadeo\",'Diario contable'!I135,0))","v":0},{"$f":"IF('Diario contable'!C135=\"Gastos de mercadeo\",'Diario contable'!H135,IF('Diario contable'!E135=\"Gastos de mercadeo\",'Diario contable'!H135,0))","v":"00:00:00"},null,null,{"$f":"+IF('Diario contable'!C135=\"Gastos de suministros de oficina\",'Diario contable'!F135,0)","v":0},null,null,null,{"$f":"+IF('Diario contable'!E135=\"Gastos de suministros de oficina\",'Diario contable'!F135,0)","v":0},{"$f":"IF('Diario contable'!C135=\"Gastos de suministros de oficina\",'Diario contable'!I135,IF('Diario contable'!E135=\"Gastos de suministros de oficina\",'Diario contable'!I135,0))","v":0},{"$f":"IF('Diario contable'!C135=\"Gastos de suministros de oficina\",'Diario contable'!H135,IF('Diario contable'!E135=\"Gastos de suministros de oficina\",'Diario contable'!H135,0))","v":"00:00:00"}]
[null,null,{"$f":"+IF('Diario contable'!C136=\"Caja\",'Diario contable'!F136,0)","v":0},null,null,null,{"$f":"+IF('Diario contable'!E136=\"Caja\",'Diario contable'!F136,0)","v":0},{"$f":"IF('Diario contable'!C136=\"Caja\",'Diario contable'!I136,IF('Diario contable'!E136=\"Caja\",'Diario contable'!I136,0))","v":0},{"$f":"IF('Diario contable'!C136=\"Caja\",'Diario contable'!H136,IF('Diario contable'!E136=\"Caja\",'Diario contable'!H136,0))","v":"00:00:00"},null,null,{"$f":"+IF('Diario contable'!C136=\"Maquinaria\",'Diario contable'!F136,0)","v":0},null,null,null,{"$f":"+IF('Diario contable'!E136=\"Maquinaria\",'Diario contable'!F136,0)","v":0},{"$f":"IF('Diario contable'!C136=\"Maquinaria\",'Diario contable'!I136,IF('Diario contable'!E136=\"Maquinaria\",'Diario contable'!I136,0))","v":0},{"$f":"IF('Diario contable'!C136=\"Maquinaria\",'Diario contable'!H136,IF('Diario contable'!E136=\"Maquinaria\",'Diario contable'!H136,0))","v":"00:00:00"},null,null,{"$f":"+IF('Diario contable'!C136=\"Herramientas\",'Diario contable'!F136,0)","v":0},null,null,null,{"$f":"+IF('Diario contable'!E136=\"Herramientas\",'Diario contable'!F136,0)","v":0},{"$f":"IF('Diario contable'!C136=\"Herramientas\",'Diario contable'!I136,IF('Diario contable'!E136=\"Herramientas\",'Diario contable'!I136,0))","v":0},{"$f":"IF('Diario contable'!C136=\"Herramientas\",'Diario contable'!H136,IF('Diario contable'!E136=\"Herramientas\",'Diario contable'!H136,0))","v":"00:00:00"},null,null,{"$f":"+IF('Diario contable'!C136=\"Donaciones\",'Diario contable'!F136,0)","v":0},null,null,null,{"$f":"+IF('Diario contable'!E136=\"Donaciones\",'Diario contable'!F136,0)","v":0},{"$f":"IF('Diario contable'!C136=\"Donaciones\",'Diario contable'!I136,IF('Diario contable'!E136=\"Donaciones\",'Diario contable'!I136,0))","v":0},{"$f":"IF('Diario contable'!C136=\"Donaciones\",'Diario contable'!H136,IF('Diario contable'!E136=\"Donaciones\",'Diario contable'!H136,0))","v":"00:00:00"},null,null,{"$f":"+IF('Diario contable'!C136=\"Inventario\",'Diario contable'!F136,0)","v":0},null,null,null,{"$f":"+IF('Diario contable'!E136=\"Inventario\",'Diario contable'!F136,0)","v":0},{"$f":"IF('Diario contable'!C136=\"Inventario\",'Diario contable'!I136,IF('Diario contable'!E136=\"Inventario\",'Diario contable'!I136,0))","v":0},{"$f":"IF('Diario contable'!C136=\"Inventario\",'Diario contable'!H136,IF('Diario contable'!E136=\"Inventario\",'Diario contable'!H136,0))","v":"00:00:00"},null,null,{"$f":"+IF('Diario contable'!C136=\"Costo de ventas\",'Diario contable'!F136,0)","v":0},null,null,null,{"$f":"+IF('Diario contable'!E136=\"Costo de ventas\",'Diario contable'!F136,0)","v":0},{"$f":"IF('Diario contable'!C136=\"Costo de ventas\",'Diario contable'!I136,IF('Diario contable'!E136=\"Costo de ventas\",'Diario contable'!I136,0))","v":0},{"$f":"IF('Diario contable'!C136=\"Costo de ventas\",'Diario contable'!H136,IF('Diario contable'!E136=\"Costo de ventas\",'Diario contable'!H136,0))","v":"00:00:00"},null,null,{"$f":"+IF('Diario contable'!C136=\"Ventas\",'Diario contable'!F136,0)","v":0},null,null,null,{"$f":"+IF('Diario contable'!E136=\"Ventas\",'Diario contable'!F136,0)","v":0},{"$f":"IF('Diario contable'!C136=\"Ventas\",'Diario contable'!I136,IF('Diario contable'!E136=\"Ventas\",'Diario contable'!I136,0))","v":0},{"$f":"IF('Diario contable'!C136=\"Ventas\",'Diario contable'!H136,IF('Diario contable'!E136=\"Ventas\",'Diario contable'!H136,0))","v":"00:00:00"},null,null,{"$f":"+IF('Diario contable'!C136=\"Gastos por salarios\",'Diario contable'!F136,0)","v":0},null,null,null,{"$f":"+IF('Diario contable'!E136=\"Gastos por salarios\",'Diario contable'!F136,0)","v":0},{"$f":"IF('Diario contable'!C136=\"Gastos por salarios\",'Diario contable'!I136,IF('Diario contable'!E136=\"Gastos por salarios\",'Diario contable'!I136,0))","v":0},{"$f":"IF('Diario contable'!C136=\"Gastos por salarios\",'Diario contable'!H136,IF('Diario contable'!E136=\"Gastos por salarios\",'Diario contable'!H136,0))","v":"00:00:00"},null,null,{"$f":"+IF('Diario contable'!C136=\"Gastos operacionales\",'Diario contable'!F136,0)","v":0},null,null,null,{"$f":"+IF('Diario contable'!E136=\"Gastos operacionales\",'Diario contable'!F136,0)","v":0},{"$f":"IF('Diario contable'!C136=\"Gastos operacionales\",'Diario contable'!I136,IF('Diario contable'!E136=\"Gastos operacionales\",'Diario contable'!I136,0))","v":0},{"$f":"IF('Diario contable'!C136=\"Gastos operacionales\",'Diario contable'!H136,IF('Diario contable'!E136=\"Gastos operacionales\",'Diario contable'!H136,0))","v":"00:00:00"},null,null,{"$f":"+IF('Diario contable'!C136=\"Suministros de oficina\",'Diario contable'!F136,0)","v":0},null,null,null,{"$f":"+IF('Diario contable'!E136=\"Suministros de oficina\",'Diario contable'!F136,0)","v":0},{"$f":"IF('Diario contable'!C136=\"Suministros de oficina\",'Diario contable'!I136,IF('Diario contable'!E136=\"Suministros de oficina\",'Diario contable'!I136,0))","v":0},{"$f":"IF('Diario contable'!C136=\"Suministros de oficina\",'Diario contable'!H136,IF('Diario contable'!E136=\"Suministros de oficina\",'Diario contable'!H136,0))","v":"00:00:00"},null,null,{"$f":"+IF('Diario contable'!C136=\"Capital social\",'Diario contable'!F136,0)","v":0},null,null,null,{"$f":"+IF('Diario contable'!E136=\"Capital social\",'Diario contable'!F136,0)","v":0},{"$f":"IF('Diario contable'!C136=\"Capital social\",'Diario contable'!I136,IF('Diario contable'!E136=\"Capital social\",'Diario contable'!I136,0))","v":0},{"$f":"IF('Diario contable'!C136=\"Capital social\",'Diario contable'!H136,IF('Diario contable'!E136=\"Capital social\",'Diario contable'!H136,0))","v":"00:00:00"},null,null,{"$f":"+IF('Diario contable'!C136=\"Gastos de mercadeo\",'Diario contable'!F136,0)","v":0},null,null,null,{"$f":"+IF('Diario contable'!E136=\"Gastos de mercadeo\",'Diario contable'!F136,0)","v":0},{"$f":"IF('Diario contable'!C136=\"Gastos de mercadeo\",'Diario contable'!I136,IF('Diario contable'!E136=\"Gastos de mercadeo\",'Diario contable'!I136,0))","v":0},{"$f":"IF('Diario contable'!C136=\"Gastos de mercadeo\",'Diario contable'!H136,IF('Diario contable'!E136=\"Gastos de mercadeo\",'Diario contable'!H136,0))","v":"00:00:00"},null,null,{"$f":"+IF('Diario contable'!C136=\"Gastos de suministros de oficina\",'Diario contable'!F136,0)","v":0},null,null,null,{"$f":"+IF('Diario contable'!E136=\"Gastos de suministros de oficina\",'Diario contable'!F136,0)","v":0},{"$f":"IF('Diario contable'!C136=\"Gastos de suministros de oficina\",'Diario contable'!I136,IF('Diario contable'!E136=\"Gastos de suministros de oficina\",'Diario contable'!I136,0))","v":0},{"$f":"IF('Diario contable'!C136=\"Gastos de suministros de oficina\",'Diario contable'!H136,IF('Diario contable'!E136=\"Gastos de suministros de oficina\",'Diario contable'!H136,0))","v":"00:00:00"}]
[null,null,{"$f":"+IF('Diario contable'!C137=\"Caja\",'Diario contable'!F137,0)","v":0},null,null,null,{"$f":"+IF('Diario contable'!E137=\"Caja\",'Diario contable'!F137,0)","v":0},{"$f":"IF('Diario contable'!C137=\"Caja\",'Diario contable'!I137,IF('Diario contable'!E137=\"Caja\",'Diario contable'!I137,0))","v":0},{"$f":"IF('Diario contable'!C137=\"Caja\",'Diario contable'!H137,IF('Diario contable'!E137=\"Caja\",'Diario contable'!H137,0))","v":"00:00:00"},null,null,{"$f":"+IF('Diario contable'!C137=\"Maquinaria\",'Diario contable'!F137,0)","v":0},null,null,null,{"$f":"+IF('Diario contable'!E137=\"Maquinaria\",'Diario contable'!F137,0)","v":0},{"$f":"IF('Diario contable'!C137=\"Maquinaria\",'Diario contable'!I137,IF('Diario contable'!E137=\"Maquinaria\",'Diario contable'!I137,0))","v":0},{"$f":"IF('Diario contable'!C137=\"Maquinaria\",'Diario contable'!H137,IF('Diario contable'!E137=\"Maquinaria\",'Diario contable'!H137,0))","v":"00:00:00"},null,null,{"$f":"+IF('Diario contable'!C137=\"Herramientas\",'Diario contable'!F137,0)","v":0},null,null,null,{"$f":"+IF('Diario contable'!E137=\"Herramientas\",'Diario contable'!F137,0)","v":0},{"$f":"IF('Diario contable'!C137=\"Herramientas\",'Diario contable'!I137,IF('Diario contable'!E137=\"Herramientas\",'Diario contable'!I137,0))","v":0},{"$f":"IF('Diario contable'!C137=\"Herramientas\",'Diario contable'!H137,IF('Diario contable'!E137=\"Herramientas\",'Diario contable'!H137,0))","v":"00:00:00"},null,null,{"$f":"+IF('Diario contable'!C137=\"Donaciones\",'Diario contable'!F137,0)","v":0},null,null,null,{"$f":"+IF('Diario contable'!E137=\"Donaciones\",'Diario contable'!F137,0)","v":0},{"$f":"IF('Diario contable'!C137=\"Donaciones\",'Diario contable'!I137,IF('Diario contable'!E137=\"Donaciones\",'Diario contable'!I137,0))","v":0},{"$f":"IF('Diario contable'!C137=\"Donaciones\",'Diario contable'!H137,IF('Diario contable'!E137=\"Donaciones\",'Diario contable'!H137,0))","v":"00:00:00"},null,null,{"$f":"+IF('Diario contable'!C137=\"Inventario\",'Diario contable'!F137,0)","v":0},null,null,null,{"$f":"+IF('Diario contable'!E137=\"Inventario\",'Diario contable'!F137,0)","v":0},{"$f":"IF('Diario contable'!C137=\"Inventario\",'Diario contable'!I137,IF('Diario contable'!E137=\"Inventario\",'Diario contable'!I137,0))","v":0},{"$f":"IF('Diario contable'!C137=\"Inventario\",'Diario contable'!H137,IF('Diario contable'!E137=\"Inventario\",'Diario contable'!H137,0))","v":"00:00:00"},null,null,{"$f":"+IF('Diario contable'!C137=\"Costo de ventas\",'Diario contable'!F137,0)","v":0},null,null,null,{"$f":"+IF('Diario contable'!E137=\"Costo de ventas\",'Diario contable'!F137,0)","v":0},{"$f":"IF('Diario contable'!C137=\"Costo de ventas\",'Diario contable'!I137,IF('Diario contable'!E137=\"Costo de ventas\",'Diario contable'!I137,0))","v":0},{"$f":"IF('Diario contable'!C137=\"Costo de ventas\",'Diario contable'!H137,IF('Diario contable'!E137=\"Costo de ventas\",'Diario contable'!H137,0))","v":"00:00:00"},null,null,{"$f":"+IF('Diario contable'!C137=\"Ventas\",'Diario contable'!F137,0)","v":0},null,null,null,{"$f":"+IF('Diario contable'!E137=\"Ventas\",'Diario contable'!F137,0)","v":0},{"$f":"IF('Diario contable'!C137=\"Ventas\",'Diario contable'!I137,IF('Diario contable'!E137=\"Ventas\",'Diario contable'!I137,0))","v":0},{"$f":"IF('Diario contable'!C137=\"Ventas\",'Diario contable'!H137,IF('Diario contable'!E137=\"Ventas\",'Diario contable'!H137,0))","v":"00:00:00"},null,null,{"$f":"+IF('Diario contable'!C137=\"Gastos por salarios\",'Diario contable'!F137,0)","v":0},null,null,null,{"$f":"+IF('Diario contable'!E137=\"Gastos por salarios\",'Diario contable'!F137,0)","v":0},{"$f":"IF('Diario contable'!C137=\"Gastos por salarios\",'Diario contable'!I137,IF('Diario contable'!E137=\"Gastos por salarios\",'Diario contable'!I137,0))","v":0},{"$f":"IF('Diario contable'!C137=\"Gastos por salarios\",'Diario contable'!H137,IF('Diario contable'!E137=\"Gastos por salarios\",'Diario contable'!H137,0))","v":"00:00:00"},null,null,{"$f":"+IF('Diario contable'!C137=\"Gastos operacionales\",'Diario contable'!F137,0)","v":0},null,null,null,{"$f":"+IF('Diario contable'!E137=\"Gastos operacionales\",'Diario contable'!F137,0)","v":0},{"$f":"IF('Diario contable'!C137=\"Gastos operacionales\",'Diario contable'!I137,IF('Diario contable'!E137=\"Gastos operacionales\",'Diario contable'!I137,0))","v":0},{"$f":"IF('Diario contable'!C137=\"Gastos operacionales\",'Diario contable'!H137,IF('Diario contable'!E137=\"Gastos operacionales\",'Diario contable'!H137,0))","v":"00:00:00"},null,null,{"$f":"+IF('Diario contable'!C137=\"Suministros de oficina\",'Diario contable'!F137,0)","v":0},null,null,null,{"$f":"+IF('Diario contable'!E137=\"Suministros de oficina\",'Diario contable'!F137,0)","v":0},{"$f":"IF('Diario contable'!C137=\"Suministros de oficina\",'Diario contable'!I137,IF('Diario contable'!E137=\"Suministros de oficina\",'Diario contable'!I137,0))","v":0},{"$f":"IF('Diario contable'!C137=\"Suministros de oficina\",'Diario contable'!H137,IF('Diario contable'!E137=\"Suministros de oficina\",'Diario contable'!H137,0))","v":"00:00:00"},null,null,{"$f":"+IF('Diario contable'!C137=\"Capital social\",'Diario contable'!F137,0)","v":0},null,null,null,{"$f":"+IF('Diario contable'!E137=\"Capital social\",'Diario contable'!F137,0)","v":0},{"$f":"IF('Diario contable'!C137=\"Capital social\",'Diario contable'!I137,IF('Diario contable'!E137=\"Capital social\",'Diario contable'!I137,0))","v":0},{"$f":"IF('Diario contable'!C137=\"Capital social\",'Diario contable'!H137,IF('Diario contable'!E137=\"Capital social\",'Diario contable'!H137,0))","v":"00:00:00"},null,null,{"$f":"+IF('Diario contable'!C137=\"Gastos de mercadeo\",'Diario contable'!F137,0)","v":0},null,null,null,{"$f":"+IF('Diario contable'!E137=\"Gastos de mercadeo\",'Diario contable'!F137,0)","v":0},{"$f":"IF('Diario contable'!C137=\"Gastos de mercadeo\",'Diario contable'!I137,IF('Diario contable'!E137=\"Gastos de mercadeo\",'Diario contable'!I137,0))","v":0},{"$f":"IF('Diario contable'!C137=\"Gastos de mercadeo\",'Diario contable'!H137,IF('Diario contable'!E137=\"Gastos de mercadeo\",'Diario contable'!H137,0))","v":"00:00:00"},null,null,{"$f":"+IF('Diario contable'!C137=\"Gastos de suministros de oficina\",'Diario contable'!F137,0)","v":0},null,null,null,{"$f":"+IF('Diario contable'!E137=\"Gastos de suministros de oficina\",'Diario contable'!F137,0)","v":0},{"$f":"IF('Diario contable'!C137=\"Gastos de suministros de oficina\",'Diario contable'!I137,IF('Diario contable'!E137=\"Gastos de suministros de oficina\",'Diario contable'!I137,0))","v":0},{"$f":"IF('Diario contable'!C137=\"Gastos de suministros de oficina\",'Diario contable'!H137,IF('Diario contable'!E137=\"Gastos de suministros de oficina\",'Diario contable'!H137,0))","v":"00:00:00"}]
[null,null,{"$f":"+IF('Diario contable'!C138=\"Caja\",'Diario contable'!F138,0)","v":0},null,null,null,{"$f":"+IF('Diario contable'!E138=\"Caja\",'Diario contable'!F138,0)","v":0},{"$f":"IF('Diario contable'!C138=\"Caja\",'Diario contable'!I138,IF('Diario contable'!E138=\"Caja\",'Diario contable'!I138,0))","v":0},{"$f":"IF('Diario contable'!C138=\"Caja\",'Diario contable'!H138,IF('Diario contable'!E138=\"Caja\",'Diario contable'!H138,0))","v":"00:00:00"},null,null,{"$f":"+IF('Diario contable'!C138=\"Maquinaria\",'Diario contable'!F138,0)","v":0},null,null,null,{"$f":"+IF('Diario contable'!E138=\"Maquinaria\",'Diario contable'!F138,0)","v":0},{"$f":"IF('Diario contable'!C138=\"Maquinaria\",'Diario contable'!I138,IF('Diario contable'!E138=\"Maquinaria\",'Diario contable'!I138,0))","v":0},{"$f":"IF('Diario contable'!C138=\"Maquinaria\",'Diario contable'!H138,IF('Diario contable'!E138=\"Maquinaria\",'Diario contable'!H138,0))","v":"00:00:00"},null,null,{"$f":"+IF('Diario contable'!C138=\"Herramientas\",'Diario contable'!F138,0)","v":0},null,null,null,{"$f":"+IF('Diario contable'!E138=\"Herramientas\",'Diario contable'!F138,0)","v":0},{"$f":"IF('Diario contable'!C138=\"Herramientas\",'Diario contable'!I138,IF('Diario contable'!E138=\"Herramientas\",'Diario contable'!I138,0))","v":0},{"$f":"IF('Diario contable'!C138=\"Herramientas\",'Diario contable'!H138,IF('Diario contable'!E138=\"Herramientas\",'Diario contable'!H138,0))","v":"00:00:00"},null,null,{"$f":"+IF('Diario contable'!C138=\"Donaciones\",'Diario contable'!F138,0)","v":0},null,null,null,{"$f":"+IF('Diario contable'!E138=\"Donaciones\",'Diario contable'!F138,0)","v":0},{"$f":"IF('Diario contable'!C138=\"Donaciones\",'Diario contable'!I138,IF('Diario contable'!E138=\"Donaciones\",'Diario contable'!I138,0))","v":0},{"$f":"IF('Diario contable'!C138=\"Donaciones\",'Diario contable'!H138,IF('Diario contable'!E138=\"Donaciones\",'Diario contable'!H138,0))","v":"00:00:00"},null,null,{"$f":"+IF('Diario contable'!C138=\"Inventario\",'Diario contable'!F138,0)","v":0},null,null,null,{"$f":"+IF('Diario contable'!E138=\"Inventario\",'Diario contable'!F138,0)","v":0},{"$f":"IF('Diario contable'!C138=\"Inventario\",'Diario contable'!I138,IF('Diario contable'!E138=\"Inventario\",'Diario contable'!I138,0))","v":0},{"$f":"IF('Diario contable'!C138=\"Inventario\",'Diario contable'!H138,IF('Diario contable'!E138=\"Inventario\",'Diario contable'!H138,0))","v":"00:00:00"},null,null,{"$f":"+IF('Diario contable'!C138=\"Costo de ventas\",'Diario contable'!F138,0)","v":0},null,null,null,{"$f":"+IF('Diario contable'!E138=\"Costo de ventas\",'Diario contable'!F138,0)","v":0},{"$f":"IF('Diario contable'!C138=\"Costo de ventas\",'Diario contable'!I138,IF('Diario contable'!E138=\"Costo de ventas\",'Diario contable'!I138,0))","v":0},{"$f":"IF('Diario contable'!C138=\"Costo de ventas\",'Diario contable'!H138,IF('Diario contable'!E138=\"Costo de ventas\",'Diario contable'!H138,0))","v":"00:00:00"},null,null,{"$f":"+IF('Diario contable'!C138=\"Ventas\",'Diario contable'!F138,0)","v":0},null,null,null,{"$f":"+IF('Diario contable'!E138=\"Ventas\",'Diario contable'!F138,0)","v":0},{"$f":"IF('Diario contable'!C138=\"Ventas\",'Diario contable'!I138,IF('Diario contable'!E138=\"Ventas\",'Diario contable'!I138,0))","v":0},{"$f":"IF('Diario contable'!C138=\"Ventas\",'Diario contable'!H138,IF('Diario contable'!E138=\"Ventas\",'Diario contable'!H138,0))","v":"00:00:00"},null,null,{"$f":"+IF('Diario contable'!C138=\"Gastos por salarios\",'Diario contable'!F138,0)","v":0},null,null,null,{"$f":"+IF('Diario contable'!E138=\"Gastos por salarios\",'Diario contable'!F138,0)","v":0},{"$f":"IF('Diario contable'!C138=\"Gastos por salarios\",'Diario contable'!I138,IF('Diario contable'!E138=\"Gastos por salarios\",'Diario contable'!I138,0))","v":0},{"$f":"IF('Diario contable'!C138=\"Gastos por salarios\",'Diario contable'!H138,IF('Diario contable'!E138=\"Gastos por salarios\",'Diario contable'!H138,0))","v":"00:00:00"},null,null,{"$f":"+IF('Diario contable'!C138=\"Gastos operacionales\",'Diario contable'!F138,0)","v":0},null,null,null,{"$f":"+IF('Diario contable'!E138=\"Gastos operacionales\",'Diario contable'!F138,0)","v":0},{"$f":"IF('Diario contable'!C138=\"Gastos operacionales\",'Diario contable'!I138,IF('Diario contable'!E138=\"Gastos operacionales\",'Diario contable'!I138,0))","v":0},{"$f":"IF('Diario contable'!C138=\"Gastos operacionales\",'Diario contable'!H138,IF('Diario contable'!E138=\"Gastos operacionales\",'Diario contable'!H138,0))","v":"00:00:00"},null,null,{"$f":"+IF('Diario contable'!C138=\"Suministros de oficina\",'Diario contable'!F138,0)","v":0},null,null,null,{"$f":"+IF('Diario contable'!E138=\"Suministros de oficina\",'Diario contable'!F138,0)","v":0},{"$f":"IF('Diario contable'!C138=\"Suministros de oficina\",'Diario contable'!I138,IF('Diario contable'!E138=\"Suministros de oficina\",'Diario contable'!I138,0))","v":0},{"$f":"IF('Diario contable'!C138=\"Suministros de oficina\",'Diario contable'!H138,IF('Diario contable'!E138=\"Suministros de oficina\",'Diario contable'!H138,0))","v":"00:00:00"},null,null,{"$f":"+IF('Diario contable'!C138=\"Capital social\",'Diario contable'!F138,0)","v":0},null,null,null,{"$f":"+IF('Diario contable'!E138=\"Capital social\",'Diario contable'!F138,0)","v":0},{"$f":"IF('Diario contable'!C138=\"Capital social\",'Diario contable'!I138,IF('Diario contable'!E138=\"Capital social\",'Diario contable'!I138,0))","v":0},{"$f":"IF('Diario contable'!C138=\"Capital social\",'Diario contable'!H138,IF('Diario contable'!E138=\"Capital social\",'Diario contable'!H138,0))","v":"00:00:00"},null,null,{"$f":"+IF('Diario contable'!C138=\"Gastos de mercadeo\",'Diario contable'!F138,0)","v":0},null,null,null,{"$f":"+IF('Diario contable'!E138=\"Gastos de mercadeo\",'Diario contable'!F138,0)","v":0},{"$f":"IF('Diario contable'!C138=\"Gastos de mercadeo\",'Diario contable'!I138,IF('Diario contable'!E138=\"Gastos de mercadeo\",'Diario contable'!I138,0))","v":0},{"$f":"IF('Diario contable'!C138=\"Gastos de mercadeo\",'Diario contable'!H138,IF('Diario contable'!E138=\"Gastos de mercadeo\",'Diario contable'!H138,0))","v":"00:00:00"},null,null,{"$f":"+IF('Diario contable'!C138=\"Gastos de suministros de oficina\",'Diario contable'!F138,0)","v":0},null,null,null,{"$f":"+IF('Diario contable'!E138=\"Gastos de suministros de oficina\",'Diario contable'!F138,0)","v":0},{"$f":"IF('Diario contable'!C138=\"Gastos de suministros de oficina\",'Diario contable'!I138,IF('Diario contable'!E138=\"Gastos de suministros de oficina\",'Diario contable'!I138,0))","v":0},{"$f":"IF('Diario contable'!C138=\"Gastos de suministros de oficina\",'Diario contable'!H138,IF('Diario contable'!E138=\"Gastos de suministros de oficina\",'Diario contable'!H138,0))","v":"00:00:00"}]
[null,null,{"$f":"+IF('Diario contable'!C139=\"Caja\",'Diario contable'!F139,0)","v":0},null,null,null,{"$f":"+IF('Diario contable'!E139=\"Caja\",'Diario contable'!F139,0)","v":0},{"$f":"IF('Diario contable'!C139=\"Caja\",'Diario contable'!I139,IF('Diario contable'!E139=\"Caja\",'Diario contable'!I139,0))","v":0},{"$f":"IF('Diario contable'!C139=\"Caja\",'Diario contable'!H139,IF('Diario contable'!E139=\"Caja\",'Diario contable'!H139,0))","v":"00:00:00"},null,null,{"$f":"+IF('Diario contable'!C139=\"Maquinaria\",'Diario contable'!F139,0)","v":0},null,null,null,{"$f":"+IF('Diario contable'!E139=\"Maquinaria\",'Diario contable'!F139,0)","v":0},{"$f":"IF('Diario contable'!C139=\"Maquinaria\",'Diario contable'!I139,IF('Diario contable'!E139=\"Maquinaria\",'Diario contable'!I139,0))","v":0},{"$f":"IF('Diario contable'!C139=\"Maquinaria\",'Diario contable'!H139,IF('Diario contable'!E139=\"Maquinaria\",'Diario contable'!H139,0))","v":"00:00:00"},null,null,{"$f":"+IF('Diario contable'!C139=\"Herramientas\",'Diario contable'!F139,0)","v":0},null,null,null,{"$f":"+IF('Diario contable'!E139=\"Herramientas\",'Diario contable'!F139,0)","v":0},{"$f":"IF('Diario contable'!C139=\"Herramientas\",'Diario contable'!I139,IF('Diario contable'!E139=\"Herramientas\",'Diario contable'!I139,0))","v":0},{"$f":"IF('Diario contable'!C139=\"Herramientas\",'Diario contable'!H139,IF('Diario contable'!E139=\"Herramientas\",'Diario contable'!H139,0))","v":"00:00:00"},null,null,{"$f":"+IF('Diario contable'!C139=\"Donaciones\",'Diario contable'!F139,0)","v":0},null,null,null,{"$f":"+IF('Diario contable'!E139=\"Donaciones\",'Diario contable'!F139,0)","v":0},{"$f":"IF('Diario contable'!C139=\"Donaciones\",'Diario contable'!I139,IF('Diario contable'!E139=\"Donaciones\",'Diario contable'!I139,0))","v":0},{"$f":"IF('Diario contable'!C139=\"Donaciones\",'Diario contable'!H139,IF('Diario contable'!E139=\"Donaciones\",'Diario contable'!H139,0))","v":"00:00:00"},null,null,{"$f":"+IF('Diario contable'!C139=\"Inventario\",'Diario contable'!F139,0)","v":0},null,null,null,{"$f":"+IF('Diario contable'!E139=\"Inventario\",'Diario contable'!F139,0)","v":0},{"$f":"IF('Diario contable'!C139=\"Inventario\",'Diario contable'!I139,IF('Diario contable'!E139=\"Inventario\",'Diario contable'!I139,0))","v":0},{"$f":"IF('Diario contable'!C139=\"Inventario\",'Diario contable'!H139,IF('Diario contable'!E139=\"Inventario\",'Diario contable'!H139,0))","v":"00:00:00"},null,null,{"$f":"+IF('Diario contable'!C139=\"Costo de ventas\",'Diario contable'!F139,0)","v":0},null,null,null,{"$f":"+IF('Diario contable'!E139=\"Costo de ventas\",'Diario contable'!F139,0)","v":0},{"$f":"IF('Diario contable'!C139=\"Costo de ventas\",'Diario contable'!I139,IF('Diario contable'!E139=\"Costo de ventas\",'Diario contable'!I139,0))","v":0},{"$f":"IF('Diario contable'!C139=\"Costo de ventas\",'Diario contable'!H139,IF('Diario contable'!E139=\"Costo de ventas\",'Diario contable'!H139,0))","v":"00:00:00"},null,null,{"$f":"+IF('Diario contable'!C139=\"Ventas\",'Diario contable'!F139,0)","v":0},null,null,null,{"$f":"+IF('Diario contable'!E139=\"Ventas\",'Diario contable'!F139,0)","v":0},{"$f":"IF('Diario contable'!C139=\"Ventas\",'Diario contable'!I139,IF('Diario contable'!E139=\"Ventas\",'Diario contable'!I139,0))","v":0},{"$f":"IF('Diario contable'!C139=\"Ventas\",'Diario contable'!H139,IF('Diario contable'!E139=\"Ventas\",'Diario contable'!H139,0))","v":"00:00:00"},null,null,{"$f":"+IF('Diario contable'!C139=\"Gastos por salarios\",'Diario contable'!F139,0)","v":0},null,null,null,{"$f":"+IF('Diario contable'!E139=\"Gastos por salarios\",'Diario contable'!F139,0)","v":0},{"$f":"IF('Diario contable'!C139=\"Gastos por salarios\",'Diario contable'!I139,IF('Diario contable'!E139=\"Gastos por salarios\",'Diario contable'!I139,0))","v":0},{"$f":"IF('Diario contable'!C139=\"Gastos por salarios\",'Diario contable'!H139,IF('Diario contable'!E139=\"Gastos por salarios\",'Diario contable'!H139,0))","v":"00:00:00"},null,null,{"$f":"+IF('Diario contable'!C139=\"Gastos operacionales\",'Diario contable'!F139,0)","v":0},null,null,null,{"$f":"+IF('Diario contable'!E139=\"Gastos operacionales\",'Diario contable'!F139,0)","v":0},{"$f":"IF('Diario contable'!C139=\"Gastos operacionales\",'Diario contable'!I139,IF('Diario contable'!E139=\"Gastos operacionales\",'Diario contable'!I139,0))","v":0},{"$f":"IF('Diario contable'!C139=\"Gastos operacionales\",'Diario contable'!H139,IF('Diario contable'!E139=\"Gastos operacionales\",'Diario contable'!H139,0))","v":"00:00:00"},null,null,{"$f":"+IF('Diario contable'!C139=\"Suministros de oficina\",'Diario contable'!F139,0)","v":0},null,null,null,{"$f":"+IF('Diario contable'!E139=\"Suministros de oficina\",'Diario contable'!F139,0)","v":0},{"$f":"IF('Diario contable'!C139=\"Suministros de oficina\",'Diario contable'!I139,IF('Diario contable'!E139=\"Suministros de oficina\",'Diario contable'!I139,0))","v":0},{"$f":"IF('Diario contable'!C139=\"Suministros de oficina\",'Diario contable'!H139,IF('Diario contable'!E139=\"Suministros de oficina\",'Diario contable'!H139,0))","v":"00:00:00"},null,null,{"$f":"+IF('Diario contable'!C139=\"Capital social\",'Diario contable'!F139,0)","v":0},null,null,null,{"$f":"+IF('Diario contable'!E139=\"Capital social\",'Diario contable'!F139,0)","v":0},{"$f":"IF('Diario contable'!C139=\"Capital social\",'Diario contable'!I139,IF('Diario contable'!E139=\"Capital social\",'Diario contable'!I139,0))","v":0},{"$f":"IF('Diario contable'!C139=\"Capital social\",'Diario contable'!H139,IF('Diario contable'!E139=\"Capital social\",'Diario contable'!H139,0))","v":"00:00:00"},null,null,{"$f":"+IF('Diario contable'!C139=\"Gastos de mercadeo\",'Diario contable'!F139,0)","v":0},null,null,null,{"$f":"+IF('Diario contable'!E139=\"Gastos de mercadeo\",'Diario contable'!F139,0)","v":0},{"$f":"IF('Diario contable'!C139=\"Gastos de mercadeo\",'Diario contable'!I139,IF('Diario contable'!E139=\"Gastos de mercadeo\",'Diario contable'!I139,0))","v":0},{"$f":"IF('Diario contable'!C139=\"Gastos de mercadeo\",'Diario contable'!H139,IF('Diario contable'!E139=\"Gastos de mercadeo\",'Diario contable'!H139,0))","v":"00:00:00"},null,null,{"$f":"+IF('Diario contable'!C139=\"Gastos de suministros de oficina\",'Diario contable'!F139,0)","v":0},null,null,null,{"$f":"+IF('Diario contable'!E139=\"Gastos de suministros de oficina\",'Diario contable'!F139,0)","v":0},{"$f":"IF('Diario contable'!C139=\"Gastos de suministros de oficina\",'Diario contable'!I139,IF('Diario contable'!E139=\"Gastos de suministros de oficina\",'Diario contable'!I139,0))","v":0},{"$f":"IF('Diario contable'!C139=\"Gastos de suministros de oficina\",'Diario contable'!H139,IF('Diario contable'!E139=\"Gastos de suministros de oficina\",'Diario contable'!H139,0))","v":"00:00:00"}]
[null,null,{"$f":"+IF('Diario contable'!C140=\"Caja\",'Diario contable'!F140,0)","v":0},null,null,null,{"$f":"+IF('Diario contable'!E140=\"Caja\",'Diario contable'!F140,0)","v":0},{"$f":"IF('Diario contable'!C140=\"Caja\",'Diario contable'!I140,IF('Diario contable'!E140=\"Caja\",'Diario contable'!I140,0))","v":0},{"$f":"IF('Diario contable'!C140=\"Caja\",'Diario contable'!H140,IF('Diario contable'!E140=\"Caja\",'Diario contable'!H140,0))","v":"00:00:00"},null,null,{"$f":"+IF('Diario contable'!C140=\"Maquinaria\",'Diario contable'!F140,0)","v":0},null,null,null,{"$f":"+IF('Diario contable'!E140=\"Maquinaria\",'Diario contable'!F140,0)","v":0},{"$f":"IF('Diario contable'!C140=\"Maquinaria\",'Diario contable'!I140,IF('Diario contable'!E140=\"Maquinaria\",'Diario contable'!I140,0))","v":0},{"$f":"IF('Diario contable'!C140=\"Maquinaria\",'Diario contable'!H140,IF('Diario contable'!E140=\"Maquinaria\",'Diario contable'!H140,0))","v":"00:00:00"},null,null,{"$f":"+IF('Diario contable'!C140=\"Herramientas\",'Diario contable'!F140,0)","v":0},null,null,null,{"$f":"+IF('Diario contable'!E140=\"Herramientas\",'Diario contable'!F140,0)","v":0},{"$f":"IF('Diario contable'!C140=\"Herramientas\",'Diario contable'!I140,IF('Diario contable'!E140=\"Herramientas\",'Diario contable'!I140,0))","v":0},{"$f":"IF('Diario contable'!C140=\"Herramientas\",'Diario contable'!H140,IF('Diario contable'!E140=\"Herramientas\",'Diario contable'!H140,0))","v":"00:00:00"},null,null,{"$f":"+IF('Diario contable'!C140=\"Donaciones\",'Diario contable'!F140,0)","v":0},null,null,null,{"$f":"+IF('Diario contable'!E140=\"Donaciones\",'Diario contable'!F140,0)","v":0},{"$f":"IF('Diario contable'!C140=\"Donaciones\",'Diario contable'!I140,IF('Diario contable'!E140=\"Donaciones\",'Diario contable'!I140,0))","v":0},{"$f":"IF('Diario contable'!C140=\"Donaciones\",'Diario contable'!H140,IF('Diario contable'!E140=\"Donaciones\",'Diario contable'!H140,0))","v":"00:00:00"},null,null,{"$f":"+IF('Diario contable'!C140=\"Inventario\",'Diario contable'!F140,0)","v":0},null,null,null,{"$f":"+IF('Diario contable'!E140=\"Inventario\",'Diario contable'!F140,0)","v":0},{"$f":"IF('Diario contable'!C140=\"Inventario\",'Diario contable'!I140,IF('Diario contable'!E140=\"Inventario\",'Diario contable'!I140,0))","v":0},{"$f":"IF('Diario contable'!C140=\"Inventario\",'Diario contable'!H140,IF('Diario contable'!E140=\"Inventario\",'Diario contable'!H140,0))","v":"00:00:00"},null,null,{"$f":"+IF('Diario contable'!C140=\"Costo de ventas\",'Diario contable'!F140,0)","v":0},null,null,null,{"$f":"+IF('Diario contable'!E140=\"Costo de ventas\",'Diario contable'!F140,0)","v":0},{"$f":"IF('Diario contable'!C140=\"Costo de ventas\",'Diario contable'!I140,IF('Diario contable'!E140=\"Costo de ventas\",'Diario contable'!I140,0))","v":0},{"$f":"IF('Diario contable'!C140=\"Costo de ventas\",'Diario contable'!H140,IF('Diario contable'!E140=\"Costo de ventas\",'Diario contable'!H140,0))","v":"00:00:00"},null,null,{"$f":"+IF('Diario contable'!C140=\"Ventas\",'Diario contable'!F140,0)","v":0},null,null,null,{"$f":"+IF('Diario contable'!E140=\"Ventas\",'Diario contable'!F140,0)","v":0},{"$f":"IF('Diario contable'!C140=\"Ventas\",'Diario contable'!I140,IF('Diario contable'!E140=\"Ventas\",'Diario contable'!I140,0))","v":0},{"$f":"IF('Diario contable'!C140=\"Ventas\",'Diario contable'!H140,IF('Diario contable'!E140=\"Ventas\",'Diario contable'!H140,0))","v":"00:00:00"},null,null,{"$f":"+IF('Diario contable'!C140=\"Gastos por salarios\",'Diario contable'!F140,0)","v":0},null,null,null,{"$f":"+IF('Diario contable'!E140=\"Gastos por salarios\",'Diario contable'!F140,0)","v":0},{"$f":"IF('Diario contable'!C140=\"Gastos por salarios\",'Diario contable'!I140,IF('Diario contable'!E140=\"Gastos por salarios\",'Diario contable'!I140,0))","v":0},{"$f":"IF('Diario contable'!C140=\"Gastos por salarios\",'Diario contable'!H140,IF('Diario contable'!E140=\"Gastos por salarios\",'Diario contable'!H140,0))","v":"00:00:00"},null,null,{"$f":"+IF('Diario contable'!C140=\"Gastos operacionales\",'Diario contable'!F140,0)","v":0},null,null,null,{"$f":"+IF('Diario contable'!E140=\"Gastos operacionales\",'Diario contable'!F140,0)","v":0},{"$f":"IF('Diario contable'!C140=\"Gastos operacionales\",'Diario contable'!I140,IF('Diario contable'!E140=\"Gastos operacionales\",'Diario contable'!I140,0))","v":0},{"$f":"IF('Diario contable'!C140=\"Gastos operacionales\",'Diario contable'!H140,IF('Diario contable'!E140=\"Gastos operacionales\",'Diario contable'!H140,0))","v":"00:00:00"},null,null,{"$f":"+IF('Diario contable'!C140=\"Suministros de oficina\",'Diario contable'!F140,0)","v":0},null,null,null,{"$f":"+IF('Diario contable'!E140=\"Suministros de oficina\",'Diario contable'!F140,0)","v":0},{"$f":"IF('Diario contable'!C140=\"Suministros de oficina\",'Diario contable'!I140,IF('Diario contable'!E140=\"Suministros de oficina\",'Diario contable'!I140,0))","v":0},{"$f":"IF('Diario contable'!C140=\"Suministros de oficina\",'Diario contable'!H140,IF('Diario contable'!E140=\"Suministros de oficina\",'Diario contable'!H140,0))","v":"00:00:00"},null,null,{"$f":"+IF('Diario contable'!C140=\"Capital social\",'Diario contable'!F140,0)","v":0},null,null,null,{"$f":"+IF('Diario contable'!E140=\"Capital social\",'Diario contable'!F140,0)","v":0},{"$f":"IF('Diario contable'!C140=\"Capital social\",'Diario contable'!I140,IF('Diario contable'!E140=\"Capital social\",'Diario contable'!I140,0))","v":0},{"$f":"IF('Diario contable'!C140=\"Capital social\",'Diario contable'!H140,IF('Diario contable'!E140=\"Capital social\",'Diario contable'!H140,0))","v":"00:00:00"},null,null,{"$f":"+IF('Diario contable'!C140=\"Gastos de mercadeo\",'Diario contable'!F140,0)","v":0},null,null,null,{"$f":"+IF('Diario contable'!E140=\"Gastos de mercadeo\",'Diario contable'!F140,0)","v":0},{"$f":"IF('Diario contable'!C140=\"Gastos de mercadeo\",'Diario contable'!I140,IF('Diario contable'!E140=\"Gastos de mercadeo\",'Diario contable'!I140,0))","v":0},{"$f":"IF('Diario contable'!C140=\"Gastos de mercadeo\",'Diario contable'!H140,IF('Diario contable'!E140=\"Gastos de mercadeo\",'Diario contable'!H140,0))","v":"00:00:00"},null,null,{"$f":"+IF('Diario contable'!C140=\"Gastos de suministros de oficina\",'Diario contable'!F140,0)","v":0},null,null,null,{"$f":"+IF('Diario contable'!E140=\"Gastos de suministros de oficina\",'Diario contable'!F140,0)","v":0},{"$f":"IF('Diario contable'!C140=\"Gastos de suministros de oficina\",'Diario contable'!I140,IF('Diario contable'!E140=\"Gastos de suministros de oficina\",'Diario contable'!I140,0))","v":0},{"$f":"IF('Diario contable'!C140=\"Gastos de suministros de oficina\",'Diario contable'!H140,IF('Diario contable'!E140=\"Gastos de suministros de oficina\",'Diario contable'!H140,0))","v":"00:00:00"}]
[null,null,{"$f":"+IF('Diario contable'!C141=\"Caja\",'Diario contable'!F141,0)","v":0},null,null,null,{"$f":"+IF('Diario contable'!E141=\"Caja\",'Diario contable'!F141,0)","v":0},{"$f":"IF('Diario contable'!C141=\"Caja\",'Diario contable'!I141,IF('Diario contable'!E141=\"Caja\",'Diario contable'!I141,0))","v":0},{"$f":"IF('Diario contable'!C141=\"Caja\",'Diario contable'!H141,IF('Diario contable'!E141=\"Caja\",'Diario contable'!H141,0))","v":"00:00:00"},null,null,{"$f":"+IF('Diario contable'!C141=\"Maquinaria\",'Diario contable'!F141,0)","v":0},null,null,null,{"$f":"+IF('Diario contable'!E141=\"Maquinaria\",'Diario contable'!F141,0)","v":0},{"$f":"IF('Diario contable'!C141=\"Maquinaria\",'Diario contable'!I141,IF('Diario contable'!E141=\"Maquinaria\",'Diario contable'!I141,0))","v":0},{"$f":"IF('Diario contable'!C141=\"Maquinaria\",'Diario contable'!H141,IF('Diario contable'!E141=\"Maquinaria\",'Diario contable'!H141,0))","v":"00:00:00"},null,null,{"$f":"+IF('Diario contable'!C141=\"Herramientas\",'Diario contable'!F141,0)","v":0},null,null,null,{"$f":"+IF('Diario contable'!E141=\"Herramientas\",'Diario contable'!F141,0)","v":0},{"$f":"IF('Diario contable'!C141=\"Herramientas\",'Diario contable'!I141,IF('Diario contable'!E141=\"Herramientas\",'Diario contable'!I141,0))","v":0},{"$f":"IF('Diario contable'!C141=\"Herramientas\",'Diario contable'!H141,IF('Diario contable'!E141=\"Herramientas\",'Diario contable'!H141,0))","v":"00:00:00"},null,null,{"$f":"+IF('Diario contable'!C141=\"Donaciones\",'Diario contable'!F141,0)","v":0},null,null,null,{"$f":"+IF('Diario contable'!E141=\"Donaciones\",'Diario contable'!F141,0)","v":0},{"$f":"IF('Diario contable'!C141=\"Donaciones\",'Diario contable'!I141,IF('Diario contable'!E141=\"Donaciones\",'Diario contable'!I141,0))","v":0},{"$f":"IF('Diario contable'!C141=\"Donaciones\",'Diario contable'!H141,IF('Diario contable'!E141=\"Donaciones\",'Diario contable'!H141,0))","v":"00:00:00"},null,null,{"$f":"+IF('Diario contable'!C141=\"Inventario\",'Diario contable'!F141,0)","v":0},null,null,null,{"$f":"+IF('Diario contable'!E141=\"Inventario\",'Diario contable'!F141,0)","v":0},{"$f":"IF('Diario contable'!C141=\"Inventario\",'Diario contable'!I141,IF('Diario contable'!E141=\"Inventario\",'Diario contable'!I141,0))","v":0},{"$f":"IF('Diario contable'!C141=\"Inventario\",'Diario contable'!H141,IF('Diario contable'!E141=\"Inventario\",'Diario contable'!H141,0))","v":"00:00:00"},null,null,{"$f":"+IF('Diario contable'!C141=\"Costo de ventas\",'Diario contable'!F141,0)","v":0},null,null,null,{"$f":"+IF('Diario contable'!E141=\"Costo de ventas\",'Diario contable'!F141,0)","v":0},{"$f":"IF('Diario contable'!C141=\"Costo de ventas\",'Diario contable'!I141,IF('Diario contable'!E141=\"Costo de ventas\",'Diario contable'!I141,0))","v":0},{"$f":"IF('Diario contable'!C141=\"Costo de ventas\",'Diario contable'!H141,IF('Diario contable'!E141=\"Costo de ventas\",'Diario contable'!H141,0))","v":"00:00:00"},null,null,{"$f":"+IF('Diario contable'!C141=\"Ventas\",'Diario contable'!F141,0)","v":0},null,null,null,{"$f":"+IF('Diario contable'!E141=\"Ventas\",'Diario contable'!F141,0)","v":0},{"$f":"IF('Diario contable'!C141=\"Ventas\",'Diario contable'!I141,IF('Diario contable'!E141=\"Ventas\",'Diario contable'!I141,0))","v":0},{"$f":"IF('Diario contable'!C141=\"Ventas\",'Diario contable'!H141,IF('Diario contable'!E141=\"Ventas\",'Diario contable'!H141,0))","v":"00:00:00"},null,null,{"$f":"+IF('Diario contable'!C141=\"Gastos por salarios\",'Diario contable'!F141,0)","v":0},null,null,null,{"$f":"+IF('Diario contable'!E141=\"Gastos por salarios\",'Diario contable'!F141,0)","v":0},{"$f":"IF('Diario contable'!C141=\"Gastos por salarios\",'Diario contable'!I141,IF('Diario contable'!E141=\"Gastos por salarios\",'Diario contable'!I141,0))","v":0},{"$f":"IF('Diario contable'!C141=\"Gastos por salarios\",'Diario contable'!H141,IF('Diario contable'!E141=\"Gastos por salarios\",'Diario contable'!H141,0))","v":"00:00:00"},null,null,{"$f":"+IF('Diario contable'!C141=\"Gastos operacionales\",'Diario contable'!F141,0)","v":0},null,null,null,{"$f":"+IF('Diario contable'!E141=\"Gastos operacionales\",'Diario contable'!F141,0)","v":0},{"$f":"IF('Diario contable'!C141=\"Gastos operacionales\",'Diario contable'!I141,IF('Diario contable'!E141=\"Gastos operacionales\",'Diario contable'!I141,0))","v":0},{"$f":"IF('Diario contable'!C141=\"Gastos operacionales\",'Diario contable'!H141,IF('Diario contable'!E141=\"Gastos operacionales\",'Diario contable'!H141,0))","v":"00:00:00"},null,null,{"$f":"+IF('Diario contable'!C141=\"Suministros de oficina\",'Diario contable'!F141,0)","v":0},null,null,null,{"$f":"+IF('Diario contable'!E141=\"Suministros de oficina\",'Diario contable'!F141,0)","v":0},{"$f":"IF('Diario contable'!C141=\"Suministros de oficina\",'Diario contable'!I141,IF('Diario contable'!E141=\"Suministros de oficina\",'Diario contable'!I141,0))","v":0},{"$f":"IF('Diario contable'!C141=\"Suministros de oficina\",'Diario contable'!H141,IF('Diario contable'!E141=\"Suministros de oficina\",'Diario contable'!H141,0))","v":"00:00:00"},null,null,{"$f":"+IF('Diario contable'!C141=\"Capital social\",'Diario contable'!F141,0)","v":0},null,null,null,{"$f":"+IF('Diario contable'!E141=\"Capital social\",'Diario contable'!F141,0)","v":0},{"$f":"IF('Diario contable'!C141=\"Capital social\",'Diario contable'!I141,IF('Diario contable'!E141=\"Capital social\",'Diario contable'!I141,0))","v":0},{"$f":"IF('Diario contable'!C141=\"Capital social\",'Diario contable'!H141,IF('Diario contable'!E141=\"Capital social\",'Diario contable'!H141,0))","v":"00:00:00"},null,null,{"$f":"+IF('Diario contable'!C141=\"Gastos de mercadeo\",'Diario contable'!F141,0)","v":0},null,null,null,{"$f":"+IF('Diario contable'!E141=\"Gastos de mercadeo\",'Diario contable'!F141,0)","v":0},{"$f":"IF('Diario contable'!C141=\"Gastos de mercadeo\",'Diario contable'!I141,IF('Diario contable'!E141=\"Gastos de mercadeo\",'Diario contable'!I141,0))","v":0},{"$f":"IF('Diario contable'!C141=\"Gastos de mercadeo\",'Diario contable'!H141,IF('Diario contable'!E141=\"Gastos de mercadeo\",'Diario contable'!H141,0))","v":"00:00:00"},null,null,{"$f":"+IF('Diario contable'!C141=\"Gastos de suministros de oficina\",'Diario contable'!F141,0)","v":0},null,null,null,{"$f":"+IF('Diario contable'!E141=\"Gastos de suministros de oficina\",'Diario contable'!F141,0)","v":0},{"$f":"IF('Diario contable'!C141=\"Gastos de suministros de oficina\",'Diario contable'!I141,IF('Diario contable'!E141=\"Gastos de suministros de oficina\",'Diario contable'!I141,0))","v":0},{"$f":"IF('Diario contable'!C141=\"Gastos de suministros de oficina\",'Diario contable'!H141,IF('Diario contable'!E141=\"Gastos de suministros de oficina\",'Diario contable'!H141,0))","v":"00:00:00"}]
[null,null,{"$f":"+IF('Diario contable'!C142=\"Caja\",'Diario contable'!F142,0)","v":0},null,null,null,{"$f":"+IF('Diario contable'!E142=\"Caja\",'Diario contable'!F142,0)","v":0},{"$f":"IF('Diario contable'!C142=\"Caja\",'Diario contable'!I142,IF('Diario contable'!E142=\"Caja\",'Diario contable'!I142,0))","v":0},{"$f":"IF('Diario contable'!C142=\"Caja\",'Diario contable'!H142,IF('Diario contable'!E142=\"Caja\",'Diario contable'!H142,0))","v":"00:00:00"},null,null,{"$f":"+IF('Diario contable'!C142=\"Maquinaria\",'Diario contable'!F142,0)","v":0},null,null,null,{"$f":"+IF('Diario contable'!E142=\"Maquinaria\",'Diario contable'!F142,0)","v":0},{"$f":"IF('Diario contable'!C142=\"Maquinaria\",'Diario contable'!I142,IF('Diario contable'!E142=\"Maquinaria\",'Diario contable'!I142,0))","v":0},{"$f":"IF('Diario contable'!C142=\"Maquinaria\",'Diario contable'!H142,IF('Diario contable'!E142=\"Maquinaria\",'Diario contable'!H142,0))","v":"00:00:00"},null,null,{"$f":"+IF('Diario contable'!C142=\"Herramientas\",'Diario contable'!F142,0)","v":0},null,null,null,{"$f":"+IF('Diario contable'!E142=\"Herramientas\",'Diario contable'!F142,0)","v":0},{"$f":"IF('Diario contable'!C142=\"Herramientas\",'Diario contable'!I142,IF('Diario contable'!E142=\"Herramientas\",'Diario contable'!I142,0))","v":0},{"$f":"IF('Diario contable'!C142=\"Herramientas\",'Diario contable'!H142,IF('Diario contable'!E142=\"Herramientas\",'Diario contable'!H142,0))","v":"00:00:00"},null,null,{"$f":"+IF('Diario contable'!C142=\"Donaciones\",'Diario contable'!F142,0)","v":0},null,null,null,{"$f":"+IF('Diario contable'!E142=\"Donaciones\",'Diario contable'!F142,0)","v":0},{"$f":"IF('Diario contable'!C142=\"Donaciones\",'Diario contable'!I142,IF('Diario contable'!E142=\"Donaciones\",'Diario contable'!I142,0))","v":0},{"$f":"IF('Diario contable'!C142=\"Donaciones\",'Diario contable'!H142,IF('Diario contable'!E142=\"Donaciones\",'Diario contable'!H142,0))","v":"00:00:00"},null,null,{"$f":"+IF('Diario contable'!C142=\"Inventario\",'Diario contable'!F142,0)","v":0},null,null,null,{"$f":"+IF('Diario contable'!E142=\"Inventario\",'Diario contable'!F142,0)","v":0},{"$f":"IF('Diario contable'!C142=\"Inventario\",'Diario contable'!I142,IF('Diario contable'!E142=\"Inventario\",'Diario contable'!I142,0))","v":0},{"$f":"IF('Diario contable'!C142=\"Inventario\",'Diario contable'!H142,IF('Diario contable'!E142=\"Inventario\",'Diario contable'!H142,0))","v":"00:00:00"},null,null,{"$f":"+IF('Diario contable'!C142=\"Costo de ventas\",'Diario contable'!F142,0)","v":0},null,null,null,{"$f":"+IF('Diario contable'!E142=\"Costo de ventas\",'Diario contable'!F142,0)","v":0},{"$f":"IF('Diario contable'!C142=\"Costo de ventas\",'Diario contable'!I142,IF('Diario contable'!E142=\"Costo de ventas\",'Diario contable'!I142,0))","v":0},{"$f":"IF('Diario contable'!C142=\"Costo de ventas\",'Diario contable'!H142,IF('Diario contable'!E142=\"Costo de ventas\",'Diario contable'!H142,0))","v":"00:00:00"},null,null,{"$f":"+IF('Diario contable'!C142=\"Ventas\",'Diario contable'!F142,0)","v":0},null,null,null,{"$f":"+IF('Diario contable'!E142=\"Ventas\",'Diario contable'!F142,0)","v":0},{"$f":"IF('Diario contable'!C142=\"Ventas\",'Diario contable'!I142,IF('Diario contable'!E142=\"Ventas\",'Diario contable'!I142,0))","v":0},{"$f":"IF('Diario contable'!C142=\"Ventas\",'Diario contable'!H142,IF('Diario contable'!E142=\"Ventas\",'Diario contable'!H142,0))","v":"00:00:00"},null,null,{"$f":"+IF('Diario contable'!C142=\"Gastos por salarios\",'Diario contable'!F142,0)","v":0},null,null,null,{"$f":"+IF('Diario contable'!E142=\"Gastos por salarios\",'Diario contable'!F142,0)","v":0},{"$f":"IF('Diario contable'!C142=\"Gastos por salarios\",'Diario contable'!I142,IF('Diario contable'!E142=\"Gastos por salarios\",'Diario contable'!I142,0))","v":0},{"$f":"IF('Diario contable'!C142=\"Gastos por salarios\",'Diario contable'!H142,IF('Diario contable'!E142=\"Gastos por salarios\",'Diario contable'!H142,0))","v":"00:00:00"},null,null,{"$f":"+IF('Diario contable'!C142=\"Gastos operacionales\",'Diario contable'!F142,0)","v":0},null,null,null,{"$f":"+IF('Diario contable'!E142=\"Gastos operacionales\",'Diario contable'!F142,0)","v":0},{"$f":"IF('Diario contable'!C142=\"Gastos operacionales\",'Diario contable'!I142,IF('Diario contable'!E142=\"Gastos operacionales\",'Diario contable'!I142,0))","v":0},{"$f":"IF('Diario contable'!C142=\"Gastos operacionales\",'Diario contable'!H142,IF('Diario contable'!E142=\"Gastos operacionales\",'Diario contable'!H142,0))","v":"00:00:00"},null,null,{"$f":"+IF('Diario contable'!C142=\"Suministros de oficina\",'Diario contable'!F142,0)","v":0},null,null,null,{"$f":"+IF('Diario contable'!E142=\"Suministros de oficina\",'Diario contable'!F142,0)","v":0},{"$f":"IF('Diario contable'!C142=\"Suministros de oficina\",'Diario contable'!I142,IF('Diario contable'!E142=\"Suministros de oficina\",'Diario contable'!I142,0))","v":0},{"$f":"IF('Diario contable'!C142=\"Suministros de oficina\",'Diario contable'!H142,IF('Diario contable'!E142=\"Suministros de oficina\",'Diario contable'!H142,0))","v":"00:00:00"},null,null,{"$f":"+IF('Diario contable'!C142=\"Capital social\",'Diario contable'!F142,0)","v":0},null,null,null,{"$f":"+IF('Diario contable'!E142=\"Capital social\",'Diario contable'!F142,0)","v":0},{"$f":"IF('Diario contable'!C142=\"Capital social\",'Diario contable'!I142,IF('Diario contable'!E142=\"Capital social\",'Diario contable'!I142,0))","v":0},{"$f":"IF('Diario contable'!C142=\"Capital social\",'Diario contable'!H142,IF('Diario contable'!E142=\"Capital social\",'Diario contable'!H142,0))","v":"00:00:00"},null,null,{"$f":"+IF('Diario contable'!C142=\"Gastos de mercadeo\",'Diario contable'!F142,0)","v":0},null,null,null,{"$f":"+IF('Diario contable'!E142=\"Gastos de mercadeo\",'Diario contable'!F142,0)","v":0},{"$f":"IF('Diario contable'!C142=\"Gastos de mercadeo\",'Diario contable'!I142,IF('Diario contable'!E142=\"Gastos de mercadeo\",'Diario contable'!I142,0))","v":0},{"$f":"IF('Diario contable'!C142=\"Gastos de mercadeo\",'Diario contable'!H142,IF('Diario contable'!E142=\"Gastos de mercadeo\",'Diario contable'!H142,0))","v":"00:00:00"},null,null,{"$f":"+IF('Diario contable'!C142=\"Gastos de suministros de oficina\",'Diario contable'!F142,0)","v":0},null,null,null,{"$f":"+IF('Diario contable'!E142=\"Gastos de suministros de oficina\",'Diario contable'!F142,0)","v":0},{"$f":"IF('Diario contable'!C142=\"Gastos de suministros de oficina\",'Diario contable'!I142,IF('Diario contable'!E142=\"Gastos de suministros de oficina\",'Diario contable'!I142,0))","v":0},{"$f":"IF('Diario contable'!C142=\"Gastos de suministros de oficina\",'Diario contable'!H142,IF('Diario contable'!E142=\"Gastos de suministros de oficina\",'Diario contable'!H142,0))","v":"00:00:00"}]
[null,null,{"$f":"+IF('Diario contable'!C143=\"Caja\",'Diario contable'!F143,0)","v":0},null,null,null,{"$f":"+IF('Diario contable'!E143=\"Caja\",'Diario contable'!F143,0)","v":0},{"$f":"IF('Diario contable'!C143=\"Caja\",'Diario contable'!I143,IF('Diario contable'!E143=\"Caja\",'Diario contable'!I143,0))","v":0},{"$f":"IF('Diario contable'!C143=\"Caja\",'Diario contable'!H143,IF('Diario contable'!E143=\"Caja\",'Diario contable'!H143,0))","v":"00:00:00"},null,null,{"$f":"+IF('Diario contable'!C143=\"Maquinaria\",'Diario contable'!F143,0)","v":0},null,null,null,{"$f":"+IF('Diario contable'!E143=\"Maquinaria\",'Diario contable'!F143,0)","v":0},{"$f":"IF('Diario contable'!C143=\"Maquinaria\",'Diario contable'!I143,IF('Diario contable'!E143=\"Maquinaria\",'Diario contable'!I143,0))","v":0},{"$f":"IF('Diario contable'!C143=\"Maquinaria\",'Diario contable'!H143,IF('Diario contable'!E143=\"Maquinaria\",'Diario contable'!H143,0))","v":"00:00:00"},null,null,{"$f":"+IF('Diario contable'!C143=\"Herramientas\",'Diario contable'!F143,0)","v":0},null,null,null,{"$f":"+IF('Diario contable'!E143=\"Herramientas\",'Diario contable'!F143,0)","v":0},{"$f":"IF('Diario contable'!C143=\"Herramientas\",'Diario contable'!I143,IF('Diario contable'!E143=\"Herramientas\",'Diario contable'!I143,0))","v":0},{"$f":"IF('Diario contable'!C143=\"Herramientas\",'Diario contable'!H143,IF('Diario contable'!E143=\"Herramientas\",'Diario contable'!H143,0))","v":"00:00:00"},null,null,{"$f":"+IF('Diario contable'!C143=\"Donaciones\",'Diario contable'!F143,0)","v":0},null,null,null,{"$f":"+IF('Diario contable'!E143=\"Donaciones\",'Diario contable'!F143,0)","v":0},{"$f":"IF('Diario contable'!C143=\"Donaciones\",'Diario contable'!I143,IF('Diario contable'!E143=\"Donaciones\",'Diario contable'!I143,0))","v":0},{"$f":"IF('Diario contable'!C143=\"Donaciones\",'Diario contable'!H143,IF('Diario contable'!E143=\"Donaciones\",'Diario contable'!H143,0))","v":"00:00:00"},null,null,{"$f":"+IF('Diario contable'!C143=\"Inventario\",'Diario contable'!F143,0)","v":0},null,null,null,{"$f":"+IF('Diario contable'!E143=\"Inventario\",'Diario contable'!F143,0)","v":0},{"$f":"IF('Diario contable'!C143=\"Inventario\",'Diario contable'!I143,IF('Diario contable'!E143=\"Inventario\",'Diario contable'!I143,0))","v":0},{"$f":"IF('Diario contable'!C143=\"Inventario\",'Diario contable'!H143,IF('Diario contable'!E143=\"Inventario\",'Diario contable'!H143,0))","v":"00:00:00"},null,null,{"$f":"+IF('Diario contable'!C143=\"Costo de ventas\",'Diario contable'!F143,0)","v":0},null,null,null,{"$f":"+IF('Diario contable'!E143=\"Costo de ventas\",'Diario contable'!F143,0)","v":0},{"$f":"IF('Diario contable'!C143=\"Costo de ventas\",'Diario contable'!I143,IF('Diario contable'!E143=\"Costo de ventas\",'Diario contable'!I143,0))","v":0},{"$f":"IF('Diario contable'!C143=\"Costo de ventas\",'Diario contable'!H143,IF('Diario contable'!E143=\"Costo de ventas\",'Diario contable'!H143,0))","v":"00:00:00"},null,null,{"$f":"+IF('Diario contable'!C143=\"Ventas\",'Diario contable'!F143,0)","v":0},null,null,null,{"$f":"+IF('Diario contable'!E143=\"Ventas\",'Diario contable'!F143,0)","v":0},{"$f":"IF('Diario contable'!C143=\"Ventas\",'Diario contable'!I143,IF('Diario contable'!E143=\"Ventas\",'Diario contable'!I143,0))","v":0},{"$f":"IF('Diario contable'!C143=\"Ventas\",'Diario contable'!H143,IF('Diario contable'!E143=\"Ventas\",'Diario contable'!H143,0))","v":"00:00:00"},null,null,{"$f":"+IF('Diario contable'!C143=\"Gastos por salarios\",'Diario contable'!F143,0)","v":0},null,null,null,{"$f":"+IF('Diario contable'!E143=\"Gastos por salarios\",'Diario contable'!F143,0)","v":0},{"$f":"IF('Diario contable'!C143=\"Gastos por salarios\",'Diario contable'!I143,IF('Diario contable'!E143=\"Gastos por salarios\",'Diario contable'!I143,0))","v":0},{"$f":"IF('Diario contable'!C143=\"Gastos por salarios\",'Diario contable'!H143,IF('Diario contable'!E143=\"Gastos por salarios\",'Diario contable'!H143,0))","v":"00:00:00"},null,null,{"$f":"+IF('Diario contable'!C143=\"Gastos operacionales\",'Diario contable'!F143,0)","v":0},null,null,null,{"$f":"+IF('Diario contable'!E143=\"Gastos operacionales\",'Diario contable'!F143,0)","v":0},{"$f":"IF('Diario contable'!C143=\"Gastos operacionales\",'Diario contable'!I143,IF('Diario contable'!E143=\"Gastos operacionales\",'Diario contable'!I143,0))","v":0},{"$f":"IF('Diario contable'!C143=\"Gastos operacionales\",'Diario contable'!H143,IF('Diario contable'!E143=\"Gastos operacionales\",'Diario contable'!H143,0))","v":"00:00:00"},null,null,{"$f":"+IF('Diario contable'!C143=\"Suministros de oficina\",'Diario contable'!F143,0)","v":0},null,null,null,{"$f":"+IF('Diario contable'!E143=\"Suministros de oficina\",'Diario contable'!F143,0)","v":0},{"$f":"IF('Diario contable'!C143=\"Suministros de oficina\",'Diario contable'!I143,IF('Diario contable'!E143=\"Suministros de oficina\",'Diario contable'!I143,0))","v":0},{"$f":"IF('Diario contable'!C143=\"Suministros de oficina\",'Diario contable'!H143,IF('Diario contable'!E143=\"Suministros de oficina\",'Diario contable'!H143,0))","v":"00:00:00"},null,null,{"$f":"+IF('Diario contable'!C143=\"Capital social\",'Diario contable'!F143,0)","v":0},null,null,null,{"$f":"+IF('Diario contable'!E143=\"Capital social\",'Diario contable'!F143,0)","v":0},{"$f":"IF('Diario contable'!C143=\"Capital social\",'Diario contable'!I143,IF('Diario contable'!E143=\"Capital social\",'Diario contable'!I143,0))","v":0},{"$f":"IF('Diario contable'!C143=\"Capital social\",'Diario contable'!H143,IF('Diario contable'!E143=\"Capital social\",'Diario contable'!H143,0))","v":"00:00:00"},null,null,{"$f":"+IF('Diario contable'!C143=\"Gastos de mercadeo\",'Diario contable'!F143,0)","v":0},null,null,null,{"$f":"+IF('Diario contable'!E143=\"Gastos de mercadeo\",'Diario contable'!F143,0)","v":0},{"$f":"IF('Diario contable'!C143=\"Gastos de mercadeo\",'Diario contable'!I143,IF('Diario contable'!E143=\"Gastos de mercadeo\",'Diario contable'!I143,0))","v":0},{"$f":"IF('Diario contable'!C143=\"Gastos de mercadeo\",'Diario contable'!H143,IF('Diario contable'!E143=\"Gastos de mercadeo\",'Diario contable'!H143,0))","v":"00:00:00"},null,null,{"$f":"+IF('Diario contable'!C143=\"Gastos de suministros de oficina\",'Diario contable'!F143,0)","v":0},null,null,null,{"$f":"+IF('Diario contable'!E143=\"Gastos de suministros de oficina\",'Diario contable'!F143,0)","v":0},{"$f":"IF('Diario contable'!C143=\"Gastos de suministros de oficina\",'Diario contable'!I143,IF('Diario contable'!E143=\"Gastos de suministros de oficina\",'Diario contable'!I143,0))","v":0},{"$f":"IF('Diario contable'!C143=\"Gastos de suministros de oficina\",'Diario contable'!H143,IF('Diario contable'!E143=\"Gastos de suministros de oficina\",'Diario contable'!H143,0))","v":"00:00:00"}]
[null,null,{"$f":"+IF('Diario contable'!C144=\"Caja\",'Diario contable'!F144,0)","v":0},null,null,null,{"$f":"+IF('Diario contable'!E144=\"Caja\",'Diario contable'!F144,0)","v":0},{"$f":"IF('Diario contable'!C144=\"Caja\",'Diario contable'!I144,IF('Diario contable'!E144=\"Caja\",'Diario contable'!I144,0))","v":0},{"$f":"IF('Diario contable'!C144=\"Caja\",'Diario contable'!H144,IF('Diario contable'!E144=\"Caja\",'Diario contable'!H144,0))","v":"00:00:00"},null,null,{"$f":"+IF('Diario contable'!C144=\"Maquinaria\",'Diario contable'!F144,0)","v":0},null,null,null,{"$f":"+IF('Diario contable'!E144=\"Maquinaria\",'Diario contable'!F144,0)","v":0},{"$f":"IF('Diario contable'!C144=\"Maquinaria\",'Diario contable'!I144,IF('Diario contable'!E144=\"Maquinaria\",'Diario contable'!I144,0))","v":0},{"$f":"IF('Diario contable'!C144=\"Maquinaria\",'Diario contable'!H144,IF('Diario contable'!E144=\"Maquinaria\",'Diario contable'!H144,0))","v":"00:00:00"},null,null,{"$f":"+IF('Diario contable'!C144=\"Herramientas\",'Diario contable'!F144,0)","v":0},null,null,null,{"$f":"+IF('Diario contable'!E144=\"Herramientas\",'Diario contable'!F144,0)","v":0},{"$f":"IF('Diario contable'!C144=\"Herramientas\",'Diario contable'!I144,IF('Diario contable'!E144=\"Herramientas\",'Diario contable'!I144,0))","v":0},{"$f":"IF('Diario contable'!C144=\"Herramientas\",'Diario contable'!H144,IF('Diario contable'!E144=\"Herramientas\",'Diario contable'!H144,0))","v":"00:00:00"},null,null,{"$f":"+IF('Diario contable'!C144=\"Donaciones\",'Diario contable'!F144,0)","v":0},null,null,null,{"$f":"+IF('Diario contable'!E144=\"Donaciones\",'Diario contable'!F144,0)","v":0},{"$f":"IF('Diario contable'!C144=\"Donaciones\",'Diario contable'!I144,IF('Diario contable'!E144=\"Donaciones\",'Diario contable'!I144,0))","v":0},{"$f":"IF('Diario contable'!C144=\"Donaciones\",'Diario contable'!H144,IF('Diario contable'!E144=\"Donaciones\",'Diario contable'!H144,0))","v":"00:00:00"},null,null,{"$f":"+IF('Diario contable'!C144=\"Inventario\",'Diario contable'!F144,0)","v":0},null,null,null,{"$f":"+IF('Diario contable'!E144=\"Inventario\",'Diario contable'!F144,0)","v":0},{"$f":"IF('Diario contable'!C144=\"Inventario\",'Diario contable'!I144,IF('Diario contable'!E144=\"Inventario\",'Diario contable'!I144,0))","v":0},{"$f":"IF('Diario contable'!C144=\"Inventario\",'Diario contable'!H144,IF('Diario contable'!E144=\"Inventario\",'Diario contable'!H144,0))","v":"00:00:00"},null,null,{"$f":"+IF('Diario contable'!C144=\"Costo de ventas\",'Diario contable'!F144,0)","v":0},null,null,null,{"$f":"+IF('Diario contable'!E144=\"Costo de ventas\",'Diario contable'!F144,0)","v":0},{"$f":"IF('Diario contable'!C144=\"Costo de ventas\",'Diario contable'!I144,IF('Diario contable'!E144=\"Costo de ventas\",'Diario contable'!I144,0))","v":0},{"$f":"IF('Diario contable'!C144=\"Costo de ventas\",'Diario contable'!H144,IF('Diario contable'!E144=\"Costo de ventas\",'Diario contable'!H144,0))","v":"00:00:00"},null,null,{"$f":"+IF('Diario contable'!C144=\"Ventas\",'Diario contable'!F144,0)","v":0},null,null,null,{"$f":"+IF('Diario contable'!E144=\"Ventas\",'Diario contable'!F144,0)","v":0},{"$f":"IF('Diario contable'!C144=\"Ventas\",'Diario contable'!I144,IF('Diario contable'!E144=\"Ventas\",'Diario contable'!I144,0))","v":0},{"$f":"IF('Diario contable'!C144=\"Ventas\",'Diario contable'!H144,IF('Diario contable'!E144=\"Ventas\",'Diario contable'!H144,0))","v":"00:00:00"},null,null,{"$f":"+IF('Diario contable'!C144=\"Gastos por salarios\",'Diario contable'!F144,0)","v":0},null,null,null,{"$f":"+IF('Diario contable'!E144=\"Gastos por salarios\",'Diario contable'!F144,0)","v":0},{"$f":"IF('Diario contable'!C144=\"Gastos por salarios\",'Diario contable'!I144,IF('Diario contable'!E144=\"Gastos por salarios\",'Diario contable'!I144,0))","v":0},{"$f":"IF('Diario contable'!C144=\"Gastos por salarios\",'Diario contable'!H144,IF('Diario contable'!E144=\"Gastos por salarios\",'Diario contable'!H144,0))","v":"00:00:00"},null,null,{"$f":"+IF('Diario contable'!C144=\"Gastos operacionales\",'Diario contable'!F144,0)","v":0},null,null,null,{"$f":"+IF('Diario contable'!E144=\"Gastos operacionales\",'Diario contable'!F144,0)","v":0},{"$f":"IF('Diario contable'!C144=\"Gastos operacionales\",'Diario contable'!I144,IF('Diario contable'!E144=\"Gastos operacionales\",'Diario contable'!I144,0))","v":0},{"$f":"IF('Diario contable'!C144=\"Gastos operacionales\",'Diario contable'!H144,IF('Diario contable'!E144=\"Gastos operacionales\",'Diario contable'!H144,0))","v":"00:00:00"},null,null,{"$f":"+IF('Diario contable'!C144=\"Suministros de oficina\",'Diario contable'!F144,0)","v":0},null,null,null,{"$f":"+IF('Diario contable'!E144=\"Suministros de oficina\",'Diario contable'!F144,0)","v":0},{"$f":"IF('Diario contable'!C144=\"Suministros de oficina\",'Diario contable'!I144,IF('Diario contable'!E144=\"Suministros de oficina\",'Diario contable'!I144,0))","v":0},{"$f":"IF('Diario contable'!C144=\"Suministros de oficina\",'Diario contable'!H144,IF('Diario contable'!E144=\"Suministros de oficina\",'Diario contable'!H144,0))","v":"00:00:00"},null,null,{"$f":"+IF('Diario contable'!C144=\"Capital social\",'Diario contable'!F144,0)","v":0},null,null,null,{"$f":"+IF('Diario contable'!E144=\"Capital social\",'Diario contable'!F144,0)","v":0},{"$f":"IF('Diario contable'!C144=\"Capital social\",'Diario contable'!I144,IF('Diario contable'!E144=\"Capital social\",'Diario contable'!I144,0))","v":0},{"$f":"IF('Diario contable'!C144=\"Capital social\",'Diario contable'!H144,IF('Diario contable'!E144=\"Capital social\",'Diario contable'!H144,0))","v":"00:00:00"},null,null,{"$f":"+IF('Diario contable'!C144=\"Gastos de mercadeo\",'Diario contable'!F144,0)","v":0},null,null,null,{"$f":"+IF('Diario contable'!E144=\"Gastos de mercadeo\",'Diario contable'!F144,0)","v":0},{"$f":"IF('Diario contable'!C144=\"Gastos de mercadeo\",'Diario contable'!I144,IF('Diario contable'!E144=\"Gastos de mercadeo\",'Diario contable'!I144,0))","v":0},{"$f":"IF('Diario contable'!C144=\"Gastos de mercadeo\",'Diario contable'!H144,IF('Diario contable'!E144=\"Gastos de mercadeo\",'Diario contable'!H144,0))","v":"00:00:00"},null,null,{"$f":"+IF('Diario contable'!C144=\"Gastos de suministros de oficina\",'Diario contable'!F144,0)","v":0},null,null,null,{"$f":"+IF('Diario contable'!E144=\"Gastos de suministros de oficina\",'Diario contable'!F144,0)","v":0},{"$f":"IF('Diario contable'!C144=\"Gastos de suministros de oficina\",'Diario contable'!I144,IF('Diario contable'!E144=\"Gastos de suministros de oficina\",'Diario contable'!I144,0))","v":0},{"$f":"IF('Diario contable'!C144=\"Gastos de suministros de oficina\",'Diario contable'!H144,IF('Diario contable'!E144=\"Gastos de suministros de oficina\",'Diario contable'!H144,0))","v":"00:00:00"}]
[null,null,{"$f":"+IF('Diario contable'!C145=\"Caja\",'Diario contable'!F145,0)","v":0},null,null,null,{"$f":"+IF('Diario contable'!E145=\"Caja\",'Diario contable'!F145,0)","v":0},{"$f":"IF('Diario contable'!C145=\"Caja\",'Diario contable'!I145,IF('Diario contable'!E145=\"Caja\",'Diario contable'!I145,0))","v":0},{"$f":"IF('Diario contable'!C145=\"Caja\",'Diario contable'!H145,IF('Diario contable'!E145=\"Caja\",'Diario contable'!H145,0))","v":"00:00:00"},null,null,{"$f":"+IF('Diario contable'!C145=\"Maquinaria\",'Diario contable'!F145,0)","v":0},null,null,null,{"$f":"+IF('Diario contable'!E145=\"Maquinaria\",'Diario contable'!F145,0)","v":0},{"$f":"IF('Diario contable'!C145=\"Maquinaria\",'Diario contable'!I145,IF('Diario contable'!E145=\"Maquinaria\",'Diario contable'!I145,0))","v":0},{"$f":"IF('Diario contable'!C145=\"Maquinaria\",'Diario contable'!H145,IF('Diario contable'!E145=\"Maquinaria\",'Diario contable'!H145,0))","v":"00:00:00"},null,null,{"$f":"+IF('Diario contable'!C145=\"Herramientas\",'Diario contable'!F145,0)","v":0},null,null,null,{"$f":"+IF('Diario contable'!E145=\"Herramientas\",'Diario contable'!F145,0)","v":0},{"$f":"IF('Diario contable'!C145=\"Herramientas\",'Diario contable'!I145,IF('Diario contable'!E145=\"Herramientas\",'Diario contable'!I145,0))","v":0},{"$f":"IF('Diario contable'!C145=\"Herramientas\",'Diario contable'!H145,IF('Diario contable'!E145=\"Herramientas\",'Diario contable'!H145,0))","v":"00:00:00"},null,null,{"$f":"+IF('Diario contable'!C145=\"Donaciones\",'Diario contable'!F145,0)","v":0},null,null,null,{"$f":"+IF('Diario contable'!E145=\"Donaciones\",'Diario contable'!F145,0)","v":0},{"$f":"IF('Diario contable'!C145=\"Donaciones\",'Diario contable'!I145,IF('Diario contable'!E145=\"Donaciones\",'Diario contable'!I145,0))","v":0},{"$f":"IF('Diario contable'!C145=\"Donaciones\",'Diario contable'!H145,IF('Diario contable'!E145=\"Donaciones\",'Diario contable'!H145,0))","v":"00:00:00"},null,null,{"$f":"+IF('Diario contable'!C145=\"Inventario\",'Diario contable'!F145,0)","v":0},null,null,null,{"$f":"+IF('Diario contable'!E145=\"Inventario\",'Diario contable'!F145,0)","v":0},{"$f":"IF('Diario contable'!C145=\"Inventario\",'Diario contable'!I145,IF('Diario contable'!E145=\"Inventario\",'Diario contable'!I145,0))","v":0},{"$f":"IF('Diario contable'!C145=\"Inventario\",'Diario contable'!H145,IF('Diario contable'!E145=\"Inventario\",'Diario contable'!H145,0))","v":"00:00:00"},null,null,{"$f":"+IF('Diario contable'!C145=\"Costo de ventas\",'Diario contable'!F145,0)","v":0},null,null,null,{"$f":"+IF('Diario contable'!E145=\"Costo de ventas\",'Diario contable'!F145,0)","v":0},{"$f":"IF('Diario contable'!C145=\"Costo de ventas\",'Diario contable'!I145,IF('Diario contable'!E145=\"Costo de ventas\",'Diario contable'!I145,0))","v":0},{"$f":"IF('Diario contable'!C145=\"Costo de ventas\",'Diario contable'!H145,IF('Diario contable'!E145=\"Costo de ventas\",'Diario contable'!H145,0))","v":"00:00:00"},null,null,{"$f":"+IF('Diario contable'!C145=\"Ventas\",'Diario contable'!F145,0)","v":0},null,null,null,{"$f":"+IF('Diario contable'!E145=\"Ventas\",'Diario contable'!F145,0)","v":0},{"$f":"IF('Diario contable'!C145=\"Ventas\",'Diario contable'!I145,IF('Diario contable'!E145=\"Ventas\",'Diario contable'!I145,0))","v":0},{"$f":"IF('Diario contable'!C145=\"Ventas\",'Diario contable'!H145,IF('Diario contable'!E145=\"Ventas\",'Diario contable'!H145,0))","v":"00:00:00"},null,null,{"$f":"+IF('Diario contable'!C145=\"Gastos por salarios\",'Diario contable'!F145,0)","v":0},null,null,null,{"$f":"+IF('Diario contable'!E145=\"Gastos por salarios\",'Diario contable'!F145,0)","v":0},{"$f":"IF('Diario contable'!C145=\"Gastos por salarios\",'Diario contable'!I145,IF('Diario contable'!E145=\"Gastos por salarios\",'Diario contable'!I145,0))","v":0},{"$f":"IF('Diario contable'!C145=\"Gastos por salarios\",'Diario contable'!H145,IF('Diario contable'!E145=\"Gastos por salarios\",'Diario contable'!H145,0))","v":"00:00:00"},null,null,{"$f":"+IF('Diario contable'!C145=\"Gastos operacionales\",'Diario contable'!F145,0)","v":0},null,null,null,{"$f":"+IF('Diario contable'!E145=\"Gastos operacionales\",'Diario contable'!F145,0)","v":0},{"$f":"IF('Diario contable'!C145=\"Gastos operacionales\",'Diario contable'!I145,IF('Diario contable'!E145=\"Gastos operacionales\",'Diario contable'!I145,0))","v":0},{"$f":"IF('Diario contable'!C145=\"Gastos operacionales\",'Diario contable'!H145,IF('Diario contable'!E145=\"Gastos operacionales\",'Diario contable'!H145,0))","v":"00:00:00"},null,null,{"$f":"+IF('Diario contable'!C145=\"Suministros de oficina\",'Diario contable'!F145,0)","v":0},null,null,null,{"$f":"+IF('Diario contable'!E145=\"Suministros de oficina\",'Diario contable'!F145,0)","v":0},{"$f":"IF('Diario contable'!C145=\"Suministros de oficina\",'Diario contable'!I145,IF('Diario contable'!E145=\"Suministros de oficina\",'Diario contable'!I145,0))","v":0},{"$f":"IF('Diario contable'!C145=\"Suministros de oficina\",'Diario contable'!H145,IF('Diario contable'!E145=\"Suministros de oficina\",'Diario contable'!H145,0))","v":"00:00:00"},null,null,{"$f":"+IF('Diario contable'!C145=\"Capital social\",'Diario contable'!F145,0)","v":0},null,null,null,{"$f":"+IF('Diario contable'!E145=\"Capital social\",'Diario contable'!F145,0)","v":0},{"$f":"IF('Diario contable'!C145=\"Capital social\",'Diario contable'!I145,IF('Diario contable'!E145=\"Capital social\",'Diario contable'!I145,0))","v":0},{"$f":"IF('Diario contable'!C145=\"Capital social\",'Diario contable'!H145,IF('Diario contable'!E145=\"Capital social\",'Diario contable'!H145,0))","v":"00:00:00"},null,null,{"$f":"+IF('Diario contable'!C145=\"Gastos de mercadeo\",'Diario contable'!F145,0)","v":0},null,null,null,{"$f":"+IF('Diario contable'!E145=\"Gastos de mercadeo\",'Diario contable'!F145,0)","v":0},{"$f":"IF('Diario contable'!C145=\"Gastos de mercadeo\",'Diario contable'!I145,IF('Diario contable'!E145=\"Gastos de mercadeo\",'Diario contable'!I145,0))","v":0},{"$f":"IF('Diario contable'!C145=\"Gastos de mercadeo\",'Diario contable'!H145,IF('Diario contable'!E145=\"Gastos de mercadeo\",'Diario contable'!H145,0))","v":"00:00:00"},null,null,{"$f":"+IF('Diario contable'!C145=\"Gastos de suministros de oficina\",'Diario contable'!F145,0)","v":0},null,null,null,{"$f":"+IF('Diario contable'!E145=\"Gastos de suministros de oficina\",'Diario contable'!F145,0)","v":0},{"$f":"IF('Diario contable'!C145=\"Gastos de suministros de oficina\",'Diario contable'!I145,IF('Diario contable'!E145=\"Gastos de suministros de oficina\",'Diario contable'!I145,0))","v":0},{"$f":"IF('Diario contable'!C145=\"Gastos de suministros de oficina\",'Diario contable'!H145,IF('Diario contable'!E145=\"Gastos de suministros de oficina\",'Diario contable'!H145,0))","v":"00:00:00"}]
[null,null,{"$f":"+IF('Diario contable'!C146=\"Caja\",'Diario contable'!F146,0)","v":0},null,null,null,{"$f":"+IF('Diario contable'!E146=\"Caja\",'Diario contable'!F146,0)","v":0},{"$f":"IF('Diario contable'!C146=\"Caja\",'Diario contable'!I146,IF('Diario contable'!E146=\"Caja\",'Diario contable'!I146,0))","v":0},{"$f":"IF('Diario contable'!C146=\"Caja\",'Diario contable'!H146,IF('Diario contable'!E146=\"Caja\",'Diario contable'!H146,0))","v":"00:00:00"},null,null,{"$f":"+IF('Diario contable'!C146=\"Maquinaria\",'Diario contable'!F146,0)","v":0},null,null,null,{"$f":"+IF('Diario contable'!E146=\"Maquinaria\",'Diario contable'!F146,0)","v":0},{"$f":"IF('Diario contable'!C146=\"Maquinaria\",'Diario contable'!I146,IF('Diario contable'!E146=\"Maquinaria\",'Diario contable'!I146,0))","v":0},{"$f":"IF('Diario contable'!C146=\"Maquinaria\",'Diario contable'!H146,IF('Diario contable'!E146=\"Maquinaria\",'Diario contable'!H146,0))","v":"00:00:00"},null,null,{"$f":"+IF('Diario contable'!C146=\"Herramientas\",'Diario contable'!F146,0)","v":0},null,null,null,{"$f":"+IF('Diario contable'!E146=\"Herramientas\",'Diario contable'!F146,0)","v":0},{"$f":"IF('Diario contable'!C146=\"Herramientas\",'Diario contable'!I146,IF('Diario contable'!E146=\"Herramientas\",'Diario contable'!I146,0))","v":0},{"$f":"IF('Diario contable'!C146=\"Herramientas\",'Diario contable'!H146,IF('Diario contable'!E146=\"Herramientas\",'Diario contable'!H146,0))","v":"00:00:00"},null,null,{"$f":"+IF('Diario contable'!C146=\"Donaciones\",'Diario contable'!F146,0)","v":0},null,null,null,{"$f":"+IF('Diario contable'!E146=\"Donaciones\",'Diario contable'!F146,0)","v":0},{"$f":"IF('Diario contable'!C146=\"Donaciones\",'Diario contable'!I146,IF('Diario contable'!E146=\"Donaciones\",'Diario contable'!I146,0))","v":0},{"$f":"IF('Diario contable'!C146=\"Donaciones\",'Diario contable'!H146,IF('Diario contable'!E146=\"Donaciones\",'Diario contable'!H146,0))","v":"00:00:00"},null,null,{"$f":"+IF('Diario contable'!C146=\"Inventario\",'Diario contable'!F146,0)","v":0},null,null,null,{"$f":"+IF('Diario contable'!E146=\"Inventario\",'Diario contable'!F146,0)","v":0},{"$f":"IF('Diario contable'!C146=\"Inventario\",'Diario contable'!I146,IF('Diario contable'!E146=\"Inventario\",'Diario contable'!I146,0))","v":0},{"$f":"IF('Diario contable'!C146=\"Inventario\",'Diario contable'!H146,IF('Diario contable'!E146=\"Inventario\",'Diario contable'!H146,0))","v":"00:00:00"},null,null,{"$f":"+IF('Diario contable'!C146=\"Costo de ventas\",'Diario contable'!F146,0)","v":0},null,null,null,{"$f":"+IF('Diario contable'!E146=\"Costo de ventas\",'Diario contable'!F146,0)","v":0},{"$f":"IF('Diario contable'!C146=\"Costo de ventas\",'Diario contable'!I146,IF('Diario contable'!E146=\"Costo de ventas\",'Diario contable'!I146,0))","v":0},{"$f":"IF('Diario contable'!C146=\"Costo de ventas\",'Diario contable'!H146,IF('Diario contable'!E146=\"Costo de ventas\",'Diario contable'!H146,0))","v":"00:00:00"},null,null,{"$f":"+IF('Diario contable'!C146=\"Ventas\",'Diario contable'!F146,0)","v":0},null,null,null,{"$f":"+IF('Diario contable'!E146=\"Ventas\",'Diario contable'!F146,0)","v":0},{"$f":"IF('Diario contable'!C146=\"Ventas\",'Diario contable'!I146,IF('Diario contable'!E146=\"Ventas\",'Diario contable'!I146,0))","v":0},{"$f":"IF('Diario contable'!C146=\"Ventas\",'Diario contable'!H146,IF('Diario contable'!E146=\"Ventas\",'Diario contable'!H146,0))","v":"00:00:00"},null,null,{"$f":"+IF('Diario contable'!C146=\"Gastos por salarios\",'Diario contable'!F146,0)","v":0},null,null,null,{"$f":"+IF('Diario contable'!E146=\"Gastos por salarios\",'Diario contable'!F146,0)","v":0},{"$f":"IF('Diario contable'!C146=\"Gastos por salarios\",'Diario contable'!I146,IF('Diario contable'!E146=\"Gastos por salarios\",'Diario contable'!I146,0))","v":0},{"$f":"IF('Diario contable'!C146=\"Gastos por salarios\",'Diario contable'!H146,IF('Diario contable'!E146=\"Gastos por salarios\",'Diario contable'!H146,0))","v":"00:00:00"},null,null,{"$f":"+IF('Diario contable'!C146=\"Gastos operacionales\",'Diario contable'!F146,0)","v":0},null,null,null,{"$f":"+IF('Diario contable'!E146=\"Gastos operacionales\",'Diario contable'!F146,0)","v":0},{"$f":"IF('Diario contable'!C146=\"Gastos operacionales\",'Diario contable'!I146,IF('Diario contable'!E146=\"Gastos operacionales\",'Diario contable'!I146,0))","v":0},{"$f":"IF('Diario contable'!C146=\"Gastos operacionales\",'Diario contable'!H146,IF('Diario contable'!E146=\"Gastos operacionales\",'Diario contable'!H146,0))","v":"00:00:00"},null,null,{"$f":"+IF('Diario contable'!C146=\"Suministros de oficina\",'Diario contable'!F146,0)","v":0},null,null,null,{"$f":"+IF('Diario contable'!E146=\"Suministros de oficina\",'Diario contable'!F146,0)","v":0},{"$f":"IF('Diario contable'!C146=\"Suministros de oficina\",'Diario contable'!I146,IF('Diario contable'!E146=\"Suministros de oficina\",'Diario contable'!I146,0))","v":0},{"$f":"IF('Diario contable'!C146=\"Suministros de oficina\",'Diario contable'!H146,IF('Diario contable'!E146=\"Suministros de oficina\",'Diario contable'!H146,0))","v":"00:00:00"},null,null,{"$f":"+IF('Diario contable'!C146=\"Capital social\",'Diario contable'!F146,0)","v":0},null,null,null,{"$f":"+IF('Diario contable'!E146=\"Capital social\",'Diario contable'!F146,0)","v":0},{"$f":"IF('Diario contable'!C146=\"Capital social\",'Diario contable'!I146,IF('Diario contable'!E146=\"Capital social\",'Diario contable'!I146,0))","v":0},{"$f":"IF('Diario contable'!C146=\"Capital social\",'Diario contable'!H146,IF('Diario contable'!E146=\"Capital social\",'Diario contable'!H146,0))","v":"00:00:00"},null,null,{"$f":"+IF('Diario contable'!C146=\"Gastos de mercadeo\",'Diario contable'!F146,0)","v":0},null,null,null,{"$f":"+IF('Diario contable'!E146=\"Gastos de mercadeo\",'Diario contable'!F146,0)","v":0},{"$f":"IF('Diario contable'!C146=\"Gastos de mercadeo\",'Diario contable'!I146,IF('Diario contable'!E146=\"Gastos de mercadeo\",'Diario contable'!I146,0))","v":0},{"$f":"IF('Diario contable'!C146=\"Gastos de mercadeo\",'Diario contable'!H146,IF('Diario contable'!E146=\"Gastos de mercadeo\",'Diario contable'!H146,0))","v":"00:00:00"},null,null,{"$f":"+IF('Diario contable'!C146=\"Gastos de suministros de oficina\",'Diario contable'!F146,0)","v":0},null,null,null,{"$f":"+IF('Diario contable'!E146=\"Gastos de suministros de oficina\",'Diario contable'!F146,0)","v":0},{"$f":"IF('Diario contable'!C146=\"Gastos de suministros de oficina\",'Diario contable'!I146,IF('Diario contable'!E146=\"Gastos de suministros de oficina\",'Diario contable'!I146,0))","v":0},{"$f":"IF('Diario contable'!C146=\"Gastos de suministros de oficina\",'Diario contable'!H146,IF('Diario contable'!E146=\"Gastos de suministros de oficina\",'Diario contable'!H146,0))","v":"00:00:00"}]
[null,null,{"$f":"+IF('Diario contable'!C147=\"Caja\",'Diario contable'!F147,0)","v":0},null,null,null,{"$f":"+IF('Diario contable'!E147=\"Caja\",'Diario contable'!F147,0)","v":0},{"$f":"IF('Diario contable'!C147=\"Caja\",'Diario contable'!I147,IF('Diario contable'!E147=\"Caja\",'Diario contable'!I147,0))","v":0},{"$f":"IF('Diario contable'!C147=\"Caja\",'Diario contable'!H147,IF('Diario contable'!E147=\"Caja\",'Diario contable'!H147,0))","v":"00:00:00"},null,null,{"$f":"+IF('Diario contable'!C147=\"Maquinaria\",'Diario contable'!F147,0)","v":0},null,null,null,{"$f":"+IF('Diario contable'!E147=\"Maquinaria\",'Diario contable'!F147,0)","v":0},{"$f":"IF('Diario contable'!C147=\"Maquinaria\",'Diario contable'!I147,IF('Diario contable'!E147=\"Maquinaria\",'Diario contable'!I147,0))","v":0},{"$f":"IF('Diario contable'!C147=\"Maquinaria\",'Diario contable'!H147,IF('Diario contable'!E147=\"Maquinaria\",'Diario contable'!H147,0))","v":"00:00:00"},null,null,{"$f":"+IF('Diario contable'!C147=\"Herramientas\",'Diario contable'!F147,0)","v":0},null,null,null,{"$f":"+IF('Diario contable'!E147=\"Herramientas\",'Diario contable'!F147,0)","v":0},{"$f":"IF('Diario contable'!C147=\"Herramientas\",'Diario contable'!I147,IF('Diario contable'!E147=\"Herramientas\",'Diario contable'!I147,0))","v":0},{"$f":"IF('Diario contable'!C147=\"Herramientas\",'Diario contable'!H147,IF('Diario contable'!E147=\"Herramientas\",'Diario contable'!H147,0))","v":"00:00:00"},null,null,{"$f":"+IF('Diario contable'!C147=\"Donaciones\",'Diario contable'!F147,0)","v":0},null,null,null,{"$f":"+IF('Diario contable'!E147=\"Donaciones\",'Diario contable'!F147,0)","v":0},{"$f":"IF('Diario contable'!C147=\"Donaciones\",'Diario contable'!I147,IF('Diario contable'!E147=\"Donaciones\",'Diario contable'!I147,0))","v":0},{"$f":"IF('Diario contable'!C147=\"Donaciones\",'Diario contable'!H147,IF('Diario contable'!E147=\"Donaciones\",'Diario contable'!H147,0))","v":"00:00:00"},null,null,{"$f":"+IF('Diario contable'!C147=\"Inventario\",'Diario contable'!F147,0)","v":0},null,null,null,{"$f":"+IF('Diario contable'!E147=\"Inventario\",'Diario contable'!F147,0)","v":0},{"$f":"IF('Diario contable'!C147=\"Inventario\",'Diario contable'!I147,IF('Diario contable'!E147=\"Inventario\",'Diario contable'!I147,0))","v":0},{"$f":"IF('Diario contable'!C147=\"Inventario\",'Diario contable'!H147,IF('Diario contable'!E147=\"Inventario\",'Diario contable'!H147,0))","v":"00:00:00"},null,null,{"$f":"+IF('Diario contable'!C147=\"Costo de ventas\",'Diario contable'!F147,0)","v":0},null,null,null,{"$f":"+IF('Diario contable'!E147=\"Costo de ventas\",'Diario contable'!F147,0)","v":0},{"$f":"IF('Diario contable'!C147=\"Costo de ventas\",'Diario contable'!I147,IF('Diario contable'!E147=\"Costo de ventas\",'Diario contable'!I147,0))","v":0},{"$f":"IF('Diario contable'!C147=\"Costo de ventas\",'Diario contable'!H147,IF('Diario contable'!E147=\"Costo de ventas\",'Diario contable'!H147,0))","v":"00:00:00"},null,null,{"$f":"+IF('Diario contable'!C147=\"Ventas\",'Diario contable'!F147,0)","v":0},null,null,null,{"$f":"+IF('Diario contable'!E147=\"Ventas\",'Diario contable'!F147,0)","v":0},{"$f":"IF('Diario contable'!C147=\"Ventas\",'Diario contable'!I147,IF('Diario contable'!E147=\"Ventas\",'Diario contable'!I147,0))","v":0},{"$f":"IF('Diario contable'!C147=\"Ventas\",'Diario contable'!H147,IF('Diario contable'!E147=\"Ventas\",'Diario contable'!H147,0))","v":"00:00:00"},null,null,{"$f":"+IF('Diario contable'!C147=\"Gastos por salarios\",'Diario contable'!F147,0)","v":0},null,null,null,{"$f":"+IF('Diario contable'!E147=\"Gastos por salarios\",'Diario contable'!F147,0)","v":0},{"$f":"IF('Diario contable'!C147=\"Gastos por salarios\",'Diario contable'!I147,IF('Diario contable'!E147=\"Gastos por salarios\",'Diario contable'!I147,0))","v":0},{"$f":"IF('Diario contable'!C147=\"Gastos por salarios\",'Diario contable'!H147,IF('Diario contable'!E147=\"Gastos por salarios\",'Diario contable'!H147,0))","v":"00:00:00"},null,null,{"$f":"+IF('Diario contable'!C147=\"Gastos operacionales\",'Diario contable'!F147,0)","v":0},null,null,null,{"$f":"+IF('Diario contable'!E147=\"Gastos operacionales\",'Diario contable'!F147,0)","v":0},{"$f":"IF('Diario contable'!C147=\"Gastos operacionales\",'Diario contable'!I147,IF('Diario contable'!E147=\"Gastos operacionales\",'Diario contable'!I147,0))","v":0},{"$f":"IF('Diario contable'!C147=\"Gastos operacionales\",'Diario contable'!H147,IF('Diario contable'!E147=\"Gastos operacionales\",'Diario contable'!H147,0))","v":"00:00:00"},null,null,{"$f":"+IF('Diario contable'!C147=\"Suministros de oficina\",'Diario contable'!F147,0)","v":0},null,null,null,{"$f":"+IF('Diario contable'!E147=\"Suministros de oficina\",'Diario contable'!F147,0)","v":0},{"$f":"IF('Diario contable'!C147=\"Suministros de oficina\",'Diario contable'!I147,IF('Diario contable'!E147=\"Suministros de oficina\",'Diario contable'!I147,0))","v":0},{"$f":"IF('Diario contable'!C147=\"Suministros de oficina\",'Diario contable'!H147,IF('Diario contable'!E147=\"Suministros de oficina\",'Diario contable'!H147,0))","v":"00:00:00"},null,null,{"$f":"+IF('Diario contable'!C147=\"Capital social\",'Diario contable'!F147,0)","v":0},null,null,null,{"$f":"+IF('Diario contable'!E147=\"Capital social\",'Diario contable'!F147,0)","v":0},{"$f":"IF('Diario contable'!C147=\"Capital social\",'Diario contable'!I147,IF('Diario contable'!E147=\"Capital social\",'Diario contable'!I147,0))","v":0},{"$f":"IF('Diario contable'!C147=\"Capital social\",'Diario contable'!H147,IF('Diario contable'!E147=\"Capital social\",'Diario contable'!H147,0))","v":"00:00:00"},null,null,{"$f":"+IF('Diario contable'!C147=\"Gastos de mercadeo\",'Diario contable'!F147,0)","v":0},null,null,null,{"$f":"+IF('Diario contable'!E147=\"Gastos de mercadeo\",'Diario contable'!F147,0)","v":0},{"$f":"IF('Diario contable'!C147=\"Gastos de mercadeo\",'Diario contable'!I147,IF('Diario contable'!E147=\"Gastos de mercadeo\",'Diario contable'!I147,0))","v":0},{"$f":"IF('Diario contable'!C147=\"Gastos de mercadeo\",'Diario contable'!H147,IF('Diario contable'!E147=\"Gastos de mercadeo\",'Diario contable'!H147,0))","v":"00:00:00"},null,null,{"$f":"+IF('Diario contable'!C147=\"Gastos de suministros de oficina\",'Diario contable'!F147,0)","v":0},null,null,null,{"$f":"+IF('Diario contable'!E147=\"Gastos de suministros de oficina\",'Diario contable'!F147,0)","v":0},{"$f":"IF('Diario contable'!C147=\"Gastos de suministros de oficina\",'Diario contable'!I147,IF('Diario contable'!E147=\"Gastos de suministros de oficina\",'Diario contable'!I147,0))","v":0},{"$f":"IF('Diario contable'!C147=\"Gastos de suministros de oficina\",'Diario contable'!H147,IF('Diario contable'!E147=\"Gastos de suministros de oficina\",'Diario contable'!H147,0))","v":"00:00:00"}]
[null,null,{"$f":"+IF('Diario contable'!C148=\"Caja\",'Diario contable'!F148,0)","v":0},null,null,null,{"$f":"+IF('Diario contable'!E148=\"Caja\",'Diario contable'!F148,0)","v":0},{"$f":"IF('Diario contable'!C148=\"Caja\",'Diario contable'!I148,IF('Diario contable'!E148=\"Caja\",'Diario contable'!I148,0))","v":0},{"$f":"IF('Diario contable'!C148=\"Caja\",'Diario contable'!H148,IF('Diario contable'!E148=\"Caja\",'Diario contable'!H148,0))","v":"00:00:00"},null,null,{"$f":"+IF('Diario contable'!C148=\"Maquinaria\",'Diario contable'!F148,0)","v":0},null,null,null,{"$f":"+IF('Diario contable'!E148=\"Maquinaria\",'Diario contable'!F148,0)","v":0},{"$f":"IF('Diario contable'!C148=\"Maquinaria\",'Diario contable'!I148,IF('Diario contable'!E148=\"Maquinaria\",'Diario contable'!I148,0))","v":0},{"$f":"IF('Diario contable'!C148=\"Maquinaria\",'Diario contable'!H148,IF('Diario contable'!E148=\"Maquinaria\",'Diario contable'!H148,0))","v":"00:00:00"},null,null,{"$f":"+IF('Diario contable'!C148=\"Herramientas\",'Diario contable'!F148,0)","v":0},null,null,null,{"$f":"+IF('Diario contable'!E148=\"Herramientas\",'Diario contable'!F148,0)","v":0},{"$f":"IF('Diario contable'!C148=\"Herramientas\",'Diario contable'!I148,IF('Diario contable'!E148=\"Herramientas\",'Diario contable'!I148,0))","v":0},{"$f":"IF('Diario contable'!C148=\"Herramientas\",'Diario contable'!H148,IF('Diario contable'!E148=\"Herramientas\",'Diario contable'!H148,0))","v":"00:00:00"},null,null,{"$f":"+IF('Diario contable'!C148=\"Donaciones\",'Diario contable'!F148,0)","v":0},null,null,null,{"$f":"+IF('Diario contable'!E148=\"Donaciones\",'Diario contable'!F148,0)","v":0},{"$f":"IF('Diario contable'!C148=\"Donaciones\",'Diario contable'!I148,IF('Diario contable'!E148=\"Donaciones\",'Diario contable'!I148,0))","v":0},{"$f":"IF('Diario contable'!C148=\"Donaciones\",'Diario contable'!H148,IF('Diario contable'!E148=\"Donaciones\",'Diario contable'!H148,0))","v":"00:00:00"},null,null,{"$f":"+IF('Diario contable'!C148=\"Inventario\",'Diario contable'!F148,0)","v":0},null,null,null,{"$f":"+IF('Diario contable'!E148=\"Inventario\",'Diario contable'!F148,0)","v":0},{"$f":"IF('Diario contable'!C148=\"Inventario\",'Diario contable'!I148,IF('Diario contable'!E148=\"Inventario\",'Diario contable'!I148,0))","v":0},{"$f":"IF('Diario contable'!C148=\"Inventario\",'Diario contable'!H148,IF('Diario contable'!E148=\"Inventario\",'Diario contable'!H148,0))","v":"00:00:00"},null,null,{"$f":"+IF('Diario contable'!C148=\"Costo de ventas\",'Diario contable'!F148,0)","v":0},null,null,null,{"$f":"+IF('Diario contable'!E148=\"Costo de ventas\",'Diario contable'!F148,0)","v":0},{"$f":"IF('Diario contable'!C148=\"Costo de ventas\",'Diario contable'!I148,IF('Diario contable'!E148=\"Costo de ventas\",'Diario contable'!I148,0))","v":0},{"$f":"IF('Diario contable'!C148=\"Costo de ventas\",'Diario contable'!H148,IF('Diario contable'!E148=\"Costo de ventas\",'Diario contable'!H148,0))","v":"00:00:00"},null,null,{"$f":"+IF('Diario contable'!C148=\"Ventas\",'Diario contable'!F148,0)","v":0},null,null,null,{"$f":"+IF('Diario contable'!E148=\"Ventas\",'Diario contable'!F148,0)","v":0},{"$f":"IF('Diario contable'!C148=\"Ventas\",'Diario contable'!I148,IF('Diario contable'!E148=\"Ventas\",'Diario contable'!I148,0))","v":0},{"$f":"IF('Diario contable'!C148=\"Ventas\",'Diario contable'!H148,IF('Diario contable'!E148=\"Ventas\",'Diario contable'!H148,0))","v":"00:00:00"},null,null,{"$f":"+IF('Diario contable'!C148=\"Gastos por salarios\",'Diario contable'!F148,0)","v":0},null,null,null,{"$f":"+IF('Diario contable'!E148=\"Gastos por salarios\",'Diario contable'!F148,0)","v":0},{"$f":"IF('Diario contable'!C148=\"Gastos por salarios\",'Diario contable'!I148,IF('Diario contable'!E148=\"Gastos por salarios\",'Diario contable'!I148,0))","v":0},{"$f":"IF('Diario contable'!C148=\"Gastos por salarios\",'Diario contable'!H148,IF('Diario contable'!E148=\"Gastos por salarios\",'Diario contable'!H148,0))","v":"00:00:00"},null,null,{"$f":"+IF('Diario contable'!C148=\"Gastos operacionales\",'Diario contable'!F148,0)","v":0},null,null,null,{"$f":"+IF('Diario contable'!E148=\"Gastos operacionales\",'Diario contable'!F148,0)","v":0},{"$f":"IF('Diario contable'!C148=\"Gastos operacionales\",'Diario contable'!I148,IF('Diario contable'!E148=\"Gastos operacionales\",'Diario contable'!I148,0))","v":0},{"$f":"IF('Diario contable'!C148=\"Gastos operacionales\",'Diario contable'!H148,IF('Diario contable'!E148=\"Gastos operacionales\",'Diario contable'!H148,0))","v":"00:00:00"},null,null,{"$f":"+IF('Diario contable'!C148=\"Suministros de oficina\",'Diario contable'!F148,0)","v":0},null,null,null,{"$f":"+IF('Diario contable'!E148=\"Suministros de oficina\",'Diario contable'!F148,0)","v":0},{"$f":"IF('Diario contable'!C148=\"Suministros de oficina\",'Diario contable'!I148,IF('Diario contable'!E148=\"Suministros de oficina\",'Diario contable'!I148,0))","v":0},{"$f":"IF('Diario contable'!C148=\"Suministros de oficina\",'Diario contable'!H148,IF('Diario contable'!E148=\"Suministros de oficina\",'Diario contable'!H148,0))","v":"00:00:00"},null,null,{"$f":"+IF('Diario contable'!C148=\"Capital social\",'Diario contable'!F148,0)","v":0},null,null,null,{"$f":"+IF('Diario contable'!E148=\"Capital social\",'Diario contable'!F148,0)","v":0},{"$f":"IF('Diario contable'!C148=\"Capital social\",'Diario contable'!I148,IF('Diario contable'!E148=\"Capital social\",'Diario contable'!I148,0))","v":0},{"$f":"IF('Diario contable'!C148=\"Capital social\",'Diario contable'!H148,IF('Diario contable'!E148=\"Capital social\",'Diario contable'!H148,0))","v":"00:00:00"},null,null,{"$f":"+IF('Diario contable'!C148=\"Gastos de mercadeo\",'Diario contable'!F148,0)","v":0},null,null,null,{"$f":"+IF('Diario contable'!E148=\"Gastos de mercadeo\",'Diario contable'!F148,0)","v":0},{"$f":"IF('Diario contable'!C148=\"Gastos de mercadeo\",'Diario contable'!I148,IF('Diario contable'!E148=\"Gastos de mercadeo\",'Diario contable'!I148,0))","v":0},{"$f":"IF('Diario contable'!C148=\"Gastos de mercadeo\",'Diario contable'!H148,IF('Diario contable'!E148=\"Gastos de mercadeo\",'Diario contable'!H148,0))","v":"00:00:00"},null,null,{"$f":"+IF('Diario contable'!C148=\"Gastos de suministros de oficina\",'Diario contable'!F148,0)","v":0},null,null,null,{"$f":"+IF('Diario contable'!E148=\"Gastos de suministros de oficina\",'Diario contable'!F148,0)","v":0},{"$f":"IF('Diario contable'!C148=\"Gastos de suministros de oficina\",'Diario contable'!I148,IF('Diario contable'!E148=\"Gastos de suministros de oficina\",'Diario contable'!I148,0))","v":0},{"$f":"IF('Diario contable'!C148=\"Gastos de suministros de oficina\",'Diario contable'!H148,IF('Diario contable'!E148=\"Gastos de suministros de oficina\",'Diario contable'!H148,0))","v":"00:00:00"}]
[null,null,{"$f":"+IF('Diario contable'!C149=\"Caja\",'Diario contable'!F149,0)","v":0},null,null,null,{"$f":"+IF('Diario contable'!E149=\"Caja\",'Diario contable'!F149,0)","v":0},{"$f":"IF('Diario contable'!C149=\"Caja\",'Diario contable'!I149,IF('Diario contable'!E149=\"Caja\",'Diario contable'!I149,0))","v":0},{"$f":"IF('Diario contable'!C149=\"Caja\",'Diario contable'!H149,IF('Diario contable'!E149=\"Caja\",'Diario contable'!H149,0))","v":"00:00:00"},null,null,{"$f":"+IF('Diario contable'!C149=\"Maquinaria\",'Diario contable'!F149,0)","v":0},null,null,null,{"$f":"+IF('Diario contable'!E149=\"Maquinaria\",'Diario contable'!F149,0)","v":0},{"$f":"IF('Diario contable'!C149=\"Maquinaria\",'Diario contable'!I149,IF('Diario contable'!E149=\"Maquinaria\",'Diario contable'!I149,0))","v":0},{"$f":"IF('Diario contable'!C149=\"Maquinaria\",'Diario contable'!H149,IF('Diario contable'!E149=\"Maquinaria\",'Diario contable'!H149,0))","v":"00:00:00"},null,null,{"$f":"+IF('Diario contable'!C149=\"Herramientas\",'Diario contable'!F149,0)","v":0},null,null,null,{"$f":"+IF('Diario contable'!E149=\"Herramientas\",'Diario contable'!F149,0)","v":0},{"$f":"IF('Diario contable'!C149=\"Herramientas\",'Diario contable'!I149,IF('Diario contable'!E149=\"Herramientas\",'Diario contable'!I149,0))","v":0},{"$f":"IF('Diario contable'!C149=\"Herramientas\",'Diario contable'!H149,IF('Diario contable'!E149=\"Herramientas\",'Diario contable'!H149,0))","v":"00:00:00"},null,null,{"$f":"+IF('Diario contable'!C149=\"Donaciones\",'Diario contable'!F149,0)","v":0},null,null,null,{"$f":"+IF('Diario contable'!E149=\"Donaciones\",'Diario contable'!F149,0)","v":0},{"$f":"IF('Diario contable'!C149=\"Donaciones\",'Diario contable'!I149,IF('Diario contable'!E149=\"Donaciones\",'Diario contable'!I149,0))","v":0},{"$f":"IF('Diario contable'!C149=\"Donaciones\",'Diario contable'!H149,IF('Diario contable'!E149=\"Donaciones\",'Diario contable'!H149,0))","v":"00:00:00"},null,null,{"$f":"+IF('Diario contable'!C149=\"Inventario\",'Diario contable'!F149,0)","v":0},null,null,null,{"$f":"+IF('Diario contable'!E149=\"Inventario\",'Diario contable'!F149,0)","v":0},{"$f":"IF('Diario contable'!C149=\"Inventario\",'Diario contable'!I149,IF('Diario contable'!E149=\"Inventario\",'Diario contable'!I149,0))","v":0},{"$f":"IF('Diario contable'!C149=\"Inventario\",'Diario contable'!H149,IF('Diario contable'!E149=\"Inventario\",'Diario contable'!H149,0))","v":"00:00:00"},null,null,{"$f":"+IF('Diario contable'!C149=\"Costo de ventas\",'Diario contable'!F149,0)","v":0},null,null,null,{"$f":"+IF('Diario contable'!E149=\"Costo de ventas\",'Diario contable'!F149,0)","v":0},{"$f":"IF('Diario contable'!C149=\"Costo de ventas\",'Diario contable'!I149,IF('Diario contable'!E149=\"Costo de ventas\",'Diario contable'!I149,0))","v":0},{"$f":"IF('Diario contable'!C149=\"Costo de ventas\",'Diario contable'!H149,IF('Diario contable'!E149=\"Costo de ventas\",'Diario contable'!H149,0))","v":"00:00:00"},null,null,{"$f":"+IF('Diario contable'!C149=\"Ventas\",'Diario contable'!F149,0)","v":0},null,null,null,{"$f":"+IF('Diario contable'!E149=\"Ventas\",'Diario contable'!F149,0)","v":0},{"$f":"IF('Diario contable'!C149=\"Ventas\",'Diario contable'!I149,IF('Diario contable'!E149=\"Ventas\",'Diario contable'!I149,0))","v":0},{"$f":"IF('Diario contable'!C149=\"Ventas\",'Diario contable'!H149,IF('Diario contable'!E149=\"Ventas\",'Diario contable'!H149,0))","v":"00:00:00"},null,null,{"$f":"+IF('Diario contable'!C149=\"Gastos por salarios\",'Diario contable'!F149,0)","v":0},null,null,null,{"$f":"+IF('Diario contable'!E149=\"Gastos por salarios\",'Diario contable'!F149,0)","v":0},{"$f":"IF('Diario contable'!C149=\"Gastos por salarios\",'Diario contable'!I149,IF('Diario contable'!E149=\"Gastos por salarios\",'Diario contable'!I149,0))","v":0},{"$f":"IF('Diario contable'!C149=\"Gastos por salarios\",'Diario contable'!H149,IF('Diario contable'!E149=\"Gastos por salarios\",'Diario contable'!H149,0))","v":"00:00:00"},null,null,{"$f":"+IF('Diario contable'!C149=\"Gastos operacionales\",'Diario contable'!F149,0)","v":0},null,null,null,{"$f":"+IF('Diario contable'!E149=\"Gastos operacionales\",'Diario contable'!F149,0)","v":0},{"$f":"IF('Diario contable'!C149=\"Gastos operacionales\",'Diario contable'!I149,IF('Diario contable'!E149=\"Gastos operacionales\",'Diario contable'!I149,0))","v":0},{"$f":"IF('Diario contable'!C149=\"Gastos operacionales\",'Diario contable'!H149,IF('Diario contable'!E149=\"Gastos operacionales\",'Diario contable'!H149,0))","v":"00:00:00"},null,null,{"$f":"+IF('Diario contable'!C149=\"Suministros de oficina\",'Diario contable'!F149,0)","v":0},null,null,null,{"$f":"+IF('Diario contable'!E149=\"Suministros de oficina\",'Diario contable'!F149,0)","v":0},{"$f":"IF('Diario contable'!C149=\"Suministros de oficina\",'Diario contable'!I149,IF('Diario contable'!E149=\"Suministros de oficina\",'Diario contable'!I149,0))","v":0},{"$f":"IF('Diario contable'!C149=\"Suministros de oficina\",'Diario contable'!H149,IF('Diario contable'!E149=\"Suministros de oficina\",'Diario contable'!H149,0))","v":"00:00:00"},null,null,{"$f":"+IF('Diario contable'!C149=\"Capital social\",'Diario contable'!F149,0)","v":0},null,null,null,{"$f":"+IF('Diario contable'!E149=\"Capital social\",'Diario contable'!F149,0)","v":0},{"$f":"IF('Diario contable'!C149=\"Capital social\",'Diario contable'!I149,IF('Diario contable'!E149=\"Capital social\",'Diario contable'!I149,0))","v":0},{"$f":"IF('Diario contable'!C149=\"Capital social\",'Diario contable'!H149,IF('Diario contable'!E149=\"Capital social\",'Diario contable'!H149,0))","v":"00:00:00"},null,null,{"$f":"+IF('Diario contable'!C149=\"Gastos de mercadeo\",'Diario contable'!F149,0)","v":0},null,null,null,{"$f":"+IF('Diario contable'!E149=\"Gastos de mercadeo\",'Diario contable'!F149,0)","v":0},{"$f":"IF('Diario contable'!C149=\"Gastos de mercadeo\",'Diario contable'!I149,IF('Diario contable'!E149=\"Gastos de mercadeo\",'Diario contable'!I149,0))","v":0},{"$f":"IF('Diario contable'!C149=\"Gastos de mercadeo\",'Diario contable'!H149,IF('Diario contable'!E149=\"Gastos de mercadeo\",'Diario contable'!H149,0))","v":"00:00:00"},null,null,{"$f":"+IF('Diario contable'!C149=\"Gastos de suministros de oficina\",'Diario contable'!F149,0)","v":0},null,null,null,{"$f":"+IF('Diario contable'!E149=\"Gastos de suministros de oficina\",'Diario contable'!F149,0)","v":0},{"$f":"IF('Diario contable'!C149=\"Gastos de suministros de oficina\",'Diario contable'!I149,IF('Diario contable'!E149=\"Gastos de suministros de oficina\",'Diario contable'!I149,0))","v":0},{"$f":"IF('Diario contable'!C149=\"Gastos de suministros de oficina\",'Diario contable'!H149,IF('Diario contable'!E149=\"Gastos de suministros de oficina\",'Diario contable'!H149,0))","v":"00:00:00"}]
[null,null,{"$f":"+IF('Diario contable'!C150=\"Caja\",'Diario contable'!F150,0)","v":0},null,null,null,{"$f":"+IF('Diario contable'!E150=\"Caja\",'Diario contable'!F150,0)","v":0},{"$f":"IF('Diario contable'!C150=\"Caja\",'Diario contable'!I150,IF('Diario contable'!E150=\"Caja\",'Diario contable'!I150,0))","v":0},{"$f":"IF('Diario contable'!C150=\"Caja\",'Diario contable'!H150,IF('Diario contable'!E150=\"Caja\",'Diario contable'!H150,0))","v":"00:00:00"},null,null,{"$f":"+IF('Diario contable'!C150=\"Maquinaria\",'Diario contable'!F150,0)","v":0},null,null,null,{"$f":"+IF('Diario contable'!E150=\"Maquinaria\",'Diario contable'!F150,0)","v":0},{"$f":"IF('Diario contable'!C150=\"Maquinaria\",'Diario contable'!I150,IF('Diario contable'!E150=\"Maquinaria\",'Diario contable'!I150,0))","v":0},{"$f":"IF('Diario contable'!C150=\"Maquinaria\",'Diario contable'!H150,IF('Diario contable'!E150=\"Maquinaria\",'Diario contable'!H150,0))","v":"00:00:00"},null,null,{"$f":"+IF('Diario contable'!C150=\"Herramientas\",'Diario contable'!F150,0)","v":0},null,null,null,{"$f":"+IF('Diario contable'!E150=\"Herramientas\",'Diario contable'!F150,0)","v":0},{"$f":"IF('Diario contable'!C150=\"Herramientas\",'Diario contable'!I150,IF('Diario contable'!E150=\"Herramientas\",'Diario contable'!I150,0))","v":0},{"$f":"IF('Diario contable'!C150=\"Herramientas\",'Diario contable'!H150,IF('Diario contable'!E150=\"Herramientas\",'Diario contable'!H150,0))","v":"00:00:00"},null,null,{"$f":"+IF('Diario contable'!C150=\"Donaciones\",'Diario contable'!F150,0)","v":0},null,null,null,{"$f":"+IF('Diario contable'!E150=\"Donaciones\",'Diario contable'!F150,0)","v":0},{"$f":"IF('Diario contable'!C150=\"Donaciones\",'Diario contable'!I150,IF('Diario contable'!E150=\"Donaciones\",'Diario contable'!I150,0))","v":0},{"$f":"IF('Diario contable'!C150=\"Donaciones\",'Diario contable'!H150,IF('Diario contable'!E150=\"Donaciones\",'Diario contable'!H150,0))","v":"00:00:00"},null,null,{"$f":"+IF('Diario contable'!C150=\"Inventario\",'Diario contable'!F150,0)","v":0},null,null,null,{"$f":"+IF('Diario contable'!E150=\"Inventario\",'Diario contable'!F150,0)","v":0},{"$f":"IF('Diario contable'!C150=\"Inventario\",'Diario contable'!I150,IF('Diario contable'!E150=\"Inventario\",'Diario contable'!I150,0))","v":0},{"$f":"IF('Diario contable'!C150=\"Inventario\",'Diario contable'!H150,IF('Diario contable'!E150=\"Inventario\",'Diario contable'!H150,0))","v":"00:00:00"},null,null,{"$f":"+IF('Diario contable'!C150=\"Costo de ventas\",'Diario contable'!F150,0)","v":0},null,null,null,{"$f":"+IF('Diario contable'!E150=\"Costo de ventas\",'Diario contable'!F150,0)","v":0},{"$f":"IF('Diario contable'!C150=\"Costo de ventas\",'Diario contable'!I150,IF('Diario contable'!E150=\"Costo de ventas\",'Diario contable'!I150,0))","v":0},{"$f":"IF('Diario contable'!C150=\"Costo de ventas\",'Diario contable'!H150,IF('Diario contable'!E150=\"Costo de ventas\",'Diario contable'!H150,0))","v":"00:00:00"},null,null,{"$f":"+IF('Diario contable'!C150=\"Ventas\",'Diario contable'!F150,0)","v":0},null,null,null,{"$f":"+IF('Diario contable'!E150=\"Ventas\",'Diario contable'!F150,0)","v":0},{"$f":"IF('Diario contable'!C150=\"Ventas\",'Diario contable'!I150,IF('Diario contable'!E150=\"Ventas\",'Diario contable'!I150,0))","v":0},{"$f":"IF('Diario contable'!C150=\"Ventas\",'Diario contable'!H150,IF('Diario contable'!E150=\"Ventas\",'Diario contable'!H150,0))","v":"00:00:00"},null,null,{"$f":"+IF('Diario contable'!C150=\"Gastos por salarios\",'Diario contable'!F150,0)","v":0},null,null,null,{"$f":"+IF('Diario contable'!E150=\"Gastos por salarios\",'Diario contable'!F150,0)","v":0},{"$f":"IF('Diario contable'!C150=\"Gastos por salarios\",'Diario contable'!I150,IF('Diario contable'!E150=\"Gastos por salarios\",'Diario contable'!I150,0))","v":0},{"$f":"IF('Diario contable'!C150=\"Gastos por salarios\",'Diario contable'!H150,IF('Diario contable'!E150=\"Gastos por salarios\",'Diario contable'!H150,0))","v":"00:00:00"},null,null,{"$f":"+IF('Diario contable'!C150=\"Gastos operacionales\",'Diario contable'!F150,0)","v":0},null,null,null,{"$f":"+IF('Diario contable'!E150=\"Gastos operacionales\",'Diario contable'!F150,0)","v":0},{"$f":"IF('Diario contable'!C150=\"Gastos operacionales\",'Diario contable'!I150,IF('Diario contable'!E150=\"Gastos operacionales\",'Diario contable'!I150,0))","v":0},{"$f":"IF('Diario contable'!C150=\"Gastos operacionales\",'Diario contable'!H150,IF('Diario contable'!E150=\"Gastos operacionales\",'Diario contable'!H150,0))","v":"00:00:00"},null,null,{"$f":"+IF('Diario contable'!C150=\"Suministros de oficina\",'Diario contable'!F150,0)","v":0},null,null,null,{"$f":"+IF('Diario contable'!E150=\"Suministros de oficina\",'Diario contable'!F150,0)","v":0},{"$f":"IF('Diario contable'!C150=\"Suministros de oficina\",'Diario contable'!I150,IF('Diario contable'!E150=\"Suministros de oficina\",'Diario contable'!I150,0))","v":0},{"$f":"IF('Diario contable'!C150=\"Suministros de oficina\",'Diario contable'!H150,IF('Diario contable'!E150=\"Suministros de oficina\",'Diario contable'!H150,0))","v":"00:00:00"},null,null,{"$f":"+IF('Diario contable'!C150=\"Capital social\",'Diario contable'!F150,0)","v":0},null,null,null,{"$f":"+IF('Diario contable'!E150=\"Capital social\",'Diario contable'!F150,0)","v":0},{"$f":"IF('Diario contable'!C150=\"Capital social\",'Diario contable'!I150,IF('Diario contable'!E150=\"Capital social\",'Diario contable'!I150,0))","v":0},{"$f":"IF('Diario contable'!C150=\"Capital social\",'Diario contable'!H150,IF('Diario contable'!E150=\"Capital social\",'Diario contable'!H150,0))","v":"00:00:00"},null,null,{"$f":"+IF('Diario contable'!C150=\"Gastos de mercadeo\",'Diario contable'!F150,0)","v":0},null,null,null,{"$f":"+IF('Diario contable'!E150=\"Gastos de mercadeo\",'Diario contable'!F150,0)","v":0},{"$f":"IF('Diario contable'!C150=\"Gastos de mercadeo\",'Diario contable'!I150,IF('Diario contable'!E150=\"Gastos de mercadeo\",'Diario contable'!I150,0))","v":0},{"$f":"IF('Diario contable'!C150=\"Gastos de mercadeo\",'Diario contable'!H150,IF('Diario contable'!E150=\"Gastos de mercadeo\",'Diario contable'!H150,0))","v":"00:00:00"},null,null,{"$f":"+IF('Diario contable'!C150=\"Gastos de suministros de oficina\",'Diario contable'!F150,0)","v":0},null,null,null,{"$f":"+IF('Diario contable'!E150=\"Gastos de suministros de oficina\",'Diario contable'!F150,0)","v":0},{"$f":"IF('Diario contable'!C150=\"Gastos de suministros de oficina\",'Diario contable'!I150,IF('Diario contable'!E150=\"Gastos de suministros de oficina\",'Diario contable'!I150,0))","v":0},{"$f":"IF('Diario contable'!C150=\"Gastos de suministros de oficina\",'Diario contable'!H150,IF('Diario contable'!E150=\"Gastos de suministros de oficina\",'Diario contable'!H150,0))","v":"00:00:00"}]
[null,null,{"$f":"+IF('Diario contable'!C151=\"Caja\",'Diario contable'!F151,0)","v":0},null,null,null,{"$f":"+IF('Diario contable'!E151=\"Caja\",'Diario contable'!F151,0)","v":0},{"$f":"IF('Diario contable'!C151=\"Caja\",'Diario contable'!I151,IF('Diario contable'!E151=\"Caja\",'Diario contable'!I151,0))","v":0},{"$f":"IF('Diario contable'!C151=\"Caja\",'Diario contable'!H151,IF('Diario contable'!E151=\"Caja\",'Diario contable'!H151,0))","v":"00:00:00"},null,null,{"$f":"+IF('Diario contable'!C151=\"Maquinaria\",'Diario contable'!F151,0)","v":0},null,null,null,{"$f":"+IF('Diario contable'!E151=\"Maquinaria\",'Diario contable'!F151,0)","v":0},{"$f":"IF('Diario contable'!C151=\"Maquinaria\",'Diario contable'!I151,IF('Diario contable'!E151=\"Maquinaria\",'Diario contable'!I151,0))","v":0},{"$f":"IF('Diario contable'!C151=\"Maquinaria\",'Diario contable'!H151,IF('Diario contable'!E151=\"Maquinaria\",'Diario contable'!H151,0))","v":"00:00:00"},null,null,{"$f":"+IF('Diario contable'!C151=\"Herramientas\",'Diario contable'!F151,0)","v":0},null,null,null,{"$f":"+IF('Diario contable'!E151=\"Herramientas\",'Diario contable'!F151,0)","v":0},{"$f":"IF('Diario contable'!C151=\"Herramientas\",'Diario contable'!I151,IF('Diario contable'!E151=\"Herramientas\",'Diario contable'!I151,0))","v":0},{"$f":"IF('Diario contable'!C151=\"Herramientas\",'Diario contable'!H151,IF('Diario contable'!E151=\"Herramientas\",'Diario contable'!H151,0))","v":"00:00:00"},null,null,{"$f":"+IF('Diario contable'!C151=\"Donaciones\",'Diario contable'!F151,0)","v":0},null,null,null,{"$f":"+IF('Diario contable'!E151=\"Donaciones\",'Diario contable'!F151,0)","v":0},{"$f":"IF('Diario contable'!C151=\"Donaciones\",'Diario contable'!I151,IF('Diario contable'!E151=\"Donaciones\",'Diario contable'!I151,0))","v":0},{"$f":"IF('Diario contable'!C151=\"Donaciones\",'Diario contable'!H151,IF('Diario contable'!E151=\"Donaciones\",'Diario contable'!H151,0))","v":"00:00:00"},null,null,{"$f":"+IF('Diario contable'!C151=\"Inventario\",'Diario contable'!F151,0)","v":0},null,null,null,{"$f":"+IF('Diario contable'!E151=\"Inventario\",'Diario contable'!F151,0)","v":0},{"$f":"IF('Diario contable'!C151=\"Inventario\",'Diario contable'!I151,IF('Diario contable'!E151=\"Inventario\",'Diario contable'!I151,0))","v":0},{"$f":"IF('Diario contable'!C151=\"Inventario\",'Diario contable'!H151,IF('Diario contable'!E151=\"Inventario\",'Diario contable'!H151,0))","v":"00:00:00"},null,null,{"$f":"+IF('Diario contable'!C151=\"Costo de ventas\",'Diario contable'!F151,0)","v":0},null,null,null,{"$f":"+IF('Diario contable'!E151=\"Costo de ventas\",'Diario contable'!F151,0)","v":0},{"$f":"IF('Diario contable'!C151=\"Costo de ventas\",'Diario contable'!I151,IF('Diario contable'!E151=\"Costo de ventas\",'Diario contable'!I151,0))","v":0},{"$f":"IF('Diario contable'!C151=\"Costo de ventas\",'Diario contable'!H151,IF('Diario contable'!E151=\"Costo de ventas\",'Diario contable'!H151,0))","v":"00:00:00"},null,null,{"$f":"+IF('Diario contable'!C151=\"Ventas\",'Diario contable'!F151,0)","v":0},null,null,null,{"$f":"+IF('Diario contable'!E151=\"Ventas\",'Diario contable'!F151,0)","v":0},{"$f":"IF('Diario contable'!C151=\"Ventas\",'Diario contable'!I151,IF('Diario contable'!E151=\"Ventas\",'Diario contable'!I151,0))","v":0},{"$f":"IF('Diario contable'!C151=\"Ventas\",'Diario contable'!H151,IF('Diario contable'!E151=\"Ventas\",'Diario contable'!H151,0))","v":"00:00:00"},null,null,{"$f":"+IF('Diario contable'!C151=\"Gastos por salarios\",'Diario contable'!F151,0)","v":0},null,null,null,{"$f":"+IF('Diario contable'!E151=\"Gastos por salarios\",'Diario contable'!F151,0)","v":0},{"$f":"IF('Diario contable'!C151=\"Gastos por salarios\",'Diario contable'!I151,IF('Diario contable'!E151=\"Gastos por salarios\",'Diario contable'!I151,0))","v":0},{"$f":"IF('Diario contable'!C151=\"Gastos por salarios\",'Diario contable'!H151,IF('Diario contable'!E151=\"Gastos por salarios\",'Diario contable'!H151,0))","v":"00:00:00"},null,null,{"$f":"+IF('Diario contable'!C151=\"Gastos operacionales\",'Diario contable'!F151,0)","v":0},null,null,null,{"$f":"+IF('Diario contable'!E151=\"Gastos operacionales\",'Diario contable'!F151,0)","v":0},{"$f":"IF('Diario contable'!C151=\"Gastos operacionales\",'Diario contable'!I151,IF('Diario contable'!E151=\"Gastos operacionales\",'Diario contable'!I151,0))","v":0},{"$f":"IF('Diario contable'!C151=\"Gastos operacionales\",'Diario contable'!H151,IF('Diario contable'!E151=\"Gastos operacionales\",'Diario contable'!H151,0))","v":"00:00:00"},null,null,{"$f":"+IF('Diario contable'!C151=\"Suministros de oficina\",'Diario contable'!F151,0)","v":0},null,null,null,{"$f":"+IF('Diario contable'!E151=\"Suministros de oficina\",'Diario contable'!F151,0)","v":0},{"$f":"IF('Diario contable'!C151=\"Suministros de oficina\",'Diario contable'!I151,IF('Diario contable'!E151=\"Suministros de oficina\",'Diario contable'!I151,0))","v":0},{"$f":"IF('Diario contable'!C151=\"Suministros de oficina\",'Diario contable'!H151,IF('Diario contable'!E151=\"Suministros de oficina\",'Diario contable'!H151,0))","v":"00:00:00"},null,null,{"$f":"+IF('Diario contable'!C151=\"Capital social\",'Diario contable'!F151,0)","v":0},null,null,null,{"$f":"+IF('Diario contable'!E151=\"Capital social\",'Diario contable'!F151,0)","v":0},{"$f":"IF('Diario contable'!C151=\"Capital social\",'Diario contable'!I151,IF('Diario contable'!E151=\"Capital social\",'Diario contable'!I151,0))","v":0},{"$f":"IF('Diario contable'!C151=\"Capital social\",'Diario contable'!H151,IF('Diario contable'!E151=\"Capital social\",'Diario contable'!H151,0))","v":"00:00:00"},null,null,{"$f":"+IF('Diario contable'!C151=\"Gastos de mercadeo\",'Diario contable'!F151,0)","v":0},null,null,null,{"$f":"+IF('Diario contable'!E151=\"Gastos de mercadeo\",'Diario contable'!F151,0)","v":0},{"$f":"IF('Diario contable'!C151=\"Gastos de mercadeo\",'Diario contable'!I151,IF('Diario contable'!E151=\"Gastos de mercadeo\",'Diario contable'!I151,0))","v":0},{"$f":"IF('Diario contable'!C151=\"Gastos de mercadeo\",'Diario contable'!H151,IF('Diario contable'!E151=\"Gastos de mercadeo\",'Diario contable'!H151,0))","v":"00:00:00"},null,null,{"$f":"+IF('Diario contable'!C151=\"Gastos de suministros de oficina\",'Diario contable'!F151,0)","v":0},null,null,null,{"$f":"+IF('Diario contable'!E151=\"Gastos de suministros de oficina\",'Diario contable'!F151,0)","v":0},{"$f":"IF('Diario contable'!C151=\"Gastos de suministros de oficina\",'Diario contable'!I151,IF('Diario contable'!E151=\"Gastos de suministros de oficina\",'Diario contable'!I151,0))","v":0},{"$f":"IF('Diario contable'!C151=\"Gastos de suministros de oficina\",'Diario contable'!H151,IF('Diario contable'!E151=\"Gastos de suministros de oficina\",'Diario contable'!H151,0))","v":"00:00:00"}]
[null,null,{"$f":"+IF('Diario contable'!C152=\"Caja\",'Diario contable'!F152,0)","v":0},null,null,null,{"$f":"+IF('Diario contable'!E152=\"Caja\",'Diario contable'!F152,0)","v":0},{"$f":"IF('Diario contable'!C152=\"Caja\",'Diario contable'!I152,IF('Diario contable'!E152=\"Caja\",'Diario contable'!I152,0))","v":0},{"$f":"IF('Diario contable'!C152=\"Caja\",'Diario contable'!H152,IF('Diario contable'!E152=\"Caja\",'Diario contable'!H152,0))","v":"00:00:00"},null,null,{"$f":"+IF('Diario contable'!C152=\"Maquinaria\",'Diario contable'!F152,0)","v":0},null,null,null,{"$f":"+IF('Diario contable'!E152=\"Maquinaria\",'Diario contable'!F152,0)","v":0},{"$f":"IF('Diario contable'!C152=\"Maquinaria\",'Diario contable'!I152,IF('Diario contable'!E152=\"Maquinaria\",'Diario contable'!I152,0))","v":0},{"$f":"IF('Diario contable'!C152=\"Maquinaria\",'Diario contable'!H152,IF('Diario contable'!E152=\"Maquinaria\",'Diario contable'!H152,0))","v":"00:00:00"},null,null,{"$f":"+IF('Diario contable'!C152=\"Herramientas\",'Diario contable'!F152,0)","v":0},null,null,null,{"$f":"+IF('Diario contable'!E152=\"Herramientas\",'Diario contable'!F152,0)","v":0},{"$f":"IF('Diario contable'!C152=\"Herramientas\",'Diario contable'!I152,IF('Diario contable'!E152=\"Herramientas\",'Diario contable'!I152,0))","v":0},{"$f":"IF('Diario contable'!C152=\"Herramientas\",'Diario contable'!H152,IF('Diario contable'!E152=\"Herramientas\",'Diario contable'!H152,0))","v":"00:00:00"},null,null,{"$f":"+IF('Diario contable'!C152=\"Donaciones\",'Diario contable'!F152,0)","v":0},null,null,null,{"$f":"+IF('Diario contable'!E152=\"Donaciones\",'Diario contable'!F152,0)","v":0},{"$f":"IF('Diario contable'!C152=\"Donaciones\",'Diario contable'!I152,IF('Diario contable'!E152=\"Donaciones\",'Diario contable'!I152,0))","v":0},{"$f":"IF('Diario contable'!C152=\"Donaciones\",'Diario contable'!H152,IF('Diario contable'!E152=\"Donaciones\",'Diario contable'!H152,0))","v":"00:00:00"},null,null,{"$f":"+IF('Diario contable'!C152=\"Inventario\",'Diario contable'!F152,0)","v":0},null,null,null,{"$f":"+IF('Diario contable'!E152=\"Inventario\",'Diario contable'!F152,0)","v":0},{"$f":"IF('Diario contable'!C152=\"Inventario\",'Diario contable'!I152,IF('Diario contable'!E152=\"Inventario\",'Diario contable'!I152,0))","v":0},{"$f":"IF('Diario contable'!C152=\"Inventario\",'Diario contable'!H152,IF('Diario contable'!E152=\"Inventario\",'Diario contable'!H152,0))","v":"00:00:00"},null,null,{"$f":"+IF('Diario contable'!C152=\"Costo de ventas\",'Diario contable'!F152,0)","v":0},null,null,null,{"$f":"+IF('Diario contable'!E152=\"Costo de ventas\",'Diario contable'!F152,0)","v":0},{"$f":"IF('Diario contable'!C152=\"Costo de ventas\",'Diario contable'!I152,IF('Diario contable'!E152=\"Costo de ventas\",'Diario contable'!I152,0))","v":0},{"$f":"IF('Diario contable'!C152=\"Costo de ventas\",'Diario contable'!H152,IF('Diario contable'!E152=\"Costo de ventas\",'Diario contable'!H152,0))","v":"00:00:00"},null,null,{"$f":"+IF('Diario contable'!C152=\"Ventas\",'Diario contable'!F152,0)","v":0},null,null,null,{"$f":"+IF('Diario contable'!E152=\"Ventas\",'Diario contable'!F152,0)","v":0},{"$f":"IF('Diario contable'!C152=\"Ventas\",'Diario contable'!I152,IF('Diario contable'!E152=\"Ventas\",'Diario contable'!I152,0))","v":0},{"$f":"IF('Diario contable'!C152=\"Ventas\",'Diario contable'!H152,IF('Diario contable'!E152=\"Ventas\",'Diario contable'!H152,0))","v":"00:00:00"},null,null,{"$f":"+IF('Diario contable'!C152=\"Gastos por salarios\",'Diario contable'!F152,0)","v":0},null,null,null,{"$f":"+IF('Diario contable'!E152=\"Gastos por salarios\",'Diario contable'!F152,0)","v":0},{"$f":"IF('Diario contable'!C152=\"Gastos por salarios\",'Diario contable'!I152,IF('Diario contable'!E152=\"Gastos por salarios\",'Diario contable'!I152,0))","v":0},{"$f":"IF('Diario contable'!C152=\"Gastos por salarios\",'Diario contable'!H152,IF('Diario contable'!E152=\"Gastos por salarios\",'Diario contable'!H152,0))","v":"00:00:00"},null,null,{"$f":"+IF('Diario contable'!C152=\"Gastos operacionales\",'Diario contable'!F152,0)","v":0},null,null,null,{"$f":"+IF('Diario contable'!E152=\"Gastos operacionales\",'Diario contable'!F152,0)","v":0},{"$f":"IF('Diario contable'!C152=\"Gastos operacionales\",'Diario contable'!I152,IF('Diario contable'!E152=\"Gastos operacionales\",'Diario contable'!I152,0))","v":0},{"$f":"IF('Diario contable'!C152=\"Gastos operacionales\",'Diario contable'!H152,IF('Diario contable'!E152=\"Gastos operacionales\",'Diario contable'!H152,0))","v":"00:00:00"},null,null,{"$f":"+IF('Diario contable'!C152=\"Suministros de oficina\",'Diario contable'!F152,0)","v":0},null,null,null,{"$f":"+IF('Diario contable'!E152=\"Suministros de oficina\",'Diario contable'!F152,0)","v":0},{"$f":"IF('Diario contable'!C152=\"Suministros de oficina\",'Diario contable'!I152,IF('Diario contable'!E152=\"Suministros de oficina\",'Diario contable'!I152,0))","v":0},{"$f":"IF('Diario contable'!C152=\"Suministros de oficina\",'Diario contable'!H152,IF('Diario contable'!E152=\"Suministros de oficina\",'Diario contable'!H152,0))","v":"00:00:00"},null,null,{"$f":"+IF('Diario contable'!C152=\"Capital social\",'Diario contable'!F152,0)","v":0},null,null,null,{"$f":"+IF('Diario contable'!E152=\"Capital social\",'Diario contable'!F152,0)","v":0},{"$f":"IF('Diario contable'!C152=\"Capital social\",'Diario contable'!I152,IF('Diario contable'!E152=\"Capital social\",'Diario contable'!I152,0))","v":0},{"$f":"IF('Diario contable'!C152=\"Capital social\",'Diario contable'!H152,IF('Diario contable'!E152=\"Capital social\",'Diario contable'!H152,0))","v":"00:00:00"},null,null,{"$f":"+IF('Diario contable'!C152=\"Gastos de mercadeo\",'Diario contable'!F152,0)","v":0},null,null,null,{"$f":"+IF('Diario contable'!E152=\"Gastos de mercadeo\",'Diario contable'!F152,0)","v":0},{"$f":"IF('Diario contable'!C152=\"Gastos de mercadeo\",'Diario contable'!I152,IF('Diario contable'!E152=\"Gastos de mercadeo\",'Diario contable'!I152,0))","v":0},{"$f":"IF('Diario contable'!C152=\"Gastos de mercadeo\",'Diario contable'!H152,IF('Diario contable'!E152=\"Gastos de mercadeo\",'Diario contable'!H152,0))","v":"00:00:00"},null,null,{"$f":"+IF('Diario contable'!C152=\"Gastos de suministros de oficina\",'Diario contable'!F152,0)","v":0},null,null,null,{"$f":"+IF('Diario contable'!E152=\"Gastos de suministros de oficina\",'Diario contable'!F152,0)","v":0},{"$f":"IF('Diario contable'!C152=\"Gastos de suministros de oficina\",'Diario contable'!I152,IF('Diario contable'!E152=\"Gastos de suministros de oficina\",'Diario contable'!I152,0))","v":0},{"$f":"IF('Diario contable'!C152=\"Gastos de suministros de oficina\",'Diario contable'!H152,IF('Diario contable'!E152=\"Gastos de suministros de oficina\",'Diario contable'!H152,0))","v":"00:00:00"}]
[null,null,{"$f":"+IF('Diario contable'!C153=\"Caja\",'Diario contable'!F153,0)","v":0},null,null,null,{"$f":"+IF('Diario contable'!E153=\"Caja\",'Diario contable'!F153,0)","v":0},{"$f":"IF('Diario contable'!C153=\"Caja\",'Diario contable'!I153,IF('Diario contable'!E153=\"Caja\",'Diario contable'!I153,0))","v":0},{"$f":"IF('Diario contable'!C153=\"Caja\",'Diario contable'!H153,IF('Diario contable'!E153=\"Caja\",'Diario contable'!H153,0))","v":"00:00:00"},null,null,{"$f":"+IF('Diario contable'!C153=\"Maquinaria\",'Diario contable'!F153,0)","v":0},null,null,null,{"$f":"+IF('Diario contable'!E153=\"Maquinaria\",'Diario contable'!F153,0)","v":0},{"$f":"IF('Diario contable'!C153=\"Maquinaria\",'Diario contable'!I153,IF('Diario contable'!E153=\"Maquinaria\",'Diario contable'!I153,0))","v":0},{"$f":"IF('Diario contable'!C153=\"Maquinaria\",'Diario contable'!H153,IF('Diario contable'!E153=\"Maquinaria\",'Diario contable'!H153,0))","v":"00:00:00"},null,null,{"$f":"+IF('Diario contable'!C153=\"Herramientas\",'Diario contable'!F153,0)","v":0},null,null,null,{"$f":"+IF('Diario contable'!E153=\"Herramientas\",'Diario contable'!F153,0)","v":0},{"$f":"IF('Diario contable'!C153=\"Herramientas\",'Diario contable'!I153,IF('Diario contable'!E153=\"Herramientas\",'Diario contable'!I153,0))","v":0},{"$f":"IF('Diario contable'!C153=\"Herramientas\",'Diario contable'!H153,IF('Diario contable'!E153=\"Herramientas\",'Diario contable'!H153,0))","v":"00:00:00"},null,null,{"$f":"+IF('Diario contable'!C153=\"Donaciones\",'Diario contable'!F153,0)","v":0},null,null,null,{"$f":"+IF('Diario contable'!E153=\"Donaciones\",'Diario contable'!F153,0)","v":0},{"$f":"IF('Diario contable'!C153=\"Donaciones\",'Diario contable'!I153,IF('Diario contable'!E153=\"Donaciones\",'Diario contable'!I153,0))","v":0},{"$f":"IF('Diario contable'!C153=\"Donaciones\",'Diario contable'!H153,IF('Diario contable'!E153=\"Donaciones\",'Diario contable'!H153,0))","v":"00:00:00"},null,null,{"$f":"+IF('Diario contable'!C153=\"Inventario\",'Diario contable'!F153,0)","v":0},null,null,null,{"$f":"+IF('Diario contable'!E153=\"Inventario\",'Diario contable'!F153,0)","v":0},{"$f":"IF('Diario contable'!C153=\"Inventario\",'Diario contable'!I153,IF('Diario contable'!E153=\"Inventario\",'Diario contable'!I153,0))","v":0},{"$f":"IF('Diario contable'!C153=\"Inventario\",'Diario contable'!H153,IF('Diario contable'!E153=\"Inventario\",'Diario contable'!H153,0))","v":"00:00:00"},null,null,{"$f":"+IF('Diario contable'!C153=\"Costo de ventas\",'Diario contable'!F153,0)","v":0},null,null,null,{"$f":"+IF('Diario contable'!E153=\"Costo de ventas\",'Diario contable'!F153,0)","v":0},{"$f":"IF('Diario contable'!C153=\"Costo de ventas\",'Diario contable'!I153,IF('Diario contable'!E153=\"Costo de ventas\",'Diario contable'!I153,0))","v":0},{"$f":"IF('Diario contable'!C153=\"Costo de ventas\",'Diario contable'!H153,IF('Diario contable'!E153=\"Costo de ventas\",'Diario contable'!H153,0))","v":"00:00:00"},null,null,{"$f":"+IF('Diario contable'!C153=\"Ventas\",'Diario contable'!F153,0)","v":0},null,null,null,{"$f":"+IF('Diario contable'!E153=\"Ventas\",'Diario contable'!F153,0)","v":0},{"$f":"IF('Diario contable'!C153=\"Ventas\",'Diario contable'!I153,IF('Diario contable'!E153=\"Ventas\",'Diario contable'!I153,0))","v":0},{"$f":"IF('Diario contable'!C153=\"Ventas\",'Diario contable'!H153,IF('Diario contable'!E153=\"Ventas\",'Diario contable'!H153,0))","v":"00:00:00"},null,null,{"$f":"+IF('Diario contable'!C153=\"Gastos por salarios\",'Diario contable'!F153,0)","v":0},null,null,null,{"$f":"+IF('Diario contable'!E153=\"Gastos por salarios\",'Diario contable'!F153,0)","v":0},{"$f":"IF('Diario contable'!C153=\"Gastos por salarios\",'Diario contable'!I153,IF('Diario contable'!E153=\"Gastos por salarios\",'Diario contable'!I153,0))","v":0},{"$f":"IF('Diario contable'!C153=\"Gastos por salarios\",'Diario contable'!H153,IF('Diario contable'!E153=\"Gastos por salarios\",'Diario contable'!H153,0))","v":"00:00:00"},null,null,{"$f":"+IF('Diario contable'!C153=\"Gastos operacionales\",'Diario contable'!F153,0)","v":0},null,null,null,{"$f":"+IF('Diario contable'!E153=\"Gastos operacionales\",'Diario contable'!F153,0)","v":0},{"$f":"IF('Diario contable'!C153=\"Gastos operacionales\",'Diario contable'!I153,IF('Diario contable'!E153=\"Gastos operacionales\",'Diario contable'!I153,0))","v":0},{"$f":"IF('Diario contable'!C153=\"Gastos operacionales\",'Diario contable'!H153,IF('Diario contable'!E153=\"Gastos operacionales\",'Diario contable'!H153,0))","v":"00:00:00"},null,null,{"$f":"+IF('Diario contable'!C153=\"Suministros de oficina\",'Diario contable'!F153,0)","v":0},null,null,null,{"$f":"+IF('Diario contable'!E153=\"Suministros de oficina\",'Diario contable'!F153,0)","v":0},{"$f":"IF('Diario contable'!C153=\"Suministros de oficina\",'Diario contable'!I153,IF('Diario contable'!E153=\"Suministros de oficina\",'Diario contable'!I153,0))","v":0},{"$f":"IF('Diario contable'!C153=\"Suministros de oficina\",'Diario contable'!H153,IF('Diario contable'!E153=\"Suministros de oficina\",'Diario contable'!H153,0))","v":"00:00:00"},null,null,{"$f":"+IF('Diario contable'!C153=\"Capital social\",'Diario contable'!F153,0)","v":0},null,null,null,{"$f":"+IF('Diario contable'!E153=\"Capital social\",'Diario contable'!F153,0)","v":0},{"$f":"IF('Diario contable'!C153=\"Capital social\",'Diario contable'!I153,IF('Diario contable'!E153=\"Capital social\",'Diario contable'!I153,0))","v":0},{"$f":"IF('Diario contable'!C153=\"Capital social\",'Diario contable'!H153,IF('Diario contable'!E153=\"Capital social\",'Diario contable'!H153,0))","v":"00:00:00"},null,null,{"$f":"+IF('Diario contable'!C153=\"Gastos de mercadeo\",'Diario contable'!F153,0)","v":0},null,null,null,{"$f":"+IF('Diario contable'!E153=\"Gastos de mercadeo\",'Diario contable'!F153,0)","v":0},{"$f":"IF('Diario contable'!C153=\"Gastos de mercadeo\",'Diario contable'!I153,IF('Diario contable'!E153=\"Gastos de mercadeo\",'Diario contable'!I153,0))","v":0},{"$f":"IF('Diario contable'!C153=\"Gastos de mercadeo\",'Diario contable'!H153,IF('Diario contable'!E153=\"Gastos de mercadeo\",'Diario contable'!H153,0))","v":"00:00:00"},null,null,{"$f":"+IF('Diario contable'!C153=\"Gastos de suministros de oficina\",'Diario contable'!F153,0)","v":0},null,null,null,{"$f":"+IF('Diario contable'!E153=\"Gastos de suministros de oficina\",'Diario contable'!F153,0)","v":0},{"$f":"IF('Diario contable'!C153=\"Gastos de suministros de oficina\",'Diario contable'!I153,IF('Diario contable'!E153=\"Gastos de suministros de oficina\",'Diario contable'!I153,0))","v":0},{"$f":"IF('Diario contable'!C153=\"Gastos de suministros de oficina\",'Diario contable'!H153,IF('Diario contable'!E153=\"Gastos de suministros de oficina\",'Diario contable'!H153,0))","v":"00:00:00"}]
[null,null,{"$f":"+IF('Diario contable'!C154=\"Caja\",'Diario contable'!F154,0)","v":0},null,null,null,{"$f":"+IF('Diario contable'!E154=\"Caja\",'Diario contable'!F154,0)","v":0},{"$f":"IF('Diario contable'!C154=\"Caja\",'Diario contable'!I154,IF('Diario contable'!E154=\"Caja\",'Diario contable'!I154,0))","v":0},{"$f":"IF('Diario contable'!C154=\"Caja\",'Diario contable'!H154,IF('Diario contable'!E154=\"Caja\",'Diario contable'!H154,0))","v":"00:00:00"},null,null,{"$f":"+IF('Diario contable'!C154=\"Maquinaria\",'Diario contable'!F154,0)","v":0},null,null,null,{"$f":"+IF('Diario contable'!E154=\"Maquinaria\",'Diario contable'!F154,0)","v":0},{"$f":"IF('Diario contable'!C154=\"Maquinaria\",'Diario contable'!I154,IF('Diario contable'!E154=\"Maquinaria\",'Diario contable'!I154,0))","v":0},{"$f":"IF('Diario contable'!C154=\"Maquinaria\",'Diario contable'!H154,IF('Diario contable'!E154=\"Maquinaria\",'Diario contable'!H154,0))","v":"00:00:00"},null,null,{"$f":"+IF('Diario contable'!C154=\"Herramientas\",'Diario contable'!F154,0)","v":0},null,null,null,{"$f":"+IF('Diario contable'!E154=\"Herramientas\",'Diario contable'!F154,0)","v":0},{"$f":"IF('Diario contable'!C154=\"Herramientas\",'Diario contable'!I154,IF('Diario contable'!E154=\"Herramientas\",'Diario contable'!I154,0))","v":0},{"$f":"IF('Diario contable'!C154=\"Herramientas\",'Diario contable'!H154,IF('Diario contable'!E154=\"Herramientas\",'Diario contable'!H154,0))","v":"00:00:00"},null,null,{"$f":"+IF('Diario contable'!C154=\"Donaciones\",'Diario contable'!F154,0)","v":0},null,null,null,{"$f":"+IF('Diario contable'!E154=\"Donaciones\",'Diario contable'!F154,0)","v":0},{"$f":"IF('Diario contable'!C154=\"Donaciones\",'Diario contable'!I154,IF('Diario contable'!E154=\"Donaciones\",'Diario contable'!I154,0))","v":0},{"$f":"IF('Diario contable'!C154=\"Donaciones\",'Diario contable'!H154,IF('Diario contable'!E154=\"Donaciones\",'Diario contable'!H154,0))","v":"00:00:00"},null,null,{"$f":"+IF('Diario contable'!C154=\"Inventario\",'Diario contable'!F154,0)","v":0},null,null,null,{"$f":"+IF('Diario contable'!E154=\"Inventario\",'Diario contable'!F154,0)","v":0},{"$f":"IF('Diario contable'!C154=\"Inventario\",'Diario contable'!I154,IF('Diario contable'!E154=\"Inventario\",'Diario contable'!I154,0))","v":0},{"$f":"IF('Diario contable'!C154=\"Inventario\",'Diario contable'!H154,IF('Diario contable'!E154=\"Inventario\",'Diario contable'!H154,0))","v":"00:00:00"},null,null,{"$f":"+IF('Diario contable'!C154=\"Costo de ventas\",'Diario contable'!F154,0)","v":0},null,null,null,{"$f":"+IF('Diario contable'!E154=\"Costo de ventas\",'Diario contable'!F154,0)","v":0},{"$f":"IF('Diario contable'!C154=\"Costo de ventas\",'Diario contable'!I154,IF('Diario contable'!E154=\"Costo de ventas\",'Diario contable'!I154,0))","v":0},{"$f":"IF('Diario contable'!C154=\"Costo de ventas\",'Diario contable'!H154,IF('Diario contable'!E154=\"Costo de ventas\",'Diario contable'!H154,0))","v":"00:00:00"},null,null,{"$f":"+IF('Diario contable'!C154=\"Ventas\",'Diario contable'!F154,0)","v":0},null,null,null,{"$f":"+IF('Diario contable'!E154=\"Ventas\",'Diario contable'!F154,0)","v":0},{"$f":"IF('Diario contable'!C154=\"Ventas\",'Diario contable'!I154,IF('Diario contable'!E154=\"Ventas\",'Diario contable'!I154,0))","v":0},{"$f":"IF('Diario contable'!C154=\"Ventas\",'Diario contable'!H154,IF('Diario contable'!E154=\"Ventas\",'Diario contable'!H154,0))","v":"00:00:00"},null,null,{"$f":"+IF('Diario contable'!C154=\"Gastos por salarios\",'Diario contable'!F154,0)","v":0},null,null,null,{"$f":"+IF('Diario contable'!E154=\"Gastos por salarios\",'Diario contable'!F154,0)","v":0},{"$f":"IF('Diario contable'!C154=\"Gastos por salarios\",'Diario contable'!I154,IF('Diario contable'!E154=\"Gastos por salarios\",'Diario contable'!I154,0))","v":0},{"$f":"IF('Diario contable'!C154=\"Gastos por salarios\",'Diario contable'!H154,IF('Diario contable'!E154=\"Gastos por salarios\",'Diario contable'!H154,0))","v":"00:00:00"},null,null,{"$f":"+IF('Diario contable'!C154=\"Gastos operacionales\",'Diario contable'!F154,0)","v":0},null,null,null,{"$f":"+IF('Diario contable'!E154=\"Gastos operacionales\",'Diario contable'!F154,0)","v":0},{"$f":"IF('Diario contable'!C154=\"Gastos operacionales\",'Diario contable'!I154,IF('Diario contable'!E154=\"Gastos operacionales\",'Diario contable'!I154,0))","v":0},{"$f":"IF('Diario contable'!C154=\"Gastos operacionales\",'Diario contable'!H154,IF('Diario contable'!E154=\"Gastos operacionales\",'Diario contable'!H154,0))","v":"00:00:00"},null,null,{"$f":"+IF('Diario contable'!C154=\"Suministros de oficina\",'Diario contable'!F154,0)","v":0},null,null,null,{"$f":"+IF('Diario contable'!E154=\"Suministros de oficina\",'Diario contable'!F154,0)","v":0},{"$f":"IF('Diario contable'!C154=\"Suministros de oficina\",'Diario contable'!I154,IF('Diario contable'!E154=\"Suministros de oficina\",'Diario contable'!I154,0))","v":0},{"$f":"IF('Diario contable'!C154=\"Suministros de oficina\",'Diario contable'!H154,IF('Diario contable'!E154=\"Suministros de oficina\",'Diario contable'!H154,0))","v":"00:00:00"},null,null,{"$f":"+IF('Diario contable'!C154=\"Capital social\",'Diario contable'!F154,0)","v":0},null,null,null,{"$f":"+IF('Diario contable'!E154=\"Capital social\",'Diario contable'!F154,0)","v":0},{"$f":"IF('Diario contable'!C154=\"Capital social\",'Diario contable'!I154,IF('Diario contable'!E154=\"Capital social\",'Diario contable'!I154,0))","v":0},{"$f":"IF('Diario contable'!C154=\"Capital social\",'Diario contable'!H154,IF('Diario contable'!E154=\"Capital social\",'Diario contable'!H154,0))","v":"00:00:00"},null,null,{"$f":"+IF('Diario contable'!C154=\"Gastos de mercadeo\",'Diario contable'!F154,0)","v":0},null,null,null,{"$f":"+IF('Diario contable'!E154=\"Gastos de mercadeo\",'Diario contable'!F154,0)","v":0},{"$f":"IF('Diario contable'!C154=\"Gastos de mercadeo\",'Diario contable'!I154,IF('Diario contable'!E154=\"Gastos de mercadeo\",'Diario contable'!I154,0))","v":0},{"$f":"IF('Diario contable'!C154=\"Gastos de mercadeo\",'Diario contable'!H154,IF('Diario contable'!E154=\"Gastos de mercadeo\",'Diario contable'!H154,0))","v":"00:00:00"},null,null,{"$f":"+IF('Diario contable'!C154=\"Gastos de suministros de oficina\",'Diario contable'!F154,0)","v":0},null,null,null,{"$f":"+IF('Diario contable'!E154=\"Gastos de suministros de oficina\",'Diario contable'!F154,0)","v":0},{"$f":"IF('Diario contable'!C154=\"Gastos de suministros de oficina\",'Diario contable'!I154,IF('Diario contable'!E154=\"Gastos de suministros de oficina\",'Diario contable'!I154,0))","v":0},{"$f":"IF('Diario contable'!C154=\"Gastos de suministros de oficina\",'Diario contable'!H154,IF('Diario contable'!E154=\"Gastos de suministros de oficina\",'Diario contable'!H154,0))","v":"00:00:00"}]
[null,null,{"$f":"+IF('Diario contable'!C155=\"Caja\",'Diario contable'!F155,0)","v":0},null,null,null,{"$f":"+IF('Diario contable'!E155=\"Caja\",'Diario contable'!F155,0)","v":0},{"$f":"IF('Diario contable'!C155=\"Caja\",'Diario contable'!I155,IF('Diario contable'!E155=\"Caja\",'Diario contable'!I155,0))","v":0},{"$f":"IF('Diario contable'!C155=\"Caja\",'Diario contable'!H155,IF('Diario contable'!E155=\"Caja\",'Diario contable'!H155,0))","v":"00:00:00"},null,null,{"$f":"+IF('Diario contable'!C155=\"Maquinaria\",'Diario contable'!F155,0)","v":0},null,null,null,{"$f":"+IF('Diario contable'!E155=\"Maquinaria\",'Diario contable'!F155,0)","v":0},{"$f":"IF('Diario contable'!C155=\"Maquinaria\",'Diario contable'!I155,IF('Diario contable'!E155=\"Maquinaria\",'Diario contable'!I155,0))","v":0},{"$f":"IF('Diario contable'!C155=\"Maquinaria\",'Diario contable'!H155,IF('Diario contable'!E155=\"Maquinaria\",'Diario contable'!H155,0))","v":"00:00:00"},null,null,{"$f":"+IF('Diario contable'!C155=\"Herramientas\",'Diario contable'!F155,0)","v":0},null,null,null,{"$f":"+IF('Diario contable'!E155=\"Herramientas\",'Diario contable'!F155,0)","v":0},{"$f":"IF('Diario contable'!C155=\"Herramientas\",'Diario contable'!I155,IF('Diario contable'!E155=\"Herramientas\",'Diario contable'!I155,0))","v":0},{"$f":"IF('Diario contable'!C155=\"Herramientas\",'Diario contable'!H155,IF('Diario contable'!E155=\"Herramientas\",'Diario contable'!H155,0))","v":"00:00:00"},null,null,{"$f":"+IF('Diario contable'!C155=\"Donaciones\",'Diario contable'!F155,0)","v":0},null,null,null,{"$f":"+IF('Diario contable'!E155=\"Donaciones\",'Diario contable'!F155,0)","v":0},{"$f":"IF('Diario contable'!C155=\"Donaciones\",'Diario contable'!I155,IF('Diario contable'!E155=\"Donaciones\",'Diario contable'!I155,0))","v":0},{"$f":"IF('Diario contable'!C155=\"Donaciones\",'Diario contable'!H155,IF('Diario contable'!E155=\"Donaciones\",'Diario contable'!H155,0))","v":"00:00:00"},null,null,{"$f":"+IF('Diario contable'!C155=\"Inventario\",'Diario contable'!F155,0)","v":0},null,null,null,{"$f":"+IF('Diario contable'!E155=\"Inventario\",'Diario contable'!F155,0)","v":0},{"$f":"IF('Diario contable'!C155=\"Inventario\",'Diario contable'!I155,IF('Diario contable'!E155=\"Inventario\",'Diario contable'!I155,0))","v":0},{"$f":"IF('Diario contable'!C155=\"Inventario\",'Diario contable'!H155,IF('Diario contable'!E155=\"Inventario\",'Diario contable'!H155,0))","v":"00:00:00"},null,null,{"$f":"+IF('Diario contable'!C155=\"Costo de ventas\",'Diario contable'!F155,0)","v":0},null,null,null,{"$f":"+IF('Diario contable'!E155=\"Costo de ventas\",'Diario contable'!F155,0)","v":0},{"$f":"IF('Diario contable'!C155=\"Costo de ventas\",'Diario contable'!I155,IF('Diario contable'!E155=\"Costo de ventas\",'Diario contable'!I155,0))","v":0},{"$f":"IF('Diario contable'!C155=\"Costo de ventas\",'Diario contable'!H155,IF('Diario contable'!E155=\"Costo de ventas\",'Diario contable'!H155,0))","v":"00:00:00"},null,null,{"$f":"+IF('Diario contable'!C155=\"Ventas\",'Diario contable'!F155,0)","v":0},null,null,null,{"$f":"+IF('Diario contable'!E155=\"Ventas\",'Diario contable'!F155,0)","v":0},{"$f":"IF('Diario contable'!C155=\"Ventas\",'Diario contable'!I155,IF('Diario contable'!E155=\"Ventas\",'Diario contable'!I155,0))","v":0},{"$f":"IF('Diario contable'!C155=\"Ventas\",'Diario contable'!H155,IF('Diario contable'!E155=\"Ventas\",'Diario contable'!H155,0))","v":"00:00:00"},null,null,{"$f":"+IF('Diario contable'!C155=\"Gastos por salarios\",'Diario contable'!F155,0)","v":0},null,null,null,{"$f":"+IF('Diario contable'!E155=\"Gastos por salarios\",'Diario contable'!F155,0)","v":0},{"$f":"IF('Diario contable'!C155=\"Gastos por salarios\",'Diario contable'!I155,IF('Diario contable'!E155=\"Gastos por salarios\",'Diario contable'!I155,0))","v":0},{"$f":"IF('Diario contable'!C155=\"Gastos por salarios\",'Diario contable'!H155,IF('Diario contable'!E155=\"Gastos por salarios\",'Diario contable'!H155,0))","v":"00:00:00"},null,null,{"$f":"+IF('Diario contable'!C155=\"Gastos operacionales\",'Diario contable'!F155,0)","v":0},null,null,null,{"$f":"+IF('Diario contable'!E155=\"Gastos operacionales\",'Diario contable'!F155,0)","v":0},{"$f":"IF('Diario contable'!C155=\"Gastos operacionales\",'Diario contable'!I155,IF('Diario contable'!E155=\"Gastos operacionales\",'Diario contable'!I155,0))","v":0},{"$f":"IF('Diario contable'!C155=\"Gastos operacionales\",'Diario contable'!H155,IF('Diario contable'!E155=\"Gastos operacionales\",'Diario contable'!H155,0))","v":"00:00:00"},null,null,{"$f":"+IF('Diario contable'!C155=\"Suministros de oficina\",'Diario contable'!F155,0)","v":0},null,null,null,{"$f":"+IF('Diario contable'!E155=\"Suministros de oficina\",'Diario contable'!F155,0)","v":0},{"$f":"IF('Diario contable'!C155=\"Suministros de oficina\",'Diario contable'!I155,IF('Diario contable'!E155=\"Suministros de oficina\",'Diario contable'!I155,0))","v":0},{"$f":"IF('Diario contable'!C155=\"Suministros de oficina\",'Diario contable'!H155,IF('Diario contable'!E155=\"Suministros de oficina\",'Diario contable'!H155,0))","v":"00:00:00"},null,null,{"$f":"+IF('Diario contable'!C155=\"Capital social\",'Diario contable'!F155,0)","v":0},null,null,null,{"$f":"+IF('Diario contable'!E155=\"Capital social\",'Diario contable'!F155,0)","v":0},{"$f":"IF('Diario contable'!C155=\"Capital social\",'Diario contable'!I155,IF('Diario contable'!E155=\"Capital social\",'Diario contable'!I155,0))","v":0},{"$f":"IF('Diario contable'!C155=\"Capital social\",'Diario contable'!H155,IF('Diario contable'!E155=\"Capital social\",'Diario contable'!H155,0))","v":"00:00:00"},null,null,{"$f":"+IF('Diario contable'!C155=\"Gastos de mercadeo\",'Diario contable'!F155,0)","v":0},null,null,null,{"$f":"+IF('Diario contable'!E155=\"Gastos de mercadeo\",'Diario contable'!F155,0)","v":0},{"$f":"IF('Diario contable'!C155=\"Gastos de mercadeo\",'Diario contable'!I155,IF('Diario contable'!E155=\"Gastos de mercadeo\",'Diario contable'!I155,0))","v":0},{"$f":"IF('Diario contable'!C155=\"Gastos de mercadeo\",'Diario contable'!H155,IF('Diario contable'!E155=\"Gastos de mercadeo\",'Diario contable'!H155,0))","v":"00:00:00"},null,null,{"$f":"+IF('Diario contable'!C155=\"Gastos de suministros de oficina\",'Diario contable'!F155,0)","v":0},null,null,null,{"$f":"+IF('Diario contable'!E155=\"Gastos de suministros de oficina\",'Diario contable'!F155,0)","v":0},{"$f":"IF('Diario contable'!C155=\"Gastos de suministros de oficina\",'Diario contable'!I155,IF('Diario contable'!E155=\"Gastos de suministros de oficina\",'Diario contable'!I155,0))","v":0},{"$f":"IF('Diario contable'!C155=\"Gastos de suministros de oficina\",'Diario contable'!H155,IF('Diario contable'!E155=\"Gastos de suministros de oficina\",'Diario contable'!H155,0))","v":"00:00:00"}]
[null,null,{"$f":"+IF('Diario contable'!C156=\"Caja\",'Diario contable'!F156,0)","v":0},null,null,null,{"$f":"+IF('Diario contable'!E156=\"Caja\",'Diario contable'!F156,0)","v":0},{"$f":"IF('Diario contable'!C156=\"Caja\",'Diario contable'!I156,IF('Diario contable'!E156=\"Caja\",'Diario contable'!I156,0))","v":0},{"$f":"IF('Diario contable'!C156=\"Caja\",'Diario contable'!H156,IF('Diario contable'!E156=\"Caja\",'Diario contable'!H156,0))","v":"00:00:00"},null,null,{"$f":"+IF('Diario contable'!C156=\"Maquinaria\",'Diario contable'!F156,0)","v":0},null,null,null,{"$f":"+IF('Diario contable'!E156=\"Maquinaria\",'Diario contable'!F156,0)","v":0},{"$f":"IF('Diario contable'!C156=\"Maquinaria\",'Diario contable'!I156,IF('Diario contable'!E156=\"Maquinaria\",'Diario contable'!I156,0))","v":0},{"$f":"IF('Diario contable'!C156=\"Maquinaria\",'Diario contable'!H156,IF('Diario contable'!E156=\"Maquinaria\",'Diario contable'!H156,0))","v":"00:00:00"},null,null,{"$f":"+IF('Diario contable'!C156=\"Herramientas\",'Diario contable'!F156,0)","v":0},null,null,null,{"$f":"+IF('Diario contable'!E156=\"Herramientas\",'Diario contable'!F156,0)","v":0},{"$f":"IF('Diario contable'!C156=\"Herramientas\",'Diario contable'!I156,IF('Diario contable'!E156=\"Herramientas\",'Diario contable'!I156,0))","v":0},{"$f":"IF('Diario contable'!C156=\"Herramientas\",'Diario contable'!H156,IF('Diario contable'!E156=\"Herramientas\",'Diario contable'!H156,0))","v":"00:00:00"},null,null,{"$f":"+IF('Diario contable'!C156=\"Donaciones\",'Diario contable'!F156,0)","v":0},null,null,null,{"$f":"+IF('Diario contable'!E156=\"Donaciones\",'Diario contable'!F156,0)","v":0},{"$f":"IF('Diario contable'!C156=\"Donaciones\",'Diario contable'!I156,IF('Diario contable'!E156=\"Donaciones\",'Diario contable'!I156,0))","v":0},{"$f":"IF('Diario contable'!C156=\"Donaciones\",'Diario contable'!H156,IF('Diario contable'!E156=\"Donaciones\",'Diario contable'!H156,0))","v":"00:00:00"},null,null,{"$f":"+IF('Diario contable'!C156=\"Inventario\",'Diario contable'!F156,0)","v":0},null,null,null,{"$f":"+IF('Diario contable'!E156=\"Inventario\",'Diario contable'!F156,0)","v":0},{"$f":"IF('Diario contable'!C156=\"Inventario\",'Diario contable'!I156,IF('Diario contable'!E156=\"Inventario\",'Diario contable'!I156,0))","v":0},{"$f":"IF('Diario contable'!C156=\"Inventario\",'Diario contable'!H156,IF('Diario contable'!E156=\"Inventario\",'Diario contable'!H156,0))","v":"00:00:00"},null,null,{"$f":"+IF('Diario contable'!C156=\"Costo de ventas\",'Diario contable'!F156,0)","v":0},null,null,null,{"$f":"+IF('Diario contable'!E156=\"Costo de ventas\",'Diario contable'!F156,0)","v":0},{"$f":"IF('Diario contable'!C156=\"Costo de ventas\",'Diario contable'!I156,IF('Diario contable'!E156=\"Costo de ventas\",'Diario contable'!I156,0))","v":0},{"$f":"IF('Diario contable'!C156=\"Costo de ventas\",'Diario contable'!H156,IF('Diario contable'!E156=\"Costo de ventas\",'Diario contable'!H156,0))","v":"00:00:00"},null,null,{"$f":"+IF('Diario contable'!C156=\"Ventas\",'Diario contable'!F156,0)","v":0},null,null,null,{"$f":"+IF('Diario contable'!E156=\"Ventas\",'Diario contable'!F156,0)","v":0},{"$f":"IF('Diario contable'!C156=\"Ventas\",'Diario contable'!I156,IF('Diario contable'!E156=\"Ventas\",'Diario contable'!I156,0))","v":0},{"$f":"IF('Diario contable'!C156=\"Ventas\",'Diario contable'!H156,IF('Diario contable'!E156=\"Ventas\",'Diario contable'!H156,0))","v":"00:00:00"},null,null,{"$f":"+IF('Diario contable'!C156=\"Gastos por salarios\",'Diario contable'!F156,0)","v":0},null,null,null,{"$f":"+IF('Diario contable'!E156=\"Gastos por salarios\",'Diario contable'!F156,0)","v":0},{"$f":"IF('Diario contable'!C156=\"Gastos por salarios\",'Diario contable'!I156,IF('Diario contable'!E156=\"Gastos por salarios\",'Diario contable'!I156,0))","v":0},{"$f":"IF('Diario contable'!C156=\"Gastos por salarios\",'Diario contable'!H156,IF('Diario contable'!E156=\"Gastos por salarios\",'Diario contable'!H156,0))","v":"00:00:00"},null,null,{"$f":"+IF('Diario contable'!C156=\"Gastos operacionales\",'Diario contable'!F156,0)","v":0},null,null,null,{"$f":"+IF('Diario contable'!E156=\"Gastos operacionales\",'Diario contable'!F156,0)","v":0},{"$f":"IF('Diario contable'!C156=\"Gastos operacionales\",'Diario contable'!I156,IF('Diario contable'!E156=\"Gastos operacionales\",'Diario contable'!I156,0))","v":0},{"$f":"IF('Diario contable'!C156=\"Gastos operacionales\",'Diario contable'!H156,IF('Diario contable'!E156=\"Gastos operacionales\",'Diario contable'!H156,0))","v":"00:00:00"},null,null,{"$f":"+IF('Diario contable'!C156=\"Suministros de oficina\",'Diario contable'!F156,0)","v":0},null,null,null,{"$f":"+IF('Diario contable'!E156=\"Suministros de oficina\",'Diario contable'!F156,0)","v":0},{"$f":"IF('Diario contable'!C156=\"Suministros de oficina\",'Diario contable'!I156,IF('Diario contable'!E156=\"Suministros de oficina\",'Diario contable'!I156,0))","v":0},{"$f":"IF('Diario contable'!C156=\"Suministros de oficina\",'Diario contable'!H156,IF('Diario contable'!E156=\"Suministros de oficina\",'Diario contable'!H156,0))","v":"00:00:00"},null,null,{"$f":"+IF('Diario contable'!C156=\"Capital social\",'Diario contable'!F156,0)","v":0},null,null,null,{"$f":"+IF('Diario contable'!E156=\"Capital social\",'Diario contable'!F156,0)","v":0},{"$f":"IF('Diario contable'!C156=\"Capital social\",'Diario contable'!I156,IF('Diario contable'!E156=\"Capital social\",'Diario contable'!I156,0))","v":0},{"$f":"IF('Diario contable'!C156=\"Capital social\",'Diario contable'!H156,IF('Diario contable'!E156=\"Capital social\",'Diario contable'!H156,0))","v":"00:00:00"},null,null,{"$f":"+IF('Diario contable'!C156=\"Gastos de mercadeo\",'Diario contable'!F156,0)","v":0},null,null,null,{"$f":"+IF('Diario contable'!E156=\"Gastos de mercadeo\",'Diario contable'!F156,0)","v":0},{"$f":"IF('Diario contable'!C156=\"Gastos de mercadeo\",'Diario contable'!I156,IF('Diario contable'!E156=\"Gastos de mercadeo\",'Diario contable'!I156,0))","v":0},{"$f":"IF('Diario contable'!C156=\"Gastos de mercadeo\",'Diario contable'!H156,IF('Diario contable'!E156=\"Gastos de mercadeo\",'Diario contable'!H156,0))","v":"00:00:00"},null,null,{"$f":"+IF('Diario contable'!C156=\"Gastos de suministros de oficina\",'Diario contable'!F156,0)","v":0},null,null,null,{"$f":"+IF('Diario contable'!E156=\"Gastos de suministros de oficina\",'Diario contable'!F156,0)","v":0},{"$f":"IF('Diario contable'!C156=\"Gastos de suministros de oficina\",'Diario contable'!I156,IF('Diario contable'!E156=\"Gastos de suministros de oficina\",'Diario contable'!I156,0))","v":0},{"$f":"IF('Diario contable'!C156=\"Gastos de suministros de oficina\",'Diario contable'!H156,IF('Diario contable'!E156=\"Gastos de suministros de oficina\",'Diario contable'!H156,0))","v":"00:00:00"}]
[null,null,{"$f":"+IF('Diario contable'!C157=\"Caja\",'Diario contable'!F157,0)","v":0},null,null,null,{"$f":"+IF('Diario contable'!E157=\"Caja\",'Diario contable'!F157,0)","v":0},{"$f":"IF('Diario contable'!C157=\"Caja\",'Diario contable'!I157,IF('Diario contable'!E157=\"Caja\",'Diario contable'!I157,0))","v":0},{"$f":"IF('Diario contable'!C157=\"Caja\",'Diario contable'!H157,IF('Diario contable'!E157=\"Caja\",'Diario contable'!H157,0))","v":"00:00:00"},null,null,{"$f":"+IF('Diario contable'!C157=\"Maquinaria\",'Diario contable'!F157,0)","v":0},null,null,null,{"$f":"+IF('Diario contable'!E157=\"Maquinaria\",'Diario contable'!F157,0)","v":0},{"$f":"IF('Diario contable'!C157=\"Maquinaria\",'Diario contable'!I157,IF('Diario contable'!E157=\"Maquinaria\",'Diario contable'!I157,0))","v":0},{"$f":"IF('Diario contable'!C157=\"Maquinaria\",'Diario contable'!H157,IF('Diario contable'!E157=\"Maquinaria\",'Diario contable'!H157,0))","v":"00:00:00"},null,null,{"$f":"+IF('Diario contable'!C157=\"Herramientas\",'Diario contable'!F157,0)","v":0},null,null,null,{"$f":"+IF('Diario contable'!E157=\"Herramientas\",'Diario contable'!F157,0)","v":0},{"$f":"IF('Diario contable'!C157=\"Herramientas\",'Diario contable'!I157,IF('Diario contable'!E157=\"Herramientas\",'Diario contable'!I157,0))","v":0},{"$f":"IF('Diario contable'!C157=\"Herramientas\",'Diario contable'!H157,IF('Diario contable'!E157=\"Herramientas\",'Diario contable'!H157,0))","v":"00:00:00"},null,null,{"$f":"+IF('Diario contable'!C157=\"Donaciones\",'Diario contable'!F157,0)","v":0},null,null,null,{"$f":"+IF('Diario contable'!E157=\"Donaciones\",'Diario contable'!F157,0)","v":0},{"$f":"IF('Diario contable'!C157=\"Donaciones\",'Diario contable'!I157,IF('Diario contable'!E157=\"Donaciones\",'Diario contable'!I157,0))","v":0},{"$f":"IF('Diario contable'!C157=\"Donaciones\",'Diario contable'!H157,IF('Diario contable'!E157=\"Donaciones\",'Diario contable'!H157,0))","v":"00:00:00"},null,null,{"$f":"+IF('Diario contable'!C157=\"Inventario\",'Diario contable'!F157,0)","v":0},null,null,null,{"$f":"+IF('Diario contable'!E157=\"Inventario\",'Diario contable'!F157,0)","v":0},{"$f":"IF('Diario contable'!C157=\"Inventario\",'Diario contable'!I157,IF('Diario contable'!E157=\"Inventario\",'Diario contable'!I157,0))","v":0},{"$f":"IF('Diario contable'!C157=\"Inventario\",'Diario contable'!H157,IF('Diario contable'!E157=\"Inventario\",'Diario contable'!H157,0))","v":"00:00:00"},null,null,{"$f":"+IF('Diario contable'!C157=\"Costo de ventas\",'Diario contable'!F157,0)","v":0},null,null,null,{"$f":"+IF('Diario contable'!E157=\"Costo de ventas\",'Diario contable'!F157,0)","v":0},{"$f":"IF('Diario contable'!C157=\"Costo de ventas\",'Diario contable'!I157,IF('Diario contable'!E157=\"Costo de ventas\",'Diario contable'!I157,0))","v":0},{"$f":"IF('Diario contable'!C157=\"Costo de ventas\",'Diario contable'!H157,IF('Diario contable'!E157=\"Costo de ventas\",'Diario contable'!H157,0))","v":"00:00:00"},null,null,{"$f":"+IF('Diario contable'!C157=\"Ventas\",'Diario contable'!F157,0)","v":0},null,null,null,{"$f":"+IF('Diario contable'!E157=\"Ventas\",'Diario contable'!F157,0)","v":0},{"$f":"IF('Diario contable'!C157=\"Ventas\",'Diario contable'!I157,IF('Diario contable'!E157=\"Ventas\",'Diario contable'!I157,0))","v":0},{"$f":"IF('Diario contable'!C157=\"Ventas\",'Diario contable'!H157,IF('Diario contable'!E157=\"Ventas\",'Diario contable'!H157,0))","v":"00:00:00"},null,null,{"$f":"+IF('Diario contable'!C157=\"Gastos por salarios\",'Diario contable'!F157,0)","v":0},null,null,null,{"$f":"+IF('Diario contable'!E157=\"Gastos por salarios\",'Diario contable'!F157,0)","v":0},{"$f":"IF('Diario contable'!C157=\"Gastos por salarios\",'Diario contable'!I157,IF('Diario contable'!E157=\"Gastos por salarios\",'Diario contable'!I157,0))","v":0},{"$f":"IF('Diario contable'!C157=\"Gastos por salarios\",'Diario contable'!H157,IF('Diario contable'!E157=\"Gastos por salarios\",'Diario contable'!H157,0))","v":"00:00:00"},null,null,{"$f":"+IF('Diario contable'!C157=\"Gastos operacionales\",'Diario contable'!F157,0)","v":0},null,null,null,{"$f":"+IF('Diario contable'!E157=\"Gastos operacionales\",'Diario contable'!F157,0)","v":0},{"$f":"IF('Diario contable'!C157=\"Gastos operacionales\",'Diario contable'!I157,IF('Diario contable'!E157=\"Gastos operacionales\",'Diario contable'!I157,0))","v":0},{"$f":"IF('Diario contable'!C157=\"Gastos operacionales\",'Diario contable'!H157,IF('Diario contable'!E157=\"Gastos operacionales\",'Diario contable'!H157,0))","v":"00:00:00"},null,null,{"$f":"+IF('Diario contable'!C157=\"Suministros de oficina\",'Diario contable'!F157,0)","v":0},null,null,null,{"$f":"+IF('Diario contable'!E157=\"Suministros de oficina\",'Diario contable'!F157,0)","v":0},{"$f":"IF('Diario contable'!C157=\"Suministros de oficina\",'Diario contable'!I157,IF('Diario contable'!E157=\"Suministros de oficina\",'Diario contable'!I157,0))","v":0},{"$f":"IF('Diario contable'!C157=\"Suministros de oficina\",'Diario contable'!H157,IF('Diario contable'!E157=\"Suministros de oficina\",'Diario contable'!H157,0))","v":"00:00:00"},null,null,{"$f":"+IF('Diario contable'!C157=\"Capital social\",'Diario contable'!F157,0)","v":0},null,null,null,{"$f":"+IF('Diario contable'!E157=\"Capital social\",'Diario contable'!F157,0)","v":0},{"$f":"IF('Diario contable'!C157=\"Capital social\",'Diario contable'!I157,IF('Diario contable'!E157=\"Capital social\",'Diario contable'!I157,0))","v":0},{"$f":"IF('Diario contable'!C157=\"Capital social\",'Diario contable'!H157,IF('Diario contable'!E157=\"Capital social\",'Diario contable'!H157,0))","v":"00:00:00"},null,null,{"$f":"+IF('Diario contable'!C157=\"Gastos de mercadeo\",'Diario contable'!F157,0)","v":0},null,null,null,{"$f":"+IF('Diario contable'!E157=\"Gastos de mercadeo\",'Diario contable'!F157,0)","v":0},{"$f":"IF('Diario contable'!C157=\"Gastos de mercadeo\",'Diario contable'!I157,IF('Diario contable'!E157=\"Gastos de mercadeo\",'Diario contable'!I157,0))","v":0},{"$f":"IF('Diario contable'!C157=\"Gastos de mercadeo\",'Diario contable'!H157,IF('Diario contable'!E157=\"Gastos de mercadeo\",'Diario contable'!H157,0))","v":"00:00:00"},null,null,{"$f":"+IF('Diario contable'!C157=\"Gastos de suministros de oficina\",'Diario contable'!F157,0)","v":0},null,null,null,{"$f":"+IF('Diario contable'!E157=\"Gastos de suministros de oficina\",'Diario contable'!F157,0)","v":0},{"$f":"IF('Diario contable'!C157=\"Gastos de suministros de oficina\",'Diario contable'!I157,IF('Diario contable'!E157=\"Gastos de suministros de oficina\",'Diario contable'!I157,0))","v":0},{"$f":"IF('Diario contable'!C157=\"Gastos de suministros de oficina\",'Diario contable'!H157,IF('Diario contable'!E157=\"Gastos de suministros de oficina\",'Diario contable'!H157,0))","v":"00:00:00"}]
[null,null,{"$f":"+IF('Diario contable'!C158=\"Caja\",'Diario contable'!F158,0)","v":0},null,null,null,{"$f":"+IF('Diario contable'!E158=\"Caja\",'Diario contable'!F158,0)","v":0},{"$f":"IF('Diario contable'!C158=\"Caja\",'Diario contable'!I158,IF('Diario contable'!E158=\"Caja\",'Diario contable'!I158,0))","v":0},{"$f":"IF('Diario contable'!C158=\"Caja\",'Diario contable'!H158,IF('Diario contable'!E158=\"Caja\",'Diario contable'!H158,0))","v":"00:00:00"},null,null,{"$f":"+IF('Diario contable'!C158=\"Maquinaria\",'Diario contable'!F158,0)","v":0},null,null,null,{"$f":"+IF('Diario contable'!E158=\"Maquinaria\",'Diario contable'!F158,0)","v":0},{"$f":"IF('Diario contable'!C158=\"Maquinaria\",'Diario contable'!I158,IF('Diario contable'!E158=\"Maquinaria\",'Diario contable'!I158,0))","v":0},{"$f":"IF('Diario contable'!C158=\"Maquinaria\",'Diario contable'!H158,IF('Diario contable'!E158=\"Maquinaria\",'Diario contable'!H158,0))","v":"00:00:00"},null,null,{"$f":"+IF('Diario contable'!C158=\"Herramientas\",'Diario contable'!F158,0)","v":0},null,null,null,{"$f":"+IF('Diario contable'!E158=\"Herramientas\",'Diario contable'!F158,0)","v":0},{"$f":"IF('Diario contable'!C158=\"Herramientas\",'Diario contable'!I158,IF('Diario contable'!E158=\"Herramientas\",'Diario contable'!I158,0))","v":0},{"$f":"IF('Diario contable'!C158=\"Herramientas\",'Diario contable'!H158,IF('Diario contable'!E158=\"Herramientas\",'Diario contable'!H158,0))","v":"00:00:00"},null,null,{"$f":"+IF('Diario contable'!C158=\"Donaciones\",'Diario contable'!F158,0)","v":0},null,null,null,{"$f":"+IF('Diario contable'!E158=\"Donaciones\",'Diario contable'!F158,0)","v":0},{"$f":"IF('Diario contable'!C158=\"Donaciones\",'Diario contable'!I158,IF('Diario contable'!E158=\"Donaciones\",'Diario contable'!I158,0))","v":0},{"$f":"IF('Diario contable'!C158=\"Donaciones\",'Diario contable'!H158,IF('Diario contable'!E158=\"Donaciones\",'Diario contable'!H158,0))","v":"00:00:00"},null,null,{"$f":"+IF('Diario contable'!C158=\"Inventario\",'Diario contable'!F158,0)","v":0},null,null,null,{"$f":"+IF('Diario contable'!E158=\"Inventario\",'Diario contable'!F158,0)","v":0},{"$f":"IF('Diario contable'!C158=\"Inventario\",'Diario contable'!I158,IF('Diario contable'!E158=\"Inventario\",'Diario contable'!I158,0))","v":0},{"$f":"IF('Diario contable'!C158=\"Inventario\",'Diario contable'!H158,IF('Diario contable'!E158=\"Inventario\",'Diario contable'!H158,0))","v":"00:00:00"},null,null,{"$f":"+IF('Diario contable'!C158=\"Costo de ventas\",'Diario contable'!F158,0)","v":0},null,null,null,{"$f":"+IF('Diario contable'!E158=\"Costo de ventas\",'Diario contable'!F158,0)","v":0},{"$f":"IF('Diario contable'!C158=\"Costo de ventas\",'Diario contable'!I158,IF('Diario contable'!E158=\"Costo de ventas\",'Diario contable'!I158,0))","v":0},{"$f":"IF('Diario contable'!C158=\"Costo de ventas\",'Diario contable'!H158,IF('Diario contable'!E158=\"Costo de ventas\",'Diario contable'!H158,0))","v":"00:00:00"},null,null,{"$f":"+IF('Diario contable'!C158=\"Ventas\",'Diario contable'!F158,0)","v":0},null,null,null,{"$f":"+IF('Diario contable'!E158=\"Ventas\",'Diario contable'!F158,0)","v":0},{"$f":"IF('Diario contable'!C158=\"Ventas\",'Diario contable'!I158,IF('Diario contable'!E158=\"Ventas\",'Diario contable'!I158,0))","v":0},{"$f":"IF('Diario contable'!C158=\"Ventas\",'Diario contable'!H158,IF('Diario contable'!E158=\"Ventas\",'Diario contable'!H158,0))","v":"00:00:00"},null,null,{"$f":"+IF('Diario contable'!C158=\"Gastos por salarios\",'Diario contable'!F158,0)","v":0},null,null,null,{"$f":"+IF('Diario contable'!E158=\"Gastos por salarios\",'Diario contable'!F158,0)","v":0},{"$f":"IF('Diario contable'!C158=\"Gastos por salarios\",'Diario contable'!I158,IF('Diario contable'!E158=\"Gastos por salarios\",'Diario contable'!I158,0))","v":0},{"$f":"IF('Diario contable'!C158=\"Gastos por salarios\",'Diario contable'!H158,IF('Diario contable'!E158=\"Gastos por salarios\",'Diario contable'!H158,0))","v":"00:00:00"},null,null,{"$f":"+IF('Diario contable'!C158=\"Gastos operacionales\",'Diario contable'!F158,0)","v":0},null,null,null,{"$f":"+IF('Diario contable'!E158=\"Gastos operacionales\",'Diario contable'!F158,0)","v":0},{"$f":"IF('Diario contable'!C158=\"Gastos operacionales\",'Diario contable'!I158,IF('Diario contable'!E158=\"Gastos operacionales\",'Diario contable'!I158,0))","v":0},{"$f":"IF('Diario contable'!C158=\"Gastos operacionales\",'Diario contable'!H158,IF('Diario contable'!E158=\"Gastos operacionales\",'Diario contable'!H158,0))","v":"00:00:00"},null,null,{"$f":"+IF('Diario contable'!C158=\"Suministros de oficina\",'Diario contable'!F158,0)","v":0},null,null,null,{"$f":"+IF('Diario contable'!E158=\"Suministros de oficina\",'Diario contable'!F158,0)","v":0},{"$f":"IF('Diario contable'!C158=\"Suministros de oficina\",'Diario contable'!I158,IF('Diario contable'!E158=\"Suministros de oficina\",'Diario contable'!I158,0))","v":0},{"$f":"IF('Diario contable'!C158=\"Suministros de oficina\",'Diario contable'!H158,IF('Diario contable'!E158=\"Suministros de oficina\",'Diario contable'!H158,0))","v":"00:00:00"},null,null,{"$f":"+IF('Diario contable'!C158=\"Capital social\",'Diario contable'!F158,0)","v":0},null,null,null,{"$f":"+IF('Diario contable'!E158=\"Capital social\",'Diario contable'!F158,0)","v":0},{"$f":"IF('Diario contable'!C158=\"Capital social\",'Diario contable'!I158,IF('Diario contable'!E158=\"Capital social\",'Diario contable'!I158,0))","v":0},{"$f":"IF('Diario contable'!C158=\"Capital social\",'Diario contable'!H158,IF('Diario contable'!E158=\"Capital social\",'Diario contable'!H158,0))","v":"00:00:00"},null,null,{"$f":"+IF('Diario contable'!C158=\"Gastos de mercadeo\",'Diario contable'!F158,0)","v":0},null,null,null,{"$f":"+IF('Diario contable'!E158=\"Gastos de mercadeo\",'Diario contable'!F158,0)","v":0},{"$f":"IF('Diario contable'!C158=\"Gastos de mercadeo\",'Diario contable'!I158,IF('Diario contable'!E158=\"Gastos de mercadeo\",'Diario contable'!I158,0))","v":0},{"$f":"IF('Diario contable'!C158=\"Gastos de mercadeo\",'Diario contable'!H158,IF('Diario contable'!E158=\"Gastos de mercadeo\",'Diario contable'!H158,0))","v":"00:00:00"},null,null,{"$f":"+IF('Diario contable'!C158=\"Gastos de suministros de oficina\",'Diario contable'!F158,0)","v":0},null,null,null,{"$f":"+IF('Diario contable'!E158=\"Gastos de suministros de oficina\",'Diario contable'!F158,0)","v":0},{"$f":"IF('Diario contable'!C158=\"Gastos de suministros de oficina\",'Diario contable'!I158,IF('Diario contable'!E158=\"Gastos de suministros de oficina\",'Diario contable'!I158,0))","v":0},{"$f":"IF('Diario contable'!C158=\"Gastos de suministros de oficina\",'Diario contable'!H158,IF('Diario contable'!E158=\"Gastos de suministros de oficina\",'Diario contable'!H158,0))","v":"00:00:00"}]
[null,null,{"$f":"+IF('Diario contable'!C159=\"Caja\",'Diario contable'!F159,0)","v":0},null,null,null,{"$f":"+IF('Diario contable'!E159=\"Caja\",'Diario contable'!F159,0)","v":0},{"$f":"IF('Diario contable'!C159=\"Caja\",'Diario contable'!I159,IF('Diario contable'!E159=\"Caja\",'Diario contable'!I159,0))","v":0},{"$f":"IF('Diario contable'!C159=\"Caja\",'Diario contable'!H159,IF('Diario contable'!E159=\"Caja\",'Diario contable'!H159,0))","v":"00:00:00"},null,null,{"$f":"+IF('Diario contable'!C159=\"Maquinaria\",'Diario contable'!F159,0)","v":0},null,null,null,{"$f":"+IF('Diario contable'!E159=\"Maquinaria\",'Diario contable'!F159,0)","v":0},{"$f":"IF('Diario contable'!C159=\"Maquinaria\",'Diario contable'!I159,IF('Diario contable'!E159=\"Maquinaria\",'Diario contable'!I159,0))","v":0},{"$f":"IF('Diario contable'!C159=\"Maquinaria\",'Diario contable'!H159,IF('Diario contable'!E159=\"Maquinaria\",'Diario contable'!H159,0))","v":"00:00:00"},null,null,{"$f":"+IF('Diario contable'!C159=\"Herramientas\",'Diario contable'!F159,0)","v":0},null,null,null,{"$f":"+IF('Diario contable'!E159=\"Herramientas\",'Diario contable'!F159,0)","v":0},{"$f":"IF('Diario contable'!C159=\"Herramientas\",'Diario contable'!I159,IF('Diario contable'!E159=\"Herramientas\",'Diario contable'!I159,0))","v":0},{"$f":"IF('Diario contable'!C159=\"Herramientas\",'Diario contable'!H159,IF('Diario contable'!E159=\"Herramientas\",'Diario contable'!H159,0))","v":"00:00:00"},null,null,{"$f":"+IF('Diario contable'!C159=\"Donaciones\",'Diario contable'!F159,0)","v":0},null,null,null,{"$f":"+IF('Diario contable'!E159=\"Donaciones\",'Diario contable'!F159,0)","v":0},{"$f":"IF('Diario contable'!C159=\"Donaciones\",'Diario contable'!I159,IF('Diario contable'!E159=\"Donaciones\",'Diario contable'!I159,0))","v":0},{"$f":"IF('Diario contable'!C159=\"Donaciones\",'Diario contable'!H159,IF('Diario contable'!E159=\"Donaciones\",'Diario contable'!H159,0))","v":"00:00:00"},null,null,{"$f":"+IF('Diario contable'!C159=\"Inventario\",'Diario contable'!F159,0)","v":0},null,null,null,{"$f":"+IF('Diario contable'!E159=\"Inventario\",'Diario contable'!F159,0)","v":0},{"$f":"IF('Diario contable'!C159=\"Inventario\",'Diario contable'!I159,IF('Diario contable'!E159=\"Inventario\",'Diario contable'!I159,0))","v":0},{"$f":"IF('Diario contable'!C159=\"Inventario\",'Diario contable'!H159,IF('Diario contable'!E159=\"Inventario\",'Diario contable'!H159,0))","v":"00:00:00"},null,null,{"$f":"+IF('Diario contable'!C159=\"Costo de ventas\",'Diario contable'!F159,0)","v":0},null,null,null,{"$f":"+IF('Diario contable'!E159=\"Costo de ventas\",'Diario contable'!F159,0)","v":0},{"$f":"IF('Diario contable'!C159=\"Costo de ventas\",'Diario contable'!I159,IF('Diario contable'!E159=\"Costo de ventas\",'Diario contable'!I159,0))","v":0},{"$f":"IF('Diario contable'!C159=\"Costo de ventas\",'Diario contable'!H159,IF('Diario contable'!E159=\"Costo de ventas\",'Diario contable'!H159,0))","v":"00:00:00"},null,null,{"$f":"+IF('Diario contable'!C159=\"Ventas\",'Diario contable'!F159,0)","v":0},null,null,null,{"$f":"+IF('Diario contable'!E159=\"Ventas\",'Diario contable'!F159,0)","v":0},{"$f":"IF('Diario contable'!C159=\"Ventas\",'Diario contable'!I159,IF('Diario contable'!E159=\"Ventas\",'Diario contable'!I159,0))","v":0},{"$f":"IF('Diario contable'!C159=\"Ventas\",'Diario contable'!H159,IF('Diario contable'!E159=\"Ventas\",'Diario contable'!H159,0))","v":"00:00:00"},null,null,{"$f":"+IF('Diario contable'!C159=\"Gastos por salarios\",'Diario contable'!F159,0)","v":0},null,null,null,{"$f":"+IF('Diario contable'!E159=\"Gastos por salarios\",'Diario contable'!F159,0)","v":0},{"$f":"IF('Diario contable'!C159=\"Gastos por salarios\",'Diario contable'!I159,IF('Diario contable'!E159=\"Gastos por salarios\",'Diario contable'!I159,0))","v":0},{"$f":"IF('Diario contable'!C159=\"Gastos por salarios\",'Diario contable'!H159,IF('Diario contable'!E159=\"Gastos por salarios\",'Diario contable'!H159,0))","v":"00:00:00"},null,null,{"$f":"+IF('Diario contable'!C159=\"Gastos operacionales\",'Diario contable'!F159,0)","v":0},null,null,null,{"$f":"+IF('Diario contable'!E159=\"Gastos operacionales\",'Diario contable'!F159,0)","v":0},{"$f":"IF('Diario contable'!C159=\"Gastos operacionales\",'Diario contable'!I159,IF('Diario contable'!E159=\"Gastos operacionales\",'Diario contable'!I159,0))","v":0},{"$f":"IF('Diario contable'!C159=\"Gastos operacionales\",'Diario contable'!H159,IF('Diario contable'!E159=\"Gastos operacionales\",'Diario contable'!H159,0))","v":"00:00:00"},null,null,{"$f":"+IF('Diario contable'!C159=\"Suministros de oficina\",'Diario contable'!F159,0)","v":0},null,null,null,{"$f":"+IF('Diario contable'!E159=\"Suministros de oficina\",'Diario contable'!F159,0)","v":0},{"$f":"IF('Diario contable'!C159=\"Suministros de oficina\",'Diario contable'!I159,IF('Diario contable'!E159=\"Suministros de oficina\",'Diario contable'!I159,0))","v":0},{"$f":"IF('Diario contable'!C159=\"Suministros de oficina\",'Diario contable'!H159,IF('Diario contable'!E159=\"Suministros de oficina\",'Diario contable'!H159,0))","v":"00:00:00"},null,null,{"$f":"+IF('Diario contable'!C159=\"Capital social\",'Diario contable'!F159,0)","v":0},null,null,null,{"$f":"+IF('Diario contable'!E159=\"Capital social\",'Diario contable'!F159,0)","v":0},{"$f":"IF('Diario contable'!C159=\"Capital social\",'Diario contable'!I159,IF('Diario contable'!E159=\"Capital social\",'Diario contable'!I159,0))","v":0},{"$f":"IF('Diario contable'!C159=\"Capital social\",'Diario contable'!H159,IF('Diario contable'!E159=\"Capital social\",'Diario contable'!H159,0))","v":"00:00:00"},null,null,{"$f":"+IF('Diario contable'!C159=\"Gastos de mercadeo\",'Diario contable'!F159,0)","v":0},null,null,null,{"$f":"+IF('Diario contable'!E159=\"Gastos de mercadeo\",'Diario contable'!F159,0)","v":0},{"$f":"IF('Diario contable'!C159=\"Gastos de mercadeo\",'Diario contable'!I159,IF('Diario contable'!E159=\"Gastos de mercadeo\",'Diario contable'!I159,0))","v":0},{"$f":"IF('Diario contable'!C159=\"Gastos de mercadeo\",'Diario contable'!H159,IF('Diario contable'!E159=\"Gastos de mercadeo\",'Diario contable'!H159,0))","v":"00:00:00"},null,null,{"$f":"+IF('Diario contable'!C159=\"Gastos de suministros de oficina\",'Diario contable'!F159,0)","v":0},null,null,null,{"$f":"+IF('Diario contable'!E159=\"Gastos de suministros de oficina\",'Diario contable'!F159,0)","v":0},{"$f":"IF('Diario contable'!C159=\"Gastos de suministros de oficina\",'Diario contable'!I159,IF('Diario contable'!E159=\"Gastos de suministros de oficina\",'Diario contable'!I159,0))","v":0},{"$f":"IF('Diario contable'!C159=\"Gastos de suministros de oficina\",'Diario contable'!H159,IF('Diario contable'!E159=\"Gastos de suministros de oficina\",'Diario contable'!H159,0))","v":"00:00:00"}]
[null,null,{"$f":"+IF('Diario contable'!C160=\"Caja\",'Diario contable'!F160,0)","v":0},null,null,null,{"$f":"+IF('Diario contable'!E160=\"Caja\",'Diario contable'!F160,0)","v":0},{"$f":"IF('Diario contable'!C160=\"Caja\",'Diario contable'!I160,IF('Diario contable'!E160=\"Caja\",'Diario contable'!I160,0))","v":0},{"$f":"IF('Diario contable'!C160=\"Caja\",'Diario contable'!H160,IF('Diario contable'!E160=\"Caja\",'Diario contable'!H160,0))","v":"00:00:00"},null,null,{"$f":"+IF('Diario contable'!C160=\"Maquinaria\",'Diario contable'!F160,0)","v":0},null,null,null,{"$f":"+IF('Diario contable'!E160=\"Maquinaria\",'Diario contable'!F160,0)","v":0},{"$f":"IF('Diario contable'!C160=\"Maquinaria\",'Diario contable'!I160,IF('Diario contable'!E160=\"Maquinaria\",'Diario contable'!I160,0))","v":0},{"$f":"IF('Diario contable'!C160=\"Maquinaria\",'Diario contable'!H160,IF('Diario contable'!E160=\"Maquinaria\",'Diario contable'!H160,0))","v":"00:00:00"},null,null,{"$f":"+IF('Diario contable'!C160=\"Herramientas\",'Diario contable'!F160,0)","v":0},null,null,null,{"$f":"+IF('Diario contable'!E160=\"Herramientas\",'Diario contable'!F160,0)","v":0},{"$f":"IF('Diario contable'!C160=\"Herramientas\",'Diario contable'!I160,IF('Diario contable'!E160=\"Herramientas\",'Diario contable'!I160,0))","v":0},{"$f":"IF('Diario contable'!C160=\"Herramientas\",'Diario contable'!H160,IF('Diario contable'!E160=\"Herramientas\",'Diario contable'!H160,0))","v":"00:00:00"},null,null,{"$f":"+IF('Diario contable'!C160=\"Donaciones\",'Diario contable'!F160,0)","v":0},null,null,null,{"$f":"+IF('Diario contable'!E160=\"Donaciones\",'Diario contable'!F160,0)","v":0},{"$f":"IF('Diario contable'!C160=\"Donaciones\",'Diario contable'!I160,IF('Diario contable'!E160=\"Donaciones\",'Diario contable'!I160,0))","v":0},{"$f":"IF('Diario contable'!C160=\"Donaciones\",'Diario contable'!H160,IF('Diario contable'!E160=\"Donaciones\",'Diario contable'!H160,0))","v":"00:00:00"},null,null,{"$f":"+IF('Diario contable'!C160=\"Inventario\",'Diario contable'!F160,0)","v":0},null,null,null,{"$f":"+IF('Diario contable'!E160=\"Inventario\",'Diario contable'!F160,0)","v":0},{"$f":"IF('Diario contable'!C160=\"Inventario\",'Diario contable'!I160,IF('Diario contable'!E160=\"Inventario\",'Diario contable'!I160,0))","v":0},{"$f":"IF('Diario contable'!C160=\"Inventario\",'Diario contable'!H160,IF('Diario contable'!E160=\"Inventario\",'Diario contable'!H160,0))","v":"00:00:00"},null,null,{"$f":"+IF('Diario contable'!C160=\"Costo de ventas\",'Diario contable'!F160,0)","v":0},null,null,null,{"$f":"+IF('Diario contable'!E160=\"Costo de ventas\",'Diario contable'!F160,0)","v":0},{"$f":"IF('Diario contable'!C160=\"Costo de ventas\",'Diario contable'!I160,IF('Diario contable'!E160=\"Costo de ventas\",'Diario contable'!I160,0))","v":0},{"$f":"IF('Diario contable'!C160=\"Costo de ventas\",'Diario contable'!H160,IF('Diario contable'!E160=\"Costo de ventas\",'Diario contable'!H160,0))","v":"00:00:00"},null,null,{"$f":"+IF('Diario contable'!C160=\"Ventas\",'Diario contable'!F160,0)","v":0},null,null,null,{"$f":"+IF('Diario contable'!E160=\"Ventas\",'Diario contable'!F160,0)","v":0},{"$f":"IF('Diario contable'!C160=\"Ventas\",'Diario contable'!I160,IF('Diario contable'!E160=\"Ventas\",'Diario contable'!I160,0))","v":0},{"$f":"IF('Diario contable'!C160=\"Ventas\",'Diario contable'!H160,IF('Diario contable'!E160=\"Ventas\",'Diario contable'!H160,0))","v":"00:00:00"},null,null,{"$f":"+IF('Diario contable'!C160=\"Gastos por salarios\",'Diario contable'!F160,0)","v":0},null,null,null,{"$f":"+IF('Diario contable'!E160=\"Gastos por salarios\",'Diario contable'!F160,0)","v":0},{"$f":"IF('Diario contable'!C160=\"Gastos por salarios\",'Diario contable'!I160,IF('Diario contable'!E160=\"Gastos por salarios\",'Diario contable'!I160,0))","v":0},{"$f":"IF('Diario contable'!C160=\"Gastos por salarios\",'Diario contable'!H160,IF('Diario contable'!E160=\"Gastos por salarios\",'Diario contable'!H160,0))","v":"00:00:00"},null,null,{"$f":"+IF('Diario contable'!C160=\"Gastos operacionales\",'Diario contable'!F160,0)","v":0},null,null,null,{"$f":"+IF('Diario contable'!E160=\"Gastos operacionales\",'Diario contable'!F160,0)","v":0},{"$f":"IF('Diario contable'!C160=\"Gastos operacionales\",'Diario contable'!I160,IF('Diario contable'!E160=\"Gastos operacionales\",'Diario contable'!I160,0))","v":0},{"$f":"IF('Diario contable'!C160=\"Gastos operacionales\",'Diario contable'!H160,IF('Diario contable'!E160=\"Gastos operacionales\",'Diario contable'!H160,0))","v":"00:00:00"},null,null,{"$f":"+IF('Diario contable'!C160=\"Suministros de oficina\",'Diario contable'!F160,0)","v":0},null,null,null,{"$f":"+IF('Diario contable'!E160=\"Suministros de oficina\",'Diario contable'!F160,0)","v":0},{"$f":"IF('Diario contable'!C160=\"Suministros de oficina\",'Diario contable'!I160,IF('Diario contable'!E160=\"Suministros de oficina\",'Diario contable'!I160,0))","v":0},{"$f":"IF('Diario contable'!C160=\"Suministros de oficina\",'Diario contable'!H160,IF('Diario contable'!E160=\"Suministros de oficina\",'Diario contable'!H160,0))","v":"00:00:00"},null,null,{"$f":"+IF('Diario contable'!C160=\"Capital social\",'Diario contable'!F160,0)","v":0},null,null,null,{"$f":"+IF('Diario contable'!E160=\"Capital social\",'Diario contable'!F160,0)","v":0},{"$f":"IF('Diario contable'!C160=\"Capital social\",'Diario contable'!I160,IF('Diario contable'!E160=\"Capital social\",'Diario contable'!I160,0))","v":0},{"$f":"IF('Diario contable'!C160=\"Capital social\",'Diario contable'!H160,IF('Diario contable'!E160=\"Capital social\",'Diario contable'!H160,0))","v":"00:00:00"},null,null,{"$f":"+IF('Diario contable'!C160=\"Gastos de mercadeo\",'Diario contable'!F160,0)","v":0},null,null,null,{"$f":"+IF('Diario contable'!E160=\"Gastos de mercadeo\",'Diario contable'!F160,0)","v":0},{"$f":"IF('Diario contable'!C160=\"Gastos de mercadeo\",'Diario contable'!I160,IF('Diario contable'!E160=\"Gastos de mercadeo\",'Diario contable'!I160,0))","v":0},{"$f":"IF('Diario contable'!C160=\"Gastos de mercadeo\",'Diario contable'!H160,IF('Diario contable'!E160=\"Gastos de mercadeo\",'Diario contable'!H160,0))","v":"00:00:00"},null,null,{"$f":"+IF('Diario contable'!C160=\"Gastos de suministros de oficina\",'Diario contable'!F160,0)","v":0},null,null,null,{"$f":"+IF('Diario contable'!E160=\"Gastos de suministros de oficina\",'Diario contable'!F160,0)","v":0},{"$f":"IF('Diario contable'!C160=\"Gastos de suministros de oficina\",'Diario contable'!I160,IF('Diario contable'!E160=\"Gastos de suministros de oficina\",'Diario contable'!I160,0))","v":0},{"$f":"IF('Diario contable'!C160=\"Gastos de suministros de oficina\",'Diario contable'!H160,IF('Diario contable'!E160=\"Gastos de suministros de oficina\",'Diario contable'!H160,0))","v":"00:00:00"}]
[null,null,{"$f":"+IF('Diario contable'!C161=\"Caja\",'Diario contable'!F161,0)","v":0},null,null,null,{"$f":"+IF('Diario contable'!E161=\"Caja\",'Diario contable'!F161,0)","v":0},{"$f":"IF('Diario contable'!C161=\"Caja\",'Diario contable'!I161,IF('Diario contable'!E161=\"Caja\",'Diario contable'!I161,0))","v":0},{"$f":"IF('Diario contable'!C161=\"Caja\",'Diario contable'!H161,IF('Diario contable'!E161=\"Caja\",'Diario contable'!H161,0))","v":"00:00:00"},null,null,{"$f":"+IF('Diario contable'!C161=\"Maquinaria\",'Diario contable'!F161,0)","v":0},null,null,null,{"$f":"+IF('Diario contable'!E161=\"Maquinaria\",'Diario contable'!F161,0)","v":0},{"$f":"IF('Diario contable'!C161=\"Maquinaria\",'Diario contable'!I161,IF('Diario contable'!E161=\"Maquinaria\",'Diario contable'!I161,0))","v":0},{"$f":"IF('Diario contable'!C161=\"Maquinaria\",'Diario contable'!H161,IF('Diario contable'!E161=\"Maquinaria\",'Diario contable'!H161,0))","v":"00:00:00"},null,null,{"$f":"+IF('Diario contable'!C161=\"Herramientas\",'Diario contable'!F161,0)","v":0},null,null,null,{"$f":"+IF('Diario contable'!E161=\"Herramientas\",'Diario contable'!F161,0)","v":0},{"$f":"IF('Diario contable'!C161=\"Herramientas\",'Diario contable'!I161,IF('Diario contable'!E161=\"Herramientas\",'Diario contable'!I161,0))","v":0},{"$f":"IF('Diario contable'!C161=\"Herramientas\",'Diario contable'!H161,IF('Diario contable'!E161=\"Herramientas\",'Diario contable'!H161,0))","v":"00:00:00"},null,null,{"$f":"+IF('Diario contable'!C161=\"Donaciones\",'Diario contable'!F161,0)","v":0},null,null,null,{"$f":"+IF('Diario contable'!E161=\"Donaciones\",'Diario contable'!F161,0)","v":0},{"$f":"IF('Diario contable'!C161=\"Donaciones\",'Diario contable'!I161,IF('Diario contable'!E161=\"Donaciones\",'Diario contable'!I161,0))","v":0},{"$f":"IF('Diario contable'!C161=\"Donaciones\",'Diario contable'!H161,IF('Diario contable'!E161=\"Donaciones\",'Diario contable'!H161,0))","v":"00:00:00"},null,null,{"$f":"+IF('Diario contable'!C161=\"Inventario\",'Diario contable'!F161,0)","v":0},null,null,null,{"$f":"+IF('Diario contable'!E161=\"Inventario\",'Diario contable'!F161,0)","v":0},{"$f":"IF('Diario contable'!C161=\"Inventario\",'Diario contable'!I161,IF('Diario contable'!E161=\"Inventario\",'Diario contable'!I161,0))","v":0},{"$f":"IF('Diario contable'!C161=\"Inventario\",'Diario contable'!H161,IF('Diario contable'!E161=\"Inventario\",'Diario contable'!H161,0))","v":"00:00:00"},null,null,{"$f":"+IF('Diario contable'!C161=\"Costo de ventas\",'Diario contable'!F161,0)","v":0},null,null,null,{"$f":"+IF('Diario contable'!E161=\"Costo de ventas\",'Diario contable'!F161,0)","v":0},{"$f":"IF('Diario contable'!C161=\"Costo de ventas\",'Diario contable'!I161,IF('Diario contable'!E161=\"Costo de ventas\",'Diario contable'!I161,0))","v":0},{"$f":"IF('Diario contable'!C161=\"Costo de ventas\",'Diario contable'!H161,IF('Diario contable'!E161=\"Costo de ventas\",'Diario contable'!H161,0))","v":"00:00:00"},null,null,{"$f":"+IF('Diario contable'!C161=\"Ventas\",'Diario contable'!F161,0)","v":0},null,null,null,{"$f":"+IF('Diario contable'!E161=\"Ventas\",'Diario contable'!F161,0)","v":0},{"$f":"IF('Diario contable'!C161=\"Ventas\",'Diario contable'!I161,IF('Diario contable'!E161=\"Ventas\",'Diario contable'!I161,0))","v":0},{"$f":"IF('Diario contable'!C161=\"Ventas\",'Diario contable'!H161,IF('Diario contable'!E161=\"Ventas\",'Diario contable'!H161,0))","v":"00:00:00"},null,null,{"$f":"+IF('Diario contable'!C161=\"Gastos por salarios\",'Diario contable'!F161,0)","v":0},null,null,null,{"$f":"+IF('Diario contable'!E161=\"Gastos por salarios\",'Diario contable'!F161,0)","v":0},{"$f":"IF('Diario contable'!C161=\"Gastos por salarios\",'Diario contable'!I161,IF('Diario contable'!E161=\"Gastos por salarios\",'Diario contable'!I161,0))","v":0},{"$f":"IF('Diario contable'!C161=\"Gastos por salarios\",'Diario contable'!H161,IF('Diario contable'!E161=\"Gastos por salarios\",'Diario contable'!H161,0))","v":"00:00:00"},null,null,{"$f":"+IF('Diario contable'!C161=\"Gastos operacionales\",'Diario contable'!F161,0)","v":0},null,null,null,{"$f":"+IF('Diario contable'!E161=\"Gastos operacionales\",'Diario contable'!F161,0)","v":0},{"$f":"IF('Diario contable'!C161=\"Gastos operacionales\",'Diario contable'!I161,IF('Diario contable'!E161=\"Gastos operacionales\",'Diario contable'!I161,0))","v":0},{"$f":"IF('Diario contable'!C161=\"Gastos operacionales\",'Diario contable'!H161,IF('Diario contable'!E161=\"Gastos operacionales\",'Diario contable'!H161,0))","v":"00:00:00"},null,null,{"$f":"+IF('Diario contable'!C161=\"Suministros de oficina\",'Diario contable'!F161,0)","v":0},null,null,null,{"$f":"+IF('Diario contable'!E161=\"Suministros de oficina\",'Diario contable'!F161,0)","v":0},{"$f":"IF('Diario contable'!C161=\"Suministros de oficina\",'Diario contable'!I161,IF('Diario contable'!E161=\"Suministros de oficina\",'Diario contable'!I161,0))","v":0},{"$f":"IF('Diario contable'!C161=\"Suministros de oficina\",'Diario contable'!H161,IF('Diario contable'!E161=\"Suministros de oficina\",'Diario contable'!H161,0))","v":"00:00:00"},null,null,{"$f":"+IF('Diario contable'!C161=\"Capital social\",'Diario contable'!F161,0)","v":0},null,null,null,{"$f":"+IF('Diario contable'!E161=\"Capital social\",'Diario contable'!F161,0)","v":0},{"$f":"IF('Diario contable'!C161=\"Capital social\",'Diario contable'!I161,IF('Diario contable'!E161=\"Capital social\",'Diario contable'!I161,0))","v":0},{"$f":"IF('Diario contable'!C161=\"Capital social\",'Diario contable'!H161,IF('Diario contable'!E161=\"Capital social\",'Diario contable'!H161,0))","v":"00:00:00"},null,null,{"$f":"+IF('Diario contable'!C161=\"Gastos de mercadeo\",'Diario contable'!F161,0)","v":0},null,null,null,{"$f":"+IF('Diario contable'!E161=\"Gastos de mercadeo\",'Diario contable'!F161,0)","v":0},{"$f":"IF('Diario contable'!C161=\"Gastos de mercadeo\",'Diario contable'!I161,IF('Diario contable'!E161=\"Gastos de mercadeo\",'Diario contable'!I161,0))","v":0},{"$f":"IF('Diario contable'!C161=\"Gastos de mercadeo\",'Diario contable'!H161,IF('Diario contable'!E161=\"Gastos de mercadeo\",'Diario contable'!H161,0))","v":"00:00:00"},null,null,{"$f":"+IF('Diario contable'!C161=\"Gastos de suministros de oficina\",'Diario contable'!F161,0)","v":0},null,null,null,{"$f":"+IF('Diario contable'!E161=\"Gastos de suministros de oficina\",'Diario contable'!F161,0)","v":0},{"$f":"IF('Diario contable'!C161=\"Gastos de suministros de oficina\",'Diario contable'!I161,IF('Diario contable'!E161=\"Gastos de suministros de oficina\",'Diario contable'!I161,0))","v":0},{"$f":"IF('Diario contable'!C161=\"Gastos de suministros de oficina\",'Diario contable'!H161,IF('Diario contable'!E161=\"Gastos de suministros de oficina\",'Diario contable'!H161,0))","v":"00:00:00"}]
[null,null,{"$f":"+IF('Diario contable'!C162=\"Caja\",'Diario contable'!F162,0)","v":0},null,null,null,{"$f":"+IF('Diario contable'!E162=\"Caja\",'Diario contable'!F162,0)","v":0},{"$f":"IF('Diario contable'!C162=\"Caja\",'Diario contable'!I162,IF('Diario contable'!E162=\"Caja\",'Diario contable'!I162,0))","v":0},{"$f":"IF('Diario contable'!C162=\"Caja\",'Diario contable'!H162,IF('Diario contable'!E162=\"Caja\",'Diario contable'!H162,0))","v":"00:00:00"},null,null,{"$f":"+IF('Diario contable'!C162=\"Maquinaria\",'Diario contable'!F162,0)","v":0},null,null,null,{"$f":"+IF('Diario contable'!E162=\"Maquinaria\",'Diario contable'!F162,0)","v":0},{"$f":"IF('Diario contable'!C162=\"Maquinaria\",'Diario contable'!I162,IF('Diario contable'!E162=\"Maquinaria\",'Diario contable'!I162,0))","v":0},{"$f":"IF('Diario contable'!C162=\"Maquinaria\",'Diario contable'!H162,IF('Diario contable'!E162=\"Maquinaria\",'Diario contable'!H162,0))","v":"00:00:00"},null,null,{"$f":"+IF('Diario contable'!C162=\"Herramientas\",'Diario contable'!F162,0)","v":0},null,null,null,{"$f":"+IF('Diario contable'!E162=\"Herramientas\",'Diario contable'!F162,0)","v":0},{"$f":"IF('Diario contable'!C162=\"Herramientas\",'Diario contable'!I162,IF('Diario contable'!E162=\"Herramientas\",'Diario contable'!I162,0))","v":0},{"$f":"IF('Diario contable'!C162=\"Herramientas\",'Diario contable'!H162,IF('Diario contable'!E162=\"Herramientas\",'Diario contable'!H162,0))","v":"00:00:00"},null,null,{"$f":"+IF('Diario contable'!C162=\"Donaciones\",'Diario contable'!F162,0)","v":0},null,null,null,{"$f":"+IF('Diario contable'!E162=\"Donaciones\",'Diario contable'!F162,0)","v":0},{"$f":"IF('Diario contable'!C162=\"Donaciones\",'Diario contable'!I162,IF('Diario contable'!E162=\"Donaciones\",'Diario contable'!I162,0))","v":0},{"$f":"IF('Diario contable'!C162=\"Donaciones\",'Diario contable'!H162,IF('Diario contable'!E162=\"Donaciones\",'Diario contable'!H162,0))","v":"00:00:00"},null,null,{"$f":"+IF('Diario contable'!C162=\"Inventario\",'Diario contable'!F162,0)","v":0},null,null,null,{"$f":"+IF('Diario contable'!E162=\"Inventario\",'Diario contable'!F162,0)","v":0},{"$f":"IF('Diario contable'!C162=\"Inventario\",'Diario contable'!I162,IF('Diario contable'!E162=\"Inventario\",'Diario contable'!I162,0))","v":0},{"$f":"IF('Diario contable'!C162=\"Inventario\",'Diario contable'!H162,IF('Diario contable'!E162=\"Inventario\",'Diario contable'!H162,0))","v":"00:00:00"},null,null,{"$f":"+IF('Diario contable'!C162=\"Costo de ventas\",'Diario contable'!F162,0)","v":0},null,null,null,{"$f":"+IF('Diario contable'!E162=\"Costo de ventas\",'Diario contable'!F162,0)","v":0},{"$f":"IF('Diario contable'!C162=\"Costo de ventas\",'Diario contable'!I162,IF('Diario contable'!E162=\"Costo de ventas\",'Diario contable'!I162,0))","v":0},{"$f":"IF('Diario contable'!C162=\"Costo de ventas\",'Diario contable'!H162,IF('Diario contable'!E162=\"Costo de ventas\",'Diario contable'!H162,0))","v":"00:00:00"},null,null,{"$f":"+IF('Diario contable'!C162=\"Ventas\",'Diario contable'!F162,0)","v":0},null,null,null,{"$f":"+IF('Diario contable'!E162=\"Ventas\",'Diario contable'!F162,0)","v":0},{"$f":"IF('Diario contable'!C162=\"Ventas\",'Diario contable'!I162,IF('Diario contable'!E162=\"Ventas\",'Diario contable'!I162,0))","v":0},{"$f":"IF('Diario contable'!C162=\"Ventas\",'Diario contable'!H162,IF('Diario contable'!E162=\"Ventas\",'Diario contable'!H162,0))","v":"00:00:00"},null,null,{"$f":"+IF('Diario contable'!C162=\"Gastos por salarios\",'Diario contable'!F162,0)","v":0},null,null,null,{"$f":"+IF('Diario contable'!E162=\"Gastos por salarios\",'Diario contable'!F162,0)","v":0},{"$f":"IF('Diario contable'!C162=\"Gastos por salarios\",'Diario contable'!I162,IF('Diario contable'!E162=\"Gastos por salarios\",'Diario contable'!I162,0))","v":0},{"$f":"IF('Diario contable'!C162=\"Gastos por salarios\",'Diario contable'!H162,IF('Diario contable'!E162=\"Gastos por salarios\",'Diario contable'!H162,0))","v":"00:00:00"},null,null,{"$f":"+IF('Diario contable'!C162=\"Gastos operacionales\",'Diario contable'!F162,0)","v":0},null,null,null,{"$f":"+IF('Diario contable'!E162=\"Gastos operacionales\",'Diario contable'!F162,0)","v":0},{"$f":"IF('Diario contable'!C162=\"Gastos operacionales\",'Diario contable'!I162,IF('Diario contable'!E162=\"Gastos operacionales\",'Diario contable'!I162,0))","v":0},{"$f":"IF('Diario contable'!C162=\"Gastos operacionales\",'Diario contable'!H162,IF('Diario contable'!E162=\"Gastos operacionales\",'Diario contable'!H162,0))","v":"00:00:00"},null,null,{"$f":"+IF('Diario contable'!C162=\"Suministros de oficina\",'Diario contable'!F162,0)","v":0},null,null,null,{"$f":"+IF('Diario contable'!E162=\"Suministros de oficina\",'Diario contable'!F162,0)","v":0},{"$f":"IF('Diario contable'!C162=\"Suministros de oficina\",'Diario contable'!I162,IF('Diario contable'!E162=\"Suministros de oficina\",'Diario contable'!I162,0))","v":0},{"$f":"IF('Diario contable'!C162=\"Suministros de oficina\",'Diario contable'!H162,IF('Diario contable'!E162=\"Suministros de oficina\",'Diario contable'!H162,0))","v":"00:00:00"},null,null,{"$f":"+IF('Diario contable'!C162=\"Capital social\",'Diario contable'!F162,0)","v":0},null,null,null,{"$f":"+IF('Diario contable'!E162=\"Capital social\",'Diario contable'!F162,0)","v":0},{"$f":"IF('Diario contable'!C162=\"Capital social\",'Diario contable'!I162,IF('Diario contable'!E162=\"Capital social\",'Diario contable'!I162,0))","v":0},{"$f":"IF('Diario contable'!C162=\"Capital social\",'Diario contable'!H162,IF('Diario contable'!E162=\"Capital social\",'Diario contable'!H162,0))","v":"00:00:00"},null,null,{"$f":"+IF('Diario contable'!C162=\"Gastos de mercadeo\",'Diario contable'!F162,0)","v":0},null,null,null,{"$f":"+IF('Diario contable'!E162=\"Gastos de mercadeo\",'Diario contable'!F162,0)","v":0},{"$f":"IF('Diario contable'!C162=\"Gastos de mercadeo\",'Diario contable'!I162,IF('Diario contable'!E162=\"Gastos de mercadeo\",'Diario contable'!I162,0))","v":0},{"$f":"IF('Diario contable'!C162=\"Gastos de mercadeo\",'Diario contable'!H162,IF('Diario contable'!E162=\"Gastos de mercadeo\",'Diario contable'!H162,0))","v":"00:00:00"},null,null,{"$f":"+IF('Diario contable'!C162=\"Gastos de suministros de oficina\",'Diario contable'!F162,0)","v":0},null,null,null,{"$f":"+IF('Diario contable'!E162=\"Gastos de suministros de oficina\",'Diario contable'!F162,0)","v":0},{"$f":"IF('Diario contable'!C162=\"Gastos de suministros de oficina\",'Diario contable'!I162,IF('Diario contable'!E162=\"Gastos de suministros de oficina\",'Diario contable'!I162,0))","v":0},{"$f":"IF('Diario contable'!C162=\"Gastos de suministros de oficina\",'Diario contable'!H162,IF('Diario contable'!E162=\"Gastos de suministros de oficina\",'Diario contable'!H162,0))","v":"00:00:00"}]
[null,null,{"$f":"+IF('Diario contable'!C163=\"Caja\",'Diario contable'!F163,0)","v":0},null,null,null,{"$f":"+IF('Diario contable'!E163=\"Caja\",'Diario contable'!F163,0)","v":0},{"$f":"IF('Diario contable'!C163=\"Caja\",'Diario contable'!I163,IF('Diario contable'!E163=\"Caja\",'Diario contable'!I163,0))","v":0},{"$f":"IF('Diario contable'!C163=\"Caja\",'Diario contable'!H163,IF('Diario contable'!E163=\"Caja\",'Diario contable'!H163,0))","v":"00:00:00"},null,null,{"$f":"+IF('Diario contable'!C163=\"Maquinaria\",'Diario contable'!F163,0)","v":0},null,null,null,{"$f":"+IF('Diario contable'!E163=\"Maquinaria\",'Diario contable'!F163,0)","v":0},{"$f":"IF('Diario contable'!C163=\"Maquinaria\",'Diario contable'!I163,IF('Diario contable'!E163=\"Maquinaria\",'Diario contable'!I163,0))","v":0},{"$f":"IF('Diario contable'!C163=\"Maquinaria\",'Diario contable'!H163,IF('Diario contable'!E163=\"Maquinaria\",'Diario contable'!H163,0))","v":"00:00:00"},null,null,{"$f":"+IF('Diario contable'!C163=\"Herramientas\",'Diario contable'!F163,0)","v":0},null,null,null,{"$f":"+IF('Diario contable'!E163=\"Herramientas\",'Diario contable'!F163,0)","v":0},{"$f":"IF('Diario contable'!C163=\"Herramientas\",'Diario contable'!I163,IF('Diario contable'!E163=\"Herramientas\",'Diario contable'!I163,0))","v":0},{"$f":"IF('Diario contable'!C163=\"Herramientas\",'Diario contable'!H163,IF('Diario contable'!E163=\"Herramientas\",'Diario contable'!H163,0))","v":"00:00:00"},null,null,{"$f":"+IF('Diario contable'!C163=\"Donaciones\",'Diario contable'!F163,0)","v":0},null,null,null,{"$f":"+IF('Diario contable'!E163=\"Donaciones\",'Diario contable'!F163,0)","v":0},{"$f":"IF('Diario contable'!C163=\"Donaciones\",'Diario contable'!I163,IF('Diario contable'!E163=\"Donaciones\",'Diario contable'!I163,0))","v":0},{"$f":"IF('Diario contable'!C163=\"Donaciones\",'Diario contable'!H163,IF('Diario contable'!E163=\"Donaciones\",'Diario contable'!H163,0))","v":"00:00:00"},null,null,{"$f":"+IF('Diario contable'!C163=\"Inventario\",'Diario contable'!F163,0)","v":0},null,null,null,{"$f":"+IF('Diario contable'!E163=\"Inventario\",'Diario contable'!F163,0)","v":0},{"$f":"IF('Diario contable'!C163=\"Inventario\",'Diario contable'!I163,IF('Diario contable'!E163=\"Inventario\",'Diario contable'!I163,0))","v":0},{"$f":"IF('Diario contable'!C163=\"Inventario\",'Diario contable'!H163,IF('Diario contable'!E163=\"Inventario\",'Diario contable'!H163,0))","v":"00:00:00"},null,null,{"$f":"+IF('Diario contable'!C163=\"Costo de ventas\",'Diario contable'!F163,0)","v":0},null,null,null,{"$f":"+IF('Diario contable'!E163=\"Costo de ventas\",'Diario contable'!F163,0)","v":0},{"$f":"IF('Diario contable'!C163=\"Costo de ventas\",'Diario contable'!I163,IF('Diario contable'!E163=\"Costo de ventas\",'Diario contable'!I163,0))","v":0},{"$f":"IF('Diario contable'!C163=\"Costo de ventas\",'Diario contable'!H163,IF('Diario contable'!E163=\"Costo de ventas\",'Diario contable'!H163,0))","v":"00:00:00"},null,null,{"$f":"+IF('Diario contable'!C163=\"Ventas\",'Diario contable'!F163,0)","v":0},null,null,null,{"$f":"+IF('Diario contable'!E163=\"Ventas\",'Diario contable'!F163,0)","v":0},{"$f":"IF('Diario contable'!C163=\"Ventas\",'Diario contable'!I163,IF('Diario contable'!E163=\"Ventas\",'Diario contable'!I163,0))","v":0},{"$f":"IF('Diario contable'!C163=\"Ventas\",'Diario contable'!H163,IF('Diario contable'!E163=\"Ventas\",'Diario contable'!H163,0))","v":"00:00:00"},null,null,{"$f":"+IF('Diario contable'!C163=\"Gastos por salarios\",'Diario contable'!F163,0)","v":0},null,null,null,{"$f":"+IF('Diario contable'!E163=\"Gastos por salarios\",'Diario contable'!F163,0)","v":0},{"$f":"IF('Diario contable'!C163=\"Gastos por salarios\",'Diario contable'!I163,IF('Diario contable'!E163=\"Gastos por salarios\",'Diario contable'!I163,0))","v":0},{"$f":"IF('Diario contable'!C163=\"Gastos por salarios\",'Diario contable'!H163,IF('Diario contable'!E163=\"Gastos por salarios\",'Diario contable'!H163,0))","v":"00:00:00"},null,null,{"$f":"+IF('Diario contable'!C163=\"Gastos operacionales\",'Diario contable'!F163,0)","v":0},null,null,null,{"$f":"+IF('Diario contable'!E163=\"Gastos operacionales\",'Diario contable'!F163,0)","v":0},{"$f":"IF('Diario contable'!C163=\"Gastos operacionales\",'Diario contable'!I163,IF('Diario contable'!E163=\"Gastos operacionales\",'Diario contable'!I163,0))","v":0},{"$f":"IF('Diario contable'!C163=\"Gastos operacionales\",'Diario contable'!H163,IF('Diario contable'!E163=\"Gastos operacionales\",'Diario contable'!H163,0))","v":"00:00:00"},null,null,{"$f":"+IF('Diario contable'!C163=\"Suministros de oficina\",'Diario contable'!F163,0)","v":0},null,null,null,{"$f":"+IF('Diario contable'!E163=\"Suministros de oficina\",'Diario contable'!F163,0)","v":0},{"$f":"IF('Diario contable'!C163=\"Suministros de oficina\",'Diario contable'!I163,IF('Diario contable'!E163=\"Suministros de oficina\",'Diario contable'!I163,0))","v":0},{"$f":"IF('Diario contable'!C163=\"Suministros de oficina\",'Diario contable'!H163,IF('Diario contable'!E163=\"Suministros de oficina\",'Diario contable'!H163,0))","v":"00:00:00"},null,null,{"$f":"+IF('Diario contable'!C163=\"Capital social\",'Diario contable'!F163,0)","v":0},null,null,null,{"$f":"+IF('Diario contable'!E163=\"Capital social\",'Diario contable'!F163,0)","v":0},{"$f":"IF('Diario contable'!C163=\"Capital social\",'Diario contable'!I163,IF('Diario contable'!E163=\"Capital social\",'Diario contable'!I163,0))","v":0},{"$f":"IF('Diario contable'!C163=\"Capital social\",'Diario contable'!H163,IF('Diario contable'!E163=\"Capital social\",'Diario contable'!H163,0))","v":"00:00:00"},null,null,{"$f":"+IF('Diario contable'!C163=\"Gastos de mercadeo\",'Diario contable'!F163,0)","v":0},null,null,null,{"$f":"+IF('Diario contable'!E163=\"Gastos de mercadeo\",'Diario contable'!F163,0)","v":0},{"$f":"IF('Diario contable'!C163=\"Gastos de mercadeo\",'Diario contable'!I163,IF('Diario contable'!E163=\"Gastos de mercadeo\",'Diario contable'!I163,0))","v":0},{"$f":"IF('Diario contable'!C163=\"Gastos de mercadeo\",'Diario contable'!H163,IF('Diario contable'!E163=\"Gastos de mercadeo\",'Diario contable'!H163,0))","v":"00:00:00"},null,null,{"$f":"+IF('Diario contable'!C163=\"Gastos de suministros de oficina\",'Diario contable'!F163,0)","v":0},null,null,null,{"$f":"+IF('Diario contable'!E163=\"Gastos de suministros de oficina\",'Diario contable'!F163,0)","v":0},{"$f":"IF('Diario contable'!C163=\"Gastos de suministros de oficina\",'Diario contable'!I163,IF('Diario contable'!E163=\"Gastos de suministros de oficina\",'Diario contable'!I163,0))","v":0},{"$f":"IF('Diario contable'!C163=\"Gastos de suministros de oficina\",'Diario contable'!H163,IF('Diario contable'!E163=\"Gastos de suministros de oficina\",'Diario contable'!H163,0))","v":"00:00:00"}]
[null,null,{"$f":"+IF('Diario contable'!C164=\"Caja\",'Diario contable'!F164,0)","v":0},null,null,null,{"$f":"+IF('Diario contable'!E164=\"Caja\",'Diario contable'!F164,0)","v":0},{"$f":"IF('Diario contable'!C164=\"Caja\",'Diario contable'!I164,IF('Diario contable'!E164=\"Caja\",'Diario contable'!I164,0))","v":0},{"$f":"IF('Diario contable'!C164=\"Caja\",'Diario contable'!H164,IF('Diario contable'!E164=\"Caja\",'Diario contable'!H164,0))","v":"00:00:00"},null,null,{"$f":"+IF('Diario contable'!C164=\"Maquinaria\",'Diario contable'!F164,0)","v":0},null,null,null,{"$f":"+IF('Diario contable'!E164=\"Maquinaria\",'Diario contable'!F164,0)","v":0},{"$f":"IF('Diario contable'!C164=\"Maquinaria\",'Diario contable'!I164,IF('Diario contable'!E164=\"Maquinaria\",'Diario contable'!I164,0))","v":0},{"$f":"IF('Diario contable'!C164=\"Maquinaria\",'Diario contable'!H164,IF('Diario contable'!E164=\"Maquinaria\",'Diario contable'!H164,0))","v":"00:00:00"},null,null,{"$f":"+IF('Diario contable'!C164=\"Herramientas\",'Diario contable'!F164,0)","v":0},null,null,null,{"$f":"+IF('Diario contable'!E164=\"Herramientas\",'Diario contable'!F164,0)","v":0},{"$f":"IF('Diario contable'!C164=\"Herramientas\",'Diario contable'!I164,IF('Diario contable'!E164=\"Herramientas\",'Diario contable'!I164,0))","v":0},{"$f":"IF('Diario contable'!C164=\"Herramientas\",'Diario contable'!H164,IF('Diario contable'!E164=\"Herramientas\",'Diario contable'!H164,0))","v":"00:00:00"},null,null,{"$f":"+IF('Diario contable'!C164=\"Donaciones\",'Diario contable'!F164,0)","v":0},null,null,null,{"$f":"+IF('Diario contable'!E164=\"Donaciones\",'Diario contable'!F164,0)","v":0},{"$f":"IF('Diario contable'!C164=\"Donaciones\",'Diario contable'!I164,IF('Diario contable'!E164=\"Donaciones\",'Diario contable'!I164,0))","v":0},{"$f":"IF('Diario contable'!C164=\"Donaciones\",'Diario contable'!H164,IF('Diario contable'!E164=\"Donaciones\",'Diario contable'!H164,0))","v":"00:00:00"},null,null,{"$f":"+IF('Diario contable'!C164=\"Inventario\",'Diario contable'!F164,0)","v":0},null,null,null,{"$f":"+IF('Diario contable'!E164=\"Inventario\",'Diario contable'!F164,0)","v":0},{"$f":"IF('Diario contable'!C164=\"Inventario\",'Diario contable'!I164,IF('Diario contable'!E164=\"Inventario\",'Diario contable'!I164,0))","v":0},{"$f":"IF('Diario contable'!C164=\"Inventario\",'Diario contable'!H164,IF('Diario contable'!E164=\"Inventario\",'Diario contable'!H164,0))","v":"00:00:00"},null,null,{"$f":"+IF('Diario contable'!C164=\"Costo de ventas\",'Diario contable'!F164,0)","v":0},null,null,null,{"$f":"+IF('Diario contable'!E164=\"Costo de ventas\",'Diario contable'!F164,0)","v":0},{"$f":"IF('Diario contable'!C164=\"Costo de ventas\",'Diario contable'!I164,IF('Diario contable'!E164=\"Costo de ventas\",'Diario contable'!I164,0))","v":0},{"$f":"IF('Diario contable'!C164=\"Costo de ventas\",'Diario contable'!H164,IF('Diario contable'!E164=\"Costo de ventas\",'Diario contable'!H164,0))","v":"00:00:00"},null,null,{"$f":"+IF('Diario contable'!C164=\"Ventas\",'Diario contable'!F164,0)","v":0},null,null,null,{"$f":"+IF('Diario contable'!E164=\"Ventas\",'Diario contable'!F164,0)","v":0},{"$f":"IF('Diario contable'!C164=\"Ventas\",'Diario contable'!I164,IF('Diario contable'!E164=\"Ventas\",'Diario contable'!I164,0))","v":0},{"$f":"IF('Diario contable'!C164=\"Ventas\",'Diario contable'!H164,IF('Diario contable'!E164=\"Ventas\",'Diario contable'!H164,0))","v":"00:00:00"},null,null,{"$f":"+IF('Diario contable'!C164=\"Gastos por salarios\",'Diario contable'!F164,0)","v":0},null,null,null,{"$f":"+IF('Diario contable'!E164=\"Gastos por salarios\",'Diario contable'!F164,0)","v":0},{"$f":"IF('Diario contable'!C164=\"Gastos por salarios\",'Diario contable'!I164,IF('Diario contable'!E164=\"Gastos por salarios\",'Diario contable'!I164,0))","v":0},{"$f":"IF('Diario contable'!C164=\"Gastos por salarios\",'Diario contable'!H164,IF('Diario contable'!E164=\"Gastos por salarios\",'Diario contable'!H164,0))","v":"00:00:00"},null,null,{"$f":"+IF('Diario contable'!C164=\"Gastos operacionales\",'Diario contable'!F164,0)","v":0},null,null,null,{"$f":"+IF('Diario contable'!E164=\"Gastos operacionales\",'Diario contable'!F164,0)","v":0},{"$f":"IF('Diario contable'!C164=\"Gastos operacionales\",'Diario contable'!I164,IF('Diario contable'!E164=\"Gastos operacionales\",'Diario contable'!I164,0))","v":0},{"$f":"IF('Diario contable'!C164=\"Gastos operacionales\",'Diario contable'!H164,IF('Diario contable'!E164=\"Gastos operacionales\",'Diario contable'!H164,0))","v":"00:00:00"},null,null,{"$f":"+IF('Diario contable'!C164=\"Suministros de oficina\",'Diario contable'!F164,0)","v":0},null,null,null,{"$f":"+IF('Diario contable'!E164=\"Suministros de oficina\",'Diario contable'!F164,0)","v":0},{"$f":"IF('Diario contable'!C164=\"Suministros de oficina\",'Diario contable'!I164,IF('Diario contable'!E164=\"Suministros de oficina\",'Diario contable'!I164,0))","v":0},{"$f":"IF('Diario contable'!C164=\"Suministros de oficina\",'Diario contable'!H164,IF('Diario contable'!E164=\"Suministros de oficina\",'Diario contable'!H164,0))","v":"00:00:00"},null,null,{"$f":"+IF('Diario contable'!C164=\"Capital social\",'Diario contable'!F164,0)","v":0},null,null,null,{"$f":"+IF('Diario contable'!E164=\"Capital social\",'Diario contable'!F164,0)","v":0},{"$f":"IF('Diario contable'!C164=\"Capital social\",'Diario contable'!I164,IF('Diario contable'!E164=\"Capital social\",'Diario contable'!I164,0))","v":0},{"$f":"IF('Diario contable'!C164=\"Capital social\",'Diario contable'!H164,IF('Diario contable'!E164=\"Capital social\",'Diario contable'!H164,0))","v":"00:00:00"},null,null,{"$f":"+IF('Diario contable'!C164=\"Gastos de mercadeo\",'Diario contable'!F164,0)","v":0},null,null,null,{"$f":"+IF('Diario contable'!E164=\"Gastos de mercadeo\",'Diario contable'!F164,0)","v":0},{"$f":"IF('Diario contable'!C164=\"Gastos de mercadeo\",'Diario contable'!I164,IF('Diario contable'!E164=\"Gastos de mercadeo\",'Diario contable'!I164,0))","v":0},{"$f":"IF('Diario contable'!C164=\"Gastos de mercadeo\",'Diario contable'!H164,IF('Diario contable'!E164=\"Gastos de mercadeo\",'Diario contable'!H164,0))","v":"00:00:00"},null,null,{"$f":"+IF('Diario contable'!C164=\"Gastos de suministros de oficina\",'Diario contable'!F164,0)","v":0},null,null,null,{"$f":"+IF('Diario contable'!E164=\"Gastos de suministros de oficina\",'Diario contable'!F164,0)","v":0},{"$f":"IF('Diario contable'!C164=\"Gastos de suministros de oficina\",'Diario contable'!I164,IF('Diario contable'!E164=\"Gastos de suministros de oficina\",'Diario contable'!I164,0))","v":0},{"$f":"IF('Diario contable'!C164=\"Gastos de suministros de oficina\",'Diario contable'!H164,IF('Diario contable'!E164=\"Gastos de suministros de oficina\",'Diario contable'!H164,0))","v":"00:00:00"}]
[null,null,{"$f":"+IF('Diario contable'!C165=\"Caja\",'Diario contable'!F165,0)","v":0},null,null,null,{"$f":"+IF('Diario contable'!E165=\"Caja\",'Diario contable'!F165,0)","v":0},{"$f":"IF('Diario contable'!C165=\"Caja\",'Diario contable'!I165,IF('Diario contable'!E165=\"Caja\",'Diario contable'!I165,0))","v":0},{"$f":"IF('Diario contable'!C165=\"Caja\",'Diario contable'!H165,IF('Diario contable'!E165=\"Caja\",'Diario contable'!H165,0))","v":"00:00:00"},null,null,{"$f":"+IF('Diario contable'!C165=\"Maquinaria\",'Diario contable'!F165,0)","v":0},null,null,null,{"$f":"+IF('Diario contable'!E165=\"Maquinaria\",'Diario contable'!F165,0)","v":0},{"$f":"IF('Diario contable'!C165=\"Maquinaria\",'Diario contable'!I165,IF('Diario contable'!E165=\"Maquinaria\",'Diario contable'!I165,0))","v":0},{"$f":"IF('Diario contable'!C165=\"Maquinaria\",'Diario contable'!H165,IF('Diario contable'!E165=\"Maquinaria\",'Diario contable'!H165,0))","v":"00:00:00"},null,null,{"$f":"+IF('Diario contable'!C165=\"Herramientas\",'Diario contable'!F165,0)","v":0},null,null,null,{"$f":"+IF('Diario contable'!E165=\"Herramientas\",'Diario contable'!F165,0)","v":0},{"$f":"IF('Diario contable'!C165=\"Herramientas\",'Diario contable'!I165,IF('Diario contable'!E165=\"Herramientas\",'Diario contable'!I165,0))","v":0},{"$f":"IF('Diario contable'!C165=\"Herramientas\",'Diario contable'!H165,IF('Diario contable'!E165=\"Herramientas\",'Diario contable'!H165,0))","v":"00:00:00"},null,null,{"$f":"+IF('Diario contable'!C165=\"Donaciones\",'Diario contable'!F165,0)","v":0},null,null,null,{"$f":"+IF('Diario contable'!E165=\"Donaciones\",'Diario contable'!F165,0)","v":0},{"$f":"IF('Diario contable'!C165=\"Donaciones\",'Diario contable'!I165,IF('Diario contable'!E165=\"Donaciones\",'Diario contable'!I165,0))","v":0},{"$f":"IF('Diario contable'!C165=\"Donaciones\",'Diario contable'!H165,IF('Diario contable'!E165=\"Donaciones\",'Diario contable'!H165,0))","v":"00:00:00"},null,null,{"$f":"+IF('Diario contable'!C165=\"Inventario\",'Diario contable'!F165,0)","v":0},null,null,null,{"$f":"+IF('Diario contable'!E165=\"Inventario\",'Diario contable'!F165,0)","v":0},{"$f":"IF('Diario contable'!C165=\"Inventario\",'Diario contable'!I165,IF('Diario contable'!E165=\"Inventario\",'Diario contable'!I165,0))","v":0},{"$f":"IF('Diario contable'!C165=\"Inventario\",'Diario contable'!H165,IF('Diario contable'!E165=\"Inventario\",'Diario contable'!H165,0))","v":"00:00:00"},null,null,{"$f":"+IF('Diario contable'!C165=\"Costo de ventas\",'Diario contable'!F165,0)","v":0},null,null,null,{"$f":"+IF('Diario contable'!E165=\"Costo de ventas\",'Diario contable'!F165,0)","v":0},{"$f":"IF('Diario contable'!C165=\"Costo de ventas\",'Diario contable'!I165,IF('Diario contable'!E165=\"Costo de ventas\",'Diario contable'!I165,0))","v":0},{"$f":"IF('Diario contable'!C165=\"Costo de ventas\",'Diario contable'!H165,IF('Diario contable'!E165=\"Costo de ventas\",'Diario contable'!H165,0))","v":"00:00:00"},null,null,{"$f":"+IF('Diario contable'!C165=\"Ventas\",'Diario contable'!F165,0)","v":0},null,null,null,{"$f":"+IF('Diario contable'!E165=\"Ventas\",'Diario contable'!F165,0)","v":0},{"$f":"IF('Diario contable'!C165=\"Ventas\",'Diario contable'!I165,IF('Diario contable'!E165=\"Ventas\",'Diario contable'!I165,0))","v":0},{"$f":"IF('Diario contable'!C165=\"Ventas\",'Diario contable'!H165,IF('Diario contable'!E165=\"Ventas\",'Diario contable'!H165,0))","v":"00:00:00"},null,null,{"$f":"+IF('Diario contable'!C165=\"Gastos por salarios\",'Diario contable'!F165,0)","v":0},null,null,null,{"$f":"+IF('Diario contable'!E165=\"Gastos por salarios\",'Diario contable'!F165,0)","v":0},{"$f":"IF('Diario contable'!C165=\"Gastos por salarios\",'Diario contable'!I165,IF('Diario contable'!E165=\"Gastos por salarios\",'Diario contable'!I165,0))","v":0},{"$f":"IF('Diario contable'!C165=\"Gastos por salarios\",'Diario contable'!H165,IF('Diario contable'!E165=\"Gastos por salarios\",'Diario contable'!H165,0))","v":"00:00:00"},null,null,{"$f":"+IF('Diario contable'!C165=\"Gastos operacionales\",'Diario contable'!F165,0)","v":0},null,null,null,{"$f":"+IF('Diario contable'!E165=\"Gastos operacionales\",'Diario contable'!F165,0)","v":0},{"$f":"IF('Diario contable'!C165=\"Gastos operacionales\",'Diario contable'!I165,IF('Diario contable'!E165=\"Gastos operacionales\",'Diario contable'!I165,0))","v":0},{"$f":"IF('Diario contable'!C165=\"Gastos operacionales\",'Diario contable'!H165,IF('Diario contable'!E165=\"Gastos operacionales\",'Diario contable'!H165,0))","v":"00:00:00"},null,null,{"$f":"+IF('Diario contable'!C165=\"Suministros de oficina\",'Diario contable'!F165,0)","v":0},null,null,null,{"$f":"+IF('Diario contable'!E165=\"Suministros de oficina\",'Diario contable'!F165,0)","v":0},{"$f":"IF('Diario contable'!C165=\"Suministros de oficina\",'Diario contable'!I165,IF('Diario contable'!E165=\"Suministros de oficina\",'Diario contable'!I165,0))","v":0},{"$f":"IF('Diario contable'!C165=\"Suministros de oficina\",'Diario contable'!H165,IF('Diario contable'!E165=\"Suministros de oficina\",'Diario contable'!H165,0))","v":"00:00:00"},null,null,{"$f":"+IF('Diario contable'!C165=\"Capital social\",'Diario contable'!F165,0)","v":0},null,null,null,{"$f":"+IF('Diario contable'!E165=\"Capital social\",'Diario contable'!F165,0)","v":0},{"$f":"IF('Diario contable'!C165=\"Capital social\",'Diario contable'!I165,IF('Diario contable'!E165=\"Capital social\",'Diario contable'!I165,0))","v":0},{"$f":"IF('Diario contable'!C165=\"Capital social\",'Diario contable'!H165,IF('Diario contable'!E165=\"Capital social\",'Diario contable'!H165,0))","v":"00:00:00"},null,null,{"$f":"+IF('Diario contable'!C165=\"Gastos de mercadeo\",'Diario contable'!F165,0)","v":0},null,null,null,{"$f":"+IF('Diario contable'!E165=\"Gastos de mercadeo\",'Diario contable'!F165,0)","v":0},{"$f":"IF('Diario contable'!C165=\"Gastos de mercadeo\",'Diario contable'!I165,IF('Diario contable'!E165=\"Gastos de mercadeo\",'Diario contable'!I165,0))","v":0},{"$f":"IF('Diario contable'!C165=\"Gastos de mercadeo\",'Diario contable'!H165,IF('Diario contable'!E165=\"Gastos de mercadeo\",'Diario contable'!H165,0))","v":"00:00:00"},null,null,{"$f":"+IF('Diario contable'!C165=\"Gastos de suministros de oficina\",'Diario contable'!F165,0)","v":0},null,null,null,{"$f":"+IF('Diario contable'!E165=\"Gastos de suministros de oficina\",'Diario contable'!F165,0)","v":0},{"$f":"IF('Diario contable'!C165=\"Gastos de suministros de oficina\",'Diario contable'!I165,IF('Diario contable'!E165=\"Gastos de suministros de oficina\",'Diario contable'!I165,0))","v":0},{"$f":"IF('Diario contable'!C165=\"Gastos de suministros de oficina\",'Diario contable'!H165,IF('Diario contable'!E165=\"Gastos de suministros de oficina\",'Diario contable'!H165,0))","v":"00:00:00"}]
[null,null,{"$f":"+IF('Diario contable'!C166=\"Caja\",'Diario contable'!F166,0)","v":0},null,null,null,{"$f":"+IF('Diario contable'!E166=\"Caja\",'Diario contable'!F166,0)","v":0},{"$f":"IF('Diario contable'!C166=\"Caja\",'Diario contable'!I166,IF('Diario contable'!E166=\"Caja\",'Diario contable'!I166,0))","v":0},{"$f":"IF('Diario contable'!C166=\"Caja\",'Diario contable'!H166,IF('Diario contable'!E166=\"Caja\",'Diario contable'!H166,0))","v":"00:00:00"},null,null,{"$f":"+IF('Diario contable'!C166=\"Maquinaria\",'Diario contable'!F166,0)","v":0},null,null,null,{"$f":"+IF('Diario contable'!E166=\"Maquinaria\",'Diario contable'!F166,0)","v":0},{"$f":"IF('Diario contable'!C166=\"Maquinaria\",'Diario contable'!I166,IF('Diario contable'!E166=\"Maquinaria\",'Diario contable'!I166,0))","v":0},{"$f":"IF('Diario contable'!C166=\"Maquinaria\",'Diario contable'!H166,IF('Diario contable'!E166=\"Maquinaria\",'Diario contable'!H166,0))","v":"00:00:00"},null,null,{"$f":"+IF('Diario contable'!C166=\"Herramientas\",'Diario contable'!F166,0)","v":0},null,null,null,{"$f":"+IF('Diario contable'!E166=\"Herramientas\",'Diario contable'!F166,0)","v":0},{"$f":"IF('Diario contable'!C166=\"Herramientas\",'Diario contable'!I166,IF('Diario contable'!E166=\"Herramientas\",'Diario contable'!I166,0))","v":0},{"$f":"IF('Diario contable'!C166=\"Herramientas\",'Diario contable'!H166,IF('Diario contable'!E166=\"Herramientas\",'Diario contable'!H166,0))","v":"00:00:00"},null,null,{"$f":"+IF('Diario contable'!C166=\"Donaciones\",'Diario contable'!F166,0)","v":0},null,null,null,{"$f":"+IF('Diario contable'!E166=\"Donaciones\",'Diario contable'!F166,0)","v":0},{"$f":"IF('Diario contable'!C166=\"Donaciones\",'Diario contable'!I166,IF('Diario contable'!E166=\"Donaciones\",'Diario contable'!I166,0))","v":0},{"$f":"IF('Diario contable'!C166=\"Donaciones\",'Diario contable'!H166,IF('Diario contable'!E166=\"Donaciones\",'Diario contable'!H166,0))","v":"00:00:00"},null,null,{"$f":"+IF('Diario contable'!C166=\"Inventario\",'Diario contable'!F166,0)","v":0},null,null,null,{"$f":"+IF('Diario contable'!E166=\"Inventario\",'Diario contable'!F166,0)","v":0},{"$f":"IF('Diario contable'!C166=\"Inventario\",'Diario contable'!I166,IF('Diario contable'!E166=\"Inventario\",'Diario contable'!I166,0))","v":0},{"$f":"IF('Diario contable'!C166=\"Inventario\",'Diario contable'!H166,IF('Diario contable'!E166=\"Inventario\",'Diario contable'!H166,0))","v":"00:00:00"},null,null,{"$f":"+IF('Diario contable'!C166=\"Costo de ventas\",'Diario contable'!F166,0)","v":0},null,null,null,{"$f":"+IF('Diario contable'!E166=\"Costo de ventas\",'Diario contable'!F166,0)","v":0},{"$f":"IF('Diario contable'!C166=\"Costo de ventas\",'Diario contable'!I166,IF('Diario contable'!E166=\"Costo de ventas\",'Diario contable'!I166,0))","v":0},{"$f":"IF('Diario contable'!C166=\"Costo de ventas\",'Diario contable'!H166,IF('Diario contable'!E166=\"Costo de ventas\",'Diario contable'!H166,0))","v":"00:00:00"},null,null,{"$f":"+IF('Diario contable'!C166=\"Ventas\",'Diario contable'!F166,0)","v":0},null,null,null,{"$f":"+IF('Diario contable'!E166=\"Ventas\",'Diario contable'!F166,0)","v":0},{"$f":"IF('Diario contable'!C166=\"Ventas\",'Diario contable'!I166,IF('Diario contable'!E166=\"Ventas\",'Diario contable'!I166,0))","v":0},{"$f":"IF('Diario contable'!C166=\"Ventas\",'Diario contable'!H166,IF('Diario contable'!E166=\"Ventas\",'Diario contable'!H166,0))","v":"00:00:00"},null,null,{"$f":"+IF('Diario contable'!C166=\"Gastos por salarios\",'Diario contable'!F166,0)","v":0},null,null,null,{"$f":"+IF('Diario contable'!E166=\"Gastos por salarios\",'Diario contable'!F166,0)","v":0},{"$f":"IF('Diario contable'!C166=\"Gastos por salarios\",'Diario contable'!I166,IF('Diario contable'!E166=\"Gastos por salarios\",'Diario contable'!I166,0))","v":0},{"$f":"IF('Diario contable'!C166=\"Gastos por salarios\",'Diario contable'!H166,IF('Diario contable'!E166=\"Gastos por salarios\",'Diario contable'!H166,0))","v":"00:00:00"},null,null,{"$f":"+IF('Diario contable'!C166=\"Gastos operacionales\",'Diario contable'!F166,0)","v":0},null,null,null,{"$f":"+IF('Diario contable'!E166=\"Gastos operacionales\",'Diario contable'!F166,0)","v":0},{"$f":"IF('Diario contable'!C166=\"Gastos operacionales\",'Diario contable'!I166,IF('Diario contable'!E166=\"Gastos operacionales\",'Diario contable'!I166,0))","v":0},{"$f":"IF('Diario contable'!C166=\"Gastos operacionales\",'Diario contable'!H166,IF('Diario contable'!E166=\"Gastos operacionales\",'Diario contable'!H166,0))","v":"00:00:00"},null,null,{"$f":"+IF('Diario contable'!C166=\"Suministros de oficina\",'Diario contable'!F166,0)","v":0},null,null,null,{"$f":"+IF('Diario contable'!E166=\"Suministros de oficina\",'Diario contable'!F166,0)","v":0},{"$f":"IF('Diario contable'!C166=\"Suministros de oficina\",'Diario contable'!I166,IF('Diario contable'!E166=\"Suministros de oficina\",'Diario contable'!I166,0))","v":0},{"$f":"IF('Diario contable'!C166=\"Suministros de oficina\",'Diario contable'!H166,IF('Diario contable'!E166=\"Suministros de oficina\",'Diario contable'!H166,0))","v":"00:00:00"},null,null,{"$f":"+IF('Diario contable'!C166=\"Capital social\",'Diario contable'!F166,0)","v":0},null,null,null,{"$f":"+IF('Diario contable'!E166=\"Capital social\",'Diario contable'!F166,0)","v":0},{"$f":"IF('Diario contable'!C166=\"Capital social\",'Diario contable'!I166,IF('Diario contable'!E166=\"Capital social\",'Diario contable'!I166,0))","v":0},{"$f":"IF('Diario contable'!C166=\"Capital social\",'Diario contable'!H166,IF('Diario contable'!E166=\"Capital social\",'Diario contable'!H166,0))","v":"00:00:00"},null,null,{"$f":"+IF('Diario contable'!C166=\"Gastos de mercadeo\",'Diario contable'!F166,0)","v":0},null,null,null,{"$f":"+IF('Diario contable'!E166=\"Gastos de mercadeo\",'Diario contable'!F166,0)","v":0},{"$f":"IF('Diario contable'!C166=\"Gastos de mercadeo\",'Diario contable'!I166,IF('Diario contable'!E166=\"Gastos de mercadeo\",'Diario contable'!I166,0))","v":0},{"$f":"IF('Diario contable'!C166=\"Gastos de mercadeo\",'Diario contable'!H166,IF('Diario contable'!E166=\"Gastos de mercadeo\",'Diario contable'!H166,0))","v":"00:00:00"},null,null,{"$f":"+IF('Diario contable'!C166=\"Gastos de suministros de oficina\",'Diario contable'!F166,0)","v":0},null,null,null,{"$f":"+IF('Diario contable'!E166=\"Gastos de suministros de oficina\",'Diario contable'!F166,0)","v":0},{"$f":"IF('Diario contable'!C166=\"Gastos de suministros de oficina\",'Diario contable'!I166,IF('Diario contable'!E166=\"Gastos de suministros de oficina\",'Diario contable'!I166,0))","v":0},{"$f":"IF('Diario contable'!C166=\"Gastos de suministros de oficina\",'Diario contable'!H166,IF('Diario contable'!E166=\"Gastos de suministros de oficina\",'Diario contable'!H166,0))","v":"00:00:00"}]
[null,null,{"$f":"+IF('Diario contable'!C167=\"Caja\",'Diario contable'!F167,0)","v":0},null,null,null,{"$f":"+IF('Diario contable'!E167=\"Caja\",'Diario contable'!F167,0)","v":0},{"$f":"IF('Diario contable'!C167=\"Caja\",'Diario contable'!I167,IF('Diario contable'!E167=\"Caja\",'Diario contable'!I167,0))","v":0},{"$f":"IF('Diario contable'!C167=\"Caja\",'Diario contable'!H167,IF('Diario contable'!E167=\"Caja\",'Diario contable'!H167,0))","v":"00:00:00"},null,null,{"$f":"+IF('Diario contable'!C167=\"Maquinaria\",'Diario contable'!F167,0)","v":0},null,null,null,{"$f":"+IF('Diario contable'!E167=\"Maquinaria\",'Diario contable'!F167,0)","v":0},{"$f":"IF('Diario contable'!C167=\"Maquinaria\",'Diario contable'!I167,IF('Diario contable'!E167=\"Maquinaria\",'Diario contable'!I167,0))","v":0},{"$f":"IF('Diario contable'!C167=\"Maquinaria\",'Diario contable'!H167,IF('Diario contable'!E167=\"Maquinaria\",'Diario contable'!H167,0))","v":"00:00:00"},null,null,{"$f":"+IF('Diario contable'!C167=\"Herramientas\",'Diario contable'!F167,0)","v":0},null,null,null,{"$f":"+IF('Diario contable'!E167=\"Herramientas\",'Diario contable'!F167,0)","v":0},{"$f":"IF('Diario contable'!C167=\"Herramientas\",'Diario contable'!I167,IF('Diario contable'!E167=\"Herramientas\",'Diario contable'!I167,0))","v":0},{"$f":"IF('Diario contable'!C167=\"Herramientas\",'Diario contable'!H167,IF('Diario contable'!E167=\"Herramientas\",'Diario contable'!H167,0))","v":"00:00:00"},null,null,{"$f":"+IF('Diario contable'!C167=\"Donaciones\",'Diario contable'!F167,0)","v":0},null,null,null,{"$f":"+IF('Diario contable'!E167=\"Donaciones\",'Diario contable'!F167,0)","v":0},{"$f":"IF('Diario contable'!C167=\"Donaciones\",'Diario contable'!I167,IF('Diario contable'!E167=\"Donaciones\",'Diario contable'!I167,0))","v":0},{"$f":"IF('Diario contable'!C167=\"Donaciones\",'Diario contable'!H167,IF('Diario contable'!E167=\"Donaciones\",'Diario contable'!H167,0))","v":"00:00:00"},null,null,{"$f":"+IF('Diario contable'!C167=\"Inventario\",'Diario contable'!F167,0)","v":0},null,null,null,{"$f":"+IF('Diario contable'!E167=\"Inventario\",'Diario contable'!F167,0)","v":0},{"$f":"IF('Diario contable'!C167=\"Inventario\",'Diario contable'!I167,IF('Diario contable'!E167=\"Inventario\",'Diario contable'!I167,0))","v":0},{"$f":"IF('Diario contable'!C167=\"Inventario\",'Diario contable'!H167,IF('Diario contable'!E167=\"Inventario\",'Diario contable'!H167,0))","v":"00:00:00"},null,null,{"$f":"+IF('Diario contable'!C167=\"Costo de ventas\",'Diario contable'!F167,0)","v":0},null,null,null,{"$f":"+IF('Diario contable'!E167=\"Costo de ventas\",'Diario contable'!F167,0)","v":0},{"$f":"IF('Diario contable'!C167=\"Costo de ventas\",'Diario contable'!I167,IF('Diario contable'!E167=\"Costo de ventas\",'Diario contable'!I167,0))","v":0},{"$f":"IF('Diario contable'!C167=\"Costo de ventas\",'Diario contable'!H167,IF('Diario contable'!E167=\"Costo de ventas\",'Diario contable'!H167,0))","v":"00:00:00"},null,null,{"$f":"+IF('Diario contable'!C167=\"Ventas\",'Diario contable'!F167,0)","v":0},null,null,null,{"$f":"+IF('Diario contable'!E167=\"Ventas\",'Diario contable'!F167,0)","v":0},{"$f":"IF('Diario contable'!C167=\"Ventas\",'Diario contable'!I167,IF('Diario contable'!E167=\"Ventas\",'Diario contable'!I167,0))","v":0},{"$f":"IF('Diario contable'!C167=\"Ventas\",'Diario contable'!H167,IF('Diario contable'!E167=\"Ventas\",'Diario contable'!H167,0))","v":"00:00:00"},null,null,{"$f":"+IF('Diario contable'!C167=\"Gastos por salarios\",'Diario contable'!F167,0)","v":0},null,null,null,{"$f":"+IF('Diario contable'!E167=\"Gastos por salarios\",'Diario contable'!F167,0)","v":0},{"$f":"IF('Diario contable'!C167=\"Gastos por salarios\",'Diario contable'!I167,IF('Diario contable'!E167=\"Gastos por salarios\",'Diario contable'!I167,0))","v":0},{"$f":"IF('Diario contable'!C167=\"Gastos por salarios\",'Diario contable'!H167,IF('Diario contable'!E167=\"Gastos por salarios\",'Diario contable'!H167,0))","v":"00:00:00"},null,null,{"$f":"+IF('Diario contable'!C167=\"Gastos operacionales\",'Diario contable'!F167,0)","v":0},null,null,null,{"$f":"+IF('Diario contable'!E167=\"Gastos operacionales\",'Diario contable'!F167,0)","v":0},{"$f":"IF('Diario contable'!C167=\"Gastos operacionales\",'Diario contable'!I167,IF('Diario contable'!E167=\"Gastos operacionales\",'Diario contable'!I167,0))","v":0},{"$f":"IF('Diario contable'!C167=\"Gastos operacionales\",'Diario contable'!H167,IF('Diario contable'!E167=\"Gastos operacionales\",'Diario contable'!H167,0))","v":"00:00:00"},null,null,{"$f":"+IF('Diario contable'!C167=\"Suministros de oficina\",'Diario contable'!F167,0)","v":0},null,null,null,{"$f":"+IF('Diario contable'!E167=\"Suministros de oficina\",'Diario contable'!F167,0)","v":0},{"$f":"IF('Diario contable'!C167=\"Suministros de oficina\",'Diario contable'!I167,IF('Diario contable'!E167=\"Suministros de oficina\",'Diario contable'!I167,0))","v":0},{"$f":"IF('Diario contable'!C167=\"Suministros de oficina\",'Diario contable'!H167,IF('Diario contable'!E167=\"Suministros de oficina\",'Diario contable'!H167,0))","v":"00:00:00"},null,null,{"$f":"+IF('Diario contable'!C167=\"Capital social\",'Diario contable'!F167,0)","v":0},null,null,null,{"$f":"+IF('Diario contable'!E167=\"Capital social\",'Diario contable'!F167,0)","v":0},{"$f":"IF('Diario contable'!C167=\"Capital social\",'Diario contable'!I167,IF('Diario contable'!E167=\"Capital social\",'Diario contable'!I167,0))","v":0},{"$f":"IF('Diario contable'!C167=\"Capital social\",'Diario contable'!H167,IF('Diario contable'!E167=\"Capital social\",'Diario contable'!H167,0))","v":"00:00:00"},null,null,{"$f":"+IF('Diario contable'!C167=\"Gastos de mercadeo\",'Diario contable'!F167,0)","v":0},null,null,null,{"$f":"+IF('Diario contable'!E167=\"Gastos de mercadeo\",'Diario contable'!F167,0)","v":0},{"$f":"IF('Diario contable'!C167=\"Gastos de mercadeo\",'Diario contable'!I167,IF('Diario contable'!E167=\"Gastos de mercadeo\",'Diario contable'!I167,0))","v":0},{"$f":"IF('Diario contable'!C167=\"Gastos de mercadeo\",'Diario contable'!H167,IF('Diario contable'!E167=\"Gastos de mercadeo\",'Diario contable'!H167,0))","v":"00:00:00"},null,null,{"$f":"+IF('Diario contable'!C167=\"Gastos de suministros de oficina\",'Diario contable'!F167,0)","v":0},null,null,null,{"$f":"+IF('Diario contable'!E167=\"Gastos de suministros de oficina\",'Diario contable'!F167,0)","v":0},{"$f":"IF('Diario contable'!C167=\"Gastos de suministros de oficina\",'Diario contable'!I167,IF('Diario contable'!E167=\"Gastos de suministros de oficina\",'Diario contable'!I167,0))","v":0},{"$f":"IF('Diario contable'!C167=\"Gastos de suministros de oficina\",'Diario contable'!H167,IF('Diario contable'!E167=\"Gastos de suministros de oficina\",'Diario contable'!H167,0))","v":"00:00:00"}]
[null,null,{"$f":"+IF('Diario contable'!C168=\"Caja\",'Diario contable'!F168,0)","v":0},null,null,null,{"$f":"+IF('Diario contable'!E168=\"Caja\",'Diario contable'!F168,0)","v":0},{"$f":"IF('Diario contable'!C168=\"Caja\",'Diario contable'!I168,IF('Diario contable'!E168=\"Caja\",'Diario contable'!I168,0))","v":0},{"$f":"IF('Diario contable'!C168=\"Caja\",'Diario contable'!H168,IF('Diario contable'!E168=\"Caja\",'Diario contable'!H168,0))","v":"00:00:00"},null,null,{"$f":"+IF('Diario contable'!C168=\"Maquinaria\",'Diario contable'!F168,0)","v":0},null,null,null,{"$f":"+IF('Diario contable'!E168=\"Maquinaria\",'Diario contable'!F168,0)","v":0},{"$f":"IF('Diario contable'!C168=\"Maquinaria\",'Diario contable'!I168,IF('Diario contable'!E168=\"Maquinaria\",'Diario contable'!I168,0))","v":0},{"$f":"IF('Diario contable'!C168=\"Maquinaria\",'Diario contable'!H168,IF('Diario contable'!E168=\"Maquinaria\",'Diario contable'!H168,0))","v":"00:00:00"},null,null,{"$f":"+IF('Diario contable'!C168=\"Herramientas\",'Diario contable'!F168,0)","v":0},null,null,null,{"$f":"+IF('Diario contable'!E168=\"Herramientas\",'Diario contable'!F168,0)","v":0},{"$f":"IF('Diario contable'!C168=\"Herramientas\",'Diario contable'!I168,IF('Diario contable'!E168=\"Herramientas\",'Diario contable'!I168,0))","v":0},{"$f":"IF('Diario contable'!C168=\"Herramientas\",'Diario contable'!H168,IF('Diario contable'!E168=\"Herramientas\",'Diario contable'!H168,0))","v":"00:00:00"},null,null,{"$f":"+IF('Diario contable'!C168=\"Donaciones\",'Diario contable'!F168,0)","v":0},null,null,null,{"$f":"+IF('Diario contable'!E168=\"Donaciones\",'Diario contable'!F168,0)","v":0},{"$f":"IF('Diario contable'!C168=\"Donaciones\",'Diario contable'!I168,IF('Diario contable'!E168=\"Donaciones\",'Diario contable'!I168,0))","v":0},{"$f":"IF('Diario contable'!C168=\"Donaciones\",'Diario contable'!H168,IF('Diario contable'!E168=\"Donaciones\",'Diario contable'!H168,0))","v":"00:00:00"},null,null,{"$f":"+IF('Diario contable'!C168=\"Inventario\",'Diario contable'!F168,0)","v":0},null,null,null,{"$f":"+IF('Diario contable'!E168=\"Inventario\",'Diario contable'!F168,0)","v":0},{"$f":"IF('Diario contable'!C168=\"Inventario\",'Diario contable'!I168,IF('Diario contable'!E168=\"Inventario\",'Diario contable'!I168,0))","v":0},{"$f":"IF('Diario contable'!C168=\"Inventario\",'Diario contable'!H168,IF('Diario contable'!E168=\"Inventario\",'Diario contable'!H168,0))","v":"00:00:00"},null,null,{"$f":"+IF('Diario contable'!C168=\"Costo de ventas\",'Diario contable'!F168,0)","v":0},null,null,null,{"$f":"+IF('Diario contable'!E168=\"Costo de ventas\",'Diario contable'!F168,0)","v":0},{"$f":"IF('Diario contable'!C168=\"Costo de ventas\",'Diario contable'!I168,IF('Diario contable'!E168=\"Costo de ventas\",'Diario contable'!I168,0))","v":0},{"$f":"IF('Diario contable'!C168=\"Costo de ventas\",'Diario contable'!H168,IF('Diario contable'!E168=\"Costo de ventas\",'Diario contable'!H168,0))","v":"00:00:00"},null,null,{"$f":"+IF('Diario contable'!C168=\"Ventas\",'Diario contable'!F168,0)","v":0},null,null,null,{"$f":"+IF('Diario contable'!E168=\"Ventas\",'Diario contable'!F168,0)","v":0},{"$f":"IF('Diario contable'!C168=\"Ventas\",'Diario contable'!I168,IF('Diario contable'!E168=\"Ventas\",'Diario contable'!I168,0))","v":0},{"$f":"IF('Diario contable'!C168=\"Ventas\",'Diario contable'!H168,IF('Diario contable'!E168=\"Ventas\",'Diario contable'!H168,0))","v":"00:00:00"},null,null,{"$f":"+IF('Diario contable'!C168=\"Gastos por salarios\",'Diario contable'!F168,0)","v":0},null,null,null,{"$f":"+IF('Diario contable'!E168=\"Gastos por salarios\",'Diario contable'!F168,0)","v":0},{"$f":"IF('Diario contable'!C168=\"Gastos por salarios\",'Diario contable'!I168,IF('Diario contable'!E168=\"Gastos por salarios\",'Diario contable'!I168,0))","v":0},{"$f":"IF('Diario contable'!C168=\"Gastos por salarios\",'Diario contable'!H168,IF('Diario contable'!E168=\"Gastos por salarios\",'Diario contable'!H168,0))","v":"00:00:00"},null,null,{"$f":"+IF('Diario contable'!C168=\"Gastos operacionales\",'Diario contable'!F168,0)","v":0},null,null,null,{"$f":"+IF('Diario contable'!E168=\"Gastos operacionales\",'Diario contable'!F168,0)","v":0},{"$f":"IF('Diario contable'!C168=\"Gastos operacionales\",'Diario contable'!I168,IF('Diario contable'!E168=\"Gastos operacionales\",'Diario contable'!I168,0))","v":0},{"$f":"IF('Diario contable'!C168=\"Gastos operacionales\",'Diario contable'!H168,IF('Diario contable'!E168=\"Gastos operacionales\",'Diario contable'!H168,0))","v":"00:00:00"},null,null,{"$f":"+IF('Diario contable'!C168=\"Suministros de oficina\",'Diario contable'!F168,0)","v":0},null,null,null,{"$f":"+IF('Diario contable'!E168=\"Suministros de oficina\",'Diario contable'!F168,0)","v":0},{"$f":"IF('Diario contable'!C168=\"Suministros de oficina\",'Diario contable'!I168,IF('Diario contable'!E168=\"Suministros de oficina\",'Diario contable'!I168,0))","v":0},{"$f":"IF('Diario contable'!C168=\"Suministros de oficina\",'Diario contable'!H168,IF('Diario contable'!E168=\"Suministros de oficina\",'Diario contable'!H168,0))","v":"00:00:00"},null,null,{"$f":"+IF('Diario contable'!C168=\"Capital social\",'Diario contable'!F168,0)","v":0},null,null,null,{"$f":"+IF('Diario contable'!E168=\"Capital social\",'Diario contable'!F168,0)","v":0},{"$f":"IF('Diario contable'!C168=\"Capital social\",'Diario contable'!I168,IF('Diario contable'!E168=\"Capital social\",'Diario contable'!I168,0))","v":0},{"$f":"IF('Diario contable'!C168=\"Capital social\",'Diario contable'!H168,IF('Diario contable'!E168=\"Capital social\",'Diario contable'!H168,0))","v":"00:00:00"},null,null,{"$f":"+IF('Diario contable'!C168=\"Gastos de mercadeo\",'Diario contable'!F168,0)","v":0},null,null,null,{"$f":"+IF('Diario contable'!E168=\"Gastos de mercadeo\",'Diario contable'!F168,0)","v":0},{"$f":"IF('Diario contable'!C168=\"Gastos de mercadeo\",'Diario contable'!I168,IF('Diario contable'!E168=\"Gastos de mercadeo\",'Diario contable'!I168,0))","v":0},{"$f":"IF('Diario contable'!C168=\"Gastos de mercadeo\",'Diario contable'!H168,IF('Diario contable'!E168=\"Gastos de mercadeo\",'Diario contable'!H168,0))","v":"00:00:00"},null,null,{"$f":"+IF('Diario contable'!C168=\"Gastos de suministros de oficina\",'Diario contable'!F168,0)","v":0},null,null,null,{"$f":"+IF('Diario contable'!E168=\"Gastos de suministros de oficina\",'Diario contable'!F168,0)","v":0},{"$f":"IF('Diario contable'!C168=\"Gastos de suministros de oficina\",'Diario contable'!I168,IF('Diario contable'!E168=\"Gastos de suministros de oficina\",'Diario contable'!I168,0))","v":0},{"$f":"IF('Diario contable'!C168=\"Gastos de suministros de oficina\",'Diario contable'!H168,IF('Diario contable'!E168=\"Gastos de suministros de oficina\",'Diario contable'!H168,0))","v":"00:00:00"}]
[null,null,{"$f":"+IF('Diario contable'!C169=\"Caja\",'Diario contable'!F169,0)","v":0},null,null,null,{"$f":"+IF('Diario contable'!E169=\"Caja\",'Diario contable'!F169,0)","v":0},{"$f":"IF('Diario contable'!C169=\"Caja\",'Diario contable'!I169,IF('Diario contable'!E169=\"Caja\",'Diario contable'!I169,0))","v":0},{"$f":"IF('Diario contable'!C169=\"Caja\",'Diario contable'!H169,IF('Diario contable'!E169=\"Caja\",'Diario contable'!H169,0))","v":"00:00:00"},null,null,{"$f":"+IF('Diario contable'!C169=\"Maquinaria\",'Diario contable'!F169,0)","v":0},null,null,null,{"$f":"+IF('Diario contable'!E169=\"Maquinaria\",'Diario contable'!F169,0)","v":0},{"$f":"IF('Diario contable'!C169=\"Maquinaria\",'Diario contable'!I169,IF('Diario contable'!E169=\"Maquinaria\",'Diario contable'!I169,0))","v":0},{"$f":"IF('Diario contable'!C169=\"Maquinaria\",'Diario contable'!H169,IF('Diario contable'!E169=\"Maquinaria\",'Diario contable'!H169,0))","v":"00:00:00"},null,null,{"$f":"+IF('Diario contable'!C169=\"Herramientas\",'Diario contable'!F169,0)","v":0},null,null,null,{"$f":"+IF('Diario contable'!E169=\"Herramientas\",'Diario contable'!F169,0)","v":0},{"$f":"IF('Diario contable'!C169=\"Herramientas\",'Diario contable'!I169,IF('Diario contable'!E169=\"Herramientas\",'Diario contable'!I169,0))","v":0},{"$f":"IF('Diario contable'!C169=\"Herramientas\",'Diario contable'!H169,IF('Diario contable'!E169=\"Herramientas\",'Diario contable'!H169,0))","v":"00:00:00"},null,null,{"$f":"+IF('Diario contable'!C169=\"Donaciones\",'Diario contable'!F169,0)","v":0},null,null,null,{"$f":"+IF('Diario contable'!E169=\"Donaciones\",'Diario contable'!F169,0)","v":0},{"$f":"IF('Diario contable'!C169=\"Donaciones\",'Diario contable'!I169,IF('Diario contable'!E169=\"Donaciones\",'Diario contable'!I169,0))","v":0},{"$f":"IF('Diario contable'!C169=\"Donaciones\",'Diario contable'!H169,IF('Diario contable'!E169=\"Donaciones\",'Diario contable'!H169,0))","v":"00:00:00"},null,null,{"$f":"+IF('Diario contable'!C169=\"Inventario\",'Diario contable'!F169,0)","v":0},null,null,null,{"$f":"+IF('Diario contable'!E169=\"Inventario\",'Diario contable'!F169,0)","v":0},{"$f":"IF('Diario contable'!C169=\"Inventario\",'Diario contable'!I169,IF('Diario contable'!E169=\"Inventario\",'Diario contable'!I169,0))","v":0},{"$f":"IF('Diario contable'!C169=\"Inventario\",'Diario contable'!H169,IF('Diario contable'!E169=\"Inventario\",'Diario contable'!H169,0))","v":"00:00:00"},null,null,{"$f":"+IF('Diario contable'!C169=\"Costo de ventas\",'Diario contable'!F169,0)","v":0},null,null,null,{"$f":"+IF('Diario contable'!E169=\"Costo de ventas\",'Diario contable'!F169,0)","v":0},{"$f":"IF('Diario contable'!C169=\"Costo de ventas\",'Diario contable'!I169,IF('Diario contable'!E169=\"Costo de ventas\",'Diario contable'!I169,0))","v":0},{"$f":"IF('Diario contable'!C169=\"Costo de ventas\",'Diario contable'!H169,IF('Diario contable'!E169=\"Costo de ventas\",'Diario contable'!H169,0))","v":"00:00:00"},null,null,{"$f":"+IF('Diario contable'!C169=\"Ventas\",'Diario contable'!F169,0)","v":0},null,null,null,{"$f":"+IF('Diario contable'!E169=\"Ventas\",'Diario contable'!F169,0)","v":0},{"$f":"IF('Diario contable'!C169=\"Ventas\",'Diario contable'!I169,IF('Diario contable'!E169=\"Ventas\",'Diario contable'!I169,0))","v":0},{"$f":"IF('Diario contable'!C169=\"Ventas\",'Diario contable'!H169,IF('Diario contable'!E169=\"Ventas\",'Diario contable'!H169,0))","v":"00:00:00"},null,null,{"$f":"+IF('Diario contable'!C169=\"Gastos por salarios\",'Diario contable'!F169,0)","v":0},null,null,null,{"$f":"+IF('Diario contable'!E169=\"Gastos por salarios\",'Diario contable'!F169,0)","v":0},{"$f":"IF('Diario contable'!C169=\"Gastos por salarios\",'Diario contable'!I169,IF('Diario contable'!E169=\"Gastos por salarios\",'Diario contable'!I169,0))","v":0},{"$f":"IF('Diario contable'!C169=\"Gastos por salarios\",'Diario contable'!H169,IF('Diario contable'!E169=\"Gastos por salarios\",'Diario contable'!H169,0))","v":"00:00:00"},null,null,{"$f":"+IF('Diario contable'!C169=\"Gastos operacionales\",'Diario contable'!F169,0)","v":0},null,null,null,{"$f":"+IF('Diario contable'!E169=\"Gastos operacionales\",'Diario contable'!F169,0)","v":0},{"$f":"IF('Diario contable'!C169=\"Gastos operacionales\",'Diario contable'!I169,IF('Diario contable'!E169=\"Gastos operacionales\",'Diario contable'!I169,0))","v":0},{"$f":"IF('Diario contable'!C169=\"Gastos operacionales\",'Diario contable'!H169,IF('Diario contable'!E169=\"Gastos operacionales\",'Diario contable'!H169,0))","v":"00:00:00"},null,null,{"$f":"+IF('Diario contable'!C169=\"Suministros de oficina\",'Diario contable'!F169,0)","v":0},null,null,null,{"$f":"+IF('Diario contable'!E169=\"Suministros de oficina\",'Diario contable'!F169,0)","v":0},{"$f":"IF('Diario contable'!C169=\"Suministros de oficina\",'Diario contable'!I169,IF('Diario contable'!E169=\"Suministros de oficina\",'Diario contable'!I169,0))","v":0},{"$f":"IF('Diario contable'!C169=\"Suministros de oficina\",'Diario contable'!H169,IF('Diario contable'!E169=\"Suministros de oficina\",'Diario contable'!H169,0))","v":"00:00:00"},null,null,{"$f":"+IF('Diario contable'!C169=\"Capital social\",'Diario contable'!F169,0)","v":0},null,null,null,{"$f":"+IF('Diario contable'!E169=\"Capital social\",'Diario contable'!F169,0)","v":0},{"$f":"IF('Diario contable'!C169=\"Capital social\",'Diario contable'!I169,IF('Diario contable'!E169=\"Capital social\",'Diario contable'!I169,0))","v":0},{"$f":"IF('Diario contable'!C169=\"Capital social\",'Diario contable'!H169,IF('Diario contable'!E169=\"Capital social\",'Diario contable'!H169,0))","v":"00:00:00"},null,null,{"$f":"+IF('Diario contable'!C169=\"Gastos de mercadeo\",'Diario contable'!F169,0)","v":0},null,null,null,{"$f":"+IF('Diario contable'!E169=\"Gastos de mercadeo\",'Diario contable'!F169,0)","v":0},{"$f":"IF('Diario contable'!C169=\"Gastos de mercadeo\",'Diario contable'!I169,IF('Diario contable'!E169=\"Gastos de mercadeo\",'Diario contable'!I169,0))","v":0},{"$f":"IF('Diario contable'!C169=\"Gastos de mercadeo\",'Diario contable'!H169,IF('Diario contable'!E169=\"Gastos de mercadeo\",'Diario contable'!H169,0))","v":"00:00:00"},null,null,{"$f":"+IF('Diario contable'!C169=\"Gastos de suministros de oficina\",'Diario contable'!F169,0)","v":0},null,null,null,{"$f":"+IF('Diario contable'!E169=\"Gastos de suministros de oficina\",'Diario contable'!F169,0)","v":0},{"$f":"IF('Diario contable'!C169=\"Gastos de suministros de oficina\",'Diario contable'!I169,IF('Diario contable'!E169=\"Gastos de suministros de oficina\",'Diario contable'!I169,0))","v":0},{"$f":"IF('Diario contable'!C169=\"Gastos de suministros de oficina\",'Diario contable'!H169,IF('Diario contable'!E169=\"Gastos de suministros de oficina\",'Diario contable'!H169,0))","v":"00:00:00"}]
[null,null,{"$f":"+IF('Diario contable'!C170=\"Caja\",'Diario contable'!F170,0)","v":0},null,null,null,{"$f":"+IF('Diario contable'!E170=\"Caja\",'Diario contable'!F170,0)","v":0},{"$f":"IF('Diario contable'!C170=\"Caja\",'Diario contable'!I170,IF('Diario contable'!E170=\"Caja\",'Diario contable'!I170,0))","v":0},{"$f":"IF('Diario contable'!C170=\"Caja\",'Diario contable'!H170,IF('Diario contable'!E170=\"Caja\",'Diario contable'!H170,0))","v":"00:00:00"},null,null,{"$f":"+IF('Diario contable'!C170=\"Maquinaria\",'Diario contable'!F170,0)","v":0},null,null,null,{"$f":"+IF('Diario contable'!E170=\"Maquinaria\",'Diario contable'!F170,0)","v":0},{"$f":"IF('Diario contable'!C170=\"Maquinaria\",'Diario contable'!I170,IF('Diario contable'!E170=\"Maquinaria\",'Diario contable'!I170,0))","v":0},{"$f":"IF('Diario contable'!C170=\"Maquinaria\",'Diario contable'!H170,IF('Diario contable'!E170=\"Maquinaria\",'Diario contable'!H170,0))","v":"00:00:00"},null,null,{"$f":"+IF('Diario contable'!C170=\"Herramientas\",'Diario contable'!F170,0)","v":0},null,null,null,{"$f":"+IF('Diario contable'!E170=\"Herramientas\",'Diario contable'!F170,0)","v":0},{"$f":"IF('Diario contable'!C170=\"Herramientas\",'Diario contable'!I170,IF('Diario contable'!E170=\"Herramientas\",'Diario contable'!I170,0))","v":0},{"$f":"IF('Diario contable'!C170=\"Herramientas\",'Diario contable'!H170,IF('Diario contable'!E170=\"Herramientas\",'Diario contable'!H170,0))","v":"00:00:00"},null,null,{"$f":"+IF('Diario contable'!C170=\"Donaciones\",'Diario contable'!F170,0)","v":0},null,null,null,{"$f":"+IF('Diario contable'!E170=\"Donaciones\",'Diario contable'!F170,0)","v":0},{"$f":"IF('Diario contable'!C170=\"Donaciones\",'Diario contable'!I170,IF('Diario contable'!E170=\"Donaciones\",'Diario contable'!I170,0))","v":0},{"$f":"IF('Diario contable'!C170=\"Donaciones\",'Diario contable'!H170,IF('Diario contable'!E170=\"Donaciones\",'Diario contable'!H170,0))","v":"00:00:00"},null,null,{"$f":"+IF('Diario contable'!C170=\"Inventario\",'Diario contable'!F170,0)","v":0},null,null,null,{"$f":"+IF('Diario contable'!E170=\"Inventario\",'Diario contable'!F170,0)","v":0},{"$f":"IF('Diario contable'!C170=\"Inventario\",'Diario contable'!I170,IF('Diario contable'!E170=\"Inventario\",'Diario contable'!I170,0))","v":0},{"$f":"IF('Diario contable'!C170=\"Inventario\",'Diario contable'!H170,IF('Diario contable'!E170=\"Inventario\",'Diario contable'!H170,0))","v":"00:00:00"},null,null,{"$f":"+IF('Diario contable'!C170=\"Costo de ventas\",'Diario contable'!F170,0)","v":0},null,null,null,{"$f":"+IF('Diario contable'!E170=\"Costo de ventas\",'Diario contable'!F170,0)","v":0},{"$f":"IF('Diario contable'!C170=\"Costo de ventas\",'Diario contable'!I170,IF('Diario contable'!E170=\"Costo de ventas\",'Diario contable'!I170,0))","v":0},{"$f":"IF('Diario contable'!C170=\"Costo de ventas\",'Diario contable'!H170,IF('Diario contable'!E170=\"Costo de ventas\",'Diario contable'!H170,0))","v":"00:00:00"},null,null,{"$f":"+IF('Diario contable'!C170=\"Ventas\",'Diario contable'!F170,0)","v":0},null,null,null,{"$f":"+IF('Diario contable'!E170=\"Ventas\",'Diario contable'!F170,0)","v":0},{"$f":"IF('Diario contable'!C170=\"Ventas\",'Diario contable'!I170,IF('Diario contable'!E170=\"Ventas\",'Diario contable'!I170,0))","v":0},{"$f":"IF('Diario contable'!C170=\"Ventas\",'Diario contable'!H170,IF('Diario contable'!E170=\"Ventas\",'Diario contable'!H170,0))","v":"00:00:00"},null,null,{"$f":"+IF('Diario contable'!C170=\"Gastos por salarios\",'Diario contable'!F170,0)","v":0},null,null,null,{"$f":"+IF('Diario contable'!E170=\"Gastos por salarios\",'Diario contable'!F170,0)","v":0},{"$f":"IF('Diario contable'!C170=\"Gastos por salarios\",'Diario contable'!I170,IF('Diario contable'!E170=\"Gastos por salarios\",'Diario contable'!I170,0))","v":0},{"$f":"IF('Diario contable'!C170=\"Gastos por salarios\",'Diario contable'!H170,IF('Diario contable'!E170=\"Gastos por salarios\",'Diario contable'!H170,0))","v":"00:00:00"},null,null,{"$f":"+IF('Diario contable'!C170=\"Gastos operacionales\",'Diario contable'!F170,0)","v":0},null,null,null,{"$f":"+IF('Diario contable'!E170=\"Gastos operacionales\",'Diario contable'!F170,0)","v":0},{"$f":"IF('Diario contable'!C170=\"Gastos operacionales\",'Diario contable'!I170,IF('Diario contable'!E170=\"Gastos operacionales\",'Diario contable'!I170,0))","v":0},{"$f":"IF('Diario contable'!C170=\"Gastos operacionales\",'Diario contable'!H170,IF('Diario contable'!E170=\"Gastos operacionales\",'Diario contable'!H170,0))","v":"00:00:00"},null,null,{"$f":"+IF('Diario contable'!C170=\"Suministros de oficina\",'Diario contable'!F170,0)","v":0},null,null,null,{"$f":"+IF('Diario contable'!E170=\"Suministros de oficina\",'Diario contable'!F170,0)","v":0},{"$f":"IF('Diario contable'!C170=\"Suministros de oficina\",'Diario contable'!I170,IF('Diario contable'!E170=\"Suministros de oficina\",'Diario contable'!I170,0))","v":0},{"$f":"IF('Diario contable'!C170=\"Suministros de oficina\",'Diario contable'!H170,IF('Diario contable'!E170=\"Suministros de oficina\",'Diario contable'!H170,0))","v":"00:00:00"},null,null,{"$f":"+IF('Diario contable'!C170=\"Capital social\",'Diario contable'!F170,0)","v":0},null,null,null,{"$f":"+IF('Diario contable'!E170=\"Capital social\",'Diario contable'!F170,0)","v":0},{"$f":"IF('Diario contable'!C170=\"Capital social\",'Diario contable'!I170,IF('Diario contable'!E170=\"Capital social\",'Diario contable'!I170,0))","v":0},{"$f":"IF('Diario contable'!C170=\"Capital social\",'Diario contable'!H170,IF('Diario contable'!E170=\"Capital social\",'Diario contable'!H170,0))","v":"00:00:00"},null,null,{"$f":"+IF('Diario contable'!C170=\"Gastos de mercadeo\",'Diario contable'!F170,0)","v":0},null,null,null,{"$f":"+IF('Diario contable'!E170=\"Gastos de mercadeo\",'Diario contable'!F170,0)","v":0},{"$f":"IF('Diario contable'!C170=\"Gastos de mercadeo\",'Diario contable'!I170,IF('Diario contable'!E170=\"Gastos de mercadeo\",'Diario contable'!I170,0))","v":0},{"$f":"IF('Diario contable'!C170=\"Gastos de mercadeo\",'Diario contable'!H170,IF('Diario contable'!E170=\"Gastos de mercadeo\",'Diario contable'!H170,0))","v":"00:00:00"},null,null,{"$f":"+IF('Diario contable'!C170=\"Gastos de suministros de oficina\",'Diario contable'!F170,0)","v":0},null,null,null,{"$f":"+IF('Diario contable'!E170=\"Gastos de suministros de oficina\",'Diario contable'!F170,0)","v":0},{"$f":"IF('Diario contable'!C170=\"Gastos de suministros de oficina\",'Diario contable'!I170,IF('Diario contable'!E170=\"Gastos de suministros de oficina\",'Diario contable'!I170,0))","v":0},{"$f":"IF('Diario contable'!C170=\"Gastos de suministros de oficina\",'Diario contable'!H170,IF('Diario contable'!E170=\"Gastos de suministros de oficina\",'Diario contable'!H170,0))","v":"00:00:00"}]
[null,null,{"$f":"+IF('Diario contable'!C171=\"Caja\",'Diario contable'!F171,0)","v":0},null,null,null,{"$f":"+IF('Diario contable'!E171=\"Caja\",'Diario contable'!F171,0)","v":0},{"$f":"IF('Diario contable'!C171=\"Caja\",'Diario contable'!I171,IF('Diario contable'!E171=\"Caja\",'Diario contable'!I171,0))","v":0},{"$f":"IF('Diario contable'!C171=\"Caja\",'Diario contable'!H171,IF('Diario contable'!E171=\"Caja\",'Diario contable'!H171,0))","v":"00:00:00"},null,null,{"$f":"+IF('Diario contable'!C171=\"Maquinaria\",'Diario contable'!F171,0)","v":0},null,null,null,{"$f":"+IF('Diario contable'!E171=\"Maquinaria\",'Diario contable'!F171,0)","v":0},{"$f":"IF('Diario contable'!C171=\"Maquinaria\",'Diario contable'!I171,IF('Diario contable'!E171=\"Maquinaria\",'Diario contable'!I171,0))","v":0},{"$f":"IF('Diario contable'!C171=\"Maquinaria\",'Diario contable'!H171,IF('Diario contable'!E171=\"Maquinaria\",'Diario contable'!H171,0))","v":"00:00:00"},null,null,{"$f":"+IF('Diario contable'!C171=\"Herramientas\",'Diario contable'!F171,0)","v":0},null,null,null,{"$f":"+IF('Diario contable'!E171=\"Herramientas\",'Diario contable'!F171,0)","v":0},{"$f":"IF('Diario contable'!C171=\"Herramientas\",'Diario contable'!I171,IF('Diario contable'!E171=\"Herramientas\",'Diario contable'!I171,0))","v":0},{"$f":"IF('Diario contable'!C171=\"Herramientas\",'Diario contable'!H171,IF('Diario contable'!E171=\"Herramientas\",'Diario contable'!H171,0))","v":"00:00:00"},null,null,{"$f":"+IF('Diario contable'!C171=\"Donaciones\",'Diario contable'!F171,0)","v":0},null,null,null,{"$f":"+IF('Diario contable'!E171=\"Donaciones\",'Diario contable'!F171,0)","v":0},{"$f":"IF('Diario contable'!C171=\"Donaciones\",'Diario contable'!I171,IF('Diario contable'!E171=\"Donaciones\",'Diario contable'!I171,0))","v":0},{"$f":"IF('Diario contable'!C171=\"Donaciones\",'Diario contable'!H171,IF('Diario contable'!E171=\"Donaciones\",'Diario contable'!H171,0))","v":"00:00:00"},null,null,{"$f":"+IF('Diario contable'!C171=\"Inventario\",'Diario contable'!F171,0)","v":0},null,null,null,{"$f":"+IF('Diario contable'!E171=\"Inventario\",'Diario contable'!F171,0)","v":0},{"$f":"IF('Diario contable'!C171=\"Inventario\",'Diario contable'!I171,IF('Diario contable'!E171=\"Inventario\",'Diario contable'!I171,0))","v":0},{"$f":"IF('Diario contable'!C171=\"Inventario\",'Diario contable'!H171,IF('Diario contable'!E171=\"Inventario\",'Diario contable'!H171,0))","v":"00:00:00"},null,null,{"$f":"+IF('Diario contable'!C171=\"Costo de ventas\",'Diario contable'!F171,0)","v":0},null,null,null,{"$f":"+IF('Diario contable'!E171=\"Costo de ventas\",'Diario contable'!F171,0)","v":0},{"$f":"IF('Diario contable'!C171=\"Costo de ventas\",'Diario contable'!I171,IF('Diario contable'!E171=\"Costo de ventas\",'Diario contable'!I171,0))","v":0},{"$f":"IF('Diario contable'!C171=\"Costo de ventas\",'Diario contable'!H171,IF('Diario contable'!E171=\"Costo de ventas\",'Diario contable'!H171,0))","v":"00:00:00"},null,null,{"$f":"+IF('Diario contable'!C171=\"Ventas\",'Diario contable'!F171,0)","v":0},null,null,null,{"$f":"+IF('Diario contable'!E171=\"Ventas\",'Diario contable'!F171,0)","v":0},{"$f":"IF('Diario contable'!C171=\"Ventas\",'Diario contable'!I171,IF('Diario contable'!E171=\"Ventas\",'Diario contable'!I171,0))","v":0},{"$f":"IF('Diario contable'!C171=\"Ventas\",'Diario contable'!H171,IF('Diario contable'!E171=\"Ventas\",'Diario contable'!H171,0))","v":"00:00:00"},null,null,{"$f":"+IF('Diario contable'!C171=\"Gastos por salarios\",'Diario contable'!F171,0)","v":0},null,null,null,{"$f":"+IF('Diario contable'!E171=\"Gastos por salarios\",'Diario contable'!F171,0)","v":0},{"$f":"IF('Diario contable'!C171=\"Gastos por salarios\",'Diario contable'!I171,IF('Diario contable'!E171=\"Gastos por salarios\",'Diario contable'!I171,0))","v":0},{"$f":"IF('Diario contable'!C171=\"Gastos por salarios\",'Diario contable'!H171,IF('Diario contable'!E171=\"Gastos por salarios\",'Diario contable'!H171,0))","v":"00:00:00"},null,null,{"$f":"+IF('Diario contable'!C171=\"Gastos operacionales\",'Diario contable'!F171,0)","v":0},null,null,null,{"$f":"+IF('Diario contable'!E171=\"Gastos operacionales\",'Diario contable'!F171,0)","v":0},{"$f":"IF('Diario contable'!C171=\"Gastos operacionales\",'Diario contable'!I171,IF('Diario contable'!E171=\"Gastos operacionales\",'Diario contable'!I171,0))","v":0},{"$f":"IF('Diario contable'!C171=\"Gastos operacionales\",'Diario contable'!H171,IF('Diario contable'!E171=\"Gastos operacionales\",'Diario contable'!H171,0))","v":"00:00:00"},null,null,{"$f":"+IF('Diario contable'!C171=\"Suministros de oficina\",'Diario contable'!F171,0)","v":0},null,null,null,{"$f":"+IF('Diario contable'!E171=\"Suministros de oficina\",'Diario contable'!F171,0)","v":0},{"$f":"IF('Diario contable'!C171=\"Suministros de oficina\",'Diario contable'!I171,IF('Diario contable'!E171=\"Suministros de oficina\",'Diario contable'!I171,0))","v":0},{"$f":"IF('Diario contable'!C171=\"Suministros de oficina\",'Diario contable'!H171,IF('Diario contable'!E171=\"Suministros de oficina\",'Diario contable'!H171,0))","v":"00:00:00"},null,null,{"$f":"+IF('Diario contable'!C171=\"Capital social\",'Diario contable'!F171,0)","v":0},null,null,null,{"$f":"+IF('Diario contable'!E171=\"Capital social\",'Diario contable'!F171,0)","v":0},{"$f":"IF('Diario contable'!C171=\"Capital social\",'Diario contable'!I171,IF('Diario contable'!E171=\"Capital social\",'Diario contable'!I171,0))","v":0},{"$f":"IF('Diario contable'!C171=\"Capital social\",'Diario contable'!H171,IF('Diario contable'!E171=\"Capital social\",'Diario contable'!H171,0))","v":"00:00:00"},null,null,{"$f":"+IF('Diario contable'!C171=\"Gastos de mercadeo\",'Diario contable'!F171,0)","v":0},null,null,null,{"$f":"+IF('Diario contable'!E171=\"Gastos de mercadeo\",'Diario contable'!F171,0)","v":0},{"$f":"IF('Diario contable'!C171=\"Gastos de mercadeo\",'Diario contable'!I171,IF('Diario contable'!E171=\"Gastos de mercadeo\",'Diario contable'!I171,0))","v":0},{"$f":"IF('Diario contable'!C171=\"Gastos de mercadeo\",'Diario contable'!H171,IF('Diario contable'!E171=\"Gastos de mercadeo\",'Diario contable'!H171,0))","v":"00:00:00"},null,null,{"$f":"+IF('Diario contable'!C171=\"Gastos de suministros de oficina\",'Diario contable'!F171,0)","v":0},null,null,null,{"$f":"+IF('Diario contable'!E171=\"Gastos de suministros de oficina\",'Diario contable'!F171,0)","v":0},{"$f":"IF('Diario contable'!C171=\"Gastos de suministros de oficina\",'Diario contable'!I171,IF('Diario contable'!E171=\"Gastos de suministros de oficina\",'Diario contable'!I171,0))","v":0},{"$f":"IF('Diario contable'!C171=\"Gastos de suministros de oficina\",'Diario contable'!H171,IF('Diario contable'!E171=\"Gastos de suministros de oficina\",'Diario contable'!H171,0))","v":"00:00:00"}]
[null,null,{"$f":"+IF('Diario contable'!C172=\"Caja\",'Diario contable'!F172,0)","v":0},null,null,null,{"$f":"+IF('Diario contable'!E172=\"Caja\",'Diario contable'!F172,0)","v":0},{"$f":"IF('Diario contable'!C172=\"Caja\",'Diario contable'!I172,IF('Diario contable'!E172=\"Caja\",'Diario contable'!I172,0))","v":0},{"$f":"IF('Diario contable'!C172=\"Caja\",'Diario contable'!H172,IF('Diario contable'!E172=\"Caja\",'Diario contable'!H172,0))","v":"00:00:00"},null,null,{"$f":"+IF('Diario contable'!C172=\"Maquinaria\",'Diario contable'!F172,0)","v":0},null,null,null,{"$f":"+IF('Diario contable'!E172=\"Maquinaria\",'Diario contable'!F172,0)","v":0},{"$f":"IF('Diario contable'!C172=\"Maquinaria\",'Diario contable'!I172,IF('Diario contable'!E172=\"Maquinaria\",'Diario contable'!I172,0))","v":0},{"$f":"IF('Diario contable'!C172=\"Maquinaria\",'Diario contable'!H172,IF('Diario contable'!E172=\"Maquinaria\",'Diario contable'!H172,0))","v":"00:00:00"},null,null,{"$f":"+IF('Diario contable'!C172=\"Herramientas\",'Diario contable'!F172,0)","v":0},null,null,null,{"$f":"+IF('Diario contable'!E172=\"Herramientas\",'Diario contable'!F172,0)","v":0},{"$f":"IF('Diario contable'!C172=\"Herramientas\",'Diario contable'!I172,IF('Diario contable'!E172=\"Herramientas\",'Diario contable'!I172,0))","v":0},{"$f":"IF('Diario contable'!C172=\"Herramientas\",'Diario contable'!H172,IF('Diario contable'!E172=\"Herramientas\",'Diario contable'!H172,0))","v":"00:00:00"},null,null,{"$f":"+IF('Diario contable'!C172=\"Donaciones\",'Diario contable'!F172,0)","v":0},null,null,null,{"$f":"+IF('Diario contable'!E172=\"Donaciones\",'Diario contable'!F172,0)","v":0},{"$f":"IF('Diario contable'!C172=\"Donaciones\",'Diario contable'!I172,IF('Diario contable'!E172=\"Donaciones\",'Diario contable'!I172,0))","v":0},{"$f":"IF('Diario contable'!C172=\"Donaciones\",'Diario contable'!H172,IF('Diario contable'!E172=\"Donaciones\",'Diario contable'!H172,0))","v":"00:00:00"},null,null,{"$f":"+IF('Diario contable'!C172=\"Inventario\",'Diario contable'!F172,0)","v":0},null,null,null,{"$f":"+IF('Diario contable'!E172=\"Inventario\",'Diario contable'!F172,0)","v":0},{"$f":"IF('Diario contable'!C172=\"Inventario\",'Diario contable'!I172,IF('Diario contable'!E172=\"Inventario\",'Diario contable'!I172,0))","v":0},{"$f":"IF('Diario contable'!C172=\"Inventario\",'Diario contable'!H172,IF('Diario contable'!E172=\"Inventario\",'Diario contable'!H172,0))","v":"00:00:00"},null,null,{"$f":"+IF('Diario contable'!C172=\"Costo de ventas\",'Diario contable'!F172,0)","v":0},null,null,null,{"$f":"+IF('Diario contable'!E172=\"Costo de ventas\",'Diario contable'!F172,0)","v":0},{"$f":"IF('Diario contable'!C172=\"Costo de ventas\",'Diario contable'!I172,IF('Diario contable'!E172=\"Costo de ventas\",'Diario contable'!I172,0))","v":0},{"$f":"IF('Diario contable'!C172=\"Costo de ventas\",'Diario contable'!H172,IF('Diario contable'!E172=\"Costo de ventas\",'Diario contable'!H172,0))","v":"00:00:00"},null,null,{"$f":"+IF('Diario contable'!C172=\"Ventas\",'Diario contable'!F172,0)","v":0},null,null,null,{"$f":"+IF('Diario contable'!E172=\"Ventas\",'Diario contable'!F172,0)","v":0},{"$f":"IF('Diario contable'!C172=\"Ventas\",'Diario contable'!I172,IF('Diario contable'!E172=\"Ventas\",'Diario contable'!I172,0))","v":0},{"$f":"IF('Diario contable'!C172=\"Ventas\",'Diario contable'!H172,IF('Diario contable'!E172=\"Ventas\",'Diario contable'!H172,0))","v":"00:00:00"},null,null,{"$f":"+IF('Diario contable'!C172=\"Gastos por salarios\",'Diario contable'!F172,0)","v":0},null,null,null,{"$f":"+IF('Diario contable'!E172=\"Gastos por salarios\",'Diario contable'!F172,0)","v":0},{"$f":"IF('Diario contable'!C172=\"Gastos por salarios\",'Diario contable'!I172,IF('Diario contable'!E172=\"Gastos por salarios\",'Diario contable'!I172,0))","v":0},{"$f":"IF('Diario contable'!C172=\"Gastos por salarios\",'Diario contable'!H172,IF('Diario contable'!E172=\"Gastos por salarios\",'Diario contable'!H172,0))","v":"00:00:00"},null,null,{"$f":"+IF('Diario contable'!C172=\"Gastos operacionales\",'Diario contable'!F172,0)","v":0},null,null,null,{"$f":"+IF('Diario contable'!E172=\"Gastos operacionales\",'Diario contable'!F172,0)","v":0},{"$f":"IF('Diario contable'!C172=\"Gastos operacionales\",'Diario contable'!I172,IF('Diario contable'!E172=\"Gastos operacionales\",'Diario contable'!I172,0))","v":0},{"$f":"IF('Diario contable'!C172=\"Gastos operacionales\",'Diario contable'!H172,IF('Diario contable'!E172=\"Gastos operacionales\",'Diario contable'!H172,0))","v":"00:00:00"},null,null,{"$f":"+IF('Diario contable'!C172=\"Suministros de oficina\",'Diario contable'!F172,0)","v":0},null,null,null,{"$f":"+IF('Diario contable'!E172=\"Suministros de oficina\",'Diario contable'!F172,0)","v":0},{"$f":"IF('Diario contable'!C172=\"Suministros de oficina\",'Diario contable'!I172,IF('Diario contable'!E172=\"Suministros de oficina\",'Diario contable'!I172,0))","v":0},{"$f":"IF('Diario contable'!C172=\"Suministros de oficina\",'Diario contable'!H172,IF('Diario contable'!E172=\"Suministros de oficina\",'Diario contable'!H172,0))","v":"00:00:00"},null,null,{"$f":"+IF('Diario contable'!C172=\"Capital social\",'Diario contable'!F172,0)","v":0},null,null,null,{"$f":"+IF('Diario contable'!E172=\"Capital social\",'Diario contable'!F172,0)","v":0},{"$f":"IF('Diario contable'!C172=\"Capital social\",'Diario contable'!I172,IF('Diario contable'!E172=\"Capital social\",'Diario contable'!I172,0))","v":0},{"$f":"IF('Diario contable'!C172=\"Capital social\",'Diario contable'!H172,IF('Diario contable'!E172=\"Capital social\",'Diario contable'!H172,0))","v":"00:00:00"},null,null,{"$f":"+IF('Diario contable'!C172=\"Gastos de mercadeo\",'Diario contable'!F172,0)","v":0},null,null,null,{"$f":"+IF('Diario contable'!E172=\"Gastos de mercadeo\",'Diario contable'!F172,0)","v":0},{"$f":"IF('Diario contable'!C172=\"Gastos de mercadeo\",'Diario contable'!I172,IF('Diario contable'!E172=\"Gastos de mercadeo\",'Diario contable'!I172,0))","v":0},{"$f":"IF('Diario contable'!C172=\"Gastos de mercadeo\",'Diario contable'!H172,IF('Diario contable'!E172=\"Gastos de mercadeo\",'Diario contable'!H172,0))","v":"00:00:00"},null,null,{"$f":"+IF('Diario contable'!C172=\"Gastos de suministros de oficina\",'Diario contable'!F172,0)","v":0},null,null,null,{"$f":"+IF('Diario contable'!E172=\"Gastos de suministros de oficina\",'Diario contable'!F172,0)","v":0},{"$f":"IF('Diario contable'!C172=\"Gastos de suministros de oficina\",'Diario contable'!I172,IF('Diario contable'!E172=\"Gastos de suministros de oficina\",'Diario contable'!I172,0))","v":0},{"$f":"IF('Diario contable'!C172=\"Gastos de suministros de oficina\",'Diario contable'!H172,IF('Diario contable'!E172=\"Gastos de suministros de oficina\",'Diario contable'!H172,0))","v":"00:00:00"}]
[]
[]
[null,null,{"$f":"IF(SUM(C26:C182)<SUM(G26:G182),\"ERROR EN SU CONTABILIDAD\",)","v":0},null,null,null,{"$f":"IF(SUM(C26:C182)<SUM(G26:G182),0,SUM(C26:C182)-SUM(G26:G182))","v":216400},"SALDO",null,null,null,null,null,null,null,{"$f":"IF(SUM(L26:L182)<SUM(P26:P182),0,SUM(L26:L182)-SUM(P26:P182))","v":188000},"SALDO",null,null,null,{"$f":"IF(SUM(U26:U182)<SUM(Y26:Y182),SUM(Y26:Y182)-SUM(U26:U182),)","v":0},null,null,null,{"$f":"IF(SUM(U26:U182)<SUM(Y26:Y182),0,SUM(U26:U182)-SUM(Y26:Y182))","v":51900},"SALDO",null,null,null,{"$f":"IF(SUM(AD26:AD182)<SUM(AH26:AH182),SUM(AH26:AH182)-SUM(AD26:AD182),)","v":398000},null,null,null,{"$f":"IF(SUM(AD26:AD182)<SUM(AH26:AH182),0,SUM(AD26:AD182)-SUM(AH26:AH182))","v":0},"SALDO",null,null,null,{"$f":"IF(SUM(AM26:AM182)<SUM(AQ26:AQ182),SUM(AQ26:AQ182)-SUM(AM26:AM182),)","v":0},null,null,null,{"$f":"IF(SUM(AM26:AM182)<SUM(AQ26:AQ182),0,SUM(AM26:AM182)-SUM(AQ26:AQ182))","v":0},"SALDO",null,null,null,{"$f":"IF(SUM(AV26:AV182)<SUM(AZ26:AZ182),SUM(AZ26:AZ182)-SUM(AV26:AV182),)","v":0},null,null,null,{"$f":"IF(SUM(AV26:AV182)<SUM(AZ26:AZ182),0,SUM(AV26:AV182)-SUM(AZ26:AZ182))","v":10500},"SALDO",null,null,null,{"$f":"IF(SUM(BE26:BE182)<SUM(BI26:BI182),SUM(BI26:BI182)-SUM(BE26:BE182),)","v":90000},null,null,null,{"$f":"IF(SUM(BE26:BE182)<SUM(BI26:BI182),0,SUM(BE26:BE182)-SUM(BI26:BI182))","v":0},"SALDO",null,null,null,{"$f":"IF(SUM(BN26:BN182)<SUM(BR26:BR182),SUM(BR26:BR182)-SUM(BN26:BN182),)","v":0},null,null,null,{"$f":"IF(SUM(BN26:BN182)<SUM(BR26:BR182),0,SUM(BN26:BN182)-SUM(BR26:BR182))","v":48000},"SALDO",null,null,null,{"$f":"IF(SUM(BW26:BW182)<SUM(CA26:CA182),SUM(CA26:CA182)-SUM(BW26:BW182),)","v":0},null,null,null,{"$f":"IF(SUM(BW26:BW182)<SUM(CA26:CA182),0,SUM(BW26:BW182)-SUM(CA26:CA182))","v":40000},"SALDO",null,null,null,{"$f":"IF(SUM(CF26:CF182)<SUM(CJ26:CJ182),SUM(CJ26:CJ182)-SUM(CF26:CF182),)","v":0},null,null,null,{"$f":"IF(SUM(CF26:CF182)<SUM(CJ26:CJ182),0,SUM(CF26:CF182)-SUM(CJ26:CJ182))","v":0},"SALDO",null,null,null,{"$f":"IF(SUM(CO26:CO182)<SUM(CS26:CS182),SUM(CS26:CS182)-SUM(CO26:CO182),)","v":73800},null,null,null,{"$f":"IF(SUM(CO26:CO182)<SUM(CS26:CS182),0,SUM(CO26:CO182)-SUM(CS26:CS182))","v":0},"SALDO",null,null,null,{"$f":"IF(SUM(CX26:CX182)<SUM(DB26:DB182),SUM(DB26:DB182)-SUM(CX26:CX182),)","v":0},null,null,null,{"$f":"IF(SUM(CX26:CX182)<SUM(DB26:DB182),0,SUM(CX26:CX182)-SUM(DB26:DB182))","v":7000},"SALDO",null,null,null,{"$f":"IF(SUM(DG26:DG182)<SUM(DK26:DK182),SUM(DK26:DK182)-SUM(DG26:DG182),)","v":0},null,null,null,{"$f":"IF(SUM(DG26:DG182)<SUM(DK26:DK182),0,SUM(DG26:DG182)-SUM(DK26:DK182))","v":0},"SALDO"]
[null,null,{"$f":"SUM(C26:C184)","v":561800},null,null,null,{"$f":"SUM(G26:G184)","v":561800},null,null,null,null,{"$f":"SUM(L26:L184)","v":188000},null,null,null,{"$f":"SUM(P26:P184)","v":188000},null,null,null,null,{"$f":"SUM(U26:U184)","v":51900},null,null,null,{"$f":"SUM(Y26:Y184)","v":51900},null,null,null,null,{"$f":"SUM(AD26:AD184)","v":398000},null,null,null,{"$f":"SUM(AH26:AH184)","v":398000},null,null,null,null,{"$f":"SUM(AM26:AM184)","v":10500},null,null,null,{"$f":"SUM(AQ26:AQ184)","v":10500},null,null,null,null,{"$f":"SUM(AV26:AV184)","v":10500},null,null,null,{"$f":"SUM(AZ26:AZ184)","v":10500},null,null,null,null,{"$f":"SUM(BE26:BE184)","v":90000},null,null,null,{"$f":"SUM(BI26:BI184)","v":90000},null,null,null,null,{"$f":"SUM(BN26:BN184)","v":48000},null,null,null,{"$f":"SUM(BR26:BR184)","v":48000},null,null,null,null,{"$f":"SUM(BW26:BW184)","v":40000},null,null,null,{"$f":"SUM(CA26:CA184)","v":40000},null,null,null,null,{"$f":"SUM(CF26:CF184)","v":0},null,null,null,{"$f":"SUM(CJ26:CJ184)","v":0},null,null,null,null,{"$f":"SUM(CO26:CO184)","v":73800},null,null,null,{"$f":"SUM(CS26:CS184)","v":73800},null,null,null,null,{"$f":"SUM(CX26:CX184)","v":7000},null,null,null,{"$f":"SUM(DB26:DB184)","v":7000},null,null,null,null,{"$f":"SUM(DG26:DG184)","v":0},null,null,null,{"$f":"SUM(DK26:DK184)","v":0}]

{"sheet":"Informe de Contabilidad","index":3,"n_rows":17,"n_cols":19,"rows_kept":17,"cut":false,"hidden":false,"merged":[[9,7,9,9],[0,2,0,11],[1,10,1,11],[1,2,1,9],[8,13,8,14],[2,2,2,11],[4,2,4,11],[6,2,6,3],[6,10,6,11],[10,10,10,11],[4,13,4,18],[6,13,6,16],[6,17,6,18],[8,10,8,11],[9,10,9,11],[9,13,9,14],[10,13,10,14],[23,13,23,14],[23,17,23,18],[14,13,14,14],[11,15,11,16],[11,13,11,14],[12,13,12,14],[15,14,15,16],[11,10,11,11],[12,10,12,11],[16,5,16,6],[16,7,16,9],[14,10,14,11],[14,7,14,9],[13,3,13,5],[14,3,14,5]]}
[]
[]
[]
[]
[null,null,"Balance General",null,null,null,null,null,null,null,null,null,null,"Estado de Resultados"]
[]
[null,null,"Activos",null,null,null,null,null,null,null,"Pasivos",null,null,"Egresos",null,null,null,"Ingresos"]
[]
[null,null,{"$f":"Mayorización!E12","v":"Caja"},null,null,{"$f":"Mayorización!G184","v":216400},null,null,null,{"$f":"+Mayorización!CO184","v":73800},"Capital social",null,null,"Gastos de suministros",null,null,{"$f":"+Mayorización!DK184","v":0},{"$f":"Mayorización!AD184","v":398000},{"$f":"Mayorización!E15","v":"Donaciones"}]
[null,null,{"$f":"Mayorización!E16","v":"Inventario"},null,null,{"$f":"Mayorización!AQ184","v":0},null,null,null,null,null,null,null,"Gastos operacionales ",null,null,{"$f":"+Mayorización!CA184","v":40000},{"$f":"Mayorización!BE184","v":90000},{"$f":"Mayorización!E18","v":"Ventas"}]
[null,null,{"$f":"Mayorización!E14","v":"Herramientas"},null,null,{"$f":"Mayorización!Y184","v":51900},null,null,null,{"$f":"+Q15","v":382500},"UTILIDAD/PÉRDIDA RETENIDA",null,null,{"$f":"Mayorización!E19","v":"Gastos por salarios"},null,null,{"$f":"Mayorización!BR184","v":48000},{"$f":"+Mayorización!AZ184:AZ184","v":10500},{"$f":"+Mayorización!E17","v":"Costo de ventas"}]
[null,null,{"$f":"Mayorización!E13","v":"Maquinaria "},null,null,{"$f":"Mayorización!P184","v":188000}]
[null,null,{"$f":"+Mayorización!E21","v":"Suministros de oficina"},null,null,{"$f":"+Mayorización!CJ184:CJ184","v":0},null,null,null,null,null,null,null,"Gastos de mercadeo",null,null,{"$f":"+Mayorización!DB184:DB184","v":7000}]
[null,null,null,null,null,null,null,null,null,null,null,null,null,null,null,{"$f":"+SUM(P9:Q13)","v":95000},null,{"$f":"+R9+R10-R11","v":477500}]
[null,null,null,null,null,null,null,0,null,null,"Prestamos",null,null,"Utilidad/Pérdida (ANTES DE IMPUESTOS)",null,null,{"$f":"+R14-P14","v":382500}]
[null,null,null,null,null,null,null,null,null," ",null,null,null,"IMPUESTOS",{"$f":"+IF(Q15<=0,0,IF(Q15<=52320,Q15*10%,IF(Q15<=105241,Q15*20%,Q15*30%)))","v":114750},null,null,"Utilidad después de impuestos",{"$f":"+Q15-O16","v":267750}]
[null,null,null,null,null,{"$f":"SUM(D9:F15)","v":456300},null,{"$f":"J9+H15+J11","v":456300}]

{"sheet":"Flujo de Caja","index":4,"n_rows":27,"n_cols":3,"rows_kept":27,"cut":false,"hidden":false,"merged":[[7,0,7,2]]}
[]
[]
[]
[]
[]
[]
[]
["FLUJO DE CAJA DEL PROYECTO"]
[]
[]
["INGRESOS"]
["Capital Social",{"$f":"+'Informe de Contabilidad'!J9","v":73800}]
["Ventas",{"$f":"+'Informe de Contabilidad'!R10","v":90000}]
["Donaciones",{"$f":"+'Informe de Contabilidad'!R9","v":398000}]
["Total",null,{"$f":"SUM(B12:B14)","v":561800}]
[]
["GASTOS"]
["Inventario - Costo de ventas",{"$f":"+'Informe de Contabilidad'!F10+'Informe de Contabilidad'!R11","v":10500}]
["Herramientas",{"$f":"+'Informe de Contabilidad'!F11","v":51900}]
["Maquinaria",{"$f":"+'Informe de Contabilidad'!F12","v":188000}]
["Suministros de Oficina - Gastos Suministros de Oficina",{"$f":"+'Informe de Contabilidad'!F13+'Informe de Contabilidad'!Q9:Q9","v":0}]
["Gastos Operacionales",{"$f":"+'Informe de Contabilidad'!Q10","v":40000}]
["Gastos de salarios",{"$f":"+'Informe de Contabilidad'!Q11","v":48000}]
["Gastos de mercadeo",{"$f":"+'Informe de Contabilidad'!Q13","v":7000}]
["Total",null,{"$f":"SUM(B18:B24)","v":345400}]
[]
["SALDO EFECTIVO",null,{"$f":"+C15-C25","v":216400}]

{"sheet":"Metadata","index":5,"n_rows":4,"n_cols":1,"rows_kept":4,"cut":false,"hidden":false,"merged":[]}
[]
[]
["Si"]
["No"]